Workbook

Sheet Riepilogo
A2: Comune di Malegno · Incentivi per funzioni tecniche
A3: Compilare solo le celle gialle. Importi in euro. Percentuali digitabili anche come 25%.
A5: =IF(Procedura!B5="","Inserire i dati nel foglio Procedura",Procedura!B5) -> Inserire i dati nel foglio Procedura
A6: Anno di competenza | B6: =Procedura!B9 -> 2026
A8: Fondo utilizzato | B8: =Procedura!B53 -> 0
A9: Quota CUC allocata | B9: =SUM(Voci!L6:L24) -> 0
A10: Costo personale entro limite | B10: =SUM(Personale!S6:S25) -> 0
A11: Innovazione disponibile | B11: =Procedura!B56+(SUM(Voci!Q6:Q24)+SUM(Riparto!T6:T105)+SUM(Personale!U6:U25))*(1-Procedura!B17) -> 0
A12: Economie da riduzioni | B12: =SUM(Riparto!S6:S105) -> 0
A13: Risorse vincolate non destinabili a innovazione | B13: =Procedura!B57+(SUM(Voci!Q6:Q24)+SUM(Riparto!T6:T105)+SUM(Personale!U6:U25))*Procedura!B17 -> 0
A14: Quote per attività future | B14: =SUM(Voci!P6:P24) -> 0
A15: Quote pregresse riservate | B15: =SUM(Voci!N6:N24) -> 0
A16: Quote annue ancora da accertare | B16: =SUM(Voci!O6:O24)-SUM(Riparto!S6:U105) -> 0
A17: Scarto di riconciliazione | B17: =B8-SUM(B9:B16) -> 0
A19: IRAP personale separata | B19: =SUM(Personale!Q6:Q25) -> 0
A20: Risorse liberate con aliquote ridotte | B20: =Procedura!B63 -> 0
A22: Stato della proposta | B22: =IF(AND(Procedura!B62="VERIFICATI",SUM(Voci!T6:T24)=0,SUM(Riparto!AH6:AH105)=0,SUM(Personale!V6:V25)=0,ABS(B17)<0.01),"VERIFICHE COMPILATE","DA COMPLETARE") -> DA COMPLETARE
A26: Nominativo | B26: Lordo entro limite | C26: Oneri ente | D26: IRAP | E26: Saldo lordo | F26: Esito dati
A27: =IF(Personale!B6="","",Personale!B6) | B27: =IF(A27="","",Personale!N6) | C27: =IF(A27="","",Personale!P6) | D27: =IF(A27="","",Personale!Q6) | E27: =IF(A27="","",Personale!R6) | F27: =IF(A27="","",Personale!T6) | H27: Destinazione | I27: Euro
A28: =IF(Personale!B7="","",Personale!B7) | B28: =IF(A28="","",Personale!N7) | C28: =IF(A28="","",Personale!P7) | D28: =IF(A28="","",Personale!Q7) | E28: =IF(A28="","",Personale!R7) | F28: =IF(A28="","",Personale!T7) | H28: Personale | I28: =B10 -> 0
A29: =IF(Personale!B8="","",Personale!B8) | B29: =IF(A29="","",Personale!N8) | C29: =IF(A29="","",Personale!P8) | D29: =IF(A29="","",Personale!Q8) | E29: =IF(A29="","",Personale!R8) | F29: =IF(A29="","",Personale!T8) | H29: CUC | I29: =B9 -> 0
A30: =IF(Personale!B9="","",Personale!B9) | B30: =IF(A30="","",Personale!N9) | C30: =IF(A30="","",Personale!P9) | D30: =IF(A30="","",Personale!Q9) | E30: =IF(A30="","",Personale!R9) | F30: =IF(A30="","",Personale!T9) | H30: Innovazione | I30: =B11 -> 0
A31: =IF(Personale!B10="","",Personale!B10) | B31: =IF(A31="","",Personale!N10) | C31: =IF(A31="","",Personale!P10) | D31: =IF(A31="","",Personale!Q10) | E31: =IF(A31="","",Personale!R10) | F31: =IF(A31="","",Personale!T10) | H31: Economie | I31: =B12 -> 0
A32: =IF(Personale!B11="","",Personale!B11) | B32: =IF(A32="","",Personale!N11) | C32: =IF(A32="","",Personale!P11) | D32: =IF(A32="","",Personale!Q11) | E32: =IF(A32="","",Personale!R11) | F32: =IF(A32="","",Personale!T11) | H32: Vincolate | I32: =B13 -> 0
A33: =IF(Personale!B12="","",Personale!B12) | B33: =IF(A33="","",Personale!N12) | C33: =IF(A33="","",Personale!P12) | D33: =IF(A33="","",Personale!Q12) | E33: =IF(A33="","",Personale!R12) | F33: =IF(A33="","",Personale!T12) | H33: Future | I33: =B14 -> 0
A34: =IF(Personale!B13="","",Personale!B13) | B34: =IF(A34="","",Personale!N13) | C34: =IF(A34="","",Personale!P13) | D34: =IF(A34="","",Personale!Q13) | E34: =IF(A34="","",Personale!R13) | F34: =IF(A34="","",Personale!T13) | H34: Pregresse | I34: =B15 -> 0
A35: =IF(Personale!B14="","",Personale!B14) | B35: =IF(A35="","",Personale!N14) | C35: =IF(A35="","",Personale!P14) | D35: =IF(A35="","",Personale!Q14) | E35: =IF(A35="","",Personale!R14) | F35: =IF(A35="","",Personale!T14) | H35: Da accertare | I35: =B16 -> 0
A36: =IF(Personale!B15="","",Personale!B15) | B36: =IF(A36="","",Personale!N15) | C36: =IF(A36="","",Personale!P15) | D36: =IF(A36="","",Personale!Q15) | E36: =IF(A36="","",Personale!R15) | F36: =IF(A36="","",Personale!T15)
A37: =IF(Personale!B16="","",Personale!B16) | B37: =IF(A37="","",Personale!N16) | C37: =IF(A37="","",Personale!P16) | D37: =IF(A37="","",Personale!Q16) | E37: =IF(A37="","",Personale!R16) | F37: =IF(A37="","",Personale!T16)
A38: =IF(Personale!B17="","",Personale!B17) | B38: =IF(A38="","",Personale!N17) | C38: =IF(A38="","",Personale!P17) | D38: =IF(A38="","",Personale!Q17) | E38: =IF(A38="","",Personale!R17) | F38: =IF(A38="","",Personale!T17)
A39: =IF(Personale!B18="","",Personale!B18) | B39: =IF(A39="","",Personale!N18) | C39: =IF(A39="","",Personale!P18) | D39: =IF(A39="","",Personale!Q18) | E39: =IF(A39="","",Personale!R18) | F39: =IF(A39="","",Personale!T18)
A40: =IF(Personale!B19="","",Personale!B19) | B40: =IF(A40="","",Personale!N19) | C40: =IF(A40="","",Personale!P19) | D40: =IF(A40="","",Personale!Q19) | E40: =IF(A40="","",Personale!R19) | F40: =IF(A40="","",Personale!T19)
A41: =IF(Personale!B20="","",Personale!B20) | B41: =IF(A41="","",Personale!N20) | C41: =IF(A41="","",Personale!P20) | D41: =IF(A41="","",Personale!Q20) | E41: =IF(A41="","",Personale!R20) | F41: =IF(A41="","",Personale!T20)
A42: =IF(Personale!B21="","",Personale!B21) | B42: =IF(A42="","",Personale!N21) | C42: =IF(A42="","",Personale!P21) | D42: =IF(A42="","",Personale!Q21) | E42: =IF(A42="","",Personale!R21) | F42: =IF(A42="","",Personale!T21)
A43: =IF(Personale!B22="","",Personale!B22) | B43: =IF(A43="","",Personale!N22) | C43: =IF(A43="","",Personale!P22) | D43: =IF(A43="","",Personale!Q22) | E43: =IF(A43="","",Personale!R22) | F43: =IF(A43="","",Personale!T22)
A44: =IF(Personale!B23="","",Personale!B23) | B44: =IF(A44="","",Personale!N23) | C44: =IF(A44="","",Personale!P23) | D44: =IF(A44="","",Personale!Q23) | E44: =IF(A44="","",Personale!R23) | F44: =IF(A44="","",Personale!T23)
A45: =IF(Personale!B24="","",Personale!B24) | B45: =IF(A45="","",Personale!N24) | C45: =IF(A45="","",Personale!P24) | D45: =IF(A45="","",Personale!Q24) | E45: =IF(A45="","",Personale!R24) | F45: =IF(A45="","",Personale!T24)
A46: =IF(Personale!B25="","",Personale!B25) | B46: =IF(A46="","",Personale!N25) | C46: =IF(A46="","",Personale!P25) | D46: =IF(A46="","",Personale!Q25) | E46: =IF(A46="","",Personale!R25) | F46: =IF(A46="","",Personale!T25)
A49: Il saldo può essere negativo: indica un importo da recuperare. Il prospetto non calcola il netto fiscale.
A50: Quote CUC: fondo lordo con oneri; l’eventuale IRAP CUC è da gestire secondo convenzione e dati della centrale.
...

Sheet Procedura
A2: Comune di Malegno · Dati della procedura
A3: Compilare solo le celle gialle. Importi in euro. Percentuali digitabili anche come 25%.
A5: Oggetto | C5: Inserire una sola procedura o un singolo lotto / attuativo.
A6: CUP | C6: Se dovuto; trattare i codici come testo.
A7: CIG | C7: Identificativo della procedura.
A8: Lotto / contratto attuativo | C8: Un calcolo autonomo per ciascun lotto o contratto attuativo.
A9: Anno di competenza | B9: 2026 | C9: Un file per anno. Non utilizzare l’anno di pagamento come anno di maturazione.
A10: Prestazione | B10: Lavori | C10: Selezionare Lavori, Servizi o Forniture.
A11: Contratto | B11: Appalto | C11: Concessione e PPP: aliquote dimezzate; motivare la base del PPP.
A12: Regime | B12: Nuovo | C12: Transitorio: fondo già stanziato. Modifica: solo riserva originaria attestata.
A13: Importo base netto IVA | C13: Inclusi manodopera e sicurezza; esclusi rinnovi/opzioni/proroghe per gli appalti.
A14: Fondo preesistente / riserva per modifica | C14: Solo Transitorio o Modifica; non aggiungere di nuovo questo fondo al principale.
A15: Riserva originaria e attribuzione modifica verificate | B15: Da verificare | C15: Rileva solo per Modifica; documentare risorse già previste e attività aggiuntive.
A16: Coefficiente di riduzione delle aliquote | B16: 1 | C16: 100% = aliquote piene. Valori inferiori richiedono motivazione preventiva art. 6, comma 2.
A17: Quota del fondo finanziata da risorse vincolate | B17: 0 | C17: Provenienza del fondo, non automaticamente dell’intero intervento.
A18: Lavori sotto €80.000 con progettazione o DL interna | B18: No | C18: Eccezione art. 5, comma 3.
A19: Ricorre una causa di esclusione art. 5 | B19: Da verificare | C19: Si = fondo non ammesso. Verificare tutte le cause regolamentari.
A20: Programmazione presente o legittimamente non dovuta | B20: Da verificare | C20: Prima dell’avvio, salvo interventi sotto le soglie obbligatorie.
A21: Fondo e IRAP previsti sin dall’avvio | B21: Da verificare | C21: Verificare le voci del quadro economico e la copertura.
A22: DEC diverso dal RUP nominato | B22: Da verificare | C22: Necessario per servizi e forniture.
A23: Presupposti art. 32 e attestazione terza ove dovuta | B23: Da verificare | C23: Per servizi e forniture, motivazione analitica e attestazione se dovuta.
A24: Contratto stipulato | B24: Da verificare | C24: Condizione di ogni liquidazione; se non stipulato, nessun pagamento.
A25: Contratto integrativo dell’anno sottoscritto | B25: Da verificare | C25: Presupposto dell’art. 13, comma 5.
A26: Adempimenti contabili completati | B26: Da verificare | C26: Verifica del servizio finanziario, inclusa IRAP separata.
A27: Accertamento e liquidazione da soggetto competente terzo | B27: Da verificare | C27: Nessun destinatario può accertare o liquidare il proprio compenso.
A28: ID del RUP | C28: Selezionare l’ID dopo avere compilato Personale.
A29: Responsabile di fase per affidamento nominato | B29: No | C29: Se Si, indicare ID e riparto nella voce RUP di affidamento.
A30: ID responsabile di fase | C30: Deve essere diverso dal RUP ai fini del riparto qui previsto.
A31: Ente adotta metodi BIM art. 43 | B31: No | C31: Aumento del 15% del limite individuale; non aumenta il fondo.
A32: Gara svolta da CUC | B32: No | C32: Compilare quota convenzionale e frazioni di attività trasferite in Voci.
A33: Quota CUC sul fondo complessivo | B33: 0 | C33: Massimo 25% del fondo e capienza delle attività trasferite.
A34: Convenzione CUC e attività trasferite | C34: Indicare estremi, quota e base di calcolo; non equivale a un costo del servizio CUC.
A35: Motivazione aliquote ridotte / base PPP / transitorio | C35: Riferimento all’atto motivato e al quadro economico approvato.
A36: Rapporti con finanziatore e utilizzo innovazione verificati | B36: Da verificare | C36: Le quote da fonti vincolate non sono automaticamente disponibili per innovazione.
A37: Contratto oltre dodici mesi o concessione | B37: No | C37: Le quote di esecuzione maturano per annualità nei limiti del Regolamento.
A38: Delibera regolamento / atto gruppo / atti contabili | C38: Estremi della disciplina e del gruppo di lavoro.
A39: Tabella B voce 2: frazione riferita ad affidamento | C39: Da 0% a 100%; il residuo è progettazione del RUP. Richiesta se responsabile di fase o CUC.
A40: Compatibilità delle funzioni e requisiti verificati | B40: Da verificare | C40: Verificare progettazione, verifica, direzione, collaudi e incarichi di sicurezza.
A41: Servizio / fornitura imputato in conto capitale | B41: No | C41: La voce B1 spetta solo per spesa di investimento.
A42: Scaglione da | B42: Scaglione a | C42: Aliquota lavori | D42: Aliquota servizi e forniture | E42: Quota base | F42: Fondo scaglione
...

Sheet Personale
A2: Comune di Malegno · Personale e limite annuo
A3: Compilare solo le celle gialle. Importi in euro. Percentuali digitabili anche come 25%.
A5: ID | B5: Nominativo | C5: Matricola | D5: Ente di appartenenza | E5: Qualifica | F5: Oneri datore % | G5: IRAP % | H5: Retribuzione annua lorda senza incentivi | I5: Altri incentivi maturati nell’anno | J5: Già liquidato con questo prospetto | K5: Lordo maturato in questo calcolo | L5: Limite individuale annuo | M5: Capienza residua | N5: Lordo entro limite | O5: Eccedenza lordo dipendente | P5: Oneri sul lordo ammesso | Q5: IRAP separata | R5: Saldo lordo da liquidare / recuperare | S5: Costo ammesso con oneri | T5: Dati personale | U5: Costo eccedenza con oneri | V5: Anomalie 0/1
A6: P01 | I6: 0 | J6: 0 | K6: =IF(B6="",0,SUMIFS(Riparto!$W$6:$W$105,Riparto!$B$6:$B$105,A6)) -> 0 | L6: =IF(ISNUMBER(H6),H6*IF(Procedura!$B$31="Si",1.15,1),0) -> 0 | M6: =MAX(0,L6-I6) -> 0 | N6: =MIN(K6,M6) -> 0 | O6: =K6-N6 -> 0 | P6: =N6*F6 -> 0 | Q6: =N6*G6 -> 0 | R6: =N6-J6 -> 0 | S6: =N6+P6 -> 0 | T6: =IF(B6="",IF(COUNTIFS(Riparto!$B$6:$B$105,A6)>0,"MANCA NOMINATIVO",""),IF(OR(NOT(ISNUMBER(F6)),NOT(ISNUMBER(G6)),NOT(ISNUMBER(H6)),C6="",D6="",E6=""),"COMPLETARE DATI E ALIQUOTE",IF(I6>L6,"ALTRI INCENTIVI OLTRE LIMITE",IF(COUNTIFS($C$6:$C$25,C6,$D$6:$D$25,D6)>1,"MATRICOLA DUPLICATA","DATI COMPLETI")))) | U6: =O6*(1+F6) -> 0 | V6: =IF(OR(T6="",T6="DATI COMPLETI"),0,1) -> 0
A7: P02 | I7: 0 | J7: 0 | K7: =IF(B7="",0,SUMIFS(Riparto!$W$6:$W$105,Riparto!$B$6:$B$105,A7)) -> 0 | L7: =IF(ISNUMBER(H7),H7*IF(Procedura!$B$31="Si",1.15,1),0) -> 0 | M7: =MAX(0,L7-I7) -> 0 | N7: =MIN(K7,M7) -> 0 | O7: =K7-N7 -> 0 | P7: =N7*F7 -> 0 | Q7: =N7*G7 -> 0 | R7: =N7-J7 -> 0 | S7: =N7+P7 -> 0 | T7: =IF(B7="",IF(COUNTIFS(Riparto!$B$6:$B$105,A7)>0,"MANCA NOMINATIVO",""),IF(OR(NOT(ISNUMBER(F7)),NOT(ISNUMBER(G7)),NOT(ISNUMBER(H7)),C7="",D7="",E7=""),"COMPLETARE DATI E ALIQUOTE",IF(I7>L7,"ALTRI INCENTIVI OLTRE LIMITE",IF(COUNTIFS($C$6:$C$25,C7,$D$6:$D$25,D7)>1,"MATRICOLA DUPLICATA","DATI COMPLETI")))) | U7: =O7*(1+F7) -> 0 | V7: =IF(OR(T7="",T7="DATI COMPLETI"),0,1) -> 0
A8: P03 | I8: 0 | J8: 0 | K8: =IF(B8="",0,SUMIFS(Riparto!$W$6:$W$105,Riparto!$B$6:$B$105,A8)) -> 0 | L8: =IF(ISNUMBER(H8),H8*IF(Procedura!$B$31="Si",1.15,1),0) -> 0 | M8: =MAX(0,L8-I8) -> 0 | N8: =MIN(K8,M8) -> 0 | O8: =K8-N8 -> 0 | P8: =N8*F8 -> 0 | Q8: =N8*G8 -> 0 | R8: =N8-J8 -> 0 | S8: =N8+P8 -> 0 | T8: =IF(B8="",IF(COUNTIFS(Riparto!$B$6:$B$105,A8)>0,"MANCA NOMINATIVO",""),IF(OR(NOT(ISNUMBER(F8)),NOT(ISNUMBER(G8)),NOT(ISNUMBER(H8)),C8="",D8="",E8=""),"COMPLETARE DATI E ALIQUOTE",IF(I8>L8,"ALTRI INCENTIVI OLTRE LIMITE",IF(COUNTIFS($C$6:$C$25,C8,$D$6:$D$25,D8)>1,"MATRICOLA DUPLICATA","DATI COMPLETI")))) | U8: =O8*(1+F8) -> 0 | V8: =IF(OR(T8="",T8="DATI COMPLETI"),0,1) -> 0
A9: P04 | I9: 0 | J9: 0 | K9: =IF(B9="",0,SUMIFS(Riparto!$W$6:$W$105,Riparto!$B$6:$B$105,A9)) -> 0 | L9: =IF(ISNUMBER(H9),H9*IF(Procedura!$B$31="Si",1.15,1),0) -> 0 | M9: =MAX(0,L9-I9) -> 0 | N9: =MIN(K9,M9) -> 0 | O9: =K9-N9 -> 0 | P9: =N9*F9 -> 0 | Q9: =N9*G9 -> 0 | R9: =N9-J9 -> 0 | S9: =N9+P9 -> 0 | T9: =IF(B9="",IF(COUNTIFS(Riparto!$B$6:$B$105,A9)>0,"MANCA NOMINATIVO",""),IF(OR(NOT(ISNUMBER(F9)),NOT(ISNUMBER(G9)),NOT(ISNUMBER(H9)),C9="",D9="",E9=""),"COMPLETARE DATI E ALIQUOTE",IF(I9>L9,"ALTRI INCENTIVI OLTRE LIMITE",IF(COUNTIFS($C$6:$C$25,C9,$D$6:$D$25,D9)>1,"MATRICOLA DUPLICATA","DATI COMPLETI")))) | U9: =O9*(1+F9) -> 0 | V9: =IF(OR(T9="",T9="DATI COMPLETI"),0,1) -> 0
A10: P05 | I10: 0 | J10: 0 | K10: =IF(B10="",0,SUMIFS(Riparto!$W$6:$W$105,Riparto!$B$6:$B$105,A10)) -> 0 | L10: =IF(ISNUMBER(H10),H10*IF(Procedura!$B$31="Si",1.15,1),0) -> 0 | M10: =MAX(0,L10-I10) -> 0 | N10: =MIN(K10,M10) -> 0 | O10: =K10-N10 -> 0 | P10: =N10*F10 -> 0 | Q10: =N10*G10 -> 0 | R10: =N10-J10 -> 0 | S10: =N10+P10 -> 0 | T10: =IF(B10="",IF(COUNTIFS(Riparto!$B$6:$B$105,A10)>0,"MANCA NOMINATIVO",""),IF(OR(NOT(ISNUMBER(F10)),NOT(ISNUMBER(G10)),NOT(ISNUMBER(H10)),C10="",D10="",E10=""),"COMPLETARE DATI E ALIQUOTE",IF(I10>L10,"ALTRI INCENTIVI OLTRE LIMITE",IF(COUNTIFS($C$6:$C$25,C10,$D$6:$D$25,D10)>1,"MATRICOLA DUPLICATA","DATI COMPLETI")))) | U10: =O10*(1+F10) -> 0 | V10: =IF(OR(T10="",T10="DATI COMPLETI"),0,1) -> 0
A11: P06 | I11: 0 | J11: 0 | K11: =IF(B11="",0,SUMIFS(Riparto!$W$6:$W$105,Riparto!$B$6:$B$105,A11)) -> 0 | L11: =IF(ISNUMBER(H11),H11*IF(Procedura!$B$31="Si",1.15,1),0) -> 0 | M11: =MAX(0,L11-I11) -> 0 | N11: =MIN(K11,M11) -> 0 | O11: =K11-N11 -> 0 | P11: =N11*F11 -> 0 | Q11: =N11*G11 -> 0 | R11: =N11-J11 -> 0 | S11: =N11+P11 -> 0 | T11: =IF(B11="",IF(COUNTIFS(Riparto!$B$6:$B$105,A11)>0,"MANCA NOMINATIVO",""),IF(OR(NOT(ISNUMBER(F11)),NOT(ISNUMBER(G11)),NOT(ISNUMBER(H11)),C11="",D11="",E11=""),"COMPLETARE DATI E ALIQUOTE",IF(I11>L11,"ALTRI INCENTIVI OLTRE LIMITE",IF(COUNTIFS($C$6:$C$25,C11,$D$6:$D$25,D11)>1,"MATRICOLA DUPLICATA","DATI COMPLETI")))) | U11: =O11*(1+F11) -> 0 | V11: =IF(OR(T11="",T11="DATI COMPLETI"),0,1) -> 0
A12: P07 | I12: 0 | J12: 0 | K12: =IF(B12="",0,SUMIFS(Riparto!$W$6:$W$105,Riparto!$B$6:$B$105,A12)) -> 0 | L12: =IF(ISNUMBER(H12),H12*IF(Procedura!$B$31="Si",1.15,1),0) -> 0 | M12: =MAX(0,L12-I12) -> 0 | N12: =MIN(K12,M12) -> 0 | O12: =K12-N12 -> 0 | P12: =N12*F12 -> 0 | Q12: =N12*G12 -> 0 | R12: =N12-J12 -> 0 | S12: =N12+P12 -> 0 | T12: =IF(B12="",IF(COUNTIFS(Riparto!$B$6:$B$105,A12)>0,"MANCA NOMINATIVO",""),IF(OR(NOT(ISNUMBER(F12)),NOT(ISNUMBER(G12)),NOT(ISNUMBER(H12)),C12="",D12="",E12=""),"COMPLETARE DATI E ALIQUOTE",IF(I12>L12,"ALTRI INCENTIVI OLTRE LIMITE",IF(COUNTIFS($C$6:$C$25,C12,$D$6:$D$25,D12)>1,"MATRICOLA DUPLICATA","DATI COMPLETI")))) | U12: =O12*(1+F12) -> 0 | V12: =IF(OR(T12="",T12="DATI COMPLETI"),0,1) -> 0
A13: P08 | I13: 0 | J13: 0 | K13: =IF(B13="",0,SUMIFS(Riparto!$W$6:$W$105,Riparto!$B$6:$B$105,A13)) -> 0 | L13: =IF(ISNUMBER(H13),H13*IF(Procedura!$B$31="Si",1.15,1),0) -> 0 | M13: =MAX(0,L13-I13) -> 0 | N13: =MIN(K13,M13) -> 0 | O13: =K13-N13 -> 0 | P13: =N13*F13 -> 0 | Q13: =N13*G13 -> 0 | R13: =N13-J13 -> 0 | S13: =N13+P13 -> 0 | T13: =IF(B13="",IF(COUNTIFS(Riparto!$B$6:$B$105,A13)>0,"MANCA NOMINATIVO",""),IF(OR(NOT(ISNUMBER(F13)),NOT(ISNUMBER(G13)),NOT(ISNUMBER(H13)),C13="",D13="",E13=""),"COMPLETARE DATI E ALIQUOTE",IF(I13>L13,"ALTRI INCENTIVI OLTRE LIMITE",IF(COUNTIFS($C$6:$C$25,C13,$D$6:$D$25,D13)>1,"MATRICOLA DUPLICATA","DATI COMPLETI")))) | U13: =O13*(1+F13) -> 0 | V13: =IF(OR(T13="",T13="DATI COMPLETI"),0,1) -> 0
A14: P09 | I14: 0 | J14: 0 | K14: =IF(B14="",0,SUMIFS(Riparto!$W$6:$W$105,Riparto!$B$6:$B$105,A14)) -> 0 | L14: =IF(ISNUMBER(H14),H14*IF(Procedura!$B$31="Si",1.15,1),0) -> 0 | M14: =MAX(0,L14-I14) -> 0 | N14: =MIN(K14,M14) -> 0 | O14: =K14-N14 -> 0 | P14: =N14*F14 -> 0 | Q14: =N14*G14 -> 0 | R14: =N14-J14 -> 0 | S14: =N14+P14 -> 0 | T14: =IF(B14="",IF(COUNTIFS(Riparto!$B$6:$B$105,A14)>0,"MANCA NOMINATIVO",""),IF(OR(NOT(ISNUMBER(F14)),NOT(ISNUMBER(G14)),NOT(ISNUMBER(H14)),C14="",D14="",E14=""),"COMPLETARE DATI E ALIQUOTE",IF(I14>L14,"ALTRI INCENTIVI OLTRE LIMITE",IF(COUNTIFS($C$6:$C$25,C14,$D$6:$D$25,D14)>1,"MATRICOLA DUPLICATA","DATI COMPLETI")))) | U14: =O14*(1+F14) -> 0 | V14: =IF(OR(T14="",T14="DATI COMPLETI"),0,1) -> 0
A15: P10 | I15: 0 | J15: 0 | K15: =IF(B15="",0,SUMIFS(Riparto!$W$6:$W$105,Riparto!$B$6:$B$105,A15)) -> 0 | L15: =IF(ISNUMBER(H15),H15*IF(Procedura!$B$31="Si",1.15,1),0) -> 0 | M15: =MAX(0,L15-I15) -> 0 | N15: =MIN(K15,M15) -> 0 | O15: =K15-N15 -> 0 | P15: =N15*F15 -> 0 | Q15: =N15*G15 -> 0 | R15: =N15-J15 -> 0 | S15: =N15+P15 -> 0 | T15: =IF(B15="",IF(COUNTIFS(Riparto!$B$6:$B$105,A15)>0,"MANCA NOMINATIVO",""),IF(OR(NOT(ISNUMBER(F15)),NOT(ISNUMBER(G15)),NOT(ISNUMBER(H15)),C15="",D15="",E15=""),"COMPLETARE DATI E ALIQUOTE",IF(I15>L15,"ALTRI INCENTIVI OLTRE LIMITE",IF(COUNTIFS($C$6:$C$25,C15,$D$6:$D$25,D15)>1,"MATRICOLA DUPLICATA","DATI COMPLETI")))) | U15: =O15*(1+F15) -> 0 | V15: =IF(OR(T15="",T15="DATI COMPLETI"),0,1) -> 0
A16: P11 | I16: 0 | J16: 0 | K16: =IF(B16="",0,SUMIFS(Riparto!$W$6:$W$105,Riparto!$B$6:$B$105,A16)) -> 0 | L16: =IF(ISNUMBER(H16),H16*IF(Procedura!$B$31="Si",1.15,1),0) -> 0 | M16: =MAX(0,L16-I16) -> 0 | N16: =MIN(K16,M16) -> 0 | O16: =K16-N16 -> 0 | P16: =N16*F16 -> 0 | Q16: =N16*G16 -> 0 | R16: =N16-J16 -> 0 | S16: =N16+P16 -> 0 | T16: =IF(B16="",IF(COUNTIFS(Riparto!$B$6:$B$105,A16)>0,"MANCA NOMINATIVO",""),IF(OR(NOT(ISNUMBER(F16)),NOT(ISNUMBER(G16)),NOT(ISNUMBER(H16)),C16="",D16="",E16=""),"COMPLETARE DATI E ALIQUOTE",IF(I16>L16,"ALTRI INCENTIVI OLTRE LIMITE",IF(COUNTIFS($C$6:$C$25,C16,$D$6:$D$25,D16)>1,"MATRICOLA DUPLICATA","DATI COMPLETI")))) | U16: =O16*(1+F16) -> 0 | V16: =IF(OR(T16="",T16="DATI COMPLETI"),0,1) -> 0
A17: P12 | I17: 0 | J17: 0 | K17: =IF(B17="",0,SUMIFS(Riparto!$W$6:$W$105,Riparto!$B$6:$B$105,A17)) -> 0 | L17: =IF(ISNUMBER(H17),H17*IF(Procedura!$B$31="Si",1.15,1),0) -> 0 | M17: =MAX(0,L17-I17) -> 0 | N17: =MIN(K17,M17) -> 0 | O17: =K17-N17 -> 0 | P17: =N17*F17 -> 0 | Q17: =N17*G17 -> 0 | R17: =N17-J17 -> 0 | S17: =N17+P17 -> 0 | T17: =IF(B17="",IF(COUNTIFS(Riparto!$B$6:$B$105,A17)>0,"MANCA NOMINATIVO",""),IF(OR(NOT(ISNUMBER(F17)),NOT(ISNUMBER(G17)),NOT(ISNUMBER(H17)),C17="",D17="",E17=""),"COMPLETARE DATI E ALIQUOTE",IF(I17>L17,"ALTRI INCENTIVI OLTRE LIMITE",IF(COUNTIFS($C$6:$C$25,C17,$D$6:$D$25,D17)>1,"MATRICOLA DUPLICATA","DATI COMPLETI")))) | U17: =O17*(1+F17) -> 0 | V17: =IF(OR(T17="",T17="DATI COMPLETI"),0,1) -> 0
... A25: P20 | I25: 0 | J25: 0 | K25: =IF(B25="",0,SUMIFS(Riparto!$W$6:$W$105,Riparto!$B$6:$B$105,A25)) -> 0 | L25: =IF(ISNUMBER(H25),H25*IF(Procedura!$B$31="Si",1.15,1),0) -> 0 | M25: =MAX(0,L25-I25) -> 0 | N25: =MIN(K25,M25) -> 0 | O25: =K25-N25 -> 0 | P25: =N25*F25 -> 0 | Q25: =N25*G25 -> 0 | R25: =N25-J25 -> 0 | S25: =N25+P25 -> 0 | T25: =IF(B25="",IF(COUNTIFS(Riparto!$B$6:$B$105,A25)>0,"MANCA NOMINATIVO",""),IF(OR(NOT(ISNUMBER(F25)),NOT(ISNUMBER(G25)),NOT(ISNUMBER(H25)),C25="",D25="",E25=""),"COMPLETARE DATI E ALIQUOTE",IF(I25>L25,"ALTRI INCENTIVI OLTRE LIMITE",IF(COUNTIFS($C$6:$C$25,C25,$D$6:$D$25,D25)>1,"MATRICOLA DUPLICATA","DATI COMPLETI")))) | U25: =O25*(1+F25) -> 0 | V25: =IF(OR(T25="",T25="DATI COMPLETI"),0,1) -> 0
A28: Aliquote contributive e IRAP: inserire quelle effettive certificate dall’ufficio personale. Il modello non stima il netto in busta paga.

Sheet Voci
A2: Comune di Malegno · Voci e maturazione
A3: Compilare solo le celle gialle. Importi in euro. Percentuali digitabili anche come 25%.
A5: Codice | B5: N. tabella | C5: Fase | D5: Attività | E5: % quota 80 | F5: Destinazione attuale | G5: Frazione trasferita CUC | H5: Quota anni precedenti / previgente | I5: Quota maturata nell’anno | J5: Importo originario voce | K5: Capienza attività CUC | L5: Detrazione CUC | M5: Residuo al Comune | N5: Quote pregresse riservate | O5: Quota annua da ripartire | P5: Attività future accantonate | Q5: Quote non svolte con oneri | R5: Controllo della voce | S5: Somma pesi riparto | T5: Anomalie 0/1
A6: V01 | B6: =IF(E6=0,"",1) -> 1 | C6: =IF(Procedura!$B$10="Lavori",Guida!B31,Guida!E31) -> Programmazione | D6: =IF(Procedura!$B$10="Lavori",Guida!C31,Guida!F31) -> Programmazione della spesa per investimenti | E6: =IF(Procedura!$B$10="Lavori",Guida!D31,Guida!G31) -> 0.05 | F6: Da definire | G6: 0 | H6: 0 | I6: 0 | J6: =Procedura!$B$55*E6 -> 0 | K6: =IF(Procedura!$B$32="Si",J6*G6,0) -> 0 | L6: =IF(OR(AND(Procedura!$B$10="Lavori",B6=12),AND(Procedura!$B$10<>"Lavori",B6=4)),MIN(Procedura!$B$60,K6),IF(SUM($K$6:$K$24)-IF(Procedura!$B$10="Lavori",$K$17,$K$9)>0,MAX(0,Procedura!$B$60-IF(Procedura!$B$10="Lavori",$K$17,$K$9))*K6/(SUM($K$6:$K$24)-IF(Procedura!$B$10="Lavori",$K$17,$K$9)),0)) -> 0 | M6: =J6-L6 -> 0 | N6: =M6*H6 -> 0 | O6: =IF(F6="Interna",M6*I6,0) -> 0 | P6: =IF(OR(F6="Interna",F6="Da definire"),M6*MAX(0,1-H6-IF(F6="Interna",I6,0)),0) -> 0 | Q6: =IF(OR(F6="Esterna",F6="Non prevista",F6="Non attribuita",F6="Priva attestazione"),M6*(1-H6),0) -> 0 | R6: =IF(AND(Procedura!$B$10="Lavori",B6=9,F6="Interna",Procedura!$B$31<>"Si"),"FLUSSI INFORMATIVI SENZA BIM",IF(AND(Procedura!$B$10<>"Lavori",B6=1,F6="Interna",Procedura!$B$41<>"Si"),"PROGRAMMAZIONE SOLO CONTO CAPITALE",IF(E6=0,IF(COUNTIFS(Riparto!$A$6:$A$105,A6)>0,"VOCE NON PRESENTE IN TABELLA",""),IF(H6+I6>1.000001,"MATURAZIONE OLTRE 100%",IF(AND(G6>0,NOT(IF(Procedura!$B$10="Lavori",AND(B6>=10,B6<=12),AND(B6>=2,B6<=4)))),"CUC SU FASE NON AFFIDAMENTO",IF(AND(Procedura!$B$10<>"Lavori",B6=2,G6>Procedura!$B$39),"CUC OLTRE FRAZIONE AFFIDAMENTO",IF(F6="Da definire","DEFINIRE DESTINAZIONE",IF(AND(F6<>"Interna",OR(I6>0,S6>0)),"ASSEGNATARI SU VOCE NON INTERNA",IF(AND(F6="Interna",M6>0,ABS(S6-1)>0.000001),"RIPARTO INTERNO NON PARI A 100%","COERENTE"))))))))) -> DEFINIRE DESTINAZIONE | S6: =SUMIFS(Riparto!$E$6:$E$105,Riparto!$A$6:$A$105,A6) -> 0 | T6: =IF(OR(R6="",R6="COERENTE"),0,1) -> 1
A7: V02 | B7: =IF(E7=0,"",2) -> 2 | C7: =IF(Procedura!$B$10="Lavori",Guida!B32,Guida!E32) -> Programmazione | D7: =IF(Procedura!$B$10="Lavori",Guida!C32,Guida!F32) -> DocFAP | E7: =IF(Procedura!$B$10="Lavori",Guida!D32,Guida!G32) -> 0.03 | F7: Da definire | G7: 0 | H7: 0 | I7: 0 | J7: =Procedura!$B$55*E7 -> 0 | K7: =IF(Procedura!$B$32="Si",J7*G7,0) -> 0 | L7: =IF(OR(AND(Procedura!$B$10="Lavori",B7=12),AND(Procedura!$B$10<>"Lavori",B7=4)),MIN(Procedura!$B$60,K7),IF(SUM($K$6:$K$24)-IF(Procedura!$B$10="Lavori",$K$17,$K$9)>0,MAX(0,Procedura!$B$60-IF(Procedura!$B$10="Lavori",$K$17,$K$9))*K7/(SUM($K$6:$K$24)-IF(Procedura!$B$10="Lavori",$K$17,$K$9)),0)) -> 0 | M7: =J7-L7 -> 0 | N7: =M7*H7 -> 0 | O7: =IF(F7="Interna",M7*I7,0) -> 0 | P7: =IF(OR(F7="Interna",F7="Da definire"),M7*MAX(0,1-H7-IF(F7="Interna",I7,0)),0) -> 0 | Q7: =IF(OR(F7="Esterna",F7="Non prevista",F7="Non attribuita",F7="Priva attestazione"),M7*(1-H7),0) -> 0 | R7: =IF(AND(Procedura!$B$10="Lavori",B7=9,F7="Interna",Procedura!$B$31<>"Si"),"FLUSSI INFORMATIVI SENZA BIM",IF(AND(Procedura!$B$10<>"Lavori",B7=1,F7="Interna",Procedura!$B$41<>"Si"),"PROGRAMMAZIONE SOLO CONTO CAPITALE",IF(E7=0,IF(COUNTIFS(Riparto!$A$6:$A$105,A7)>0,"VOCE NON PRESENTE IN TABELLA",""),IF(H7+I7>1.000001,"MATURAZIONE OLTRE 100%",IF(AND(G7>0,NOT(IF(Procedura!$B$10="Lavori",AND(B7>=10,B7<=12),AND(B7>=2,B7<=4)))),"CUC SU FASE NON AFFIDAMENTO",IF(AND(Procedura!$B$10<>"Lavori",B7=2,G7>Procedura!$B$39),"CUC OLTRE FRAZIONE AFFIDAMENTO",IF(F7="Da definire","DEFINIRE DESTINAZIONE",IF(AND(F7<>"Interna",OR(I7>0,S7>0)),"ASSEGNATARI SU VOCE NON INTERNA",IF(AND(F7="Interna",M7>0,ABS(S7-1)>0.000001),"RIPARTO INTERNO NON PARI A 100%","COERENTE"))))))))) -> DEFINIRE DESTINAZIONE | S7: =SUMIFS(Riparto!$E$6:$E$105,Riparto!$A$6:$A$105,A7) -> 0 | T7: =IF(OR(R7="",R7="COERENTE"),0,1) -> 1
A8: V03 | B8: =IF(E8=0,"",3) -> 3 | C8: =IF(Procedura!$B$10="Lavori",Guida!B33,Guida!E33) -> Progettazione | D8: =IF(Procedura!$B$10="Lavori",Guida!C33,Guida!F33) -> RUP progettazione | E8: =IF(Procedura!$B$10="Lavori",Guida!D33,Guida!G33) -> 0.09 | F8: Da definire | G8: 0 | H8: 0 | I8: 0 | J8: =Procedura!$B$55*E8 -> 0 | K8: =IF(Procedura!$B$32="Si",J8*G8,0) -> 0 | L8: =IF(OR(AND(Procedura!$B$10="Lavori",B8=12),AND(Procedura!$B$10<>"Lavori",B8=4)),MIN(Procedura!$B$60,K8),IF(SUM($K$6:$K$24)-IF(Procedura!$B$10="Lavori",$K$17,$K$9)>0,MAX(0,Procedura!$B$60-IF(Procedura!$B$10="Lavori",$K$17,$K$9))*K8/(SUM($K$6:$K$24)-IF(Procedura!$B$10="Lavori",$K$17,$K$9)),0)) -> 0 | M8: =J8-L8 -> 0 | N8: =M8*H8 -> 0 | O8: =IF(F8="Interna",M8*I8,0) -> 0 | P8: =IF(OR(F8="Interna",F8="Da definire"),M8*MAX(0,1-H8-IF(F8="Interna",I8,0)),0) -> 0 | Q8: =IF(OR(F8="Esterna",F8="Non prevista",F8="Non attribuita",F8="Priva attestazione"),M8*(1-H8),0) -> 0 | R8: =IF(AND(Procedura!$B$10="Lavori",B8=9,F8="Interna",Procedura!$B$31<>"Si"),"FLUSSI INFORMATIVI SENZA BIM",IF(AND(Procedura!$B$10<>"Lavori",B8=1,F8="Interna",Procedura!$B$41<>"Si"),"PROGRAMMAZIONE SOLO CONTO CAPITALE",IF(E8=0,IF(COUNTIFS(Riparto!$A$6:$A$105,A8)>0,"VOCE NON PRESENTE IN TABELLA",""),IF(H8+I8>1.000001,"MATURAZIONE OLTRE 100%",IF(AND(G8>0,NOT(IF(Procedura!$B$10="Lavori",AND(B8>=10,B8<=12),AND(B8>=2,B8<=4)))),"CUC SU FASE NON AFFIDAMENTO",IF(AND(Procedura!$B$10<>"Lavori",B8=2,G8>Procedura!$B$39),"CUC OLTRE FRAZIONE AFFIDAMENTO",IF(F8="Da definire","DEFINIRE DESTINAZIONE",IF(AND(F8<>"Interna",OR(I8>0,S8>0)),"ASSEGNATARI SU VOCE NON INTERNA",IF(AND(F8="Interna",M8>0,ABS(S8-1)>0.000001),"RIPARTO INTERNO NON PARI A 100%","COERENTE"))))))))) -> DEFINIRE DESTINAZIONE | S8: =SUMIFS(Riparto!$E$6:$E$105,Riparto!$A$6:$A$105,A8) -> 0 | T8: =IF(OR(R8="",R8="COERENTE"),0,1) -> 1
A9: V04 | B9: =IF(E9=0,"",4) -> 4 | C9: =IF(Procedura!$B$10="Lavori",Guida!B34,Guida!E34) -> Progettazione | D9: =IF(Procedura!$B$10="Lavori",Guida!C34,Guida!F34) -> Collaborazione RUP progettazione | E9: =IF(Procedura!$B$10="Lavori",Guida!D34,Guida!G34) -> 0.03 | F9: Da definire | G9: 0 | H9: 0 | I9: 0 | J9: =Procedura!$B$55*E9 -> 0 | K9: =IF(Procedura!$B$32="Si",J9*G9,0) -> 0 | L9: =IF(OR(AND(Procedura!$B$10="Lavori",B9=12),AND(Procedura!$B$10<>"Lavori",B9=4)),MIN(Procedura!$B$60,K9),IF(SUM($K$6:$K$24)-IF(Procedura!$B$10="Lavori",$K$17,$K$9)>0,MAX(0,Procedura!$B$60-IF(Procedura!$B$10="Lavori",$K$17,$K$9))*K9/(SUM($K$6:$K$24)-IF(Procedura!$B$10="Lavori",$K$17,$K$9)),0)) -> 0 | M9: =J9-L9 -> 0 | N9: =M9*H9 -> 0 | O9: =IF(F9="Interna",M9*I9,0) -> 0 | P9: =IF(OR(F9="Interna",F9="Da definire"),M9*MAX(0,1-H9-IF(F9="Interna",I9,0)),0) -> 0 | Q9: =IF(OR(F9="Esterna",F9="Non prevista",F9="Non attribuita",F9="Priva attestazione"),M9*(1-H9),0) -> 0 | R9: =IF(AND(Procedura!$B$10="Lavori",B9=9,F9="Interna",Procedura!$B$31<>"Si"),"FLUSSI INFORMATIVI SENZA BIM",IF(AND(Procedura!$B$10<>"Lavori",B9=1,F9="Interna",Procedura!$B$41<>"Si"),"PROGRAMMAZIONE SOLO CONTO CAPITALE",IF(E9=0,IF(COUNTIFS(Riparto!$A$6:$A$105,A9)>0,"VOCE NON PRESENTE IN TABELLA",""),IF(H9+I9>1.000001,"MATURAZIONE OLTRE 100%",IF(AND(G9>0,NOT(IF(Procedura!$B$10="Lavori",AND(B9>=10,B9<=12),AND(B9>=2,B9<=4)))),"CUC SU FASE NON AFFIDAMENTO",IF(AND(Procedura!$B$10<>"Lavori",B9=2,G9>Procedura!$B$39),"CUC OLTRE FRAZIONE AFFIDAMENTO",IF(F9="Da definire","DEFINIRE DESTINAZIONE",IF(AND(F9<>"Interna",OR(I9>0,S9>0)),"ASSEGNATARI SU VOCE NON INTERNA",IF(AND(F9="Interna",M9>0,ABS(S9-1)>0.000001),"RIPARTO INTERNO NON PARI A 100%","COERENTE"))))))))) -> DEFINIRE DESTINAZIONE | S9: =SUMIFS(Riparto!$E$6:$E$105,Riparto!$A$6:$A$105,A9) -> 0 | T9: =IF(OR(R9="",R9="COERENTE"),0,1) -> 1
A10: V05 | B10: =IF(E10=0,"",5) -> 5 | C10: =IF(Procedura!$B$10="Lavori",Guida!B35,Guida!E35) -> Progettazione | D10: =IF(Procedura!$B$10="Lavori",Guida!C35,Guida!F35) -> PFTE | E10: =IF(Procedura!$B$10="Lavori",Guida!D35,Guida!G35) -> 0.07 | F10: Da definire | G10: 0 | H10: 0 | I10: 0 | J10: =Procedura!$B$55*E10 -> 0 | K10: =IF(Procedura!$B$32="Si",J10*G10,0) -> 0 | L10: =IF(OR(AND(Procedura!$B$10="Lavori",B10=12),AND(Procedura!$B$10<>"Lavori",B10=4)),MIN(Procedura!$B$60,K10),IF(SUM($K$6:$K$24)-IF(Procedura!$B$10="Lavori",$K$17,$K$9)>0,MAX(0,Procedura!$B$60-IF(Procedura!$B$10="Lavori",$K$17,$K$9))*K10/(SUM($K$6:$K$24)-IF(Procedura!$B$10="Lavori",$K$17,$K$9)),0)) -> 0 | M10: =J10-L10 -> 0 | N10: =M10*H10 -> 0 | O10: =IF(F10="Interna",M10*I10,0) -> 0 | P10: =IF(OR(F10="Interna",F10="Da definire"),M10*MAX(0,1-H10-IF(F10="Interna",I10,0)),0) -> 0 | Q10: =IF(OR(F10="Esterna",F10="Non prevista",F10="Non attribuita",F10="Priva attestazione"),M10*(1-H10),0) -> 0 | R10: =IF(AND(Procedura!$B$10="Lavori",B10=9,F10="Interna",Procedura!$B$31<>"Si"),"FLUSSI INFORMATIVI SENZA BIM",IF(AND(Procedura!$B$10<>"Lavori",B10=1,F10="Interna",Procedura!$B$41<>"Si"),"PROGRAMMAZIONE SOLO CONTO CAPITALE",IF(E10=0,IF(COUNTIFS(Riparto!$A$6:$A$105,A10)>0,"VOCE NON PRESENTE IN TABELLA",""),IF(H10+I10>1.000001,"MATURAZIONE OLTRE 100%",IF(AND(G10>0,NOT(IF(Procedura!$B$10="Lavori",AND(B10>=10,B10<=12),AND(B10>=2,B10<=4)))),"CUC SU FASE NON AFFIDAMENTO",IF(AND(Procedura!$B$10<>"Lavori",B10=2,G10>Procedura!$B$39),"CUC OLTRE FRAZIONE AFFIDAMENTO",IF(F10="Da definire","DEFINIRE DESTINAZIONE",IF(AND(F10<>"Interna",OR(I10>0,S10>0)),"ASSEGNATARI SU VOCE NON INTERNA",IF(AND(F10="Interna",M10>0,ABS(S10-1)>0.000001),"RIPARTO INTERNO NON PARI A 100%","COERENTE"))))))))) -> DEFINIRE DESTINAZIONE | S10: =SUMIFS(Riparto!$E$6:$E$105,Riparto!$A$6:$A$105,A10) -> 0 | T10: =IF(OR(R10="",R10="COERENTE"),0,1) -> 1
A11: V06 | B11: =IF(E11=0,"",6) -> 6 | C11: =IF(Procedura!$B$10="Lavori",Guida!B36,Guida!E36) -> Progettazione | D11: =IF(Procedura!$B$10="Lavori",Guida!C36,Guida!F36) -> Progetto esecutivo | E11: =IF(Procedura!$B$10="Lavori",Guida!D36,Guida!G36) -> 0.07 | F11: Da definire | G11: 0 | H11: 0 | I11: 0 | J11: =Procedura!$B$55*E11 -> 0 | K11: =IF(Procedura!$B$32="Si",J11*G11,0) -> 0 | L11: =IF(OR(AND(Procedura!$B$10="Lavori",B11=12),AND(Procedura!$B$10<>"Lavori",B11=4)),MIN(Procedura!$B$60,K11),IF(SUM($K$6:$K$24)-IF(Procedura!$B$10="Lavori",$K$17,$K$9)>0,MAX(0,Procedura!$B$60-IF(Procedura!$B$10="Lavori",$K$17,$K$9))*K11/(SUM($K$6:$K$24)-IF(Procedura!$B$10="Lavori",$K$17,$K$9)),0)) -> 0 | M11: =J11-L11 -> 0 | N11: =M11*H11 -> 0 | O11: =IF(F11="Interna",M11*I11,0) -> 0 | P11: =IF(OR(F11="Interna",F11="Da definire"),M11*MAX(0,1-H11-IF(F11="Interna",I11,0)),0) -> 0 | Q11: =IF(OR(F11="Esterna",F11="Non prevista",F11="Non attribuita",F11="Priva attestazione"),M11*(1-H11),0) -> 0 | R11: =IF(AND(Procedura!$B$10="Lavori",B11=9,F11="Interna",Procedura!$B$31<>"Si"),"FLUSSI INFORMATIVI SENZA BIM",IF(AND(Procedura!$B$10<>"Lavori",B11=1,F11="Interna",Procedura!$B$41<>"Si"),"PROGRAMMAZIONE SOLO CONTO CAPITALE",IF(E11=0,IF(COUNTIFS(Riparto!$A$6:$A$105,A11)>0,"VOCE NON PRESENTE IN TABELLA",""),IF(H11+I11>1.000001,"MATURAZIONE OLTRE 100%",IF(AND(G11>0,NOT(IF(Procedura!$B$10="Lavori",AND(B11>=10,B11<=12),AND(B11>=2,B11<=4)))),"CUC SU FASE NON AFFIDAMENTO",IF(AND(Procedura!$B$10<>"Lavori",B11=2,G11>Procedura!$B$39),"CUC OLTRE FRAZIONE AFFIDAMENTO",IF(F11="Da definire","DEFINIRE DESTINAZIONE",IF(AND(F11<>"Interna",OR(I11>0,S11>0)),"ASSEGNATARI SU VOCE NON INTERNA",IF(AND(F11="Interna",M11>0,ABS(S11-1)>0.000001),"RIPARTO INTERNO NON PARI A 100%","COERENTE"))))))))) -> DEFINIRE DESTINAZIONE | S11: =SUMIFS(Riparto!$E$6:$E$105,Riparto!$A$6:$A$105,A11) -> 0 | T11: =IF(OR(R11="",R11="COERENTE"),0,1) -> 1
A12: V07 | B12: =IF(E12=0,"",7) -> 7 | C12: =IF(Procedura!$B$10="Lavori",Guida!B37,Guida!E37) -> Progettazione | D12: =IF(Procedura!$B$10="Lavori",Guida!C37,Guida!F37) -> Sicurezza progettazione | E12: =IF(Procedura!$B$10="Lavori",Guida!D37,Guida!G37) -> 0.02 | F12: Da definire | G12: 0 | H12: 0 | I12: 0 | J12: =Procedura!$B$55*E12 -> 0 | K12: =IF(Procedura!$B$32="Si",J12*G12,0) -> 0 | L12: =IF(OR(AND(Procedura!$B$10="Lavori",B12=12),AND(Procedura!$B$10<>"Lavori",B12=4)),MIN(Procedura!$B$60,K12),IF(SUM($K$6:$K$24)-IF(Procedura!$B$10="Lavori",$K$17,$K$9)>0,MAX(0,Procedura!$B$60-IF(Procedura!$B$10="Lavori",$K$17,$K$9))*K12/(SUM($K$6:$K$24)-IF(Procedura!$B$10="Lavori",$K$17,$K$9)),0)) -> 0 | M12: =J12-L12 -> 0 | N12: =M12*H12 -> 0 | O12: =IF(F12="Interna",M12*I12,0) -> 0 | P12: =IF(OR(F12="Interna",F12="Da definire"),M12*MAX(0,1-H12-IF(F12="Interna",I12,0)),0) -> 0 | Q12: =IF(OR(F12="Esterna",F12="Non prevista",F12="Non attribuita",F12="Priva attestazione"),M12*(1-H12),0) -> 0 | R12: =IF(AND(Procedura!$B$10="Lavori",B12=9,F12="Interna",Procedura!$B$31<>"Si"),"FLUSSI INFORMATIVI SENZA BIM",IF(AND(Procedura!$B$10<>"Lavori",B12=1,F12="Interna",Procedura!$B$41<>"Si"),"PROGRAMMAZIONE SOLO CONTO CAPITALE",IF(E12=0,IF(COUNTIFS(Riparto!$A$6:$A$105,A12)>0,"VOCE NON PRESENTE IN TABELLA",""),IF(H12+I12>1.000001,"MATURAZIONE OLTRE 100%",IF(AND(G12>0,NOT(IF(Procedura!$B$10="Lavori",AND(B12>=10,B12<=12),AND(B12>=2,B12<=4)))),"CUC SU FASE NON AFFIDAMENTO",IF(AND(Procedura!$B$10<>"Lavori",B12=2,G12>Procedura!$B$39),"CUC OLTRE FRAZIONE AFFIDAMENTO",IF(F12="Da definire","DEFINIRE DESTINAZIONE",IF(AND(F12<>"Interna",OR(I12>0,S12>0)),"ASSEGNATARI SU VOCE NON INTERNA",IF(AND(F12="Interna",M12>0,ABS(S12-1)>0.000001),"RIPARTO INTERNO NON PARI A 100%","COERENTE"))))))))) -> DEFINIRE DESTINAZIONE | S12: =SUMIFS(Riparto!$E$6:$E$105,Riparto!$A$6:$A$105,A12) -> 0 | T12: =IF(OR(R12="",R12="COERENTE"),0,1) -> 1
A13: V08 | B13: =IF(E13=0,"",8) -> 8 | C13: =IF(Procedura!$B$10="Lavori",Guida!B38,Guida!E38) -> Progettazione | D13: =IF(Procedura!$B$10="Lavori",Guida!C38,Guida!F38) -> Verifica della progettazione | E13: =IF(Procedura!$B$10="Lavori",Guida!D38,Guida!G38) -> 0.03 | F13: Da definire | G13: 0 | H13: 0 | I13: 0 | J13: =Procedura!$B$55*E13 -> 0 | K13: =IF(Procedura!$B$32="Si",J13*G13,0) -> 0 | L13: =IF(OR(AND(Procedura!$B$10="Lavori",B13=12),AND(Procedura!$B$10<>"Lavori",B13=4)),MIN(Procedura!$B$60,K13),IF(SUM($K$6:$K$24)-IF(Procedura!$B$10="Lavori",$K$17,$K$9)>0,MAX(0,Procedura!$B$60-IF(Procedura!$B$10="Lavori",$K$17,$K$9))*K13/(SUM($K$6:$K$24)-IF(Procedura!$B$10="Lavori",$K$17,$K$9)),0)) -> 0 | M13: =J13-L13 -> 0 | N13: =M13*H13 -> 0 | O13: =IF(F13="Interna",M13*I13,0) -> 0 | P13: =IF(OR(F13="Interna",F13="Da definire"),M13*MAX(0,1-H13-IF(F13="Interna",I13,0)),0) -> 0 | Q13: =IF(OR(F13="Esterna",F13="Non prevista",F13="Non attribuita",F13="Priva attestazione"),M13*(1-H13),0) -> 0 | R13: =IF(AND(Procedura!$B$10="Lavori",B13=9,F13="Interna",Procedura!$B$31<>"Si"),"FLUSSI INFORMATIVI SENZA BIM",IF(AND(Procedura!$B$10<>"Lavori",B13=1,F13="Interna",Procedura!$B$41<>"Si"),"PROGRAMMAZIONE SOLO CONTO CAPITALE",IF(E13=0,IF(COUNTIFS(Riparto!$A$6:$A$105,A13)>0,"VOCE NON PRESENTE IN TABELLA",""),IF(H13+I13>1.000001,"MATURAZIONE OLTRE 100%",IF(AND(G13>0,NOT(IF(Procedura!$B$10="Lavori",AND(B13>=10,B13<=12),AND(B13>=2,B13<=4)))),"CUC SU FASE NON AFFIDAMENTO",IF(AND(Procedura!$B$10<>"Lavori",B13=2,G13>Procedura!$B$39),"CUC OLTRE FRAZIONE AFFIDAMENTO",IF(F13="Da definire","DEFINIRE DESTINAZIONE",IF(AND(F13<>"Interna",OR(I13>0,S13>0)),"ASSEGNATARI SU VOCE NON INTERNA",IF(AND(F13="Interna",M13>0,ABS(S13-1)>0.000001),"RIPARTO INTERNO NON PARI A 100%","COERENTE"))))))))) -> DEFINIRE DESTINAZIONE | S13: =SUMIFS(Riparto!$E$6:$E$105,Riparto!$A$6:$A$105,A13) -> 0 | T13: =IF(OR(R13="",R13="COERENTE"),0,1) -> 1
A14: V09 | B14: =IF(E14=0,"",9) -> 9 | C14: =IF(Procedura!$B$10="Lavori",Guida!B39,Guida!E39) -> Progettazione | D14: =IF(Procedura!$B$10="Lavori",Guida!C39,Guida!F39) -> Coordinamento flussi informativi | E14: =IF(Procedura!$B$10="Lavori",Guida!D39,Guida!G39) -> 0.01 | F14: Da definire | G14: 0 | H14: 0 | I14: 0 | J14: =Procedura!$B$55*E14 -> 0 | K14: =IF(Procedura!$B$32="Si",J14*G14,0) -> 0 | L14: =IF(OR(AND(Procedura!$B$10="Lavori",B14=12),AND(Procedura!$B$10<>"Lavori",B14=4)),MIN(Procedura!$B$60,K14),IF(SUM($K$6:$K$24)-IF(Procedura!$B$10="Lavori",$K$17,$K$9)>0,MAX(0,Procedura!$B$60-IF(Procedura!$B$10="Lavori",$K$17,$K$9))*K14/(SUM($K$6:$K$24)-IF(Procedura!$B$10="Lavori",$K$17,$K$9)),0)) -> 0 | M14: =J14-L14 -> 0 | N14: =M14*H14 -> 0 | O14: =IF(F14="Interna",M14*I14,0) -> 0 | P14: =IF(OR(F14="Interna",F14="Da definire"),M14*MAX(0,1-H14-IF(F14="Interna",I14,0)),0) -> 0 | Q14: =IF(OR(F14="Esterna",F14="Non prevista",F14="Non attribuita",F14="Priva attestazione"),M14*(1-H14),0) -> 0 | R14: =IF(AND(Procedura!$B$10="Lavori",B14=9,F14="Interna",Procedura!$B$31<>"Si"),"FLUSSI INFORMATIVI SENZA BIM",IF(AND(Procedura!$B$10<>"Lavori",B14=1,F14="Interna",Procedura!$B$41<>"Si"),"PROGRAMMAZIONE SOLO CONTO CAPITALE",IF(E14=0,IF(COUNTIFS(Riparto!$A$6:$A$105,A14)>0,"VOCE NON PRESENTE IN TABELLA",""),IF(H14+I14>1.000001,"MATURAZIONE OLTRE 100%",IF(AND(G14>0,NOT(IF(Procedura!$B$10="Lavori",AND(B14>=10,B14<=12),AND(B14>=2,B14<=4)))),"CUC SU FASE NON AFFIDAMENTO",IF(AND(Procedura!$B$10<>"Lavori",B14=2,G14>Procedura!$B$39),"CUC OLTRE FRAZIONE AFFIDAMENTO",IF(F14="Da definire","DEFINIRE DESTINAZIONE",IF(AND(F14<>"Interna",OR(I14>0,S14>0)),"ASSEGNATARI SU VOCE NON INTERNA",IF(AND(F14="Interna",M14>0,ABS(S14-1)>0.000001),"RIPARTO INTERNO NON PARI A 100%","COERENTE"))))))))) -> DEFINIRE DESTINAZIONE | S14: =SUMIFS(Riparto!$E$6:$E$105,Riparto!$A$6:$A$105,A14) -> 0 | T14: =IF(OR(R14="",R14="COERENTE"),0,1) -> 1
A15: V10 | B15: =IF(E15=0,"",10) -> 10 | C15: =IF(Procedura!$B$10="Lavori",Guida!B40,Guida!E40) -> Affidamento | D15: =IF(Procedura!$B$10="Lavori",Guida!C40,Guida!F40) -> RUP affidamento | E15: =IF(Procedura!$B$10="Lavori",Guida!D40,Guida!G40) -> 0.1 | F15: Da definire | G15: 0 | H15: 0 | I15: 0 | J15: =Procedura!$B$55*E15 -> 0 | K15: =IF(Procedura!$B$32="Si",J15*G15,0) -> 0 | L15: =IF(OR(AND(Procedura!$B$10="Lavori",B15=12),AND(Procedura!$B$10<>"Lavori",B15=4)),MIN(Procedura!$B$60,K15),IF(SUM($K$6:$K$24)-IF(Procedura!$B$10="Lavori",$K$17,$K$9)>0,MAX(0,Procedura!$B$60-IF(Procedura!$B$10="Lavori",$K$17,$K$9))*K15/(SUM($K$6:$K$24)-IF(Procedura!$B$10="Lavori",$K$17,$K$9)),0)) -> 0 | M15: =J15-L15 -> 0 | N15: =M15*H15 -> 0 | O15: =IF(F15="Interna",M15*I15,0) -> 0 | P15: =IF(OR(F15="Interna",F15="Da definire"),M15*MAX(0,1-H15-IF(F15="Interna",I15,0)),0) -> 0 | Q15: =IF(OR(F15="Esterna",F15="Non prevista",F15="Non attribuita",F15="Priva attestazione"),M15*(1-H15),0) -> 0 | R15: =IF(AND(Procedura!$B$10="Lavori",B15=9,F15="Interna",Procedura!$B$31<>"Si"),"FLUSSI INFORMATIVI SENZA BIM",IF(AND(Procedura!$B$10<>"Lavori",B15=1,F15="Interna",Procedura!$B$41<>"Si"),"PROGRAMMAZIONE SOLO CONTO CAPITALE",IF(E15=0,IF(COUNTIFS(Riparto!$A$6:$A$105,A15)>0,"VOCE NON PRESENTE IN TABELLA",""),IF(H15+I15>1.000001,"MATURAZIONE OLTRE 100%",IF(AND(G15>0,NOT(IF(Procedura!$B$10="Lavori",AND(B15>=10,B15<=12),AND(B15>=2,B15<=4)))),"CUC SU FASE NON AFFIDAMENTO",IF(AND(Procedura!$B$10<>"Lavori",B15=2,G15>Procedura!$B$39),"CUC OLTRE FRAZIONE AFFIDAMENTO",IF(F15="Da definire","DEFINIRE DESTINAZIONE",IF(AND(F15<>"Interna",OR(I15>0,S15>0)),"ASSEGNATARI SU VOCE NON INTERNA",IF(AND(F15="Interna",M15>0,ABS(S15-1)>0.000001),"RIPARTO INTERNO NON PARI A 100%","COERENTE"))))))))) -> DEFINIRE DESTINAZIONE | S15: =SUMIFS(Riparto!$E$6:$E$105,Riparto!$A$6:$A$105,A15) -> 0 | T15: =IF(OR(R15="",R15="COERENTE"),0,1) -> 1
A16: V11 | B16: =IF(E16=0,"",11) -> 11 | C16: =IF(Procedura!$B$10="Lavori",Guida!B41,Guida!E41) -> Affidamento | D16: =IF(Procedura!$B$10="Lavori",Guida!C41,Guida!F41) -> Collaborazione RUP affidamento | E16: =IF(Procedura!$B$10="Lavori",Guida!D41,Guida!G41) -> 0.1 | F16: Da definire | G16: 0 | H16: 0 | I16: 0 | J16: =Procedura!$B$55*E16 -> 0 | K16: =IF(Procedura!$B$32="Si",J16*G16,0) -> 0 | L16: =IF(OR(AND(Procedura!$B$10="Lavori",B16=12),AND(Procedura!$B$10<>"Lavori",B16=4)),MIN(Procedura!$B$60,K16),IF(SUM($K$6:$K$24)-IF(Procedura!$B$10="Lavori",$K$17,$K$9)>0,MAX(0,Procedura!$B$60-IF(Procedura!$B$10="Lavori",$K$17,$K$9))*K16/(SUM($K$6:$K$24)-IF(Procedura!$B$10="Lavori",$K$17,$K$9)),0)) -> 0 | M16: =J16-L16 -> 0 | N16: =M16*H16 -> 0 | O16: =IF(F16="Interna",M16*I16,0) -> 0 | P16: =IF(OR(F16="Interna",F16="Da definire"),M16*MAX(0,1-H16-IF(F16="Interna",I16,0)),0) -> 0 | Q16: =IF(OR(F16="Esterna",F16="Non prevista",F16="Non attribuita",F16="Priva attestazione"),M16*(1-H16),0) -> 0 | R16: =IF(AND(Procedura!$B$10="Lavori",B16=9,F16="Interna",Procedura!$B$31<>"Si"),"FLUSSI INFORMATIVI SENZA BIM",IF(AND(Procedura!$B$10<>"Lavori",B16=1,F16="Interna",Procedura!$B$41<>"Si"),"PROGRAMMAZIONE SOLO CONTO CAPITALE",IF(E16=0,IF(COUNTIFS(Riparto!$A$6:$A$105,A16)>0,"VOCE NON PRESENTE IN TABELLA",""),IF(H16+I16>1.000001,"MATURAZIONE OLTRE 100%",IF(AND(G16>0,NOT(IF(Procedura!$B$10="Lavori",AND(B16>=10,B16<=12),AND(B16>=2,B16<=4)))),"CUC SU FASE NON AFFIDAMENTO",IF(AND(Procedura!$B$10<>"Lavori",B16=2,G16>Procedura!$B$39),"CUC OLTRE FRAZIONE AFFIDAMENTO",IF(F16="Da definire","DEFINIRE DESTINAZIONE",IF(AND(F16<>"Interna",OR(I16>0,S16>0)),"ASSEGNATARI SU VOCE NON INTERNA",IF(AND(F16="Interna",M16>0,ABS(S16-1)>0.000001),"RIPARTO INTERNO NON PARI A 100%","COERENTE"))))))))) -> DEFINIRE DESTINAZIONE | S16: =SUMIFS(Riparto!$E$6:$E$105,Riparto!$A$6:$A$105,A16) -> 0 | T16: =IF(OR(R16="",R16="COERENTE"),0,1) -> 1
A17: V12 | B17: =IF(E17=0,"",12) -> 12 | C17: =IF(Procedura!$B$10="Lavori",Guida!B42,Guida!E42) -> Affidamento | D17: =IF(Procedura!$B$10="Lavori",Guida!C42,Guida!F42) -> Predisposizione documenti di gara | E17: =IF(Procedura!$B$10="Lavori",Guida!D42,Guida!G42) -> 0.07 | F17: Da definire | G17: 0 | H17: 0 | I17: 0 | J17: =Procedura!$B$55*E17 -> 0 | K17: =IF(Procedura!$B$32="Si",J17*G17,0) -> 0 | L17: =IF(OR(AND(Procedura!$B$10="Lavori",B17=12),AND(Procedura!$B$10<>"Lavori",B17=4)),MIN(Procedura!$B$60,K17),IF(SUM($K$6:$K$24)-IF(Procedura!$B$10="Lavori",$K$17,$K$9)>0,MAX(0,Procedura!$B$60-IF(Procedura!$B$10="Lavori",$K$17,$K$9))*K17/(SUM($K$6:$K$24)-IF(Procedura!$B$10="Lavori",$K$17,$K$9)),0)) -> 0 | M17: =J17-L17 -> 0 | N17: =M17*H17 -> 0 | O17: =IF(F17="Interna",M17*I17,0) -> 0 | P17: =IF(OR(F17="Interna",F17="Da definire"),M17*MAX(0,1-H17-IF(F17="Interna",I17,0)),0) -> 0 | Q17: =IF(OR(F17="Esterna",F17="Non prevista",F17="Non attribuita",F17="Priva attestazione"),M17*(1-H17),0) -> 0 | R17: =IF(AND(Procedura!$B$10="Lavori",B17=9,F17="Interna",Procedura!$B$31<>"Si"),"FLUSSI INFORMATIVI SENZA BIM",IF(AND(Procedura!$B$10<>"Lavori",B17=1,F17="Interna",Procedura!$B$41<>"Si"),"PROGRAMMAZIONE SOLO CONTO CAPITALE",IF(E17=0,IF(COUNTIFS(Riparto!$A$6:$A$105,A17)>0,"VOCE NON PRESENTE IN TABELLA",""),IF(H17+I17>1.000001,"MATURAZIONE OLTRE 100%",IF(AND(G17>0,NOT(IF(Procedura!$B$10="Lavori",AND(B17>=10,B17<=12),AND(B17>=2,B17<=4)))),"CUC SU FASE NON AFFIDAMENTO",IF(AND(Procedura!$B$10<>"Lavori",B17=2,G17>Procedura!$B$39),"CUC OLTRE FRAZIONE AFFIDAMENTO",IF(F17="Da definire","DEFINIRE DESTINAZIONE",IF(AND(F17<>"Interna",OR(I17>0,S17>0)),"ASSEGNATARI SU VOCE NON INTERNA",IF(AND(F17="Interna",M17>0,ABS(S17-1)>0.000001),"RIPARTO INTERNO NON PARI A 100%","COERENTE"))))))))) -> DEFINIRE DESTINAZIONE | S17: =SUMIFS(Riparto!$E$6:$E$105,Riparto!$A$6:$A$105,A17) -> 0 | T17: =IF(OR(R17="",R17="COERENTE"),0,1) -> 1
A18: V13 | B18: =IF(E18=0,"",13) -> 13 | C18: =IF(Procedura!$B$10="Lavori",Guida!B43,Guida!E43) -> Esecuzione | D18: =IF(Procedura!$B$10="Lavori",Guida!C43,Guida!F43) -> RUP esecuzione | E18: =IF(Procedura!$B$10="Lavori",Guida!D43,Guida!G43) -> 0.11 | F18: Da definire | G18: 0 | H18: 0 | I18: 0 | J18: =Procedura!$B$55*E18 -> 0 | K18: =IF(Procedura!$B$32="Si",J18*G18,0) -> 0 | L18: =IF(OR(AND(Procedura!$B$10="Lavori",B18=12),AND(Procedura!$B$10<>"Lavori",B18=4)),MIN(Procedura!$B$60,K18),IF(SUM($K$6:$K$24)-IF(Procedura!$B$10="Lavori",$K$17,$K$9)>0,MAX(0,Procedura!$B$60-IF(Procedura!$B$10="Lavori",$K$17,$K$9))*K18/(SUM($K$6:$K$24)-IF(Procedura!$B$10="Lavori",$K$17,$K$9)),0)) -> 0 | M18: =J18-L18 -> 0 | N18: =M18*H18 -> 0 | O18: =IF(F18="Interna",M18*I18,0) -> 0 | P18: =IF(OR(F18="Interna",F18="Da definire"),M18*MAX(0,1-H18-IF(F18="Interna",I18,0)),0) -> 0 | Q18: =IF(OR(F18="Esterna",F18="Non prevista",F18="Non attribuita",F18="Priva attestazione"),M18*(1-H18),0) -> 0 | R18: =IF(AND(Procedura!$B$10="Lavori",B18=9,F18="Interna",Procedura!$B$31<>"Si"),"FLUSSI INFORMATIVI SENZA BIM",IF(AND(Procedura!$B$10<>"Lavori",B18=1,F18="Interna",Procedura!$B$41<>"Si"),"PROGRAMMAZIONE SOLO CONTO CAPITALE",IF(E18=0,IF(COUNTIFS(Riparto!$A$6:$A$105,A18)>0,"VOCE NON PRESENTE IN TABELLA",""),IF(H18+I18>1.000001,"MATURAZIONE OLTRE 100%",IF(AND(G18>0,NOT(IF(Procedura!$B$10="Lavori",AND(B18>=10,B18<=12),AND(B18>=2,B18<=4)))),"CUC SU FASE NON AFFIDAMENTO",IF(AND(Procedura!$B$10<>"Lavori",B18=2,G18>Procedura!$B$39),"CUC OLTRE FRAZIONE AFFIDAMENTO",IF(F18="Da definire","DEFINIRE DESTINAZIONE",IF(AND(F18<>"Interna",OR(I18>0,S18>0)),"ASSEGNATARI SU VOCE NON INTERNA",IF(AND(F18="Interna",M18>0,ABS(S18-1)>0.000001),"RIPARTO INTERNO NON PARI A 100%","COERENTE"))))))))) -> DEFINIRE DESTINAZIONE | S18: =SUMIFS(Riparto!$E$6:$E$105,Riparto!$A$6:$A$105,A18) -> 0 | T18: =IF(OR(R18="",R18="COERENTE"),0,1) -> 1
A19: V14 | B19: =IF(E19=0,"",14) -> 14 | C19: =IF(Procedura!$B$10="Lavori",Guida!B44,Guida!E44) -> Esecuzione | D19: =IF(Procedura!$B$10="Lavori",Guida!C44,Guida!F44) -> Collaborazione RUP esecuzione | E19: =IF(Procedura!$B$10="Lavori",Guida!D44,Guida!G44) -> 0.05 | F19: Da definire | G19: 0 | H19: 0 | I19: 0 | J19: =Procedura!$B$55*E19 -> 0 | K19: =IF(Procedura!$B$32="Si",J19*G19,0) -> 0 | L19: =IF(OR(AND(Procedura!$B$10="Lavori",B19=12),AND(Procedura!$B$10<>"Lavori",B19=4)),MIN(Procedura!$B$60,K19),IF(SUM($K$6:$K$24)-IF(Procedura!$B$10="Lavori",$K$17,$K$9)>0,MAX(0,Procedura!$B$60-IF(Procedura!$B$10="Lavori",$K$17,$K$9))*K19/(SUM($K$6:$K$24)-IF(Procedura!$B$10="Lavori",$K$17,$K$9)),0)) -> 0 | M19: =J19-L19 -> 0 | N19: =M19*H19 -> 0 | O19: =IF(F19="Interna",M19*I19,0) -> 0 | P19: =IF(OR(F19="Interna",F19="Da definire"),M19*MAX(0,1-H19-IF(F19="Interna",I19,0)),0) -> 0 | Q19: =IF(OR(F19="Esterna",F19="Non prevista",F19="Non attribuita",F19="Priva attestazione"),M19*(1-H19),0) -> 0 | R19: =IF(AND(Procedura!$B$10="Lavori",B19=9,F19="Interna",Procedura!$B$31<>"Si"),"FLUSSI INFORMATIVI SENZA BIM",IF(AND(Procedura!$B$10<>"Lavori",B19=1,F19="Interna",Procedura!$B$41<>"Si"),"PROGRAMMAZIONE SOLO CONTO CAPITALE",IF(E19=0,IF(COUNTIFS(Riparto!$A$6:$A$105,A19)>0,"VOCE NON PRESENTE IN TABELLA",""),IF(H19+I19>1.000001,"MATURAZIONE OLTRE 100%",IF(AND(G19>0,NOT(IF(Procedura!$B$10="Lavori",AND(B19>=10,B19<=12),AND(B19>=2,B19<=4)))),"CUC SU FASE NON AFFIDAMENTO",IF(AND(Procedura!$B$10<>"Lavori",B19=2,G19>Procedura!$B$39),"CUC OLTRE FRAZIONE AFFIDAMENTO",IF(F19="Da definire","DEFINIRE DESTINAZIONE",IF(AND(F19<>"Interna",OR(I19>0,S19>0)),"ASSEGNATARI SU VOCE NON INTERNA",IF(AND(F19="Interna",M19>0,ABS(S19-1)>0.000001),"RIPARTO INTERNO NON PARI A 100%","COERENTE"))))))))) -> DEFINIRE DESTINAZIONE | S19: =SUMIFS(Riparto!$E$6:$E$105,Riparto!$A$6:$A$105,A19) -> 0 | T19: =IF(OR(R19="",R19="COERENTE"),0,1) -> 1
A20: V15 | B20: =IF(E20=0,"",15) -> 15 | C20: =IF(Procedura!$B$10="Lavori",Guida!B45,Guida!E45) -> Esecuzione | D20: =IF(Procedura!$B$10="Lavori",Guida!C45,Guida!F45) -> Direzione lavori | E20: =IF(Procedura!$B$10="Lavori",Guida!D45,Guida!G45) -> 0.08 | F20: Da definire | G20: 0 | H20: 0 | I20: 0 | J20: =Procedura!$B$55*E20 -> 0 | K20: =IF(Procedura!$B$32="Si",J20*G20,0) -> 0 | L20: =IF(OR(AND(Procedura!$B$10="Lavori",B20=12),AND(Procedura!$B$10<>"Lavori",B20=4)),MIN(Procedura!$B$60,K20),IF(SUM($K$6:$K$24)-IF(Procedura!$B$10="Lavori",$K$17,$K$9)>0,MAX(0,Procedura!$B$60-IF(Procedura!$B$10="Lavori",$K$17,$K$9))*K20/(SUM($K$6:$K$24)-IF(Procedura!$B$10="Lavori",$K$17,$K$9)),0)) -> 0 | M20: =J20-L20 -> 0 | N20: =M20*H20 -> 0 | O20: =IF(F20="Interna",M20*I20,0) -> 0 | P20: =IF(OR(F20="Interna",F20="Da definire"),M20*MAX(0,1-H20-IF(F20="Interna",I20,0)),0) -> 0 | Q20: =IF(OR(F20="Esterna",F20="Non prevista",F20="Non attribuita",F20="Priva attestazione"),M20*(1-H20),0) -> 0 | R20: =IF(AND(Procedura!$B$10="Lavori",B20=9,F20="Interna",Procedura!$B$31<>"Si"),"FLUSSI INFORMATIVI SENZA BIM",IF(AND(Procedura!$B$10<>"Lavori",B20=1,F20="Interna",Procedura!$B$41<>"Si"),"PROGRAMMAZIONE SOLO CONTO CAPITALE",IF(E20=0,IF(COUNTIFS(Riparto!$A$6:$A$105,A20)>0,"VOCE NON PRESENTE IN TABELLA",""),IF(H20+I20>1.000001,"MATURAZIONE OLTRE 100%",IF(AND(G20>0,NOT(IF(Procedura!$B$10="Lavori",AND(B20>=10,B20<=12),AND(B20>=2,B20<=4)))),"CUC SU FASE NON AFFIDAMENTO",IF(AND(Procedura!$B$10<>"Lavori",B20=2,G20>Procedura!$B$39),"CUC OLTRE FRAZIONE AFFIDAMENTO",IF(F20="Da definire","DEFINIRE DESTINAZIONE",IF(AND(F20<>"Interna",OR(I20>0,S20>0)),"ASSEGNATARI SU VOCE NON INTERNA",IF(AND(F20="Interna",M20>0,ABS(S20-1)>0.000001),"RIPARTO INTERNO NON PARI A 100%","COERENTE"))))))))) -> DEFINIRE DESTINAZIONE | S20: =SUMIFS(Riparto!$E$6:$E$105,Riparto!$A$6:$A$105,A20) -> 0 | T20: =IF(OR(R20="",R20="COERENTE"),0,1) -> 1
A21: V16 | B21: =IF(E21=0,"",16) -> 16 | C21: =IF(Procedura!$B$10="Lavori",Guida!B46,Guida!E46) -> Esecuzione | D21: =IF(Procedura!$B$10="Lavori",Guida!C46,Guida!F46) -> Ufficio direzione lavori | E21: =IF(Procedura!$B$10="Lavori",Guida!D46,Guida!G46) -> 0.02 | F21: Da definire | G21: 0 | H21: 0 | I21: 0 | J21: =Procedura!$B$55*E21 -> 0 | K21: =IF(Procedura!$B$32="Si",J21*G21,0) -> 0 | L21: =IF(OR(AND(Procedura!$B$10="Lavori",B21=12),AND(Procedura!$B$10<>"Lavori",B21=4)),MIN(Procedura!$B$60,K21),IF(SUM($K$6:$K$24)-IF(Procedura!$B$10="Lavori",$K$17,$K$9)>0,MAX(0,Procedura!$B$60-IF(Procedura!$B$10="Lavori",$K$17,$K$9))*K21/(SUM($K$6:$K$24)-IF(Procedura!$B$10="Lavori",$K$17,$K$9)),0)) -> 0 | M21: =J21-L21 -> 0 | N21: =M21*H21 -> 0 | O21: =IF(F21="Interna",M21*I21,0) -> 0 | P21: =IF(OR(F21="Interna",F21="Da definire"),M21*MAX(0,1-H21-IF(F21="Interna",I21,0)),0) -> 0 | Q21: =IF(OR(F21="Esterna",F21="Non prevista",F21="Non attribuita",F21="Priva attestazione"),M21*(1-H21),0) -> 0 | R21: =IF(AND(Procedura!$B$10="Lavori",B21=9,F21="Interna",Procedura!$B$31<>"Si"),"FLUSSI INFORMATIVI SENZA BIM",IF(AND(Procedura!$B$10<>"Lavori",B21=1,F21="Interna",Procedura!$B$41<>"Si"),"PROGRAMMAZIONE SOLO CONTO CAPITALE",IF(E21=0,IF(COUNTIFS(Riparto!$A$6:$A$105,A21)>0,"VOCE NON PRESENTE IN TABELLA",""),IF(H21+I21>1.000001,"MATURAZIONE OLTRE 100%",IF(AND(G21>0,NOT(IF(Procedura!$B$10="Lavori",AND(B21>=10,B21<=12),AND(B21>=2,B21<=4)))),"CUC SU FASE NON AFFIDAMENTO",IF(AND(Procedura!$B$10<>"Lavori",B21=2,G21>Procedura!$B$39),"CUC OLTRE FRAZIONE AFFIDAMENTO",IF(F21="Da definire","DEFINIRE DESTINAZIONE",IF(AND(F21<>"Interna",OR(I21>0,S21>0)),"ASSEGNATARI SU VOCE NON INTERNA",IF(AND(F21="Interna",M21>0,ABS(S21-1)>0.000001),"RIPARTO INTERNO NON PARI A 100%","COERENTE"))))))))) -> DEFINIRE DESTINAZIONE | S21: =SUMIFS(Riparto!$E$6:$E$105,Riparto!$A$6:$A$105,A21) -> 0 | T21: =IF(OR(R21="",R21="COERENTE"),0,1) -> 1
A22: V17 | B22: =IF(E22=0,"",17) -> 17 | C22: =IF(Procedura!$B$10="Lavori",Guida!B47,Guida!E47) -> Esecuzione | D22: =IF(Procedura!$B$10="Lavori",Guida!C47,Guida!F47) -> Sicurezza esecuzione | E22: =IF(Procedura!$B$10="Lavori",Guida!D47,Guida!G47) -> 0.02 | F22: Da definire | G22: 0 | H22: 0 | I22: 0 | J22: =Procedura!$B$55*E22 -> 0 | K22: =IF(Procedura!$B$32="Si",J22*G22,0) -> 0 | L22: =IF(OR(AND(Procedura!$B$10="Lavori",B22=12),AND(Procedura!$B$10<>"Lavori",B22=4)),MIN(Procedura!$B$60,K22),IF(SUM($K$6:$K$24)-IF(Procedura!$B$10="Lavori",$K$17,$K$9)>0,MAX(0,Procedura!$B$60-IF(Procedura!$B$10="Lavori",$K$17,$K$9))*K22/(SUM($K$6:$K$24)-IF(Procedura!$B$10="Lavori",$K$17,$K$9)),0)) -> 0 | M22: =J22-L22 -> 0 | N22: =M22*H22 -> 0 | O22: =IF(F22="Interna",M22*I22,0) -> 0 | P22: =IF(OR(F22="Interna",F22="Da definire"),M22*MAX(0,1-H22-IF(F22="Interna",I22,0)),0) -> 0 | Q22: =IF(OR(F22="Esterna",F22="Non prevista",F22="Non attribuita",F22="Priva attestazione"),M22*(1-H22),0) -> 0 | R22: =IF(AND(Procedura!$B$10="Lavori",B22=9,F22="Interna",Procedura!$B$31<>"Si"),"FLUSSI INFORMATIVI SENZA BIM",IF(AND(Procedura!$B$10<>"Lavori",B22=1,F22="Interna",Procedura!$B$41<>"Si"),"PROGRAMMAZIONE SOLO CONTO CAPITALE",IF(E22=0,IF(COUNTIFS(Riparto!$A$6:$A$105,A22)>0,"VOCE NON PRESENTE IN TABELLA",""),IF(H22+I22>1.000001,"MATURAZIONE OLTRE 100%",IF(AND(G22>0,NOT(IF(Procedura!$B$10="Lavori",AND(B22>=10,B22<=12),AND(B22>=2,B22<=4)))),"CUC SU FASE NON AFFIDAMENTO",IF(AND(Procedura!$B$10<>"Lavori",B22=2,G22>Procedura!$B$39),"CUC OLTRE FRAZIONE AFFIDAMENTO",IF(F22="Da definire","DEFINIRE DESTINAZIONE",IF(AND(F22<>"Interna",OR(I22>0,S22>0)),"ASSEGNATARI SU VOCE NON INTERNA",IF(AND(F22="Interna",M22>0,ABS(S22-1)>0.000001),"RIPARTO INTERNO NON PARI A 100%","COERENTE"))))))))) -> DEFINIRE DESTINAZIONE | S22: =SUMIFS(Riparto!$E$6:$E$105,Riparto!$A$6:$A$105,A22) -> 0 | T22: =IF(OR(R22="",R22="COERENTE"),0,1) -> 1
A23: V18 | B23: =IF(E23=0,"",18) -> 18 | C23: =IF(Procedura!$B$10="Lavori",Guida!B48,Guida!E48) -> Esecuzione | D23: =IF(Procedura!$B$10="Lavori",Guida!C48,Guida!F48) -> Collaudo / regolare esecuzione | E23: =IF(Procedura!$B$10="Lavori",Guida!D48,Guida!G48) -> 0.04 | F23: Da definire | G23: 0 | H23: 0 | I23: 0 | J23: =Procedura!$B$55*E23 -> 0 | K23: =IF(Procedura!$B$32="Si",J23*G23,0) -> 0 | L23: =IF(OR(AND(Procedura!$B$10="Lavori",B23=12),AND(Procedura!$B$10<>"Lavori",B23=4)),MIN(Procedura!$B$60,K23),IF(SUM($K$6:$K$24)-IF(Procedura!$B$10="Lavori",$K$17,$K$9)>0,MAX(0,Procedura!$B$60-IF(Procedura!$B$10="Lavori",$K$17,$K$9))*K23/(SUM($K$6:$K$24)-IF(Procedura!$B$10="Lavori",$K$17,$K$9)),0)) -> 0 | M23: =J23-L23 -> 0 | N23: =M23*H23 -> 0 | O23: =IF(F23="Interna",M23*I23,0) -> 0 | P23: =IF(OR(F23="Interna",F23="Da definire"),M23*MAX(0,1-H23-IF(F23="Interna",I23,0)),0) -> 0 | Q23: =IF(OR(F23="Esterna",F23="Non prevista",F23="Non attribuita",F23="Priva attestazione"),M23*(1-H23),0) -> 0 | R23: =IF(AND(Procedura!$B$10="Lavori",B23=9,F23="Interna",Procedura!$B$31<>"Si"),"FLUSSI INFORMATIVI SENZA BIM",IF(AND(Procedura!$B$10<>"Lavori",B23=1,F23="Interna",Procedura!$B$41<>"Si"),"PROGRAMMAZIONE SOLO CONTO CAPITALE",IF(E23=0,IF(COUNTIFS(Riparto!$A$6:$A$105,A23)>0,"VOCE NON PRESENTE IN TABELLA",""),IF(H23+I23>1.000001,"MATURAZIONE OLTRE 100%",IF(AND(G23>0,NOT(IF(Procedura!$B$10="Lavori",AND(B23>=10,B23<=12),AND(B23>=2,B23<=4)))),"CUC SU FASE NON AFFIDAMENTO",IF(AND(Procedura!$B$10<>"Lavori",B23=2,G23>Procedura!$B$39),"CUC OLTRE FRAZIONE AFFIDAMENTO",IF(F23="Da definire","DEFINIRE DESTINAZIONE",IF(AND(F23<>"Interna",OR(I23>0,S23>0)),"ASSEGNATARI SU VOCE NON INTERNA",IF(AND(F23="Interna",M23>0,ABS(S23-1)>0.000001),"RIPARTO INTERNO NON PARI A 100%","COERENTE"))))))))) -> DEFINIRE DESTINAZIONE | S23: =SUMIFS(Riparto!$E$6:$E$105,Riparto!$A$6:$A$105,A23) -> 0 | T23: =IF(OR(R23="",R23="COERENTE"),0,1) -> 1
A24: V19 | B24: =IF(E24=0,"",19) -> 19 | C24: =IF(Procedura!$B$10="Lavori",Guida!B49,Guida!E49) -> Esecuzione | D24: =IF(Procedura!$B$10="Lavori",Guida!C49,Guida!F49) -> Collaudo statico | E24: =IF(Procedura!$B$10="Lavori",Guida!D49,Guida!G49) -> 0.01 | F24: Da definire | G24: 0 | H24: 0 | I24: 0 | J24: =Procedura!$B$55*E24 -> 0 | K24: =IF(Procedura!$B$32="Si",J24*G24,0) -> 0 | L24: =IF(OR(AND(Procedura!$B$10="Lavori",B24=12),AND(Procedura!$B$10<>"Lavori",B24=4)),MIN(Procedura!$B$60,K24),IF(SUM($K$6:$K$24)-IF(Procedura!$B$10="Lavori",$K$17,$K$9)>0,MAX(0,Procedura!$B$60-IF(Procedura!$B$10="Lavori",$K$17,$K$9))*K24/(SUM($K$6:$K$24)-IF(Procedura!$B$10="Lavori",$K$17,$K$9)),0)) -> 0 | M24: =J24-L24 -> 0 | N24: =M24*H24 -> 0 | O24: =IF(F24="Interna",M24*I24,0) -> 0 | P24: =IF(OR(F24="Interna",F24="Da definire"),M24*MAX(0,1-H24-IF(F24="Interna",I24,0)),0) -> 0 | Q24: =IF(OR(F24="Esterna",F24="Non prevista",F24="Non attribuita",F24="Priva attestazione"),M24*(1-H24),0) -> 0 | R24: =IF(AND(Procedura!$B$10="Lavori",B24=9,F24="Interna",Procedura!$B$31<>"Si"),"FLUSSI INFORMATIVI SENZA BIM",IF(AND(Procedura!$B$10<>"Lavori",B24=1,F24="Interna",Procedura!$B$41<>"Si"),"PROGRAMMAZIONE SOLO CONTO CAPITALE",IF(E24=0,IF(COUNTIFS(Riparto!$A$6:$A$105,A24)>0,"VOCE NON PRESENTE IN TABELLA",""),IF(H24+I24>1.000001,"MATURAZIONE OLTRE 100%",IF(AND(G24>0,NOT(IF(Procedura!$B$10="Lavori",AND(B24>=10,B24<=12),AND(B24>=2,B24<=4)))),"CUC SU FASE NON AFFIDAMENTO",IF(AND(Procedura!$B$10<>"Lavori",B24=2,G24>Procedura!$B$39),"CUC OLTRE FRAZIONE AFFIDAMENTO",IF(F24="Da definire","DEFINIRE DESTINAZIONE",IF(AND(F24<>"Interna",OR(I24>0,S24>0)),"ASSEGNATARI SU VOCE NON INTERNA",IF(AND(F24="Interna",M24>0,ABS(S24-1)>0.000001),"RIPARTO INTERNO NON PARI A 100%","COERENTE"))))))))) -> DEFINIRE DESTINAZIONE | S24: =SUMIFS(Riparto!$E$6:$E$105,Riparto!$A$6:$A$105,A24) -> 0 | T24: =IF(OR(R24="",R24="COERENTE"),0,1) -> 1
A27: Per servizi correnti la voce 1 non spetta: selezionare Non prevista. Frazioni CUC da motivare, senza intaccare progettazione mantenuta al Comune.
A28: Quote annue e pregresse si riferiscono al residuo comunale dopo la CUC. La CUC è trattata come quota di fondo della procedura, non come maturazione annuale interna.

Sheet Riparto
A2: Comune di Malegno · Attribuzioni e accertamenti
A3: Compilare solo le celle gialle. Importi in euro. Percentuali digitabili anche come 25%.
A5: Voce | B5: ID persona | C5: Ruolo nella voce | D5: Peso manuale facoltativo | E5: Peso applicato | F5: Quota complessiva con oneri | G5: Quota annua con oneri | H5: Attività attestata | I5: Esclusione soggettiva art. 12 | J5: Ritardo progettazione / termine | K5: Incremento tempo / durata | L5: Incremento costo / contratto | M5: Carenze art. 13 almeno 5% | N5: Atti e motivazione | O5: Riduzione progettazione | P5: Riduzione tempi | Q5: Riduzione costi | R5: Riduzione totale | S5: Economia per esclusione o riduzione | T5: Quota priva attestazione | U5: Costo annuo accertato | V5: Aliquota oneri | W5: Lordo dipendente | X5: Oneri datore | Y5: IRAP separata | Z5: Controllo attribuzione | AA5: Chiave persona e voce | AB5: Fase | AC5: N. voce | AD5: N. speciali nella voce | AE5: N. altri nella voce | AF5: N. assegnatari voce | AG5: N. pesi manuali | AH5: Anomalie 0/1
