{"text_format":"2","workbook":"xlsx","n_sheets":4,"sheets":["Lotti","Partecipanti","Tabelle_Fisse","Dati Riassuntivi"],"not_rendered":{"charts":0,"images":0,"macros":0,"external_links":0,"defined_names":2,"comments":0,"pivot_tables":0},"unopened":[],"bounds":{"document_bytes":16777216,"sheet_cells":100000,"run_cost":"one","rows_first":2000,"rows_last":500,"rows_between":2000,"halvings":0,"cell_chars":16384,"cell_head_chars":4096},"cells_cut":0,"cells_raw":0,"read":"whole","date_system":"1900"}

{"sheet":"Lotti","index":0,"n_rows":596,"n_cols":25,"rows_kept":596,"cut":false,"hidden":false,"merged":[[1,11,1,24],[3,1,4,1],[3,2,3,3],[3,4,4,4],[3,5,4,5],[3,6,4,6],[3,7,3,8],[3,9,4,9]]}
[]
[null,"Dati generali dei lotti",{"$nulls":9},"Controlli principali - Foglio LOTTI"]
[{"$nulls":23},"2012-12-01","2012-12-01"]
[null,"CIG","Stazione appaltante",null,"Oggetto","Procedura di Scelta del Contraente (utilizzare il menu a tendina)","Importo di Aggiudicazione (al lordo degli oneri di sicurezza ed al netto dell'IVA)","Tempi di completamento",null,"Importo Somme Liquidate (importo complessivo dell'appalto al netto dell'IVA)",{"$nulls":13},"2013-12-31","2013-12-31"]
[null,null,"Codice Fiscale","Denominazione",null,null,null,"Data di effettivo inizio lavori, servizi o forniture","Data di ultimazione lavori, servizi o forniture",null,null,"CIG senza spazi (effettuare incolla valori)","N.ro occorrenze multiple CIG nel foglio Lotti","Lunghezza CIG errata",null,"Lunghezza CF errata",null,"Lunghezza Oggetto errata (> 250)",null,"Procedura di scelta errata",null,"Importo di aggiudicazione errato o mancante",null,"Data di effettivo inizio anomala","Data di ultimazione anomala"]
[null,"Z1407A3353","80018850174","COMUNITA' MONTANA DEL SEBINO BRESCIANO - UFFICIO TECNICO","Affidamento incarico per il servizio di manutenzione sportello telematico unificato SUE-SUAP-SIT","23-AFFIDAMENTO IN ECONOMIA - AFFIDAMENTO DIRETTO",16500.2,"2012-12-10","2013-06-30",16500.2,null,{"$f":"TRIM(B6)","v":"Z1407A3353"},{"$f":"IF(L6=\"\",\"\",IF(COUNTIF(L$6:L$596,L6)=1,\"\",COUNTIF(L$6:L$596,L6)))","v":""},{"$f":"IF(L6=\"\",\"\",IF(LEN(L6)<>10,1,\"\"))","v":""},null,{"$f":"IF(L6=\"\",\"\",IF(LEN(C6)<>11,1,\"\"))","v":""},null,{"$f":"IF(L6=\"\",\"\",IF(LEN(E6)>250,1,\"\"))","v":""},null,{"$f":"IF(L6=\"\",\"\",IF(VLOOKUP(F6,Tabelle_Fisse!$B$4:$C$21,2,FALSE)=\"ok\",\"\",1))","v":""},null,{"$f":"IF(L6=\"\",\"\",IF(OR(ISNUMBER(G6)=FALSE,G6<=0),1,\"\"))","v":""},null,{"$f":"IF(OR(B6=\"\",H6=\"\"),\"\",IF(OR(H6<X$3,H6>X$4),1,\"\"))","v":""},{"$f":"IF(OR(B6=\"\",I6=\"\"),\"\",IF(OR(I6<Y$3,I6>Y$4),1,\"\"))","v":""}]
[null,"Z3907BB5CC","80018850174","COMUNITA' MONTANA DEL SEBINO BRESCIANO - UFFICIO TECNICO","Affidamento incarico servizi tecnici relativi ai lavori d'adeguamento e messa in sicurezza della pista ciclopedonale Vello-Toline - 2° stralcio","23-AFFIDAMENTO IN ECONOMIA - AFFIDAMENTO DIRETTO",10501.62,"2012-12-14","2013-09-26",10501.62,null,{"$f":"TRIM(B7)","v":"Z3907BB5CC"},{"$f":"IF(L7=\"\",\"\",IF(COUNTIF(L$6:L$596,L7)=1,\"\",COUNTIF(L$6:L$596,L7)))","v":""},{"$f":"IF(L7=\"\",\"\",IF(LEN(L7)<>10,1,\"\"))","v":""},null,{"$f":"IF(L7=\"\",\"\",IF(LEN(C7)<>11,1,\"\"))","v":""},null,{"$f":"IF(L7=\"\",\"\",IF(LEN(E7)>250,1,\"\"))","v":""},null,{"$f":"IF(L7=\"\",\"\",IF(VLOOKUP(F7,Tabelle_Fisse!$B$4:$C$21,2,FALSE)=\"ok\",\"\",1))","v":""},null,{"$f":"IF(L7=\"\",\"\",IF(OR(ISNUMBER(G7)=FALSE,G7<=0),1,\"\"))","v":""},null,{"$f":"IF(OR(B7=\"\",H7=\"\"),\"\",IF(OR(H7<X$3,H7>X$4),1,\"\"))","v":""},{"$f":"IF(OR(B7=\"\",I7=\"\"),\"\",IF(OR(I7<Y$3,I7>Y$4),1,\"\"))","v":""}]
[null,"Z6A07A33F4","80018850174","COMUNITA' MONTANA DEL SEBINO BRESCIANO - UFFICIO TECNICO","Affidamento incarico costituzione e avviamento S.U.E.","23-AFFIDAMENTO IN ECONOMIA - AFFIDAMENTO DIRETTO",39000,"2012-12-27","2013-06-30",39000,null,"Z6A07A33F4",{"$f":"IF(L8=\"\",\"\",IF(COUNTIF(L$6:L$596,L8)=1,\"\",COUNTIF(L$6:L$596,L8)))","v":""},"",null,"",null,"",null,{"$f":"IF(L8=\"\",\"\",IF(VLOOKUP(F8,Tabelle_Fisse!$B$4:$C$21,2,FALSE)=\"ok\",\"\",1))","v":""},null,"",null,"",""]
[null,"Z5C079CF1D","80018850174","COMUNITA' MONTANA DEL SEBINO BRESCIANO - UFFICIO TECNICO","Affidamento incarico per visite mediche volontari A.I.B.","23-AFFIDAMENTO IN ECONOMIA - AFFIDAMENTO DIRETTO",6900,"2012-12-07","2012-12-10",6900,null,"Z5C079CF1D",{"$f":"IF(L9=\"\",\"\",IF(COUNTIF(L$6:L$596,L9)=1,\"\",COUNTIF(L$6:L$596,L9)))","v":""},"",null,"",null,"",null,{"$f":"IF(L9=\"\",\"\",IF(VLOOKUP(F9,Tabelle_Fisse!$B$4:$C$21,2,FALSE)=\"ok\",\"\",1))","v":""},null,"",null,"",""]
[null,"ZFA07BC394","80018850174","COMUNITA' MONTANA DEL SEBINO BRESCIANO - UFFICIO TECNICO","Affidamento del servizio di assistenza medica","23-AFFIDAMENTO IN ECONOMIA - AFFIDAMENTO DIRETTO",2100,"2013-01-09",null,null,null,"ZFA07BC394",{"$f":"IF(L10=\"\",\"\",IF(COUNTIF(L$6:L$596,L10)=1,\"\",COUNTIF(L$6:L$596,L10)))","v":""},"",null,"",null,"",null,{"$f":"IF(L10=\"\",\"\",IF(VLOOKUP(F10,Tabelle_Fisse!$B$4:$C$21,2,FALSE)=\"ok\",\"\",1))","v":""},null,"",null,"",""]
[null,"Z3E0825B47","80018850174","COMUNITA' MONTANA DEL SEBINO BRESCIANO - UFFICIO TECNICO","Affidamento incarico per allestimento modulo A.I.B.","23-AFFIDAMENTO IN ECONOMIA - AFFIDAMENTO DIRETTO",10500,"2013-02-01","2013-03-01",10500,null,"Z3E0825B47",{"$f":"IF(L11=\"\",\"\",IF(COUNTIF(L$6:L$596,L11)=1,\"\",COUNTIF(L$6:L$596,L11)))","v":""},"",null,"",null,"",null,{"$f":"IF(L11=\"\",\"\",IF(VLOOKUP(F11,Tabelle_Fisse!$B$4:$C$21,2,FALSE)=\"ok\",\"\",1))","v":""},null,"",null,"",""]
[null,"ZE2082DFB9","80018850174","COMUNITA' MONTANA DEL SEBINO BRESCIANO - UFFICIO TECNICO","Affidamento incarico manutenzione ordinaria annuale Via A. Valeriana","23-AFFIDAMENTO IN ECONOMIA - AFFIDAMENTO DIRETTO",14981.2,"2013-01-16","2013-11-28",12797.9,null,"ZE2082DFB9",{"$f":"IF(L12=\"\",\"\",IF(COUNTIF(L$6:L$596,L12)=1,\"\",COUNTIF(L$6:L$596,L12)))","v":""},"",null,"",null,"",null,{"$f":"IF(L12=\"\",\"\",IF(VLOOKUP(F12,Tabelle_Fisse!$B$4:$C$21,2,FALSE)=\"ok\",\"\",1))","v":""},null,"",null,"",""]
[null,"Z3D084F4BF","80018850174","COMUNITA' MONTANA DEL SEBINO BRESCIANO - UFFICIO TECNICO","Affidamento incarico coordinatore sicurezza in fase di esecuzione lavori di \"Sistemazione idraulica dei torrenti Mesagolo e Vigolo\"","23-AFFIDAMENTO IN ECONOMIA - AFFIDAMENTO DIRETTO",2080,"2013-01-24","2013-04-10",2080,null,"Z3D084F4BF",{"$f":"IF(L13=\"\",\"\",IF(COUNTIF(L$6:L$596,L13)=1,\"\",COUNTIF(L$6:L$596,L13)))","v":""},"",null,"",null,"",null,{"$f":"IF(L13=\"\",\"\",IF(VLOOKUP(F13,Tabelle_Fisse!$B$4:$C$21,2,FALSE)=\"ok\",\"\",1))","v":""},null,"",null,"",""]
[null,"ZDB08731C4","80018850174","COMUNITA' MONTANA DEL SEBINO BRESCIANO - UFFICIO TECNICO","Affidamento servizio tecnico di D.L. e coord. sicurezza lavori \"Malghe in rete del Sebino\"","23-AFFIDAMENTO IN ECONOMIA - AFFIDAMENTO DIRETTO",7176,"2013-02-01","2013-12-02",7176,null,"ZDB08731C4",{"$f":"IF(L14=\"\",\"\",IF(COUNTIF(L$6:L$596,L14)=1,\"\",COUNTIF(L$6:L$596,L14)))","v":""},"",null,"",null,"",null,{"$f":"IF(L14=\"\",\"\",IF(VLOOKUP(F14,Tabelle_Fisse!$B$4:$C$21,2,FALSE)=\"ok\",\"\",1))","v":""},null,"",null,"",""]
[null,"ZA908CDF12","80018850174","COMUNITA' MONTANA DEL SEBINO BRESCIANO - UFFICIO TECNICO","Affidamento servizio di riconfigurazione informatica aula CED","23-AFFIDAMENTO IN ECONOMIA - AFFIDAMENTO DIRETTO",4882.5,"2013-02-25","2013-04-15",4882.5,null,"ZA908CDF12",{"$f":"IF(L15=\"\",\"\",IF(COUNTIF(L$6:L$596,L15)=1,\"\",COUNTIF(L$6:L$596,L15)))","v":""},"",null,"",null,"",null,{"$f":"IF(L15=\"\",\"\",IF(VLOOKUP(F15,Tabelle_Fisse!$B$4:$C$21,2,FALSE)=\"ok\",\"\",1))","v":""},null,"",null,"",""]
[null,"ZDA08D6DB3","80018850174","COMUNITA' MONTANA DEL SEBINO BRESCIANO - UFFICIO TECNICO","Acquisto materiale informatico per S.U.E.","23-AFFIDAMENTO IN ECONOMIA - AFFIDAMENTO DIRETTO",7345,"2013-02-25","2013-03-08",7345,null,"ZDA08D6DB3",{"$f":"IF(L16=\"\",\"\",IF(COUNTIF(L$6:L$596,L16)=1,\"\",COUNTIF(L$6:L$596,L16)))","v":""},"",null,"",null,"",null,{"$f":"IF(L16=\"\",\"\",IF(VLOOKUP(F16,Tabelle_Fisse!$B$4:$C$21,2,FALSE)=\"ok\",\"\",1))","v":""},null,"",null,"",""]
[null,"ZAC08E1F83","80018850174","COMUNITA' MONTANA DEL SEBINO BRESCIANO - UFFICIO TECNICO","Acquisto materiale hardware per servizi sociali","23-AFFIDAMENTO IN ECONOMIA - AFFIDAMENTO DIRETTO",1216,"2013-02-27","2013-03-27",1216,null,"ZAC08E1F83",{"$f":"IF(L17=\"\",\"\",IF(COUNTIF(L$6:L$596,L17)=1,\"\",COUNTIF(L$6:L$596,L17)))","v":""},"",null,"",null,"",null,{"$f":"IF(L17=\"\",\"\",IF(VLOOKUP(F17,Tabelle_Fisse!$B$4:$C$21,2,FALSE)=\"ok\",\"\",1))","v":""},null,"",null,"",""]
[null,"Z36091AFE6","80018850174","COMUNITA' MONTANA DEL SEBINO BRESCIANO - UFFICIO TECNICO","Acquisto connettivota HDSL ","23-AFFIDAMENTO IN ECONOMIA - AFFIDAMENTO DIRETTO",2350,"2013-03-14","2013-04-03",2350,null,"Z36091AFE6",{"$f":"IF(L18=\"\",\"\",IF(COUNTIF(L$6:L$596,L18)=1,\"\",COUNTIF(L$6:L$596,L18)))","v":""},"",null,"",null,"",null,{"$f":"IF(L18=\"\",\"\",IF(VLOOKUP(F18,Tabelle_Fisse!$B$4:$C$21,2,FALSE)=\"ok\",\"\",1))","v":""},null,"",null,"",""]
[null,"ZD8092C6E0","80018850174","COMUNITA' MONTANA DEL SEBINO BRESCIANO - UFFICIO TECNICO","Fornitura moduli richiesta chiavi pregetto \"bike sharing\"","23-AFFIDAMENTO IN ECONOMIA - AFFIDAMENTO DIRETTO",510,"2013-03-19","2013-04-08",510,null,"ZD8092C6E0",{"$f":"IF(L19=\"\",\"\",IF(COUNTIF(L$6:L$596,L19)=1,\"\",COUNTIF(L$6:L$596,L19)))","v":""},"",null,"",null,"",null,{"$f":"IF(L19=\"\",\"\",IF(VLOOKUP(F19,Tabelle_Fisse!$B$4:$C$21,2,FALSE)=\"ok\",\"\",1))","v":""},null,"",null,"",""]
[null,"ZB5096CCBD","80018850174","COMUNITA' MONTANA DEL SEBINO BRESCIANO - UFFICIO TECNICO","Affidamento incarico per sostituzione infissi","23-AFFIDAMENTO IN ECONOMIA - AFFIDAMENTO DIRETTO",950,"2013-04-08","2013-04-23",950,null,"ZB5096CCBD",{"$f":"IF(L20=\"\",\"\",IF(COUNTIF(L$6:L$596,L20)=1,\"\",COUNTIF(L$6:L$596,L20)))","v":""},"",null,"",null,"",null,{"$f":"IF(L20=\"\",\"\",IF(VLOOKUP(F20,Tabelle_Fisse!$B$4:$C$21,2,FALSE)=\"ok\",\"\",1))","v":""},null,"",null,"",""]
[null,"ZDD0980A68","80018850174","COMUNITA' MONTANA DEL SEBINO BRESCIANO - UFFICIO TECNICO","Appalto lavori esterni \"malghe in rete del Sebino\" ","04-PROCEDURA NEGOZIATA SENZA PREVIA PUBBLICAZIONE DEL BANDO",39709.19,"2013-07-08","2013-09-26",39708.69,null,"ZDD0980A68",{"$f":"IF(L21=\"\",\"\",IF(COUNTIF(L$6:L$596,L21)=1,\"\",COUNTIF(L$6:L$596,L21)))","v":""},"",null,"",null,"",null,{"$f":"IF(L21=\"\",\"\",IF(VLOOKUP(F21,Tabelle_Fisse!$B$4:$C$21,2,FALSE)=\"ok\",\"\",1))","v":""},null,"",null,"",""]
[null,"Z4F09B343D","80018850174","COMUNITA' MONTANA DEL SEBINO BRESCIANO - UFFICIO TECNICO","Affidamento incarico di modifica impianto I.P. nelle frazioni del Comune di Marone","23-AFFIDAMENTO IN ECONOMIA - AFFIDAMENTO DIRETTO",8040,"2013-04-30",null,null,null,"Z4F09B343D",{"$f":"IF(L22=\"\",\"\",IF(COUNTIF(L$6:L$596,L22)=1,\"\",COUNTIF(L$6:L$596,L22)))","v":""},"",null,"",null,"",null,{"$f":"IF(L22=\"\",\"\",IF(VLOOKUP(F22,Tabelle_Fisse!$B$4:$C$21,2,FALSE)=\"ok\",\"\",1))","v":""},null,"",null,"",""]
[null,"ZBA0A0596A","80018850174","COMUNITA' MONTANA DEL SEBINO BRESCIANO - UFFICIO TECNICO","Affidamento servizio remote backup Ambiente Asigra","23-AFFIDAMENTO IN ECONOMIA - AFFIDAMENTO DIRETTO",28150,"2013-05-23","2013-07-24",28150,null,"ZBA0A0596A",{"$f":"IF(L23=\"\",\"\",IF(COUNTIF(L$6:L$596,L23)=1,\"\",COUNTIF(L$6:L$596,L23)))","v":""},"",null,"",null,"",null,{"$f":"IF(L23=\"\",\"\",IF(VLOOKUP(F23,Tabelle_Fisse!$B$4:$C$21,2,FALSE)=\"ok\",\"\",1))","v":""},null,"",null,"",""]
[null,"ZD70A1A4C9","80018850174","COMUNITA' MONTANA DEL SEBINO BRESCIANO - UFFICIO TECNICO","Acquistio di distanziometro elettronico per ufficio tecnico","23-AFFIDAMENTO IN ECONOMIA - AFFIDAMENTO DIRETTO",497,"2013-05-28","2013-06-27",497,null,"ZD70A1A4C9",{"$f":"IF(L24=\"\",\"\",IF(COUNTIF(L$6:L$596,L24)=1,\"\",COUNTIF(L$6:L$596,L24)))","v":""},"",null,"",null,"",null,{"$f":"IF(L24=\"\",\"\",IF(VLOOKUP(F24,Tabelle_Fisse!$B$4:$C$21,2,FALSE)=\"ok\",\"\",1))","v":""},null,"",null,"",""]
[null,"Z440A6A5DB","80018850174","COMUNITA' MONTANA DEL SEBINO BRESCIANO - UFFICIO TECNICO","Contributo per utilizzo laboratorio di informatica per corso S.U.E.","23-AFFIDAMENTO IN ECONOMIA - AFFIDAMENTO DIRETTO",500,"2013-06-17","2013-07-03",500,null,"Z440A6A5DB",{"$f":"IF(L25=\"\",\"\",IF(COUNTIF(L$6:L$596,L25)=1,\"\",COUNTIF(L$6:L$596,L25)))","v":""},"",null,"",null,"",null,{"$f":"IF(L25=\"\",\"\",IF(VLOOKUP(F25,Tabelle_Fisse!$B$4:$C$21,2,FALSE)=\"ok\",\"\",1))","v":""},null,"",null,"",""]
[null,"Z120A752AB","80018850174","COMUNITA' MONTANA DEL SEBINO BRESCIANO - UFFICIO TECNICO","Fornitura di apparecchiature informatiche ","23-AFFIDAMENTO IN ECONOMIA - AFFIDAMENTO DIRETTO",1825,"2013-06-20","2013-06-25",1825,null,"Z120A752AB",{"$f":"IF(L26=\"\",\"\",IF(COUNTIF(L$6:L$596,L26)=1,\"\",COUNTIF(L$6:L$596,L26)))","v":""},"",null,"",null,"",null,{"$f":"IF(L26=\"\",\"\",IF(VLOOKUP(F26,Tabelle_Fisse!$B$4:$C$21,2,FALSE)=\"ok\",\"\",1))","v":""},null,"",null,"",""]
[null,"Z8A0B56CBE","80018850174","COMUNITA' MONTANA DEL SEBINO BRESCIANO - UFFICIO TECNICO","Affidamento incarico per servizio di assistenza informatica ","23-AFFIDAMENTO IN ECONOMIA - AFFIDAMENTO DIRETTO",5170,"2013-09-03","2013-09-17",5170,null,"Z8A0B56CBE",{"$f":"IF(L27=\"\",\"\",IF(COUNTIF(L$6:L$596,L27)=1,\"\",COUNTIF(L$6:L$596,L27)))","v":""},"",null,"",null,"",null,{"$f":"IF(L27=\"\",\"\",IF(VLOOKUP(F27,Tabelle_Fisse!$B$4:$C$21,2,FALSE)=\"ok\",\"\",1))","v":""},null,"",null,"",""]
[null,"Z5A0B786D4","80018850174","COMUNITA' MONTANA DEL SEBINO BRESCIANO - UFFICIO TECNICO","Affidamento incarico per collaudo statico lavori di \"prolungamento via Valeriana\"","23-AFFIDAMENTO IN ECONOMIA - AFFIDAMENTO DIRETTO",1237.5999999999999,"2013-09-16",null,null,null,"Z5A0B786D4",{"$f":"IF(L28=\"\",\"\",IF(COUNTIF(L$6:L$596,L28)=1,\"\",COUNTIF(L$6:L$596,L28)))","v":""},"",null,"",null,"",null,{"$f":"IF(L28=\"\",\"\",IF(VLOOKUP(F28,Tabelle_Fisse!$B$4:$C$21,2,FALSE)=\"ok\",\"\",1))","v":""},null,"",null,"",""]
[null,"Z620BF6CC0","80018850174","COMUNITA' MONTANA DEL SEBINO BRESCIANO - UFFICIO TECNICO","Affidamento servizio di manutenzione annuale dispositivi antincendio anni 2014 - 2015 - 2016 ","23-AFFIDAMENTO IN ECONOMIA - AFFIDAMENTO DIRETTO",1554,"2013-11-13",null,null,null,"Z620BF6CC0",{"$f":"IF(L29=\"\",\"\",IF(COUNTIF(L$6:L$596,L29)=1,\"\",COUNTIF(L$6:L$596,L29)))","v":""},"",null,"",null,"",null,{"$f":"IF(L29=\"\",\"\",IF(VLOOKUP(F29,Tabelle_Fisse!$B$4:$C$21,2,FALSE)=\"ok\",\"\",1))","v":""},null,"",null,"",""]
[null,"Z8F0BF935A","80018850174","COMUNITA' MONTANA DEL SEBINO BRESCIANO - UFFICIO TECNICO","Affidamento servizio di manutenzione ascensore - anni 2014 - 2015 -2016","23-AFFIDAMENTO IN ECONOMIA - AFFIDAMENTO DIRETTO",1917,"2013-11-13",null,null,null,"Z8F0BF935A",{"$f":"IF(L30=\"\",\"\",IF(COUNTIF(L$6:L$596,L30)=1,\"\",COUNTIF(L$6:L$596,L30)))","v":""},"",null,"",null,"",null,{"$f":"IF(L30=\"\",\"\",IF(VLOOKUP(F30,Tabelle_Fisse!$B$4:$C$21,2,FALSE)=\"ok\",\"\",1))","v":""},null,"",null,"",""]
[null,"Z1C0C25997","80018850174","COMUNITA' MONTANA DEL SEBINO BRESCIANO - UFFICIO TECNICO","Acquisto di reagenti per analisi chimiche olio di oliva","23-AFFIDAMENTO IN ECONOMIA - AFFIDAMENTO DIRETTO",401,"2013-10-29","2013-11-29",401,null,"Z1C0C25997",{"$f":"IF(L31=\"\",\"\",IF(COUNTIF(L$6:L$596,L31)=1,\"\",COUNTIF(L$6:L$596,L31)))","v":""},"",null,"",null,"",null,{"$f":"IF(L31=\"\",\"\",IF(VLOOKUP(F31,Tabelle_Fisse!$B$4:$C$21,2,FALSE)=\"ok\",\"\",1))","v":""},null,"",null,"",""]
[null,"ZE90C51CDB","80018850174","COMUNITA' MONTANA DEL SEBINO BRESCIANO - UFFICIO TECNICO","Fornitura e posa in opera di impianto audio presso Ex Chiesa San pietro dei Disciplini in Sale Marasino","23-AFFIDAMENTO IN ECONOMIA - AFFIDAMENTO DIRETTO",6575,"2013-11-14","2013-11-27",6575,null,"ZE90C51CDB",{"$f":"IF(L32=\"\",\"\",IF(COUNTIF(L$6:L$596,L32)=1,\"\",COUNTIF(L$6:L$596,L32)))","v":""},"",null,"",null,"",null,{"$f":"IF(L32=\"\",\"\",IF(VLOOKUP(F32,Tabelle_Fisse!$B$4:$C$21,2,FALSE)=\"ok\",\"\",1))","v":""},null,"",null,"",""]
[null,"Z690C62F34","80018850174","COMUNITA' MONTANA DEL SEBINO BRESCIANO - UFFICIO TECNICO","Affidamento del servizio di manutenzione annuale degli impianti idraulici e di condizionamento - anni 2014 - 2015 -2016","23-AFFIDAMENTO IN ECONOMIA - AFFIDAMENTO DIRETTO",9000,"2013-12-03",null,null,null,"Z690C62F34",{"$f":"IF(L33=\"\",\"\",IF(COUNTIF(L$6:L$596,L33)=1,\"\",COUNTIF(L$6:L$596,L33)))","v":""},"",null,"",null,"",null,{"$f":"IF(L33=\"\",\"\",IF(VLOOKUP(F33,Tabelle_Fisse!$B$4:$C$21,2,FALSE)=\"ok\",\"\",1))","v":""},null,"",null,"",""]
[null,"ZF70C7ED5A","80018850174","COMUNITA' MONTANA DEL SEBINO BRESCIANO - UFFICIO TECNICO","Fornitura antivirus Kaspersky per n. 15 postazioni di computer","23-AFFIDAMENTO IN ECONOMIA - AFFIDAMENTO DIRETTO",900,"2013-11-22","2013-12-12",900,null,"ZF70C7ED5A",{"$f":"IF(L34=\"\",\"\",IF(COUNTIF(L$6:L$596,L34)=1,\"\",COUNTIF(L$6:L$596,L34)))","v":""},"",null,"",null,"",null,{"$f":"IF(L34=\"\",\"\",IF(VLOOKUP(F34,Tabelle_Fisse!$B$4:$C$21,2,FALSE)=\"ok\",\"\",1))","v":""},null,"",null,"",""]
[null,"Z9E0C86B60","80018850174","COMUNITA' MONTANA DEL SEBINO BRESCIANO - UFFICIO TECNICO","Affidamento servizio annuale manutenzione automezzi - anni 2014 -2015 -2016","23-AFFIDAMENTO IN ECONOMIA - AFFIDAMENTO DIRETTO",15000,"2013-12-04",null,null,null,"Z9E0C86B60",{"$f":"IF(L35=\"\",\"\",IF(COUNTIF(L$6:L$596,L35)=1,\"\",COUNTIF(L$6:L$596,L35)))","v":""},"",null,"",null,"",null,{"$f":"IF(L35=\"\",\"\",IF(VLOOKUP(F35,Tabelle_Fisse!$B$4:$C$21,2,FALSE)=\"ok\",\"\",1))","v":""},null,"",null,"",""]
[null,"Z9F0C8A28D","80018850174","COMUNITA' MONTANA DEL SEBINO BRESCIANO - UFFICIO TECNICO","Affidamento incarico servizio annuale di vigilanza notturna della sede - anni 2014 - 2015 - 2016","23-AFFIDAMENTO IN ECONOMIA - AFFIDAMENTO DIRETTO",4000,"2013-12-05",null,null,null,"Z9F0C8A28D",{"$f":"IF(L36=\"\",\"\",IF(COUNTIF(L$6:L$596,L36)=1,\"\",COUNTIF(L$6:L$596,L36)))","v":""},"",null,"",null,"",null,{"$f":"IF(L36=\"\",\"\",IF(VLOOKUP(F36,Tabelle_Fisse!$B$4:$C$21,2,FALSE)=\"ok\",\"\",1))","v":""},null,"",null,"",""]
[null,"Z900C980FF","80018850174","COMUNITA' MONTANA DEL SEBINO BRESCIANO - UFFICIO TECNICO","Affidamento servizio di fornitura carburante automezzi - anni 2014 -2015","23-AFFIDAMENTO IN ECONOMIA - AFFIDAMENTO DIRETTO",12000,"2013-12-13",null,null,null,"Z900C980FF",{"$f":"IF(L37=\"\",\"\",IF(COUNTIF(L$6:L$596,L37)=1,\"\",COUNTIF(L$6:L$596,L37)))","v":""},"",null,"",null,"",null,{"$f":"IF(L37=\"\",\"\",IF(VLOOKUP(F37,Tabelle_Fisse!$B$4:$C$21,2,FALSE)=\"ok\",\"\",1))","v":""},null,"",null,"",""]
[null,"Z890CAF0BF","80018850174","COMUNITA' MONTANA DEL SEBINO BRESCIANO - UFFICIO TECNICO","Affidamento servizio annuale di manutenzione impianti elettrici - anno 2014 - 2015 -2016","23-AFFIDAMENTO IN ECONOMIA - AFFIDAMENTO DIRETTO",3000,"2013-12-16",null,null,null,"Z890CAF0BF",{"$f":"IF(L38=\"\",\"\",IF(COUNTIF(L$6:L$596,L38)=1,\"\",COUNTIF(L$6:L$596,L38)))","v":""},"",null,"",null,"",null,{"$f":"IF(L38=\"\",\"\",IF(VLOOKUP(F38,Tabelle_Fisse!$B$4:$C$21,2,FALSE)=\"ok\",\"\",1))","v":""},null,"",null,"",""]
[null,"Z520CCD6F1","80018850174","COMUNITA' MONTANA DEL SEBINO BRESCIANO - UFFICIO TECNICO","Affidamento servizio di pulizia sede - anno 2014 - 2015 - 2016","23-AFFIDAMENTO IN ECONOMIA - AFFIDAMENTO DIRETTO",30000,"2013-12-27",null,null,null,"Z520CCD6F1",{"$f":"IF(L39=\"\",\"\",IF(COUNTIF(L$6:L$596,L39)=1,\"\",COUNTIF(L$6:L$596,L39)))","v":""},"",null,"",null,"",null,{"$f":"IF(L39=\"\",\"\",IF(VLOOKUP(F39,Tabelle_Fisse!$B$4:$C$21,2,FALSE)=\"ok\",\"\",1))","v":""},null,"",null,"",""]
[null,"Z070CDEFBB","80018850174","COMUNITA' MONTANA DEL SEBINO BRESCIANO - UFFICIO TECNICO","Affidamento servizio verifica e manutenzione caldaia sede - anno 2014 - 2015 - 2016 ","23-AFFIDAMENTO IN ECONOMIA - AFFIDAMENTO DIRETTO",5289,"2013-12-12",null,null,null,"Z070CDEFBB",{"$f":"IF(L40=\"\",\"\",IF(COUNTIF(L$6:L$596,L40)=1,\"\",COUNTIF(L$6:L$596,L40)))","v":""},"",null,"",null,"",null,{"$f":"IF(L40=\"\",\"\",IF(VLOOKUP(F40,Tabelle_Fisse!$B$4:$C$21,2,FALSE)=\"ok\",\"\",1))","v":""},null,"",null,"",""]
[null,"4760217F52","80018850174","COMUNITA' MONTANA DEL SEBINO BRESCIANO - UFFICIO TECNICO","Contratto d'appalto per l'esecuzione dei lavori di Pr. 01/069 PISL Montagna : \"Interventi di sistemazione idraulica dei torrenti Mesagolo e Vigolo\" nei Comuni di Sale Marasino e Sulzano.","01-PROCEDURA APERTA",208717.85,"2013-01-08","2013-05-10",208717.85,null,"4760217F52",{"$f":"IF(L41=\"\",\"\",IF(COUNTIF(L$6:L$596,L41)=1,\"\",COUNTIF(L$6:L$596,L41)))","v":""},"",null,"",null,"",null,{"$f":"IF(L41=\"\",\"\",IF(VLOOKUP(F41,Tabelle_Fisse!$B$4:$C$21,2,FALSE)=\"ok\",\"\",1))","v":""},null,"",null,"",""]
[null,"4929224C50","80018850174","COMUNITA' MONTANA DEL SEBINO BRESCIANO - UFFICIO TECNICO","Contratto d'appalto per l'esecuzione dei lavori di \"Adeguamento e messa in sicurezza della pista ciclabile Vello-Toline in funzione dell'intermodalità di scambio ferro-gomma-acqua\" nei Comuni di Marone e Pisogne (\"° stralcio)","01-PROCEDURA APERTA",82983.88,"2013-02-25","2013-09-26",82983.88,null,"4929224C50",{"$f":"IF(L42=\"\",\"\",IF(COUNTIF(L$6:L$596,L42)=1,\"\",COUNTIF(L$6:L$596,L42)))","v":""},"",null,"",null,"",null,{"$f":"IF(L42=\"\",\"\",IF(VLOOKUP(F42,Tabelle_Fisse!$B$4:$C$21,2,FALSE)=\"ok\",\"\",1))","v":""},null,"",null,"",""]
[null,"501626727B","80018850174","COMUNITA' MONTANA DEL SEBINO BRESCIANO - UFFICIO TECNICO","Contratto d'appalto per la progettazione e l'esecuzione dei lavori di \"Restauro facciate esterne ex chiesa S.Pietro dei Disciplini\" nel Comune di Sale Marasino","01-PROCEDURA APERTA",84498.43,{"$nulls":4},"501626727B",{"$f":"IF(L43=\"\",\"\",IF(COUNTIF(L$6:L$596,L43)=1,\"\",COUNTIF(L$6:L$596,L43)))","v":""},"",null,"",null,"",null,{"$f":"IF(L43=\"\",\"\",IF(VLOOKUP(F43,Tabelle_Fisse!$B$4:$C$21,2,FALSE)=\"ok\",\"\",1))","v":""},null,"",null,"",""]
[null,"52008304AF","80018850174","COMUNITA' MONTANA DEL SEBINO BRESCIANO - UFFICIO TECNICO","Contratto d'appalto per la l'esecuzione dei lavori di \"Prolungamento di via Valeriana\" nei Comuni di Monticelli Brusati e Ome","01-PROCEDURA APERTA",100111.65,"2013-09-09",null,71500,null,"52008304AF",{"$f":"IF(L44=\"\",\"\",IF(COUNTIF(L$6:L$596,L44)=1,\"\",COUNTIF(L$6:L$596,L44)))","v":""},"",null,"",null,"",null,{"$f":"IF(L44=\"\",\"\",IF(VLOOKUP(F44,Tabelle_Fisse!$B$4:$C$21,2,FALSE)=\"ok\",\"\",1))","v":""},null,"",null,"",""]
[null,"Z9A0814421","80018850174","COMUNITA' MONTANA DEL SEBINO BRESCIANO - DIREZIONE","Appalto servizio mensa per i dipendenti - periodo dal 01/01/2013 al 31/12/2013 ","23-AFFIDAMENTO IN ECONOMIA - AFFIDAMENTO DIRETTO",5000,"2013-01-01","2013-12-31",3627.3,null,"Z9A0814421",{"$f":"IF(L45=\"\",\"\",IF(COUNTIF(L$6:L$596,L45)=1,\"\",COUNTIF(L$6:L$596,L45)))","v":""},"",null,"",null,"",null,{"$f":"IF(L45=\"\",\"\",IF(VLOOKUP(F45,Tabelle_Fisse!$B$4:$C$21,2,FALSE)=\"ok\",\"\",1))","v":""},null,"",null,"",""]
[null,"ZCF08230FB","80018850174","COMUNITA' MONTANA DEL SEBINO BRESCIANO - DIREZIONE","Attività di segretariato sociale di base","23-AFFIDAMENTO IN ECONOMIA - AFFIDAMENTO DIRETTO",35308,"2013-01-01","2013-12-31",35308,null,"ZCF08230FB",{"$f":"IF(L46=\"\",\"\",IF(COUNTIF(L$6:L$596,L46)=1,\"\",COUNTIF(L$6:L$596,L46)))","v":""},"",null,"",null,"",null,{"$f":"IF(L46=\"\",\"\",IF(VLOOKUP(F46,Tabelle_Fisse!$B$4:$C$21,2,FALSE)=\"ok\",\"\",1))","v":""},null,"",null,"",""]
[null,"ZEE0874984","80018850174","COMUNITA' MONTANA DEL SEBINO BRESCIANO - DIREZIONE","Fornitura prodotti informatici","23-AFFIDAMENTO IN ECONOMIA - AFFIDAMENTO DIRETTO",3219.26,"2013-02-01","2013-03-01",3219.26,null,"ZEE0874984",{"$f":"IF(L47=\"\",\"\",IF(COUNTIF(L$6:L$596,L47)=1,\"\",COUNTIF(L$6:L$596,L47)))","v":""},"",null,"",null,"",null,{"$f":"IF(L47=\"\",\"\",IF(VLOOKUP(F47,Tabelle_Fisse!$B$4:$C$21,2,FALSE)=\"ok\",\"\",1))","v":""},null,"",null,"",""]
[null,"ZCB0890CE7","80018850174","COMUNITA' MONTANA DEL SEBINO BRESCIANO - DIREZIONE","Servizi Culturali e marketing di sistema ","22-PROCEDURA NEGOZIATA DERIVANTE DA AVVISI CON CUI SI INDICE LA GARA",60000,"2013-04-04",null,49410,null,"ZCB0890CE7",{"$f":"IF(L48=\"\",\"\",IF(COUNTIF(L$6:L$596,L48)=1,\"\",COUNTIF(L$6:L$596,L48)))","v":""},"",null,"",null,"",null,{"$f":"IF(L48=\"\",\"\",IF(VLOOKUP(F48,Tabelle_Fisse!$B$4:$C$21,2,FALSE)=\"ok\",\"\",1))","v":""},null,"",null,"",""]
[null,"ZD9089940F","80018850174","COMUNITA' MONTANA DEL SEBINO BRESCIANO - DIREZIONE","Piano di comunicazione per i servizi culturali ","08-AFFIDAMENTO IN ECONOMIA - COTTIMO FIDUCIARIO",15000,"2013-03-29",null,8476.2000000000007,null,"ZD9089940F",{"$f":"IF(L49=\"\",\"\",IF(COUNTIF(L$6:L$596,L49)=1,\"\",COUNTIF(L$6:L$596,L49)))","v":""},"",null,"",null,"",null,{"$f":"IF(L49=\"\",\"\",IF(VLOOKUP(F49,Tabelle_Fisse!$B$4:$C$21,2,FALSE)=\"ok\",\"\",1))","v":""},null,"",null,"",""]
[null,"Z1A08C6435","80018850174","COMUNITA' MONTANA DEL SEBINO BRESCIANO - DIREZIONE","Fornitura DPI per volontari AIB ","08-AFFIDAMENTO IN ECONOMIA - COTTIMO FIDUCIARIO",3000,"2013-02-20","2013-03-20",2702.6,null,"Z1A08C6435",{"$f":"IF(L50=\"\",\"\",IF(COUNTIF(L$6:L$596,L50)=1,\"\",COUNTIF(L$6:L$596,L50)))","v":""},"",null,"",null,"",null,{"$f":"IF(L50=\"\",\"\",IF(VLOOKUP(F50,Tabelle_Fisse!$B$4:$C$21,2,FALSE)=\"ok\",\"\",1))","v":""},null,"",null,"",""]
[null,"Z3B08D904D","80018850174","COMUNITA' MONTANA DEL SEBINO BRESCIANO - DIREZIONE","Servizi in ambito sociale e socio-sanitario ","23-AFFIDAMENTO IN ECONOMIA - AFFIDAMENTO DIRETTO",25002.5,"2013-02-26","2013-12-31",15219.06,null,"Z3B08D904D",{"$f":"IF(L51=\"\",\"\",IF(COUNTIF(L$6:L$596,L51)=1,\"\",COUNTIF(L$6:L$596,L51)))","v":""},"",null,"",null,"",null,{"$f":"IF(L51=\"\",\"\",IF(VLOOKUP(F51,Tabelle_Fisse!$B$4:$C$21,2,FALSE)=\"ok\",\"\",1))","v":""},null,"",null,"",""]
[null,"Z8A08D9101","80018850174","COMUNITA' MONTANA DEL SEBINO BRESCIANO - DIREZIONE","Servizi in ambito sociale e socio-sanitario per disabilità psichica ","23-AFFIDAMENTO IN ECONOMIA - AFFIDAMENTO DIRETTO",18250,"2013-02-26","2013-12-31",7907.4,null,"Z8A08D9101",{"$f":"IF(L52=\"\",\"\",IF(COUNTIF(L$6:L$596,L52)=1,\"\",COUNTIF(L$6:L$596,L52)))","v":""},"",null,"",null,"",null,{"$f":"IF(L52=\"\",\"\",IF(VLOOKUP(F52,Tabelle_Fisse!$B$4:$C$21,2,FALSE)=\"ok\",\"\",1))","v":""},null,"",null,"",""]
[null,"ZAA08D94BA","80018850174","COMUNITA' MONTANA DEL SEBINO BRESCIANO - DIREZIONE","Servizi in ambito sociale e socio-sanitario per centro socio educativo ","23-AFFIDAMENTO IN ECONOMIA - AFFIDAMENTO DIRETTO",15147.5,"2013-02-26","2013-12-31",7907.4,null,"ZAA08D94BA",{"$f":"IF(L53=\"\",\"\",IF(COUNTIF(L$6:L$596,L53)=1,\"\",COUNTIF(L$6:L$596,L53)))","v":""},"",null,"",null,"",null,{"$f":"IF(L53=\"\",\"\",IF(VLOOKUP(F53,Tabelle_Fisse!$B$4:$C$21,2,FALSE)=\"ok\",\"\",1))","v":""},null,"",null,"",""]
[null,"ZB308D9531","80018850174","COMUNITA' MONTANA DEL SEBINO BRESCIANO - DIREZIONE","Servizi in ambito sociale e socio-sanitario per retta ospitalità ","23-AFFIDAMENTO IN ECONOMIA - AFFIDAMENTO DIRETTO",13050,"2013-02-26","2013-12-31",13050,null,"ZB308D9531",{"$f":"IF(L54=\"\",\"\",IF(COUNTIF(L$6:L$596,L54)=1,\"\",COUNTIF(L$6:L$596,L54)))","v":""},"",null,"",null,"",null,{"$f":"IF(L54=\"\",\"\",IF(VLOOKUP(F54,Tabelle_Fisse!$B$4:$C$21,2,FALSE)=\"ok\",\"\",1))","v":""},null,"",null,"",""]
[null,"Z8508D958A","80018850174","COMUNITA' MONTANA DEL SEBINO BRESCIANO - DIREZIONE","Servizi in ambito sociale e socio-sanitario per retta frequenza unità abitativa ","23-AFFIDAMENTO IN ECONOMIA - AFFIDAMENTO DIRETTO",19127.5,"2013-02-26","2013-12-31",17501.62,null,"Z8508D958A",{"$f":"IF(L55=\"\",\"\",IF(COUNTIF(L$6:L$596,L55)=1,\"\",COUNTIF(L$6:L$596,L55)))","v":""},"",null,"",null,"",null,{"$f":"IF(L55=\"\",\"\",IF(VLOOKUP(F55,Tabelle_Fisse!$B$4:$C$21,2,FALSE)=\"ok\",\"\",1))","v":""},null,"",null,"",""]
[null,"ZE908D9605","80018850174","COMUNITA' MONTANA DEL SEBINO BRESCIANO - DIREZIONE","Servizi in ambito sociale e socio-sanitario - telesoccorso e telecontrollo domiciliare ","22-PROCEDURA NEGOZIATA DERIVANTE DA AVVISI CON CUI SI INDICE LA GARA",600,"2013-01-01","2013-12-31",83.18,null,"ZE908D9605",{"$f":"IF(L56=\"\",\"\",IF(COUNTIF(L$6:L$596,L56)=1,\"\",COUNTIF(L$6:L$596,L56)))","v":""},"",null,"",null,"",null,{"$f":"IF(L56=\"\",\"\",IF(VLOOKUP(F56,Tabelle_Fisse!$B$4:$C$21,2,FALSE)=\"ok\",\"\",1))","v":""},null,"",null,"",""]
[null,"ZB108E3D4B","80018850174","COMUNITA' MONTANA DEL SEBINO BRESCIANO - DIREZIONE","Servizi in ambito sociale e socio-sanitario - retta C.S.E Centro Socio Educativo ","23-AFFIDAMENTO IN ECONOMIA - AFFIDAMENTO DIRETTO",9545,"2013-02-28","2013-12-31",8433.65,null,"ZB108E3D4B",{"$f":"IF(L57=\"\",\"\",IF(COUNTIF(L$6:L$596,L57)=1,\"\",COUNTIF(L$6:L$596,L57)))","v":""},"",null,"",null,"",null,{"$f":"IF(L57=\"\",\"\",IF(VLOOKUP(F57,Tabelle_Fisse!$B$4:$C$21,2,FALSE)=\"ok\",\"\",1))","v":""},null,"",null,"",""]
[null,"ZC908E3EDC","80018850174","COMUNITA' MONTANA DEL SEBINO BRESCIANO - DIREZIONE","Servizi in ambito sociale e socio-sanitario - retta C.D.D. Centro Diurno Disabili ","23-AFFIDAMENTO IN ECONOMIA - AFFIDAMENTO DIRETTO",16790,"2013-02-28","2013-12-31",15283.16,null,"ZC908E3EDC",{"$f":"IF(L58=\"\",\"\",IF(COUNTIF(L$6:L$596,L58)=1,\"\",COUNTIF(L$6:L$596,L58)))","v":""},"",null,"",null,"",null,{"$f":"IF(L58=\"\",\"\",IF(VLOOKUP(F58,Tabelle_Fisse!$B$4:$C$21,2,FALSE)=\"ok\",\"\",1))","v":""},null,"",null,"",""]
[null,"Z6E08F205A","80018850174","COMUNITA' MONTANA DEL SEBINO BRESCIANO - DIREZIONE","Fornitura pasti per corso volontari aib ","23-AFFIDAMENTO IN ECONOMIA - AFFIDAMENTO DIRETTO",2000,"2013-03-04","2013-03-04",1309.0999999999999,null,"Z6E08F205A",{"$f":"IF(L59=\"\",\"\",IF(COUNTIF(L$6:L$596,L59)=1,\"\",COUNTIF(L$6:L$596,L59)))","v":""},"",null,"",null,"",null,{"$f":"IF(L59=\"\",\"\",IF(VLOOKUP(F59,Tabelle_Fisse!$B$4:$C$21,2,FALSE)=\"ok\",\"\",1))","v":""},null,"",null,"",""]
[null,"Z9A0933F6E","80018850174","COMUNITA' MONTANA DEL SEBINO BRESCIANO - DIREZIONE","Progetto di riabilitazione equestre - Incarico terapista ","23-AFFIDAMENTO IN ECONOMIA - AFFIDAMENTO DIRETTO",5400,"2013-03-21","2013-06-28",5400,null,"Z9A0933F6E",{"$f":"IF(L60=\"\",\"\",IF(COUNTIF(L$6:L$596,L60)=1,\"\",COUNTIF(L$6:L$596,L60)))","v":""},"",null,"",null,"",null,{"$f":"IF(L60=\"\",\"\",IF(VLOOKUP(F60,Tabelle_Fisse!$B$4:$C$21,2,FALSE)=\"ok\",\"\",1))","v":""},null,"",null,"",""]
[null,"Z9B09340AE","80018850174","COMUNITA' MONTANA DEL SEBINO BRESCIANO - DIREZIONE","Servizi in ambito sociale area disabilità - Progetto di riabilitazione equestre - Incarico operatori ","23-AFFIDAMENTO IN ECONOMIA - AFFIDAMENTO DIRETTO",3024,"2013-03-21","2013-06-28",2923.2,null,"Z9B09340AE",{"$f":"IF(L61=\"\",\"\",IF(COUNTIF(L$6:L$596,L61)=1,\"\",COUNTIF(L$6:L$596,L61)))","v":""},"",null,"",null,"",null,{"$f":"IF(L61=\"\",\"\",IF(VLOOKUP(F61,Tabelle_Fisse!$B$4:$C$21,2,FALSE)=\"ok\",\"\",1))","v":""},null,"",null,"",""]
[null,"Z950934106","80018850174","COMUNITA' MONTANA DEL SEBINO BRESCIANO - DIREZIONE","Servizi in ambito sociale area disabilità - Progetto di riabilitazione equestre - Messa a disposizione maneggio ","23-AFFIDAMENTO IN ECONOMIA - AFFIDAMENTO DIRETTO",2250,"2013-03-21","2013-06-28",2250,null,"Z950934106",{"$f":"IF(L62=\"\",\"\",IF(COUNTIF(L$6:L$596,L62)=1,\"\",COUNTIF(L$6:L$596,L62)))","v":""},"",null,"",null,"",null,{"$f":"IF(L62=\"\",\"\",IF(VLOOKUP(F62,Tabelle_Fisse!$B$4:$C$21,2,FALSE)=\"ok\",\"\",1))","v":""},null,"",null,"",""]
[null,"ZAF096EB7A","80018850174","COMUNITA' MONTANA DEL SEBINO BRESCIANO - DIREZIONE","SERVIZIO ANTINCENDIO BOSCHIVO - FORNITURA DPI ","23-AFFIDAMENTO IN ECONOMIA - AFFIDAMENTO DIRETTO",900,"2013-04-09","2013-05-09",728.5,null,"ZAF096EB7A",{"$f":"IF(L63=\"\",\"\",IF(COUNTIF(L$6:L$596,L63)=1,\"\",COUNTIF(L$6:L$596,L63)))","v":""},"",null,"",null,"",null,{"$f":"IF(L63=\"\",\"\",IF(VLOOKUP(F63,Tabelle_Fisse!$B$4:$C$21,2,FALSE)=\"ok\",\"\",1))","v":""},null,"",null,"",""]
[null,"Z40096EBF4","80018850174","COMUNITA' MONTANA DEL SEBINO BRESCIANO - DIREZIONE","SERVIZIO ANTINCENDIO BOSCHIVO - FORNITURA DPI (CALZATURE) ","23-AFFIDAMENTO IN ECONOMIA - AFFIDAMENTO DIRETTO",1900,"2013-04-09","2013-05-09",1557.5,null,"Z40096EBF4",{"$f":"IF(L64=\"\",\"\",IF(COUNTIF(L$6:L$596,L64)=1,\"\",COUNTIF(L$6:L$596,L64)))","v":""},"",null,"",null,"",null,{"$f":"IF(L64=\"\",\"\",IF(VLOOKUP(F64,Tabelle_Fisse!$B$4:$C$21,2,FALSE)=\"ok\",\"\",1))","v":""},null,"",null,"",""]
[null,"Z4F096EC13","80018850174","COMUNITA' MONTANA DEL SEBINO BRESCIANO - DIREZIONE","SERVIZIO ANTINCENDIO BOSCHIVO - FORNITURA DPI E ATTREZZATURA (CASCHI, GUANTI, CUFFIE, GENERATORE, CHIAVI IDRANTI ) ","23-AFFIDAMENTO IN ECONOMIA - AFFIDAMENTO DIRETTO",5900,"2013-04-09","2013-05-09",4714,null,"Z4F096EC13",{"$f":"IF(L65=\"\",\"\",IF(COUNTIF(L$6:L$596,L65)=1,\"\",COUNTIF(L$6:L$596,L65)))","v":""},"",null,"",null,"",null,{"$f":"IF(L65=\"\",\"\",IF(VLOOKUP(F65,Tabelle_Fisse!$B$4:$C$21,2,FALSE)=\"ok\",\"\",1))","v":""},null,"",null,"",""]
[null,"ZD209ADCFD","80018850174","COMUNITA' MONTANA DEL SEBINO BRESCIANO - DIREZIONE","SERVIZIO ANTINCENDIO BOSCHIVO - FORNITURA ATTREZZATURE ","23-AFFIDAMENTO IN ECONOMIA - AFFIDAMENTO DIRETTO",2500,"2013-04-09","2013-05-09",2217,null,"ZD209ADCFD",{"$f":"IF(L66=\"\",\"\",IF(COUNTIF(L$6:L$596,L66)=1,\"\",COUNTIF(L$6:L$596,L66)))","v":""},"",null,"",null,"",null,{"$f":"IF(L66=\"\",\"\",IF(VLOOKUP(F66,Tabelle_Fisse!$B$4:$C$21,2,FALSE)=\"ok\",\"\",1))","v":""},null,"",null,"",""]
[null,"Z0609B8783","80018850174","COMUNITA' MONTANA DEL SEBINO BRESCIANO - DIREZIONE","SERVIZIO ANTINCENDIO BOSCHIVO - FORNITURA MATERIALE RADIO ","23-AFFIDAMENTO IN ECONOMIA - AFFIDAMENTO DIRETTO",700,"2013-04-09","2013-05-09",661,null,"Z0609B8783",{"$f":"IF(L67=\"\",\"\",IF(COUNTIF(L$6:L$596,L67)=1,\"\",COUNTIF(L$6:L$596,L67)))","v":""},"",null,"",null,"",null,{"$f":"IF(L67=\"\",\"\",IF(VLOOKUP(F67,Tabelle_Fisse!$B$4:$C$21,2,FALSE)=\"ok\",\"\",1))","v":""},null,"",null,"",""]
[null,"ZB40B17F51","80018850174","COMUNITA' MONTANA DEL SEBINO BRESCIANO - DIREZIONE","Incarico per realizzazione progetto \"I Documenti Raccontano\" - anno 2013 ","23-AFFIDAMENTO IN ECONOMIA - AFFIDAMENTO DIRETTO",2860,"2013-08-01","2013-12-31",2760,null,"ZB40B17F51",{"$f":"IF(L68=\"\",\"\",IF(COUNTIF(L$6:L$596,L68)=1,\"\",COUNTIF(L$6:L$596,L68)))","v":""},"",null,"",null,"",null,{"$f":"IF(L68=\"\",\"\",IF(VLOOKUP(F68,Tabelle_Fisse!$B$4:$C$21,2,FALSE)=\"ok\",\"\",1))","v":""},null,"",null,"",""]
[null,"ZA30B31B6F","80018850174","COMUNITA' MONTANA DEL SEBINO BRESCIANO - DIREZIONE","Servizi assicurativi. ","23-AFFIDAMENTO IN ECONOMIA - AFFIDAMENTO DIRETTO",3093,"2013-08-13",null,3093,null,"ZA30B31B6F",{"$f":"IF(L69=\"\",\"\",IF(COUNTIF(L$6:L$596,L69)=1,\"\",COUNTIF(L$6:L$596,L69)))","v":""},"",null,"",null,"",null,{"$f":"IF(L69=\"\",\"\",IF(VLOOKUP(F69,Tabelle_Fisse!$B$4:$C$21,2,FALSE)=\"ok\",\"\",1))","v":""},null,"",null,"",""]
[null,"Z520B73D19","80018850174","COMUNITA' MONTANA DEL SEBINO BRESCIANO - DIREZIONE","Servizi in ambito sociale e socio-sanitario - assistenza educativa handicap ","23-AFFIDAMENTO IN ECONOMIA - AFFIDAMENTO DIRETTO",962,"2013-09-12","2013-09-13",961.54,null,"Z520B73D19",{"$f":"IF(L70=\"\",\"\",IF(COUNTIF(L$6:L$596,L70)=1,\"\",COUNTIF(L$6:L$596,L70)))","v":""},"",null,"",null,"",null,{"$f":"IF(L70=\"\",\"\",IF(VLOOKUP(F70,Tabelle_Fisse!$B$4:$C$21,2,FALSE)=\"ok\",\"\",1))","v":""},null,"",null,"",""]
[null,"Z700B7E5FB","80018850174","COMUNITA' MONTANA DEL SEBINO BRESCIANO - DIREZIONE","Adesione Sportello Appalti ACB - anno 2013 ","23-AFFIDAMENTO IN ECONOMIA - AFFIDAMENTO DIRETTO",900,"2013-09-16","2013-12-31",900,null,{"$f":"TRIM(B71)","v":"Z700B7E5FB"},{"$f":"IF(L71=\"\",\"\",IF(COUNTIF(L$6:L$596,L71)=1,\"\",COUNTIF(L$6:L$596,L71)))","v":""},{"$f":"IF(L71=\"\",\"\",IF(LEN(L71)<>10,1,\"\"))","v":""},null,{"$f":"IF(L71=\"\",\"\",IF(LEN(C71)<>11,1,\"\"))","v":""},null,{"$f":"IF(L71=\"\",\"\",IF(LEN(E71)>250,1,\"\"))","v":""},null,{"$f":"IF(L71=\"\",\"\",IF(VLOOKUP(F71,Tabelle_Fisse!$B$4:$C$21,2,FALSE)=\"ok\",\"\",1))","v":""},null,{"$f":"IF(L71=\"\",\"\",IF(OR(ISNUMBER(G71)=FALSE,G71<=0),1,\"\"))","v":""},null,{"$f":"IF(OR(B71=\"\",H71=\"\"),\"\",IF(OR(H71<X$3,H71>X$4),1,\"\"))","v":""},{"$f":"IF(OR(B71=\"\",I71=\"\"),\"\",IF(OR(I71<Y$3,I71>Y$4),1,\"\"))","v":""}]
[null,"Z8E0BB0C2B","80018850174","COMUNITA' MONTANA DEL SEBINO BRESCIANO - DIREZIONE","Bando Fondazione Cariplo \"sebino un'identità ritrovata\" - Caratterizzazione naturalistica degli ambienti attraversati dal tracciato dell'Antica Strada Valeriana e del territorio sebino ","23-AFFIDAMENTO IN ECONOMIA - AFFIDAMENTO DIRETTO",12300,"2013-09-30",null,2460,null,"Z8E0BB0C2B",{"$f":"IF(L72=\"\",\"\",IF(COUNTIF(L$6:L$596,L72)=1,\"\",COUNTIF(L$6:L$596,L72)))","v":""},"",null,"",null,"",null,{"$f":"IF(L72=\"\",\"\",IF(VLOOKUP(F72,Tabelle_Fisse!$B$4:$C$21,2,FALSE)=\"ok\",\"\",1))","v":""},null,"",null,"",""]
[null,"Z9B0BB0DB6","80018850174","COMUNITA' MONTANA DEL SEBINO BRESCIANO - DIREZIONE","Bando Fondazione Cariplo \"Valorizzare il patrimonio culturale attraverso la gestione integrata dei beni\" ","23-AFFIDAMENTO IN ECONOMIA - AFFIDAMENTO DIRETTO",7000,"2013-09-30",null,5000,null,"Z9B0BB0DB6",{"$f":"IF(L73=\"\",\"\",IF(COUNTIF(L$6:L$596,L73)=1,\"\",COUNTIF(L$6:L$596,L73)))","v":""},"",null,"",null,"",null,{"$f":"IF(L73=\"\",\"\",IF(VLOOKUP(F73,Tabelle_Fisse!$B$4:$C$21,2,FALSE)=\"ok\",\"\",1))","v":""},null,"",null,"",""]
[null,"Z720BF7401","80018850174","COMUNITA' MONTANA DEL SEBINO BRESCIANO - DIREZIONE","Fornitura materiali per attività Fiumi Sicuri ","23-AFFIDAMENTO IN ECONOMIA - AFFIDAMENTO DIRETTO",159.1,"2013-10-17","2013-10-29",159.1,null,"Z720BF7401",{"$f":"IF(L74=\"\",\"\",IF(COUNTIF(L$6:L$596,L74)=1,\"\",COUNTIF(L$6:L$596,L74)))","v":""},"",null,"",null,"",null,{"$f":"IF(L74=\"\",\"\",IF(VLOOKUP(F74,Tabelle_Fisse!$B$4:$C$21,2,FALSE)=\"ok\",\"\",1))","v":""},null,"",null,"",""]
[null,"Z050BF7505","80018850174","COMUNITA' MONTANA DEL SEBINO BRESCIANO - DIREZIONE","Servizio noleggio attrezzature per attività Fiumi Sicuri ","23-AFFIDAMENTO IN ECONOMIA - AFFIDAMENTO DIRETTO",1824,"2013-10-17","2013-10-29",1824,null,"Z050BF7505",{"$f":"IF(L75=\"\",\"\",IF(COUNTIF(L$6:L$596,L75)=1,\"\",COUNTIF(L$6:L$596,L75)))","v":""},"",null,"",null,"",null,{"$f":"IF(L75=\"\",\"\",IF(VLOOKUP(F75,Tabelle_Fisse!$B$4:$C$21,2,FALSE)=\"ok\",\"\",1))","v":""},null,"",null,"",""]
[null,"Z680BF7731","80018850174","COMUNITA' MONTANA DEL SEBINO BRESCIANO - DIREZIONE","Gestione associata servizi sociali - Progetto LEGAMI ","23-AFFIDAMENTO IN ECONOMIA - AFFIDAMENTO DIRETTO",10640,{"$nulls":4},"Z680BF7731",{"$f":"IF(L76=\"\",\"\",IF(COUNTIF(L$6:L$596,L76)=1,\"\",COUNTIF(L$6:L$596,L76)))","v":""},"",null,"",null,"",null,{"$f":"IF(L76=\"\",\"\",IF(VLOOKUP(F76,Tabelle_Fisse!$B$4:$C$21,2,FALSE)=\"ok\",\"\",1))","v":""},null,"",null,"",""]
[null,"ZCF0BF7780","80018850174","COMUNITA' MONTANA DEL SEBINO BRESCIANO - DIREZIONE","Attuazione sistema archivistico territoriale Comune di Monte Isola ","23-AFFIDAMENTO IN ECONOMIA - AFFIDAMENTO DIRETTO",19000,"2013-10-17",null,14800,null,"ZCF0BF7780",{"$f":"IF(L77=\"\",\"\",IF(COUNTIF(L$6:L$596,L77)=1,\"\",COUNTIF(L$6:L$596,L77)))","v":""},"",null,"",null,"",null,{"$f":"IF(L77=\"\",\"\",IF(VLOOKUP(F77,Tabelle_Fisse!$B$4:$C$21,2,FALSE)=\"ok\",\"\",1))","v":""},null,"",null,"",""]
[null,"Z6B0C078E2","80018850174","COMUNITA' MONTANA DEL SEBINO BRESCIANO - DIREZIONE","Acquisto attrezzi protezione civile ","23-AFFIDAMENTO IN ECONOMIA - AFFIDAMENTO DIRETTO",1668,"2013-10-22","2013-11-22",1668,null,"Z6B0C078E2",{"$f":"IF(L78=\"\",\"\",IF(COUNTIF(L$6:L$596,L78)=1,\"\",COUNTIF(L$6:L$596,L78)))","v":""},"",null,"",null,"",null,{"$f":"IF(L78=\"\",\"\",IF(VLOOKUP(F78,Tabelle_Fisse!$B$4:$C$21,2,FALSE)=\"ok\",\"\",1))","v":""},null,"",null,"",""]
[null,"ZE50C07969","80018850174","COMUNITA' MONTANA DEL SEBINO BRESCIANO - DIREZIONE","Progetto Fondazione Cariplo \"Sebino un'identità ritrovata\" - conferenza stampa presentazione demo app ","23-AFFIDAMENTO IN ECONOMIA - AFFIDAMENTO DIRETTO",490,"2013-10-22","2013-10-22",490,null,"ZE50C07969",{"$f":"IF(L79=\"\",\"\",IF(COUNTIF(L$6:L$596,L79)=1,\"\",COUNTIF(L$6:L$596,L79)))","v":""},"",null,"",null,"",null,{"$f":"IF(L79=\"\",\"\",IF(VLOOKUP(F79,Tabelle_Fisse!$B$4:$C$21,2,FALSE)=\"ok\",\"\",1))","v":""},null,"",null,"",""]
[null,"Z8C0C11BB6","80018850174","COMUNITA' MONTANA DEL SEBINO BRESCIANO - DIREZIONE","Gestione associata servizi sociali - progetto \"home visiting\" ","23-AFFIDAMENTO IN ECONOMIA - AFFIDAMENTO DIRETTO",925,"2013-10-24","2013-12-31",925,null,"Z8C0C11BB6",{"$f":"IF(L80=\"\",\"\",IF(COUNTIF(L$6:L$596,L80)=1,\"\",COUNTIF(L$6:L$596,L80)))","v":""},"",null,"",null,"",null,{"$f":"IF(L80=\"\",\"\",IF(VLOOKUP(F80,Tabelle_Fisse!$B$4:$C$21,2,FALSE)=\"ok\",\"\",1))","v":""},null,"",null,"",""]
[null,"Z610C11CDE","80018850174","COMUNITA' MONTANA DEL SEBINO BRESCIANO - DIREZIONE","Gestione associata servizi sociali - progetto inserimento abitativo ","23-AFFIDAMENTO IN ECONOMIA - AFFIDAMENTO DIRETTO",5160,"2013-10-24","2013-12-31",1500,null,"Z610C11CDE",{"$f":"IF(L81=\"\",\"\",IF(COUNTIF(L$6:L$596,L81)=1,\"\",COUNTIF(L$6:L$596,L81)))","v":""},"",null,"",null,"",null,{"$f":"IF(L81=\"\",\"\",IF(VLOOKUP(F81,Tabelle_Fisse!$B$4:$C$21,2,FALSE)=\"ok\",\"\",1))","v":""},null,"",null,"",""]
[null,"ZF90C16631","80018850174","COMUNITA' MONTANA DEL SEBINO BRESCIANO - DIREZIONE","Fiumi sicuri .- acquisti attrezzature e dpi ","23-AFFIDAMENTO IN ECONOMIA - AFFIDAMENTO DIRETTO",370,"2013-10-28","2013-11-28",305.7,null,"ZF90C16631",{"$f":"IF(L82=\"\",\"\",IF(COUNTIF(L$6:L$596,L82)=1,\"\",COUNTIF(L$6:L$596,L82)))","v":""},"",null,"",null,"",null,{"$f":"IF(L82=\"\",\"\",IF(VLOOKUP(F82,Tabelle_Fisse!$B$4:$C$21,2,FALSE)=\"ok\",\"\",1))","v":""},null,"",null,"",""]
[null,"ZC40C20573","80018850174","COMUNITA' MONTANA DEL SEBINO BRESCIANO - DIREZIONE","Fiumi sicuri - acquisti attrezzature carburante ","23-AFFIDAMENTO IN ECONOMIA - AFFIDAMENTO DIRETTO",301,"2013-10-28","2013-11-28",246.72,null,"ZC40C20573",{"$f":"IF(L83=\"\",\"\",IF(COUNTIF(L$6:L$596,L83)=1,\"\",COUNTIF(L$6:L$596,L83)))","v":""},"",null,"",null,"",null,{"$f":"IF(L83=\"\",\"\",IF(VLOOKUP(F83,Tabelle_Fisse!$B$4:$C$21,2,FALSE)=\"ok\",\"\",1))","v":""},null,"",null,"",""]
[null,"ZF70C20578","80018850174","COMUNITA' MONTANA DEL SEBINO BRESCIANO - DIREZIONE","Fiumi sicuri - noleggio attrezzature - Marone e Zone Torrente Bagnadore ","23-AFFIDAMENTO IN ECONOMIA - AFFIDAMENTO DIRETTO",1260,"2013-10-28","2013-11-28",1260,null,"ZF70C20578",{"$f":"IF(L84=\"\",\"\",IF(COUNTIF(L$6:L$596,L84)=1,\"\",COUNTIF(L$6:L$596,L84)))","v":""},"",null,"",null,"",null,{"$f":"IF(L84=\"\",\"\",IF(VLOOKUP(F84,Tabelle_Fisse!$B$4:$C$21,2,FALSE)=\"ok\",\"\",1))","v":""},null,"",null,"",""]
[null,"ZE50C20585","80018850174","COMUNITA' MONTANA DEL SEBINO BRESCIANO - DIREZIONE","Fiumi sicuri - noleggio attrezzature - Iseo Torrente Cortelo ","23-AFFIDAMENTO IN ECONOMIA - AFFIDAMENTO DIRETTO",1297,"2013-10-28","2013-11-28",1297,null,"ZE50C20585",{"$f":"IF(L85=\"\",\"\",IF(COUNTIF(L$6:L$596,L85)=1,\"\",COUNTIF(L$6:L$596,L85)))","v":""},"",null,"",null,"",null,{"$f":"IF(L85=\"\",\"\",IF(VLOOKUP(F85,Tabelle_Fisse!$B$4:$C$21,2,FALSE)=\"ok\",\"\",1))","v":""},null,"",null,"",""]
[null,"Z9E0C538AF","80018850174","COMUNITA' MONTANA DEL SEBINO BRESCIANO - DIREZIONE","Copertura assicurativa - Responsabilità civile verso terzi e prestatori d'opera RCT/RCO ","01-PROCEDURA APERTA",20450,"2013-12-31",null,null,null,"Z9E0C538AF",{"$f":"IF(L86=\"\",\"\",IF(COUNTIF(L$6:L$596,L86)=1,\"\",COUNTIF(L$6:L$596,L86)))","v":""},"",null,"",null,"",null,{"$f":"IF(L86=\"\",\"\",IF(VLOOKUP(F86,Tabelle_Fisse!$B$4:$C$21,2,FALSE)=\"ok\",\"\",1))","v":""},null,"",null,"",""]
[null,"Z9B0C538DB","80018850174","COMUNITA' MONTANA DEL SEBINO BRESCIANO - DIREZIONE","Copertura assicurativa - Incendio patrimonio immobiliare ","01-PROCEDURA APERTA",11455,"2013-12-31",null,null,null,"Z9B0C538DB",{"$f":"IF(L87=\"\",\"\",IF(COUNTIF(L$6:L$596,L87)=1,\"\",COUNTIF(L$6:L$596,L87)))","v":""},"",null,"",null,"",null,{"$f":"IF(L87=\"\",\"\",IF(VLOOKUP(F87,Tabelle_Fisse!$B$4:$C$21,2,FALSE)=\"ok\",\"\",1))","v":""},null,"",null,"",""]
[null,"ZF70C53924","80018850174","COMUNITA' MONTANA DEL SEBINO BRESCIANO - DIREZIONE","Copertura assicurativa - Infortuni dipendenti ","01-PROCEDURA APERTA",4635,"2013-12-31",null,null,null,"ZF70C53924",{"$f":"IF(L88=\"\",\"\",IF(COUNTIF(L$6:L$596,L88)=1,\"\",COUNTIF(L$6:L$596,L88)))","v":""},"",null,"",null,"",null,{"$f":"IF(L88=\"\",\"\",IF(VLOOKUP(F88,Tabelle_Fisse!$B$4:$C$21,2,FALSE)=\"ok\",\"\",1))","v":""},null,"",null,"",""]
[null,"Z1D0C53936","80018850174","COMUNITA' MONTANA DEL SEBINO BRESCIANO - DIREZIONE","Copertura assicurativa - Furto ","01-PROCEDURA APERTA",5320,"2013-12-31",null,null,null,"Z1D0C53936",{"$f":"IF(L89=\"\",\"\",IF(COUNTIF(L$6:L$596,L89)=1,\"\",COUNTIF(L$6:L$596,L89)))","v":""},"",null,"",null,"",null,{"$f":"IF(L89=\"\",\"\",IF(VLOOKUP(F89,Tabelle_Fisse!$B$4:$C$21,2,FALSE)=\"ok\",\"\",1))","v":""},null,"",null,"",""]
[null,"Z3E0C53948","80018850174","COMUNITA' MONTANA DEL SEBINO BRESCIANO - DIREZIONE","Copertura assicurativa - Elettronica ","01-PROCEDURA APERTA",3510,"2013-12-31",null,null,null,"Z3E0C53948",{"$f":"IF(L90=\"\",\"\",IF(COUNTIF(L$6:L$596,L90)=1,\"\",COUNTIF(L$6:L$596,L90)))","v":""},"",null,"",null,"",null,{"$f":"IF(L90=\"\",\"\",IF(VLOOKUP(F90,Tabelle_Fisse!$B$4:$C$21,2,FALSE)=\"ok\",\"\",1))","v":""},null,"",null,"",""]
[null,"Z020C53AC2","80018850174","COMUNITA' MONTANA DEL SEBINO BRESCIANO - DIREZIONE","Copertura assicurativa - Responsabilità civile auto RCA ","01-PROCEDURA APERTA",32415,"2013-12-31",null,null,null,"Z020C53AC2",{"$f":"IF(L91=\"\",\"\",IF(COUNTIF(L$6:L$596,L91)=1,\"\",COUNTIF(L$6:L$596,L91)))","v":""},"",null,"",null,"",null,{"$f":"IF(L91=\"\",\"\",IF(VLOOKUP(F91,Tabelle_Fisse!$B$4:$C$21,2,FALSE)=\"ok\",\"\",1))","v":""},null,"",null,"",""]
[null,"Z800C6608B","80018850174","COMUNITA' MONTANA DEL SEBINO BRESCIANO - DIREZIONE","Gestione associata servizi sociali - progetto \"A cavallo nella fattoria\" - tecnico della riabilitazione ed assitente ","23-AFFIDAMENTO IN ECONOMIA - AFFIDAMENTO DIRETTO",2854.8,"2013-11-19",null,1620,null,"Z800C6608B",{"$f":"IF(L92=\"\",\"\",IF(COUNTIF(L$6:L$596,L92)=1,\"\",COUNTIF(L$6:L$596,L92)))","v":""},"",null,"",null,"",null,{"$f":"IF(L92=\"\",\"\",IF(VLOOKUP(F92,Tabelle_Fisse!$B$4:$C$21,2,FALSE)=\"ok\",\"\",1))","v":""},null,"",null,"",""]
[null,"Z670C660AB","80018850174","COMUNITA' MONTANA DEL SEBINO BRESCIANO - DIREZIONE","Gestione associata servizi sociali - progetto \"A cavallo nella fattoria\" - assistenti ad personam ","23-AFFIDAMENTO IN ECONOMIA - AFFIDAMENTO DIRETTO",813.28,"2013-11-19",null,255,null,"Z670C660AB",{"$f":"IF(L93=\"\",\"\",IF(COUNTIF(L$6:L$596,L93)=1,\"\",COUNTIF(L$6:L$596,L93)))","v":""},"",null,"",null,"",null,{"$f":"IF(L93=\"\",\"\",IF(VLOOKUP(F93,Tabelle_Fisse!$B$4:$C$21,2,FALSE)=\"ok\",\"\",1))","v":""},null,"",null,"",""]
[null,"Z090C660D3","80018850174","COMUNITA' MONTANA DEL SEBINO BRESCIANO - DIREZIONE","Gestione associata servizi sociali - progetto \"A cavallo nella fattoria\" - maneggio ","23-AFFIDAMENTO IN ECONOMIA - AFFIDAMENTO DIRETTO",1098,"2013-11-19",null,null,null,"Z090C660D3",{"$f":"IF(L94=\"\",\"\",IF(COUNTIF(L$6:L$596,L94)=1,\"\",COUNTIF(L$6:L$596,L94)))","v":""},"",null,"",null,"",null,{"$f":"IF(L94=\"\",\"\",IF(VLOOKUP(F94,Tabelle_Fisse!$B$4:$C$21,2,FALSE)=\"ok\",\"\",1))","v":""},null,"",null,"",""]
[null,"Z1A0C714E9","80018850174","COMUNITA' MONTANA DEL SEBINO BRESCIANO - DIREZIONE","progetto \"i documenti raccontanto\" - promozione archivio storico di Marone ","23-AFFIDAMENTO IN ECONOMIA - AFFIDAMENTO DIRETTO",2500,"2013-11-19",null,2049,null,"Z1A0C714E9",{"$f":"IF(L95=\"\",\"\",IF(COUNTIF(L$6:L$596,L95)=1,\"\",COUNTIF(L$6:L$596,L95)))","v":""},"",null,"",null,"",null,{"$f":"IF(L95=\"\",\"\",IF(VLOOKUP(F95,Tabelle_Fisse!$B$4:$C$21,2,FALSE)=\"ok\",\"\",1))","v":""},null,"",null,"",""]
[null,"Z140CD12B5","80018850174","COMUNITA' MONTANA DEL SEBINO BRESCIANO - DIREZIONE","Gestione associata servizi sociali - Segretariato sociale","23-AFFIDAMENTO IN ECONOMIA - AFFIDAMENTO DIRETTO",5370,"2013-12-10","2013-12-31",null,null,"Z140CD12B5",{"$f":"IF(L96=\"\",\"\",IF(COUNTIF(L$6:L$596,L96)=1,\"\",COUNTIF(L$6:L$596,L96)))","v":""},"",null,"",null,"",null,{"$f":"IF(L96=\"\",\"\",IF(VLOOKUP(F96,Tabelle_Fisse!$B$4:$C$21,2,FALSE)=\"ok\",\"\",1))","v":""},null,"",null,"",""]
[null,"ZB50CD278D","80018850174","COMUNITA' MONTANA DEL SEBINO BRESCIANO - DIREZIONE","Acquisto minipala e accessori per servizio protezione civile e aib","23-AFFIDAMENTO IN ECONOMIA - AFFIDAMENTO DIRETTO",15800,"2013-12-10","2013-12-31",15800,null,"ZB50CD278D",{"$f":"IF(L97=\"\",\"\",IF(COUNTIF(L$6:L$596,L97)=1,\"\",COUNTIF(L$6:L$596,L97)))","v":""},"",null,"",null,"",null,{"$f":"IF(L97=\"\",\"\",IF(VLOOKUP(F97,Tabelle_Fisse!$B$4:$C$21,2,FALSE)=\"ok\",\"\",1))","v":""},null,"",null,"",""]
[null,"Z500CE18FA","80018850174","COMUNITA' MONTANA DEL SEBINO BRESCIANO - DIREZIONE","Acquisto materiale informatico","23-AFFIDAMENTO IN ECONOMIA - AFFIDAMENTO DIRETTO",3200,"2013-12-12",null,null,null,"Z500CE18FA",{"$f":"IF(L98=\"\",\"\",IF(COUNTIF(L$6:L$596,L98)=1,\"\",COUNTIF(L$6:L$596,L98)))","v":""},"",null,"",null,"",null,{"$f":"IF(L98=\"\",\"\",IF(VLOOKUP(F98,Tabelle_Fisse!$B$4:$C$21,2,FALSE)=\"ok\",\"\",1))","v":""},null,"",null,"",""]
[null,"Z220D0BED4","80018850174","COMUNITA' MONTANA DEL SEBINO BRESCIANO - DIREZIONE","Acquisto gruppo di continuità per sala operativa protezione civile","23-AFFIDAMENTO IN ECONOMIA - AFFIDAMENTO DIRETTO",630,"2013-12-19","2013-12-19",630,null,"Z220D0BED4",{"$f":"IF(L99=\"\",\"\",IF(COUNTIF(L$6:L$596,L99)=1,\"\",COUNTIF(L$6:L$596,L99)))","v":""},"",null,"",null,"",null,{"$f":"IF(L99=\"\",\"\",IF(VLOOKUP(F99,Tabelle_Fisse!$B$4:$C$21,2,FALSE)=\"ok\",\"\",1))","v":""},null,"",null,"",""]
[null,"ZAC0D0E5FC","80018850174","COMUNITA' MONTANA DEL SEBINO BRESCIANO - DIREZIONE","assicurazione minipala protezione civile","23-AFFIDAMENTO IN ECONOMIA - AFFIDAMENTO DIRETTO",14,"2013-12-20",null,14,null,"ZAC0D0E5FC",{"$f":"IF(L100=\"\",\"\",IF(COUNTIF(L$6:L$596,L100)=1,\"\",COUNTIF(L$6:L$596,L100)))","v":""},"",null,"",null,"",null,{"$f":"IF(L100=\"\",\"\",IF(VLOOKUP(F100,Tabelle_Fisse!$B$4:$C$21,2,FALSE)=\"ok\",\"\",1))","v":""},null,"",null,"",""]
[null,"Z7B0D18557","80018850174","COMUNITA' MONTANA DEL SEBINO BRESCIANO - DIREZIONE","Coordinamento assistenza domiciliare di base","23-AFFIDAMENTO IN ECONOMIA - AFFIDAMENTO DIRETTO",28800,{"$nulls":4},"Z7B0D18557",{"$f":"IF(L101=\"\",\"\",IF(COUNTIF(L$6:L$596,L101)=1,\"\",COUNTIF(L$6:L$596,L101)))","v":""},"",null,"",null,"",null,{"$f":"IF(L101=\"\",\"\",IF(VLOOKUP(F101,Tabelle_Fisse!$B$4:$C$21,2,FALSE)=\"ok\",\"\",1))","v":""},null,"",null,"",""]
[null,"ZCF0D1856E","80018850174","COMUNITA' MONTANA DEL SEBINO BRESCIANO - DIREZIONE","Servizio di segretariato sociale di base","23-AFFIDAMENTO IN ECONOMIA - AFFIDAMENTO DIRETTO",22032,{"$nulls":4},"ZCF0D1856E",{"$f":"IF(L102=\"\",\"\",IF(COUNTIF(L$6:L$596,L102)=1,\"\",COUNTIF(L$6:L$596,L102)))","v":""},"",null,"",null,"",null,{"$f":"IF(L102=\"\",\"\",IF(VLOOKUP(F102,Tabelle_Fisse!$B$4:$C$21,2,FALSE)=\"ok\",\"\",1))","v":""},null,"",null,"",""]
[null,"Z280D22A3D","80018850174","COMUNITA' MONTANA DEL SEBINO BRESCIANO - DIREZIONE","Polizza RC per gruppi comunali di Protezione Civile","23-AFFIDAMENTO IN ECONOMIA - AFFIDAMENTO DIRETTO",810.36,{"$nulls":4},"Z280D22A3D",{"$f":"IF(L103=\"\",\"\",IF(COUNTIF(L$6:L$596,L103)=1,\"\",COUNTIF(L$6:L$596,L103)))","v":""},"",null,"",null,"",null,{"$f":"IF(L103=\"\",\"\",IF(VLOOKUP(F103,Tabelle_Fisse!$B$4:$C$21,2,FALSE)=\"ok\",\"\",1))","v":""},null,"",null,"",""]
[null,"ZEA0D22A90","80018850174","COMUNITA' MONTANA DEL SEBINO BRESCIANO - DIREZIONE","Polizza Infortuni per gruppi comunali di Protezione Civile","23-AFFIDAMENTO IN ECONOMIA - AFFIDAMENTO DIRETTO",10948.01,{"$nulls":4},"ZEA0D22A90",{"$f":"IF(L104=\"\",\"\",IF(COUNTIF(L$6:L$596,L104)=1,\"\",COUNTIF(L$6:L$596,L104)))","v":""},"",null,"",null,"",null,{"$f":"IF(L104=\"\",\"\",IF(VLOOKUP(F104,Tabelle_Fisse!$B$4:$C$21,2,FALSE)=\"ok\",\"\",1))","v":""},null,"",null,"",""]
[null,"",{"$nulls":9},"",{"$f":"IF(L105=\"\",\"\",IF(COUNTIF(L$6:L$596,L105)=1,\"\",COUNTIF(L$6:L$596,L105)))","v":""},"",null,"",null,"",null,{"$f":"IF(L105=\"\",\"\",IF(VLOOKUP(F105,Tabelle_Fisse!$B$4:$C$21,2,FALSE)=\"ok\",\"\",1))","v":""},null,"",null,"",""]
[null,"",{"$nulls":9},"",{"$f":"IF(L106=\"\",\"\",IF(COUNTIF(L$6:L$596,L106)=1,\"\",COUNTIF(L$6:L$596,L106)))","v":""},"",null,"",null,"",null,{"$f":"IF(L106=\"\",\"\",IF(VLOOKUP(F106,Tabelle_Fisse!$B$4:$C$21,2,FALSE)=\"ok\",\"\",1))","v":""},null,"",null,"",""]
[null,"",{"$nulls":9},"",{"$f":"IF(L107=\"\",\"\",IF(COUNTIF(L$6:L$596,L107)=1,\"\",COUNTIF(L$6:L$596,L107)))","v":""},"",null,"",null,"",null,{"$f":"IF(L107=\"\",\"\",IF(VLOOKUP(F107,Tabelle_Fisse!$B$4:$C$21,2,FALSE)=\"ok\",\"\",1))","v":""},null,"",null,"",""]
[null,"",{"$nulls":9},"",{"$f":"IF(L108=\"\",\"\",IF(COUNTIF(L$6:L$596,L108)=1,\"\",COUNTIF(L$6:L$596,L108)))","v":""},"",null,"",null,"",null,{"$f":"IF(L108=\"\",\"\",IF(VLOOKUP(F108,Tabelle_Fisse!$B$4:$C$21,2,FALSE)=\"ok\",\"\",1))","v":""},null,"",null,"",""]
[null,"",{"$nulls":9},"",{"$f":"IF(L109=\"\",\"\",IF(COUNTIF(L$6:L$596,L109)=1,\"\",COUNTIF(L$6:L$596,L109)))","v":""},"",null,"",null,"",null,{"$f":"IF(L109=\"\",\"\",IF(VLOOKUP(F109,Tabelle_Fisse!$B$4:$C$21,2,FALSE)=\"ok\",\"\",1))","v":""},null,"",null,"",""]
[null,"",{"$nulls":9},"",{"$f":"IF(L110=\"\",\"\",IF(COUNTIF(L$6:L$596,L110)=1,\"\",COUNTIF(L$6:L$596,L110)))","v":""},"",null,"",null,"",null,{"$f":"IF(L110=\"\",\"\",IF(VLOOKUP(F110,Tabelle_Fisse!$B$4:$C$21,2,FALSE)=\"ok\",\"\",1))","v":""},null,"",null,"",""]
[null,"",{"$nulls":9},"",{"$f":"IF(L111=\"\",\"\",IF(COUNTIF(L$6:L$596,L111)=1,\"\",COUNTIF(L$6:L$596,L111)))","v":""},"",null,"",null,"",null,{"$f":"IF(L111=\"\",\"\",IF(VLOOKUP(F111,Tabelle_Fisse!$B$4:$C$21,2,FALSE)=\"ok\",\"\",1))","v":""},null,"",null,"",""]
[null,"",{"$nulls":9},"",{"$f":"IF(L112=\"\",\"\",IF(COUNTIF(L$6:L$596,L112)=1,\"\",COUNTIF(L$6:L$596,L112)))","v":""},"",null,"",null,"",null,{"$f":"IF(L112=\"\",\"\",IF(VLOOKUP(F112,Tabelle_Fisse!$B$4:$C$21,2,FALSE)=\"ok\",\"\",1))","v":""},null,"",null,"",""]
[null,"",{"$nulls":9},"",{"$f":"IF(L113=\"\",\"\",IF(COUNTIF(L$6:L$596,L113)=1,\"\",COUNTIF(L$6:L$596,L113)))","v":""},"",null,"",null,"",null,{"$f":"IF(L113=\"\",\"\",IF(VLOOKUP(F113,Tabelle_Fisse!$B$4:$C$21,2,FALSE)=\"ok\",\"\",1))","v":""},null,"",null,"",""]
[null,"",{"$nulls":9},"",{"$f":"IF(L114=\"\",\"\",IF(COUNTIF(L$6:L$596,L114)=1,\"\",COUNTIF(L$6:L$596,L114)))","v":""},"",null,"",null,"",null,{"$f":"IF(L114=\"\",\"\",IF(VLOOKUP(F114,Tabelle_Fisse!$B$4:$C$21,2,FALSE)=\"ok\",\"\",1))","v":""},null,"",null,"",""]
[null,"",{"$nulls":9},"",{"$f":"IF(L115=\"\",\"\",IF(COUNTIF(L$6:L$596,L115)=1,\"\",COUNTIF(L$6:L$596,L115)))","v":""},"",null,"",null,"",null,{"$f":"IF(L115=\"\",\"\",IF(VLOOKUP(F115,Tabelle_Fisse!$B$4:$C$21,2,FALSE)=\"ok\",\"\",1))","v":""},null,"",null,"",""]
[null,"",{"$nulls":9},"",{"$f":"IF(L116=\"\",\"\",IF(COUNTIF(L$6:L$596,L116)=1,\"\",COUNTIF(L$6:L$596,L116)))","v":""},"",null,"",null,"",null,{"$f":"IF(L116=\"\",\"\",IF(VLOOKUP(F116,Tabelle_Fisse!$B$4:$C$21,2,FALSE)=\"ok\",\"\",1))","v":""},null,"",null,"",""]
[null,"",{"$nulls":9},"",{"$f":"IF(L117=\"\",\"\",IF(COUNTIF(L$6:L$596,L117)=1,\"\",COUNTIF(L$6:L$596,L117)))","v":""},"",null,"",null,"",null,{"$f":"IF(L117=\"\",\"\",IF(VLOOKUP(F117,Tabelle_Fisse!$B$4:$C$21,2,FALSE)=\"ok\",\"\",1))","v":""},null,"",null,"",""]
[null,"",{"$nulls":9},"",{"$f":"IF(L118=\"\",\"\",IF(COUNTIF(L$6:L$596,L118)=1,\"\",COUNTIF(L$6:L$596,L118)))","v":""},"",null,"",null,"",null,{"$f":"IF(L118=\"\",\"\",IF(VLOOKUP(F118,Tabelle_Fisse!$B$4:$C$21,2,FALSE)=\"ok\",\"\",1))","v":""},null,"",null,"",""]
[null,"",{"$nulls":9},"",{"$f":"IF(L119=\"\",\"\",IF(COUNTIF(L$6:L$596,L119)=1,\"\",COUNTIF(L$6:L$596,L119)))","v":""},"",null,"",null,"",null,{"$f":"IF(L119=\"\",\"\",IF(VLOOKUP(F119,Tabelle_Fisse!$B$4:$C$21,2,FALSE)=\"ok\",\"\",1))","v":""},null,"",null,"",""]
[null,"",{"$nulls":9},"",{"$f":"IF(L120=\"\",\"\",IF(COUNTIF(L$6:L$596,L120)=1,\"\",COUNTIF(L$6:L$596,L120)))","v":""},"",null,"",null,"",null,{"$f":"IF(L120=\"\",\"\",IF(VLOOKUP(F120,Tabelle_Fisse!$B$4:$C$21,2,FALSE)=\"ok\",\"\",1))","v":""},null,"",null,"",""]
[null,"",{"$nulls":9},"",{"$f":"IF(L121=\"\",\"\",IF(COUNTIF(L$6:L$596,L121)=1,\"\",COUNTIF(L$6:L$596,L121)))","v":""},"",null,"",null,"",null,{"$f":"IF(L121=\"\",\"\",IF(VLOOKUP(F121,Tabelle_Fisse!$B$4:$C$21,2,FALSE)=\"ok\",\"\",1))","v":""},null,"",null,"",""]
[null,"",{"$nulls":9},"",{"$f":"IF(L122=\"\",\"\",IF(COUNTIF(L$6:L$596,L122)=1,\"\",COUNTIF(L$6:L$596,L122)))","v":""},"",null,"",null,"",null,{"$f":"IF(L122=\"\",\"\",IF(VLOOKUP(F122,Tabelle_Fisse!$B$4:$C$21,2,FALSE)=\"ok\",\"\",1))","v":""},null,"",null,"",""]
[null,"",{"$nulls":9},"",{"$f":"IF(L123=\"\",\"\",IF(COUNTIF(L$6:L$596,L123)=1,\"\",COUNTIF(L$6:L$596,L123)))","v":""},"",null,"",null,"",null,{"$f":"IF(L123=\"\",\"\",IF(VLOOKUP(F123,Tabelle_Fisse!$B$4:$C$21,2,FALSE)=\"ok\",\"\",1))","v":""},null,"",null,"",""]
[null,"",{"$nulls":9},"",{"$f":"IF(L124=\"\",\"\",IF(COUNTIF(L$6:L$596,L124)=1,\"\",COUNTIF(L$6:L$596,L124)))","v":""},"",null,"",null,"",null,{"$f":"IF(L124=\"\",\"\",IF(VLOOKUP(F124,Tabelle_Fisse!$B$4:$C$21,2,FALSE)=\"ok\",\"\",1))","v":""},null,"",null,"",""]
[null,"",{"$nulls":9},"",{"$f":"IF(L125=\"\",\"\",IF(COUNTIF(L$6:L$596,L125)=1,\"\",COUNTIF(L$6:L$596,L125)))","v":""},"",null,"",null,"",null,{"$f":"IF(L125=\"\",\"\",IF(VLOOKUP(F125,Tabelle_Fisse!$B$4:$C$21,2,FALSE)=\"ok\",\"\",1))","v":""},null,"",null,"",""]
[null,"",{"$nulls":9},"",{"$f":"IF(L126=\"\",\"\",IF(COUNTIF(L$6:L$596,L126)=1,\"\",COUNTIF(L$6:L$596,L126)))","v":""},"",null,"",null,"",null,{"$f":"IF(L126=\"\",\"\",IF(VLOOKUP(F126,Tabelle_Fisse!$B$4:$C$21,2,FALSE)=\"ok\",\"\",1))","v":""},null,"",null,"",""]
[null,"",{"$nulls":9},"",{"$f":"IF(L127=\"\",\"\",IF(COUNTIF(L$6:L$596,L127)=1,\"\",COUNTIF(L$6:L$596,L127)))","v":""},"",null,"",null,"",null,{"$f":"IF(L127=\"\",\"\",IF(VLOOKUP(F127,Tabelle_Fisse!$B$4:$C$21,2,FALSE)=\"ok\",\"\",1))","v":""},null,"",null,"",""]
[null,"",{"$nulls":9},"",{"$f":"IF(L128=\"\",\"\",IF(COUNTIF(L$6:L$596,L128)=1,\"\",COUNTIF(L$6:L$596,L128)))","v":""},"",null,"",null,"",null,{"$f":"IF(L128=\"\",\"\",IF(VLOOKUP(F128,Tabelle_Fisse!$B$4:$C$21,2,FALSE)=\"ok\",\"\",1))","v":""},null,"",null,"",""]
[null,"",{"$nulls":9},"",{"$f":"IF(L129=\"\",\"\",IF(COUNTIF(L$6:L$596,L129)=1,\"\",COUNTIF(L$6:L$596,L129)))","v":""},"",null,"",null,"",null,{"$f":"IF(L129=\"\",\"\",IF(VLOOKUP(F129,Tabelle_Fisse!$B$4:$C$21,2,FALSE)=\"ok\",\"\",1))","v":""},null,"",null,"",""]
[null,"",{"$nulls":9},"",{"$f":"IF(L130=\"\",\"\",IF(COUNTIF(L$6:L$596,L130)=1,\"\",COUNTIF(L$6:L$596,L130)))","v":""},"",null,"",null,"",null,{"$f":"IF(L130=\"\",\"\",IF(VLOOKUP(F130,Tabelle_Fisse!$B$4:$C$21,2,FALSE)=\"ok\",\"\",1))","v":""},null,"",null,"",""]
[null,"",{"$nulls":9},{"$f":"TRIM(B131)","v":""},{"$f":"IF(L131=\"\",\"\",IF(COUNTIF(L$6:L$596,L131)=1,\"\",COUNTIF(L$6:L$596,L131)))","v":""},{"$f":"IF(L131=\"\",\"\",IF(LEN(L131)<>10,1,\"\"))","v":""},null,{"$f":"IF(L131=\"\",\"\",IF(LEN(C131)<>11,1,\"\"))","v":""},null,{"$f":"IF(L131=\"\",\"\",IF(LEN(E131)>250,1,\"\"))","v":""},null,{"$f":"IF(L131=\"\",\"\",IF(VLOOKUP(F131,Tabelle_Fisse!$B$4:$C$21,2,FALSE)=\"ok\",\"\",1))","v":""},null,{"$f":"IF(L131=\"\",\"\",IF(OR(ISNUMBER(G131)=FALSE,G131<=0),1,\"\"))","v":""},null,{"$f":"IF(OR(B131=\"\",H131=\"\"),\"\",IF(OR(H131<X$3,H131>X$4),1,\"\"))","v":""},{"$f":"IF(OR(B131=\"\",I131=\"\"),\"\",IF(OR(I131<Y$3,I131>Y$4),1,\"\"))","v":""}]
[null,"",{"$nulls":9},"",{"$f":"IF(L132=\"\",\"\",IF(COUNTIF(L$6:L$596,L132)=1,\"\",COUNTIF(L$6:L$596,L132)))","v":""},"",null,"",null,"",null,{"$f":"IF(L132=\"\",\"\",IF(VLOOKUP(F132,Tabelle_Fisse!$B$4:$C$21,2,FALSE)=\"ok\",\"\",1))","v":""},null,"",null,"",""]
[null,"",{"$nulls":9},"",{"$f":"IF(L133=\"\",\"\",IF(COUNTIF(L$6:L$596,L133)=1,\"\",COUNTIF(L$6:L$596,L133)))","v":""},"",null,"",null,"",null,{"$f":"IF(L133=\"\",\"\",IF(VLOOKUP(F133,Tabelle_Fisse!$B$4:$C$21,2,FALSE)=\"ok\",\"\",1))","v":""},null,"",null,"",""]
[null,"",{"$nulls":9},"",{"$f":"IF(L134=\"\",\"\",IF(COUNTIF(L$6:L$596,L134)=1,\"\",COUNTIF(L$6:L$596,L134)))","v":""},"",null,"",null,"",null,{"$f":"IF(L134=\"\",\"\",IF(VLOOKUP(F134,Tabelle_Fisse!$B$4:$C$21,2,FALSE)=\"ok\",\"\",1))","v":""},null,"",null,"",""]
[null,"",{"$nulls":9},"",{"$f":"IF(L135=\"\",\"\",IF(COUNTIF(L$6:L$596,L135)=1,\"\",COUNTIF(L$6:L$596,L135)))","v":""},"",null,"",null,"",null,{"$f":"IF(L135=\"\",\"\",IF(VLOOKUP(F135,Tabelle_Fisse!$B$4:$C$21,2,FALSE)=\"ok\",\"\",1))","v":""},null,"",null,"",""]
[null,"",{"$nulls":9},"",{"$f":"IF(L136=\"\",\"\",IF(COUNTIF(L$6:L$596,L136)=1,\"\",COUNTIF(L$6:L$596,L136)))","v":""},"",null,"",null,"",null,{"$f":"IF(L136=\"\",\"\",IF(VLOOKUP(F136,Tabelle_Fisse!$B$4:$C$21,2,FALSE)=\"ok\",\"\",1))","v":""},null,"",null,"",""]
[null,"",{"$nulls":9},"",{"$f":"IF(L137=\"\",\"\",IF(COUNTIF(L$6:L$596,L137)=1,\"\",COUNTIF(L$6:L$596,L137)))","v":""},"",null,"",null,"",null,{"$f":"IF(L137=\"\",\"\",IF(VLOOKUP(F137,Tabelle_Fisse!$B$4:$C$21,2,FALSE)=\"ok\",\"\",1))","v":""},null,"",null,"",""]
[null,"",{"$nulls":9},"",{"$f":"IF(L138=\"\",\"\",IF(COUNTIF(L$6:L$596,L138)=1,\"\",COUNTIF(L$6:L$596,L138)))","v":""},"",null,"",null,"",null,{"$f":"IF(L138=\"\",\"\",IF(VLOOKUP(F138,Tabelle_Fisse!$B$4:$C$21,2,FALSE)=\"ok\",\"\",1))","v":""},null,"",null,"",""]
[null,"",{"$nulls":9},"",{"$f":"IF(L139=\"\",\"\",IF(COUNTIF(L$6:L$596,L139)=1,\"\",COUNTIF(L$6:L$596,L139)))","v":""},"",null,"",null,"",null,{"$f":"IF(L139=\"\",\"\",IF(VLOOKUP(F139,Tabelle_Fisse!$B$4:$C$21,2,FALSE)=\"ok\",\"\",1))","v":""},null,"",null,"",""]
[null,"",{"$nulls":9},"",{"$f":"IF(L140=\"\",\"\",IF(COUNTIF(L$6:L$596,L140)=1,\"\",COUNTIF(L$6:L$596,L140)))","v":""},"",null,"",null,"",null,{"$f":"IF(L140=\"\",\"\",IF(VLOOKUP(F140,Tabelle_Fisse!$B$4:$C$21,2,FALSE)=\"ok\",\"\",1))","v":""},null,"",null,"",""]
[null,"",{"$nulls":9},"",{"$f":"IF(L141=\"\",\"\",IF(COUNTIF(L$6:L$596,L141)=1,\"\",COUNTIF(L$6:L$596,L141)))","v":""},"",null,"",null,"",null,{"$f":"IF(L141=\"\",\"\",IF(VLOOKUP(F141,Tabelle_Fisse!$B$4:$C$21,2,FALSE)=\"ok\",\"\",1))","v":""},null,"",null,"",""]
[null,"",{"$nulls":9},"",{"$f":"IF(L142=\"\",\"\",IF(COUNTIF(L$6:L$596,L142)=1,\"\",COUNTIF(L$6:L$596,L142)))","v":""},"",null,"",null,"",null,{"$f":"IF(L142=\"\",\"\",IF(VLOOKUP(F142,Tabelle_Fisse!$B$4:$C$21,2,FALSE)=\"ok\",\"\",1))","v":""},null,"",null,"",""]
[null,"",{"$nulls":9},"",{"$f":"IF(L143=\"\",\"\",IF(COUNTIF(L$6:L$596,L143)=1,\"\",COUNTIF(L$6:L$596,L143)))","v":""},"",null,"",null,"",null,{"$f":"IF(L143=\"\",\"\",IF(VLOOKUP(F143,Tabelle_Fisse!$B$4:$C$21,2,FALSE)=\"ok\",\"\",1))","v":""},null,"",null,"",""]
[null,"",{"$nulls":9},"",{"$f":"IF(L144=\"\",\"\",IF(COUNTIF(L$6:L$596,L144)=1,\"\",COUNTIF(L$6:L$596,L144)))","v":""},"",null,"",null,"",null,{"$f":"IF(L144=\"\",\"\",IF(VLOOKUP(F144,Tabelle_Fisse!$B$4:$C$21,2,FALSE)=\"ok\",\"\",1))","v":""},null,"",null,"",""]
[null,"",{"$nulls":9},"",{"$f":"IF(L145=\"\",\"\",IF(COUNTIF(L$6:L$596,L145)=1,\"\",COUNTIF(L$6:L$596,L145)))","v":""},"",null,"",null,"",null,{"$f":"IF(L145=\"\",\"\",IF(VLOOKUP(F145,Tabelle_Fisse!$B$4:$C$21,2,FALSE)=\"ok\",\"\",1))","v":""},null,"",null,"",""]
[null,"",{"$nulls":9},"",{"$f":"IF(L146=\"\",\"\",IF(COUNTIF(L$6:L$596,L146)=1,\"\",COUNTIF(L$6:L$596,L146)))","v":""},"",null,"",null,"",null,{"$f":"IF(L146=\"\",\"\",IF(VLOOKUP(F146,Tabelle_Fisse!$B$4:$C$21,2,FALSE)=\"ok\",\"\",1))","v":""},null,"",null,"",""]
[null,"",{"$nulls":9},"",{"$f":"IF(L147=\"\",\"\",IF(COUNTIF(L$6:L$596,L147)=1,\"\",COUNTIF(L$6:L$596,L147)))","v":""},"",null,"",null,"",null,{"$f":"IF(L147=\"\",\"\",IF(VLOOKUP(F147,Tabelle_Fisse!$B$4:$C$21,2,FALSE)=\"ok\",\"\",1))","v":""},null,"",null,"",""]
[null,"",{"$nulls":9},"",{"$f":"IF(L148=\"\",\"\",IF(COUNTIF(L$6:L$596,L148)=1,\"\",COUNTIF(L$6:L$596,L148)))","v":""},"",null,"",null,"",null,{"$f":"IF(L148=\"\",\"\",IF(VLOOKUP(F148,Tabelle_Fisse!$B$4:$C$21,2,FALSE)=\"ok\",\"\",1))","v":""},null,"",null,"",""]
[null,"",{"$nulls":9},"",{"$f":"IF(L149=\"\",\"\",IF(COUNTIF(L$6:L$596,L149)=1,\"\",COUNTIF(L$6:L$596,L149)))","v":""},"",null,"",null,"",null,{"$f":"IF(L149=\"\",\"\",IF(VLOOKUP(F149,Tabelle_Fisse!$B$4:$C$21,2,FALSE)=\"ok\",\"\",1))","v":""},null,"",null,"",""]
[null,"",{"$nulls":9},"",{"$f":"IF(L150=\"\",\"\",IF(COUNTIF(L$6:L$596,L150)=1,\"\",COUNTIF(L$6:L$596,L150)))","v":""},"",null,"",null,"",null,{"$f":"IF(L150=\"\",\"\",IF(VLOOKUP(F150,Tabelle_Fisse!$B$4:$C$21,2,FALSE)=\"ok\",\"\",1))","v":""},null,"",null,"",""]
[null,"",{"$nulls":9},"",{"$f":"IF(L151=\"\",\"\",IF(COUNTIF(L$6:L$596,L151)=1,\"\",COUNTIF(L$6:L$596,L151)))","v":""},"",null,"",null,"",null,{"$f":"IF(L151=\"\",\"\",IF(VLOOKUP(F151,Tabelle_Fisse!$B$4:$C$21,2,FALSE)=\"ok\",\"\",1))","v":""},null,"",null,"",""]
[null,"",{"$nulls":9},"",{"$f":"IF(L152=\"\",\"\",IF(COUNTIF(L$6:L$596,L152)=1,\"\",COUNTIF(L$6:L$596,L152)))","v":""},"",null,"",null,"",null,{"$f":"IF(L152=\"\",\"\",IF(VLOOKUP(F152,Tabelle_Fisse!$B$4:$C$21,2,FALSE)=\"ok\",\"\",1))","v":""},null,"",null,"",""]
[null,"",{"$nulls":9},"",{"$f":"IF(L153=\"\",\"\",IF(COUNTIF(L$6:L$596,L153)=1,\"\",COUNTIF(L$6:L$596,L153)))","v":""},"",null,"",null,"",null,{"$f":"IF(L153=\"\",\"\",IF(VLOOKUP(F153,Tabelle_Fisse!$B$4:$C$21,2,FALSE)=\"ok\",\"\",1))","v":""},null,"",null,"",""]
[null,"",{"$nulls":9},"",{"$f":"IF(L154=\"\",\"\",IF(COUNTIF(L$6:L$596,L154)=1,\"\",COUNTIF(L$6:L$596,L154)))","v":""},"",null,"",null,"",null,{"$f":"IF(L154=\"\",\"\",IF(VLOOKUP(F154,Tabelle_Fisse!$B$4:$C$21,2,FALSE)=\"ok\",\"\",1))","v":""},null,"",null,"",""]
[null,"",{"$nulls":9},"",{"$f":"IF(L155=\"\",\"\",IF(COUNTIF(L$6:L$596,L155)=1,\"\",COUNTIF(L$6:L$596,L155)))","v":""},"",null,"",null,"",null,{"$f":"IF(L155=\"\",\"\",IF(VLOOKUP(F155,Tabelle_Fisse!$B$4:$C$21,2,FALSE)=\"ok\",\"\",1))","v":""},null,"",null,"",""]
[null,"",{"$nulls":9},"",{"$f":"IF(L156=\"\",\"\",IF(COUNTIF(L$6:L$596,L156)=1,\"\",COUNTIF(L$6:L$596,L156)))","v":""},"",null,"",null,"",null,{"$f":"IF(L156=\"\",\"\",IF(VLOOKUP(F156,Tabelle_Fisse!$B$4:$C$21,2,FALSE)=\"ok\",\"\",1))","v":""},null,"",null,"",""]
[null,"",{"$nulls":9},"",{"$f":"IF(L157=\"\",\"\",IF(COUNTIF(L$6:L$596,L157)=1,\"\",COUNTIF(L$6:L$596,L157)))","v":""},"",null,"",null,"",null,{"$f":"IF(L157=\"\",\"\",IF(VLOOKUP(F157,Tabelle_Fisse!$B$4:$C$21,2,FALSE)=\"ok\",\"\",1))","v":""},null,"",null,"",""]
[null,"",{"$nulls":9},"",{"$f":"IF(L158=\"\",\"\",IF(COUNTIF(L$6:L$596,L158)=1,\"\",COUNTIF(L$6:L$596,L158)))","v":""},"",null,"",null,"",null,{"$f":"IF(L158=\"\",\"\",IF(VLOOKUP(F158,Tabelle_Fisse!$B$4:$C$21,2,FALSE)=\"ok\",\"\",1))","v":""},null,"",null,"",""]
[null,"",{"$nulls":9},"",{"$f":"IF(L159=\"\",\"\",IF(COUNTIF(L$6:L$596,L159)=1,\"\",COUNTIF(L$6:L$596,L159)))","v":""},"",null,"",null,"",null,{"$f":"IF(L159=\"\",\"\",IF(VLOOKUP(F159,Tabelle_Fisse!$B$4:$C$21,2,FALSE)=\"ok\",\"\",1))","v":""},null,"",null,"",""]
[null,"",{"$nulls":9},"",{"$f":"IF(L160=\"\",\"\",IF(COUNTIF(L$6:L$596,L160)=1,\"\",COUNTIF(L$6:L$596,L160)))","v":""},"",null,"",null,"",null,{"$f":"IF(L160=\"\",\"\",IF(VLOOKUP(F160,Tabelle_Fisse!$B$4:$C$21,2,FALSE)=\"ok\",\"\",1))","v":""},null,"",null,"",""]
[null,"",{"$nulls":9},"",{"$f":"IF(L161=\"\",\"\",IF(COUNTIF(L$6:L$596,L161)=1,\"\",COUNTIF(L$6:L$596,L161)))","v":""},"",null,"",null,"",null,{"$f":"IF(L161=\"\",\"\",IF(VLOOKUP(F161,Tabelle_Fisse!$B$4:$C$21,2,FALSE)=\"ok\",\"\",1))","v":""},null,"",null,"",""]
[null,"",{"$nulls":9},"",{"$f":"IF(L162=\"\",\"\",IF(COUNTIF(L$6:L$596,L162)=1,\"\",COUNTIF(L$6:L$596,L162)))","v":""},"",null,"",null,"",null,{"$f":"IF(L162=\"\",\"\",IF(VLOOKUP(F162,Tabelle_Fisse!$B$4:$C$21,2,FALSE)=\"ok\",\"\",1))","v":""},null,"",null,"",""]
[null,"",{"$nulls":9},"",{"$f":"IF(L163=\"\",\"\",IF(COUNTIF(L$6:L$596,L163)=1,\"\",COUNTIF(L$6:L$596,L163)))","v":""},"",null,"",null,"",null,{"$f":"IF(L163=\"\",\"\",IF(VLOOKUP(F163,Tabelle_Fisse!$B$4:$C$21,2,FALSE)=\"ok\",\"\",1))","v":""},null,"",null,"",""]
[null,"",{"$nulls":9},"",{"$f":"IF(L164=\"\",\"\",IF(COUNTIF(L$6:L$596,L164)=1,\"\",COUNTIF(L$6:L$596,L164)))","v":""},"",null,"",null,"",null,{"$f":"IF(L164=\"\",\"\",IF(VLOOKUP(F164,Tabelle_Fisse!$B$4:$C$21,2,FALSE)=\"ok\",\"\",1))","v":""},null,"",null,"",""]
[null,"",{"$nulls":9},"",{"$f":"IF(L165=\"\",\"\",IF(COUNTIF(L$6:L$596,L165)=1,\"\",COUNTIF(L$6:L$596,L165)))","v":""},"",null,"",null,"",null,{"$f":"IF(L165=\"\",\"\",IF(VLOOKUP(F165,Tabelle_Fisse!$B$4:$C$21,2,FALSE)=\"ok\",\"\",1))","v":""},null,"",null,"",""]
[null,"",{"$nulls":9},"",{"$f":"IF(L166=\"\",\"\",IF(COUNTIF(L$6:L$596,L166)=1,\"\",COUNTIF(L$6:L$596,L166)))","v":""},"",null,"",null,"",null,{"$f":"IF(L166=\"\",\"\",IF(VLOOKUP(F166,Tabelle_Fisse!$B$4:$C$21,2,FALSE)=\"ok\",\"\",1))","v":""},null,"",null,"",""]
[null,"",{"$nulls":9},"",{"$f":"IF(L167=\"\",\"\",IF(COUNTIF(L$6:L$596,L167)=1,\"\",COUNTIF(L$6:L$596,L167)))","v":""},"",null,"",null,"",null,{"$f":"IF(L167=\"\",\"\",IF(VLOOKUP(F167,Tabelle_Fisse!$B$4:$C$21,2,FALSE)=\"ok\",\"\",1))","v":""},null,"",null,"",""]
[null,"",{"$nulls":9},"",{"$f":"IF(L168=\"\",\"\",IF(COUNTIF(L$6:L$596,L168)=1,\"\",COUNTIF(L$6:L$596,L168)))","v":""},"",null,"",null,"",null,{"$f":"IF(L168=\"\",\"\",IF(VLOOKUP(F168,Tabelle_Fisse!$B$4:$C$21,2,FALSE)=\"ok\",\"\",1))","v":""},null,"",null,"",""]
[null,"",{"$nulls":9},"",{"$f":"IF(L169=\"\",\"\",IF(COUNTIF(L$6:L$596,L169)=1,\"\",COUNTIF(L$6:L$596,L169)))","v":""},"",null,"",null,"",null,{"$f":"IF(L169=\"\",\"\",IF(VLOOKUP(F169,Tabelle_Fisse!$B$4:$C$21,2,FALSE)=\"ok\",\"\",1))","v":""},null,"",null,"",""]
[null,"",{"$nulls":9},"",{"$f":"IF(L170=\"\",\"\",IF(COUNTIF(L$6:L$596,L170)=1,\"\",COUNTIF(L$6:L$596,L170)))","v":""},"",null,"",null,"",null,{"$f":"IF(L170=\"\",\"\",IF(VLOOKUP(F170,Tabelle_Fisse!$B$4:$C$21,2,FALSE)=\"ok\",\"\",1))","v":""},null,"",null,"",""]
[null,"",{"$nulls":9},"",{"$f":"IF(L171=\"\",\"\",IF(COUNTIF(L$6:L$596,L171)=1,\"\",COUNTIF(L$6:L$596,L171)))","v":""},"",null,"",null,"",null,{"$f":"IF(L171=\"\",\"\",IF(VLOOKUP(F171,Tabelle_Fisse!$B$4:$C$21,2,FALSE)=\"ok\",\"\",1))","v":""},null,"",null,"",""]
[null,"",{"$nulls":9},"",{"$f":"IF(L172=\"\",\"\",IF(COUNTIF(L$6:L$596,L172)=1,\"\",COUNTIF(L$6:L$596,L172)))","v":""},"",null,"",null,"",null,{"$f":"IF(L172=\"\",\"\",IF(VLOOKUP(F172,Tabelle_Fisse!$B$4:$C$21,2,FALSE)=\"ok\",\"\",1))","v":""},null,"",null,"",""]
[null,"",{"$nulls":9},"",{"$f":"IF(L173=\"\",\"\",IF(COUNTIF(L$6:L$596,L173)=1,\"\",COUNTIF(L$6:L$596,L173)))","v":""},"",null,"",null,"",null,{"$f":"IF(L173=\"\",\"\",IF(VLOOKUP(F173,Tabelle_Fisse!$B$4:$C$21,2,FALSE)=\"ok\",\"\",1))","v":""},null,"",null,"",""]
[null,"",{"$nulls":9},"",{"$f":"IF(L174=\"\",\"\",IF(COUNTIF(L$6:L$596,L174)=1,\"\",COUNTIF(L$6:L$596,L174)))","v":""},"",null,"",null,"",null,{"$f":"IF(L174=\"\",\"\",IF(VLOOKUP(F174,Tabelle_Fisse!$B$4:$C$21,2,FALSE)=\"ok\",\"\",1))","v":""},null,"",null,"",""]
[null,"",{"$nulls":9},"",{"$f":"IF(L175=\"\",\"\",IF(COUNTIF(L$6:L$596,L175)=1,\"\",COUNTIF(L$6:L$596,L175)))","v":""},"",null,"",null,"",null,{"$f":"IF(L175=\"\",\"\",IF(VLOOKUP(F175,Tabelle_Fisse!$B$4:$C$21,2,FALSE)=\"ok\",\"\",1))","v":""},null,"",null,"",""]
[null,"",{"$nulls":9},"",{"$f":"IF(L176=\"\",\"\",IF(COUNTIF(L$6:L$596,L176)=1,\"\",COUNTIF(L$6:L$596,L176)))","v":""},"",null,"",null,"",null,{"$f":"IF(L176=\"\",\"\",IF(VLOOKUP(F176,Tabelle_Fisse!$B$4:$C$21,2,FALSE)=\"ok\",\"\",1))","v":""},null,"",null,"",""]
[null,"",{"$nulls":9},"",{"$f":"IF(L177=\"\",\"\",IF(COUNTIF(L$6:L$596,L177)=1,\"\",COUNTIF(L$6:L$596,L177)))","v":""},"",null,"",null,"",null,{"$f":"IF(L177=\"\",\"\",IF(VLOOKUP(F177,Tabelle_Fisse!$B$4:$C$21,2,FALSE)=\"ok\",\"\",1))","v":""},null,"",null,"",""]
[null,"",{"$nulls":9},"",{"$f":"IF(L178=\"\",\"\",IF(COUNTIF(L$6:L$596,L178)=1,\"\",COUNTIF(L$6:L$596,L178)))","v":""},"",null,"",null,"",null,{"$f":"IF(L178=\"\",\"\",IF(VLOOKUP(F178,Tabelle_Fisse!$B$4:$C$21,2,FALSE)=\"ok\",\"\",1))","v":""},null,"",null,"",""]
[null,"",{"$nulls":9},"",{"$f":"IF(L179=\"\",\"\",IF(COUNTIF(L$6:L$596,L179)=1,\"\",COUNTIF(L$6:L$596,L179)))","v":""},"",null,"",null,"",null,{"$f":"IF(L179=\"\",\"\",IF(VLOOKUP(F179,Tabelle_Fisse!$B$4:$C$21,2,FALSE)=\"ok\",\"\",1))","v":""},null,"",null,"",""]
[null,"",{"$nulls":9},"",{"$f":"IF(L180=\"\",\"\",IF(COUNTIF(L$6:L$596,L180)=1,\"\",COUNTIF(L$6:L$596,L180)))","v":""},"",null,"",null,"",null,{"$f":"IF(L180=\"\",\"\",IF(VLOOKUP(F180,Tabelle_Fisse!$B$4:$C$21,2,FALSE)=\"ok\",\"\",1))","v":""},null,"",null,"",""]
[null,"",{"$nulls":9},"",{"$f":"IF(L181=\"\",\"\",IF(COUNTIF(L$6:L$596,L181)=1,\"\",COUNTIF(L$6:L$596,L181)))","v":""},"",null,"",null,"",null,{"$f":"IF(L181=\"\",\"\",IF(VLOOKUP(F181,Tabelle_Fisse!$B$4:$C$21,2,FALSE)=\"ok\",\"\",1))","v":""},null,"",null,"",""]
[null,"",{"$nulls":9},"",{"$f":"IF(L182=\"\",\"\",IF(COUNTIF(L$6:L$596,L182)=1,\"\",COUNTIF(L$6:L$596,L182)))","v":""},"",null,"",null,"",null,{"$f":"IF(L182=\"\",\"\",IF(VLOOKUP(F182,Tabelle_Fisse!$B$4:$C$21,2,FALSE)=\"ok\",\"\",1))","v":""},null,"",null,"",""]
[null,"",{"$nulls":9},"",{"$f":"IF(L183=\"\",\"\",IF(COUNTIF(L$6:L$596,L183)=1,\"\",COUNTIF(L$6:L$596,L183)))","v":""},"",null,"",null,"",null,{"$f":"IF(L183=\"\",\"\",IF(VLOOKUP(F183,Tabelle_Fisse!$B$4:$C$21,2,FALSE)=\"ok\",\"\",1))","v":""},null,"",null,"",""]
[null,"",{"$nulls":9},"",{"$f":"IF(L184=\"\",\"\",IF(COUNTIF(L$6:L$596,L184)=1,\"\",COUNTIF(L$6:L$596,L184)))","v":""},"",null,"",null,"",null,{"$f":"IF(L184=\"\",\"\",IF(VLOOKUP(F184,Tabelle_Fisse!$B$4:$C$21,2,FALSE)=\"ok\",\"\",1))","v":""},null,"",null,"",""]
[null,"",{"$nulls":9},"",{"$f":"IF(L185=\"\",\"\",IF(COUNTIF(L$6:L$596,L185)=1,\"\",COUNTIF(L$6:L$596,L185)))","v":""},"",null,"",null,"",null,{"$f":"IF(L185=\"\",\"\",IF(VLOOKUP(F185,Tabelle_Fisse!$B$4:$C$21,2,FALSE)=\"ok\",\"\",1))","v":""},null,"",null,"",""]
[null,"",{"$nulls":9},"",{"$f":"IF(L186=\"\",\"\",IF(COUNTIF(L$6:L$596,L186)=1,\"\",COUNTIF(L$6:L$596,L186)))","v":""},"",null,"",null,"",null,{"$f":"IF(L186=\"\",\"\",IF(VLOOKUP(F186,Tabelle_Fisse!$B$4:$C$21,2,FALSE)=\"ok\",\"\",1))","v":""},null,"",null,"",""]
[null,"",{"$nulls":9},"",{"$f":"IF(L187=\"\",\"\",IF(COUNTIF(L$6:L$596,L187)=1,\"\",COUNTIF(L$6:L$596,L187)))","v":""},"",null,"",null,"",null,{"$f":"IF(L187=\"\",\"\",IF(VLOOKUP(F187,Tabelle_Fisse!$B$4:$C$21,2,FALSE)=\"ok\",\"\",1))","v":""},null,"",null,"",""]
[null,"",{"$nulls":9},"",{"$f":"IF(L188=\"\",\"\",IF(COUNTIF(L$6:L$596,L188)=1,\"\",COUNTIF(L$6:L$596,L188)))","v":""},"",null,"",null,"",null,{"$f":"IF(L188=\"\",\"\",IF(VLOOKUP(F188,Tabelle_Fisse!$B$4:$C$21,2,FALSE)=\"ok\",\"\",1))","v":""},null,"",null,"",""]
[null,"",{"$nulls":9},"",{"$f":"IF(L189=\"\",\"\",IF(COUNTIF(L$6:L$596,L189)=1,\"\",COUNTIF(L$6:L$596,L189)))","v":""},"",null,"",null,"",null,{"$f":"IF(L189=\"\",\"\",IF(VLOOKUP(F189,Tabelle_Fisse!$B$4:$C$21,2,FALSE)=\"ok\",\"\",1))","v":""},null,"",null,"",""]
[null,"",{"$nulls":9},"",{"$f":"IF(L190=\"\",\"\",IF(COUNTIF(L$6:L$596,L190)=1,\"\",COUNTIF(L$6:L$596,L190)))","v":""},"",null,"",null,"",null,{"$f":"IF(L190=\"\",\"\",IF(VLOOKUP(F190,Tabelle_Fisse!$B$4:$C$21,2,FALSE)=\"ok\",\"\",1))","v":""},null,"",null,"",""]
[null,"",{"$nulls":9},"",{"$f":"IF(L191=\"\",\"\",IF(COUNTIF(L$6:L$596,L191)=1,\"\",COUNTIF(L$6:L$596,L191)))","v":""},"",null,"",null,"",null,{"$f":"IF(L191=\"\",\"\",IF(VLOOKUP(F191,Tabelle_Fisse!$B$4:$C$21,2,FALSE)=\"ok\",\"\",1))","v":""},null,"",null,"",""]
[null,"",{"$nulls":9},"",{"$f":"IF(L192=\"\",\"\",IF(COUNTIF(L$6:L$596,L192)=1,\"\",COUNTIF(L$6:L$596,L192)))","v":""},"",null,"",null,"",null,{"$f":"IF(L192=\"\",\"\",IF(VLOOKUP(F192,Tabelle_Fisse!$B$4:$C$21,2,FALSE)=\"ok\",\"\",1))","v":""},null,"",null,"",""]
[null,"",{"$nulls":9},"",{"$f":"IF(L193=\"\",\"\",IF(COUNTIF(L$6:L$596,L193)=1,\"\",COUNTIF(L$6:L$596,L193)))","v":""},"",null,"",null,"",null,{"$f":"IF(L193=\"\",\"\",IF(VLOOKUP(F193,Tabelle_Fisse!$B$4:$C$21,2,FALSE)=\"ok\",\"\",1))","v":""},null,"",null,"",""]
[null,"",{"$nulls":9},"",{"$f":"IF(L194=\"\",\"\",IF(COUNTIF(L$6:L$596,L194)=1,\"\",COUNTIF(L$6:L$596,L194)))","v":""},"",null,"",null,"",null,{"$f":"IF(L194=\"\",\"\",IF(VLOOKUP(F194,Tabelle_Fisse!$B$4:$C$21,2,FALSE)=\"ok\",\"\",1))","v":""},null,"",null,"",""]
[null,"",{"$nulls":9},{"$f":"TRIM(B195)","v":""},{"$f":"IF(L195=\"\",\"\",IF(COUNTIF(L$6:L$596,L195)=1,\"\",COUNTIF(L$6:L$596,L195)))","v":""},{"$f":"IF(L195=\"\",\"\",IF(LEN(L195)<>10,1,\"\"))","v":""},null,{"$f":"IF(L195=\"\",\"\",IF(LEN(C195)<>11,1,\"\"))","v":""},null,{"$f":"IF(L195=\"\",\"\",IF(LEN(E195)>250,1,\"\"))","v":""},null,{"$f":"IF(L195=\"\",\"\",IF(VLOOKUP(F195,Tabelle_Fisse!$B$4:$C$21,2,FALSE)=\"ok\",\"\",1))","v":""},null,{"$f":"IF(L195=\"\",\"\",IF(OR(ISNUMBER(G195)=FALSE,G195<=0),1,\"\"))","v":""},null,{"$f":"IF(OR(B195=\"\",H195=\"\"),\"\",IF(OR(H195<X$3,H195>X$4),1,\"\"))","v":""},{"$f":"IF(OR(B195=\"\",I195=\"\"),\"\",IF(OR(I195<Y$3,I195>Y$4),1,\"\"))","v":""}]
[null,"",{"$nulls":9},"",{"$f":"IF(L196=\"\",\"\",IF(COUNTIF(L$6:L$596,L196)=1,\"\",COUNTIF(L$6:L$596,L196)))","v":""},"",null,"",null,"",null,{"$f":"IF(L196=\"\",\"\",IF(VLOOKUP(F196,Tabelle_Fisse!$B$4:$C$21,2,FALSE)=\"ok\",\"\",1))","v":""},null,"",null,"",""]
[null,"",{"$nulls":9},"",{"$f":"IF(L197=\"\",\"\",IF(COUNTIF(L$6:L$596,L197)=1,\"\",COUNTIF(L$6:L$596,L197)))","v":""},"",null,"",null,"",null,{"$f":"IF(L197=\"\",\"\",IF(VLOOKUP(F197,Tabelle_Fisse!$B$4:$C$21,2,FALSE)=\"ok\",\"\",1))","v":""},null,"",null,"",""]
[null,"",{"$nulls":9},"",{"$f":"IF(L198=\"\",\"\",IF(COUNTIF(L$6:L$596,L198)=1,\"\",COUNTIF(L$6:L$596,L198)))","v":""},"",null,"",null,"",null,{"$f":"IF(L198=\"\",\"\",IF(VLOOKUP(F198,Tabelle_Fisse!$B$4:$C$21,2,FALSE)=\"ok\",\"\",1))","v":""},null,"",null,"",""]
[null,"",{"$nulls":9},"",{"$f":"IF(L199=\"\",\"\",IF(COUNTIF(L$6:L$596,L199)=1,\"\",COUNTIF(L$6:L$596,L199)))","v":""},"",null,"",null,"",null,{"$f":"IF(L199=\"\",\"\",IF(VLOOKUP(F199,Tabelle_Fisse!$B$4:$C$21,2,FALSE)=\"ok\",\"\",1))","v":""},null,"",null,"",""]
[null,"",{"$nulls":9},"",{"$f":"IF(L200=\"\",\"\",IF(COUNTIF(L$6:L$596,L200)=1,\"\",COUNTIF(L$6:L$596,L200)))","v":""},"",null,"",null,"",null,{"$f":"IF(L200=\"\",\"\",IF(VLOOKUP(F200,Tabelle_Fisse!$B$4:$C$21,2,FALSE)=\"ok\",\"\",1))","v":""},null,"",null,"",""]
[null,"",{"$nulls":9},"",{"$f":"IF(L201=\"\",\"\",IF(COUNTIF(L$6:L$596,L201)=1,\"\",COUNTIF(L$6:L$596,L201)))","v":""},"",null,"",null,"",null,{"$f":"IF(L201=\"\",\"\",IF(VLOOKUP(F201,Tabelle_Fisse!$B$4:$C$21,2,FALSE)=\"ok\",\"\",1))","v":""},null,"",null,"",""]
[null,"",{"$nulls":9},"",{"$f":"IF(L202=\"\",\"\",IF(COUNTIF(L$6:L$596,L202)=1,\"\",COUNTIF(L$6:L$596,L202)))","v":""},"",null,"",null,"",null,{"$f":"IF(L202=\"\",\"\",IF(VLOOKUP(F202,Tabelle_Fisse!$B$4:$C$21,2,FALSE)=\"ok\",\"\",1))","v":""},null,"",null,"",""]
[null,"",{"$nulls":9},"",{"$f":"IF(L203=\"\",\"\",IF(COUNTIF(L$6:L$596,L203)=1,\"\",COUNTIF(L$6:L$596,L203)))","v":""},"",null,"",null,"",null,{"$f":"IF(L203=\"\",\"\",IF(VLOOKUP(F203,Tabelle_Fisse!$B$4:$C$21,2,FALSE)=\"ok\",\"\",1))","v":""},null,"",null,"",""]
[null,"",{"$nulls":9},"",{"$f":"IF(L204=\"\",\"\",IF(COUNTIF(L$6:L$596,L204)=1,\"\",COUNTIF(L$6:L$596,L204)))","v":""},"",null,"",null,"",null,{"$f":"IF(L204=\"\",\"\",IF(VLOOKUP(F204,Tabelle_Fisse!$B$4:$C$21,2,FALSE)=\"ok\",\"\",1))","v":""},null,"",null,"",""]
[null,"",{"$nulls":9},"",{"$f":"IF(L205=\"\",\"\",IF(COUNTIF(L$6:L$596,L205)=1,\"\",COUNTIF(L$6:L$596,L205)))","v":""},"",null,"",null,"",null,{"$f":"IF(L205=\"\",\"\",IF(VLOOKUP(F205,Tabelle_Fisse!$B$4:$C$21,2,FALSE)=\"ok\",\"\",1))","v":""},null,"",null,"",""]
[null,"",{"$nulls":9},"",{"$f":"IF(L206=\"\",\"\",IF(COUNTIF(L$6:L$596,L206)=1,\"\",COUNTIF(L$6:L$596,L206)))","v":""},"",null,"",null,"",null,{"$f":"IF(L206=\"\",\"\",IF(VLOOKUP(F206,Tabelle_Fisse!$B$4:$C$21,2,FALSE)=\"ok\",\"\",1))","v":""},null,"",null,"",""]
[null,"",{"$nulls":9},"",{"$f":"IF(L207=\"\",\"\",IF(COUNTIF(L$6:L$596,L207)=1,\"\",COUNTIF(L$6:L$596,L207)))","v":""},"",null,"",null,"",null,{"$f":"IF(L207=\"\",\"\",IF(VLOOKUP(F207,Tabelle_Fisse!$B$4:$C$21,2,FALSE)=\"ok\",\"\",1))","v":""},null,"",null,"",""]
[null,"",{"$nulls":9},"",{"$f":"IF(L208=\"\",\"\",IF(COUNTIF(L$6:L$596,L208)=1,\"\",COUNTIF(L$6:L$596,L208)))","v":""},"",null,"",null,"",null,{"$f":"IF(L208=\"\",\"\",IF(VLOOKUP(F208,Tabelle_Fisse!$B$4:$C$21,2,FALSE)=\"ok\",\"\",1))","v":""},null,"",null,"",""]
[null,"",{"$nulls":9},"",{"$f":"IF(L209=\"\",\"\",IF(COUNTIF(L$6:L$596,L209)=1,\"\",COUNTIF(L$6:L$596,L209)))","v":""},"",null,"",null,"",null,{"$f":"IF(L209=\"\",\"\",IF(VLOOKUP(F209,Tabelle_Fisse!$B$4:$C$21,2,FALSE)=\"ok\",\"\",1))","v":""},null,"",null,"",""]
[null,"",{"$nulls":9},"",{"$f":"IF(L210=\"\",\"\",IF(COUNTIF(L$6:L$596,L210)=1,\"\",COUNTIF(L$6:L$596,L210)))","v":""},"",null,"",null,"",null,{"$f":"IF(L210=\"\",\"\",IF(VLOOKUP(F210,Tabelle_Fisse!$B$4:$C$21,2,FALSE)=\"ok\",\"\",1))","v":""},null,"",null,"",""]
[null,"",{"$nulls":9},"",{"$f":"IF(L211=\"\",\"\",IF(COUNTIF(L$6:L$596,L211)=1,\"\",COUNTIF(L$6:L$596,L211)))","v":""},"",null,"",null,"",null,{"$f":"IF(L211=\"\",\"\",IF(VLOOKUP(F211,Tabelle_Fisse!$B$4:$C$21,2,FALSE)=\"ok\",\"\",1))","v":""},null,"",null,"",""]
[null,"",{"$nulls":9},"",{"$f":"IF(L212=\"\",\"\",IF(COUNTIF(L$6:L$596,L212)=1,\"\",COUNTIF(L$6:L$596,L212)))","v":""},"",null,"",null,"",null,{"$f":"IF(L212=\"\",\"\",IF(VLOOKUP(F212,Tabelle_Fisse!$B$4:$C$21,2,FALSE)=\"ok\",\"\",1))","v":""},null,"",null,"",""]
[null,"",{"$nulls":9},"",{"$f":"IF(L213=\"\",\"\",IF(COUNTIF(L$6:L$596,L213)=1,\"\",COUNTIF(L$6:L$596,L213)))","v":""},"",null,"",null,"",null,{"$f":"IF(L213=\"\",\"\",IF(VLOOKUP(F213,Tabelle_Fisse!$B$4:$C$21,2,FALSE)=\"ok\",\"\",1))","v":""},null,"",null,"",""]
[null,"",{"$nulls":9},"",{"$f":"IF(L214=\"\",\"\",IF(COUNTIF(L$6:L$596,L214)=1,\"\",COUNTIF(L$6:L$596,L214)))","v":""},"",null,"",null,"",null,{"$f":"IF(L214=\"\",\"\",IF(VLOOKUP(F214,Tabelle_Fisse!$B$4:$C$21,2,FALSE)=\"ok\",\"\",1))","v":""},null,"",null,"",""]
[null,"",{"$nulls":9},"",{"$f":"IF(L215=\"\",\"\",IF(COUNTIF(L$6:L$596,L215)=1,\"\",COUNTIF(L$6:L$596,L215)))","v":""},"",null,"",null,"",null,{"$f":"IF(L215=\"\",\"\",IF(VLOOKUP(F215,Tabelle_Fisse!$B$4:$C$21,2,FALSE)=\"ok\",\"\",1))","v":""},null,"",null,"",""]
[null,"",{"$nulls":9},"",{"$f":"IF(L216=\"\",\"\",IF(COUNTIF(L$6:L$596,L216)=1,\"\",COUNTIF(L$6:L$596,L216)))","v":""},"",null,"",null,"",null,{"$f":"IF(L216=\"\",\"\",IF(VLOOKUP(F216,Tabelle_Fisse!$B$4:$C$21,2,FALSE)=\"ok\",\"\",1))","v":""},null,"",null,"",""]
[{"$nulls":11},"",{"$f":"IF(L217=\"\",\"\",IF(COUNTIF(L$6:L$596,L217)=1,\"\",COUNTIF(L$6:L$596,L217)))","v":""},"",null,"",null,"",null,{"$f":"IF(L217=\"\",\"\",IF(VLOOKUP(F217,Tabelle_Fisse!$B$4:$C$21,2,FALSE)=\"ok\",\"\",1))","v":""},null,"",null,"",""]
[{"$nulls":11},"",{"$f":"IF(L218=\"\",\"\",IF(COUNTIF(L$6:L$596,L218)=1,\"\",COUNTIF(L$6:L$596,L218)))","v":""},"",null,"",null,"",null,{"$f":"IF(L218=\"\",\"\",IF(VLOOKUP(F218,Tabelle_Fisse!$B$4:$C$21,2,FALSE)=\"ok\",\"\",1))","v":""},null,"",null,"",""]
[{"$nulls":11},"",{"$f":"IF(L219=\"\",\"\",IF(COUNTIF(L$6:L$596,L219)=1,\"\",COUNTIF(L$6:L$596,L219)))","v":""},"",null,"",null,"",null,{"$f":"IF(L219=\"\",\"\",IF(VLOOKUP(F219,Tabelle_Fisse!$B$4:$C$21,2,FALSE)=\"ok\",\"\",1))","v":""},null,"",null,"",""]
[{"$nulls":11},"",{"$f":"IF(L220=\"\",\"\",IF(COUNTIF(L$6:L$596,L220)=1,\"\",COUNTIF(L$6:L$596,L220)))","v":""},"",null,"",null,"",null,{"$f":"IF(L220=\"\",\"\",IF(VLOOKUP(F220,Tabelle_Fisse!$B$4:$C$21,2,FALSE)=\"ok\",\"\",1))","v":""},null,"",null,"",""]
[{"$nulls":11},"",{"$f":"IF(L221=\"\",\"\",IF(COUNTIF(L$6:L$596,L221)=1,\"\",COUNTIF(L$6:L$596,L221)))","v":""},"",null,"",null,"",null,{"$f":"IF(L221=\"\",\"\",IF(VLOOKUP(F221,Tabelle_Fisse!$B$4:$C$21,2,FALSE)=\"ok\",\"\",1))","v":""},null,"",null,"",""]
[{"$nulls":11},"",{"$f":"IF(L222=\"\",\"\",IF(COUNTIF(L$6:L$596,L222)=1,\"\",COUNTIF(L$6:L$596,L222)))","v":""},"",null,"",null,"",null,{"$f":"IF(L222=\"\",\"\",IF(VLOOKUP(F222,Tabelle_Fisse!$B$4:$C$21,2,FALSE)=\"ok\",\"\",1))","v":""},null,"",null,"",""]
[{"$nulls":11},"",{"$f":"IF(L223=\"\",\"\",IF(COUNTIF(L$6:L$596,L223)=1,\"\",COUNTIF(L$6:L$596,L223)))","v":""},"",null,"",null,"",null,{"$f":"IF(L223=\"\",\"\",IF(VLOOKUP(F223,Tabelle_Fisse!$B$4:$C$21,2,FALSE)=\"ok\",\"\",1))","v":""},null,"",null,"",""]
[{"$nulls":11},"",{"$f":"IF(L224=\"\",\"\",IF(COUNTIF(L$6:L$596,L224)=1,\"\",COUNTIF(L$6:L$596,L224)))","v":""},"",null,"",null,"",null,{"$f":"IF(L224=\"\",\"\",IF(VLOOKUP(F224,Tabelle_Fisse!$B$4:$C$21,2,FALSE)=\"ok\",\"\",1))","v":""},null,"",null,"",""]
[{"$nulls":11},"",{"$f":"IF(L225=\"\",\"\",IF(COUNTIF(L$6:L$596,L225)=1,\"\",COUNTIF(L$6:L$596,L225)))","v":""},"",null,"",null,"",null,{"$f":"IF(L225=\"\",\"\",IF(VLOOKUP(F225,Tabelle_Fisse!$B$4:$C$21,2,FALSE)=\"ok\",\"\",1))","v":""},null,"",null,"",""]
[{"$nulls":11},"",{"$f":"IF(L226=\"\",\"\",IF(COUNTIF(L$6:L$596,L226)=1,\"\",COUNTIF(L$6:L$596,L226)))","v":""},"",null,"",null,"",null,{"$f":"IF(L226=\"\",\"\",IF(VLOOKUP(F226,Tabelle_Fisse!$B$4:$C$21,2,FALSE)=\"ok\",\"\",1))","v":""},null,"",null,"",""]
[{"$nulls":11},"",{"$f":"IF(L227=\"\",\"\",IF(COUNTIF(L$6:L$596,L227)=1,\"\",COUNTIF(L$6:L$596,L227)))","v":""},"",null,"",null,"",null,{"$f":"IF(L227=\"\",\"\",IF(VLOOKUP(F227,Tabelle_Fisse!$B$4:$C$21,2,FALSE)=\"ok\",\"\",1))","v":""},null,"",null,"",""]
[{"$nulls":11},"",{"$f":"IF(L228=\"\",\"\",IF(COUNTIF(L$6:L$596,L228)=1,\"\",COUNTIF(L$6:L$596,L228)))","v":""},"",null,"",null,"",null,{"$f":"IF(L228=\"\",\"\",IF(VLOOKUP(F228,Tabelle_Fisse!$B$4:$C$21,2,FALSE)=\"ok\",\"\",1))","v":""},null,"",null,"",""]
[{"$nulls":11},"",{"$f":"IF(L229=\"\",\"\",IF(COUNTIF(L$6:L$596,L229)=1,\"\",COUNTIF(L$6:L$596,L229)))","v":""},"",null,"",null,"",null,{"$f":"IF(L229=\"\",\"\",IF(VLOOKUP(F229,Tabelle_Fisse!$B$4:$C$21,2,FALSE)=\"ok\",\"\",1))","v":""},null,"",null,"",""]
[{"$nulls":11},"",{"$f":"IF(L230=\"\",\"\",IF(COUNTIF(L$6:L$596,L230)=1,\"\",COUNTIF(L$6:L$596,L230)))","v":""},"",null,"",null,"",null,{"$f":"IF(L230=\"\",\"\",IF(VLOOKUP(F230,Tabelle_Fisse!$B$4:$C$21,2,FALSE)=\"ok\",\"\",1))","v":""},null,"",null,"",""]
[{"$nulls":11},"",{"$f":"IF(L231=\"\",\"\",IF(COUNTIF(L$6:L$596,L231)=1,\"\",COUNTIF(L$6:L$596,L231)))","v":""},"",null,"",null,"",null,{"$f":"IF(L231=\"\",\"\",IF(VLOOKUP(F231,Tabelle_Fisse!$B$4:$C$21,2,FALSE)=\"ok\",\"\",1))","v":""},null,"",null,"",""]
[{"$nulls":11},"",{"$f":"IF(L232=\"\",\"\",IF(COUNTIF(L$6:L$596,L232)=1,\"\",COUNTIF(L$6:L$596,L232)))","v":""},"",null,"",null,"",null,{"$f":"IF(L232=\"\",\"\",IF(VLOOKUP(F232,Tabelle_Fisse!$B$4:$C$21,2,FALSE)=\"ok\",\"\",1))","v":""},null,"",null,"",""]
[{"$nulls":11},"",{"$f":"IF(L233=\"\",\"\",IF(COUNTIF(L$6:L$596,L233)=1,\"\",COUNTIF(L$6:L$596,L233)))","v":""},"",null,"",null,"",null,{"$f":"IF(L233=\"\",\"\",IF(VLOOKUP(F233,Tabelle_Fisse!$B$4:$C$21,2,FALSE)=\"ok\",\"\",1))","v":""},null,"",null,"",""]
[{"$nulls":11},"",{"$f":"IF(L234=\"\",\"\",IF(COUNTIF(L$6:L$596,L234)=1,\"\",COUNTIF(L$6:L$596,L234)))","v":""},"",null,"",null,"",null,{"$f":"IF(L234=\"\",\"\",IF(VLOOKUP(F234,Tabelle_Fisse!$B$4:$C$21,2,FALSE)=\"ok\",\"\",1))","v":""},null,"",null,"",""]
[{"$nulls":11},"",{"$f":"IF(L235=\"\",\"\",IF(COUNTIF(L$6:L$596,L235)=1,\"\",COUNTIF(L$6:L$596,L235)))","v":""},"",null,"",null,"",null,{"$f":"IF(L235=\"\",\"\",IF(VLOOKUP(F235,Tabelle_Fisse!$B$4:$C$21,2,FALSE)=\"ok\",\"\",1))","v":""},null,"",null,"",""]
[{"$nulls":11},"",{"$f":"IF(L236=\"\",\"\",IF(COUNTIF(L$6:L$596,L236)=1,\"\",COUNTIF(L$6:L$596,L236)))","v":""},"",null,"",null,"",null,{"$f":"IF(L236=\"\",\"\",IF(VLOOKUP(F236,Tabelle_Fisse!$B$4:$C$21,2,FALSE)=\"ok\",\"\",1))","v":""},null,"",null,"",""]
[{"$nulls":11},"",{"$f":"IF(L237=\"\",\"\",IF(COUNTIF(L$6:L$596,L237)=1,\"\",COUNTIF(L$6:L$596,L237)))","v":""},"",null,"",null,"",null,{"$f":"IF(L237=\"\",\"\",IF(VLOOKUP(F237,Tabelle_Fisse!$B$4:$C$21,2,FALSE)=\"ok\",\"\",1))","v":""},null,"",null,"",""]
[{"$nulls":11},"",{"$f":"IF(L238=\"\",\"\",IF(COUNTIF(L$6:L$596,L238)=1,\"\",COUNTIF(L$6:L$596,L238)))","v":""},"",null,"",null,"",null,{"$f":"IF(L238=\"\",\"\",IF(VLOOKUP(F238,Tabelle_Fisse!$B$4:$C$21,2,FALSE)=\"ok\",\"\",1))","v":""},null,"",null,"",""]
[{"$nulls":11},"",{"$f":"IF(L239=\"\",\"\",IF(COUNTIF(L$6:L$596,L239)=1,\"\",COUNTIF(L$6:L$596,L239)))","v":""},"",null,"",null,"",null,{"$f":"IF(L239=\"\",\"\",IF(VLOOKUP(F239,Tabelle_Fisse!$B$4:$C$21,2,FALSE)=\"ok\",\"\",1))","v":""},null,"",null,"",""]
[{"$nulls":11},"",{"$f":"IF(L240=\"\",\"\",IF(COUNTIF(L$6:L$596,L240)=1,\"\",COUNTIF(L$6:L$596,L240)))","v":""},"",null,"",null,"",null,{"$f":"IF(L240=\"\",\"\",IF(VLOOKUP(F240,Tabelle_Fisse!$B$4:$C$21,2,FALSE)=\"ok\",\"\",1))","v":""},null,"",null,"",""]
[{"$nulls":11},"",{"$f":"IF(L241=\"\",\"\",IF(COUNTIF(L$6:L$596,L241)=1,\"\",COUNTIF(L$6:L$596,L241)))","v":""},"",null,"",null,"",null,{"$f":"IF(L241=\"\",\"\",IF(VLOOKUP(F241,Tabelle_Fisse!$B$4:$C$21,2,FALSE)=\"ok\",\"\",1))","v":""},null,"",null,"",""]
[{"$nulls":11},"",{"$f":"IF(L242=\"\",\"\",IF(COUNTIF(L$6:L$596,L242)=1,\"\",COUNTIF(L$6:L$596,L242)))","v":""},"",null,"",null,"",null,{"$f":"IF(L242=\"\",\"\",IF(VLOOKUP(F242,Tabelle_Fisse!$B$4:$C$21,2,FALSE)=\"ok\",\"\",1))","v":""},null,"",null,"",""]
[{"$nulls":11},"",{"$f":"IF(L243=\"\",\"\",IF(COUNTIF(L$6:L$596,L243)=1,\"\",COUNTIF(L$6:L$596,L243)))","v":""},"",null,"",null,"",null,{"$f":"IF(L243=\"\",\"\",IF(VLOOKUP(F243,Tabelle_Fisse!$B$4:$C$21,2,FALSE)=\"ok\",\"\",1))","v":""},null,"",null,"",""]
[{"$nulls":11},"",{"$f":"IF(L244=\"\",\"\",IF(COUNTIF(L$6:L$596,L244)=1,\"\",COUNTIF(L$6:L$596,L244)))","v":""},"",null,"",null,"",null,{"$f":"IF(L244=\"\",\"\",IF(VLOOKUP(F244,Tabelle_Fisse!$B$4:$C$21,2,FALSE)=\"ok\",\"\",1))","v":""},null,"",null,"",""]
[{"$nulls":11},"",{"$f":"IF(L245=\"\",\"\",IF(COUNTIF(L$6:L$596,L245)=1,\"\",COUNTIF(L$6:L$596,L245)))","v":""},"",null,"",null,"",null,{"$f":"IF(L245=\"\",\"\",IF(VLOOKUP(F245,Tabelle_Fisse!$B$4:$C$21,2,FALSE)=\"ok\",\"\",1))","v":""},null,"",null,"",""]
[{"$nulls":11},"",{"$f":"IF(L246=\"\",\"\",IF(COUNTIF(L$6:L$596,L246)=1,\"\",COUNTIF(L$6:L$596,L246)))","v":""},"",null,"",null,"",null,{"$f":"IF(L246=\"\",\"\",IF(VLOOKUP(F246,Tabelle_Fisse!$B$4:$C$21,2,FALSE)=\"ok\",\"\",1))","v":""},null,"",null,"",""]
[{"$nulls":11},"",{"$f":"IF(L247=\"\",\"\",IF(COUNTIF(L$6:L$596,L247)=1,\"\",COUNTIF(L$6:L$596,L247)))","v":""},"",null,"",null,"",null,{"$f":"IF(L247=\"\",\"\",IF(VLOOKUP(F247,Tabelle_Fisse!$B$4:$C$21,2,FALSE)=\"ok\",\"\",1))","v":""},null,"",null,"",""]
[{"$nulls":11},"",{"$f":"IF(L248=\"\",\"\",IF(COUNTIF(L$6:L$596,L248)=1,\"\",COUNTIF(L$6:L$596,L248)))","v":""},"",null,"",null,"",null,{"$f":"IF(L248=\"\",\"\",IF(VLOOKUP(F248,Tabelle_Fisse!$B$4:$C$21,2,FALSE)=\"ok\",\"\",1))","v":""},null,"",null,"",""]
[{"$nulls":11},"",{"$f":"IF(L249=\"\",\"\",IF(COUNTIF(L$6:L$596,L249)=1,\"\",COUNTIF(L$6:L$596,L249)))","v":""},"",null,"",null,"",null,{"$f":"IF(L249=\"\",\"\",IF(VLOOKUP(F249,Tabelle_Fisse!$B$4:$C$21,2,FALSE)=\"ok\",\"\",1))","v":""},null,"",null,"",""]
[{"$nulls":11},"",{"$f":"IF(L250=\"\",\"\",IF(COUNTIF(L$6:L$596,L250)=1,\"\",COUNTIF(L$6:L$596,L250)))","v":""},"",null,"",null,"",null,{"$f":"IF(L250=\"\",\"\",IF(VLOOKUP(F250,Tabelle_Fisse!$B$4:$C$21,2,FALSE)=\"ok\",\"\",1))","v":""},null,"",null,"",""]
[{"$nulls":11},"",{"$f":"IF(L251=\"\",\"\",IF(COUNTIF(L$6:L$596,L251)=1,\"\",COUNTIF(L$6:L$596,L251)))","v":""},"",null,"",null,"",null,{"$f":"IF(L251=\"\",\"\",IF(VLOOKUP(F251,Tabelle_Fisse!$B$4:$C$21,2,FALSE)=\"ok\",\"\",1))","v":""},null,"",null,"",""]
[{"$nulls":11},"",{"$f":"IF(L252=\"\",\"\",IF(COUNTIF(L$6:L$596,L252)=1,\"\",COUNTIF(L$6:L$596,L252)))","v":""},"",null,"",null,"",null,{"$f":"IF(L252=\"\",\"\",IF(VLOOKUP(F252,Tabelle_Fisse!$B$4:$C$21,2,FALSE)=\"ok\",\"\",1))","v":""},null,"",null,"",""]
[{"$nulls":11},"",{"$f":"IF(L253=\"\",\"\",IF(COUNTIF(L$6:L$596,L253)=1,\"\",COUNTIF(L$6:L$596,L253)))","v":""},"",null,"",null,"",null,{"$f":"IF(L253=\"\",\"\",IF(VLOOKUP(F253,Tabelle_Fisse!$B$4:$C$21,2,FALSE)=\"ok\",\"\",1))","v":""},null,"",null,"",""]
[{"$nulls":11},"",{"$f":"IF(L254=\"\",\"\",IF(COUNTIF(L$6:L$596,L254)=1,\"\",COUNTIF(L$6:L$596,L254)))","v":""},"",null,"",null,"",null,{"$f":"IF(L254=\"\",\"\",IF(VLOOKUP(F254,Tabelle_Fisse!$B$4:$C$21,2,FALSE)=\"ok\",\"\",1))","v":""},null,"",null,"",""]
[{"$nulls":11},"",{"$f":"IF(L255=\"\",\"\",IF(COUNTIF(L$6:L$596,L255)=1,\"\",COUNTIF(L$6:L$596,L255)))","v":""},"",null,"",null,"",null,{"$f":"IF(L255=\"\",\"\",IF(VLOOKUP(F255,Tabelle_Fisse!$B$4:$C$21,2,FALSE)=\"ok\",\"\",1))","v":""},null,"",null,"",""]
[{"$nulls":11},"",{"$f":"IF(L256=\"\",\"\",IF(COUNTIF(L$6:L$596,L256)=1,\"\",COUNTIF(L$6:L$596,L256)))","v":""},"",null,"",null,"",null,{"$f":"IF(L256=\"\",\"\",IF(VLOOKUP(F256,Tabelle_Fisse!$B$4:$C$21,2,FALSE)=\"ok\",\"\",1))","v":""},null,"",null,"",""]
[{"$nulls":11},"",{"$f":"IF(L257=\"\",\"\",IF(COUNTIF(L$6:L$596,L257)=1,\"\",COUNTIF(L$6:L$596,L257)))","v":""},"",null,"",null,"",null,{"$f":"IF(L257=\"\",\"\",IF(VLOOKUP(F257,Tabelle_Fisse!$B$4:$C$21,2,FALSE)=\"ok\",\"\",1))","v":""},null,"",null,"",""]
[{"$nulls":11},"",{"$f":"IF(L258=\"\",\"\",IF(COUNTIF(L$6:L$596,L258)=1,\"\",COUNTIF(L$6:L$596,L258)))","v":""},"",null,"",null,"",null,{"$f":"IF(L258=\"\",\"\",IF(VLOOKUP(F258,Tabelle_Fisse!$B$4:$C$21,2,FALSE)=\"ok\",\"\",1))","v":""},null,"",null,"",""]
[{"$nulls":11},{"$f":"TRIM(B259)","v":""},{"$f":"IF(L259=\"\",\"\",IF(COUNTIF(L$6:L$596,L259)=1,\"\",COUNTIF(L$6:L$596,L259)))","v":""},{"$f":"IF(L259=\"\",\"\",IF(LEN(L259)<>10,1,\"\"))","v":""},null,{"$f":"IF(L259=\"\",\"\",IF(LEN(C259)<>11,1,\"\"))","v":""},null,{"$f":"IF(L259=\"\",\"\",IF(LEN(E259)>250,1,\"\"))","v":""},null,{"$f":"IF(L259=\"\",\"\",IF(VLOOKUP(F259,Tabelle_Fisse!$B$4:$C$21,2,FALSE)=\"ok\",\"\",1))","v":""},null,{"$f":"IF(L259=\"\",\"\",IF(OR(ISNUMBER(G259)=FALSE,G259<=0),1,\"\"))","v":""},null,{"$f":"IF(OR(B259=\"\",H259=\"\"),\"\",IF(OR(H259<X$3,H259>X$4),1,\"\"))","v":""},{"$f":"IF(OR(B259=\"\",I259=\"\"),\"\",IF(OR(I259<Y$3,I259>Y$4),1,\"\"))","v":""}]
[{"$nulls":11},"",{"$f":"IF(L260=\"\",\"\",IF(COUNTIF(L$6:L$596,L260)=1,\"\",COUNTIF(L$6:L$596,L260)))","v":""},"",null,"",null,"",null,{"$f":"IF(L260=\"\",\"\",IF(VLOOKUP(F260,Tabelle_Fisse!$B$4:$C$21,2,FALSE)=\"ok\",\"\",1))","v":""},null,"",null,"",""]
[{"$nulls":11},"",{"$f":"IF(L261=\"\",\"\",IF(COUNTIF(L$6:L$596,L261)=1,\"\",COUNTIF(L$6:L$596,L261)))","v":""},"",null,"",null,"",null,{"$f":"IF(L261=\"\",\"\",IF(VLOOKUP(F261,Tabelle_Fisse!$B$4:$C$21,2,FALSE)=\"ok\",\"\",1))","v":""},null,"",null,"",""]
[{"$nulls":11},"",{"$f":"IF(L262=\"\",\"\",IF(COUNTIF(L$6:L$596,L262)=1,\"\",COUNTIF(L$6:L$596,L262)))","v":""},"",null,"",null,"",null,{"$f":"IF(L262=\"\",\"\",IF(VLOOKUP(F262,Tabelle_Fisse!$B$4:$C$21,2,FALSE)=\"ok\",\"\",1))","v":""},null,"",null,"",""]
[{"$nulls":11},"",{"$f":"IF(L263=\"\",\"\",IF(COUNTIF(L$6:L$596,L263)=1,\"\",COUNTIF(L$6:L$596,L263)))","v":""},"",null,"",null,"",null,{"$f":"IF(L263=\"\",\"\",IF(VLOOKUP(F263,Tabelle_Fisse!$B$4:$C$21,2,FALSE)=\"ok\",\"\",1))","v":""},null,"",null,"",""]
[{"$nulls":11},"",{"$f":"IF(L264=\"\",\"\",IF(COUNTIF(L$6:L$596,L264)=1,\"\",COUNTIF(L$6:L$596,L264)))","v":""},"",null,"",null,"",null,{"$f":"IF(L264=\"\",\"\",IF(VLOOKUP(F264,Tabelle_Fisse!$B$4:$C$21,2,FALSE)=\"ok\",\"\",1))","v":""},null,"",null,"",""]
[{"$nulls":11},"",{"$f":"IF(L265=\"\",\"\",IF(COUNTIF(L$6:L$596,L265)=1,\"\",COUNTIF(L$6:L$596,L265)))","v":""},"",null,"",null,"",null,{"$f":"IF(L265=\"\",\"\",IF(VLOOKUP(F265,Tabelle_Fisse!$B$4:$C$21,2,FALSE)=\"ok\",\"\",1))","v":""},null,"",null,"",""]
[{"$nulls":11},"",{"$f":"IF(L266=\"\",\"\",IF(COUNTIF(L$6:L$596,L266)=1,\"\",COUNTIF(L$6:L$596,L266)))","v":""},"",null,"",null,"",null,{"$f":"IF(L266=\"\",\"\",IF(VLOOKUP(F266,Tabelle_Fisse!$B$4:$C$21,2,FALSE)=\"ok\",\"\",1))","v":""},null,"",null,"",""]
[{"$nulls":11},"",{"$f":"IF(L267=\"\",\"\",IF(COUNTIF(L$6:L$596,L267)=1,\"\",COUNTIF(L$6:L$596,L267)))","v":""},"",null,"",null,"",null,{"$f":"IF(L267=\"\",\"\",IF(VLOOKUP(F267,Tabelle_Fisse!$B$4:$C$21,2,FALSE)=\"ok\",\"\",1))","v":""},null,"",null,"",""]
[{"$nulls":11},"",{"$f":"IF(L268=\"\",\"\",IF(COUNTIF(L$6:L$596,L268)=1,\"\",COUNTIF(L$6:L$596,L268)))","v":""},"",null,"",null,"",null,{"$f":"IF(L268=\"\",\"\",IF(VLOOKUP(F268,Tabelle_Fisse!$B$4:$C$21,2,FALSE)=\"ok\",\"\",1))","v":""},null,"",null,"",""]
[{"$nulls":11},"",{"$f":"IF(L269=\"\",\"\",IF(COUNTIF(L$6:L$596,L269)=1,\"\",COUNTIF(L$6:L$596,L269)))","v":""},"",null,"",null,"",null,{"$f":"IF(L269=\"\",\"\",IF(VLOOKUP(F269,Tabelle_Fisse!$B$4:$C$21,2,FALSE)=\"ok\",\"\",1))","v":""},null,"",null,"",""]
[{"$nulls":11},"",{"$f":"IF(L270=\"\",\"\",IF(COUNTIF(L$6:L$596,L270)=1,\"\",COUNTIF(L$6:L$596,L270)))","v":""},"",null,"",null,"",null,{"$f":"IF(L270=\"\",\"\",IF(VLOOKUP(F270,Tabelle_Fisse!$B$4:$C$21,2,FALSE)=\"ok\",\"\",1))","v":""},null,"",null,"",""]
[{"$nulls":11},"",{"$f":"IF(L271=\"\",\"\",IF(COUNTIF(L$6:L$596,L271)=1,\"\",COUNTIF(L$6:L$596,L271)))","v":""},"",null,"",null,"",null,{"$f":"IF(L271=\"\",\"\",IF(VLOOKUP(F271,Tabelle_Fisse!$B$4:$C$21,2,FALSE)=\"ok\",\"\",1))","v":""},null,"",null,"",""]
[{"$nulls":11},"",{"$f":"IF(L272=\"\",\"\",IF(COUNTIF(L$6:L$596,L272)=1,\"\",COUNTIF(L$6:L$596,L272)))","v":""},"",null,"",null,"",null,{"$f":"IF(L272=\"\",\"\",IF(VLOOKUP(F272,Tabelle_Fisse!$B$4:$C$21,2,FALSE)=\"ok\",\"\",1))","v":""},null,"",null,"",""]
[{"$nulls":11},"",{"$f":"IF(L273=\"\",\"\",IF(COUNTIF(L$6:L$596,L273)=1,\"\",COUNTIF(L$6:L$596,L273)))","v":""},"",null,"",null,"",null,{"$f":"IF(L273=\"\",\"\",IF(VLOOKUP(F273,Tabelle_Fisse!$B$4:$C$21,2,FALSE)=\"ok\",\"\",1))","v":""},null,"",null,"",""]
[{"$nulls":11},"",{"$f":"IF(L274=\"\",\"\",IF(COUNTIF(L$6:L$596,L274)=1,\"\",COUNTIF(L$6:L$596,L274)))","v":""},"",null,"",null,"",null,{"$f":"IF(L274=\"\",\"\",IF(VLOOKUP(F274,Tabelle_Fisse!$B$4:$C$21,2,FALSE)=\"ok\",\"\",1))","v":""},null,"",null,"",""]
[{"$nulls":11},"",{"$f":"IF(L275=\"\",\"\",IF(COUNTIF(L$6:L$596,L275)=1,\"\",COUNTIF(L$6:L$596,L275)))","v":""},"",null,"",null,"",null,{"$f":"IF(L275=\"\",\"\",IF(VLOOKUP(F275,Tabelle_Fisse!$B$4:$C$21,2,FALSE)=\"ok\",\"\",1))","v":""},null,"",null,"",""]
[{"$nulls":11},"",{"$f":"IF(L276=\"\",\"\",IF(COUNTIF(L$6:L$596,L276)=1,\"\",COUNTIF(L$6:L$596,L276)))","v":""},"",null,"",null,"",null,{"$f":"IF(L276=\"\",\"\",IF(VLOOKUP(F276,Tabelle_Fisse!$B$4:$C$21,2,FALSE)=\"ok\",\"\",1))","v":""},null,"",null,"",""]
[{"$nulls":11},"",{"$f":"IF(L277=\"\",\"\",IF(COUNTIF(L$6:L$596,L277)=1,\"\",COUNTIF(L$6:L$596,L277)))","v":""},"",null,"",null,"",null,{"$f":"IF(L277=\"\",\"\",IF(VLOOKUP(F277,Tabelle_Fisse!$B$4:$C$21,2,FALSE)=\"ok\",\"\",1))","v":""},null,"",null,"",""]
[{"$nulls":11},"",{"$f":"IF(L278=\"\",\"\",IF(COUNTIF(L$6:L$596,L278)=1,\"\",COUNTIF(L$6:L$596,L278)))","v":""},"",null,"",null,"",null,{"$f":"IF(L278=\"\",\"\",IF(VLOOKUP(F278,Tabelle_Fisse!$B$4:$C$21,2,FALSE)=\"ok\",\"\",1))","v":""},null,"",null,"",""]
[{"$nulls":11},"",{"$f":"IF(L279=\"\",\"\",IF(COUNTIF(L$6:L$596,L279)=1,\"\",COUNTIF(L$6:L$596,L279)))","v":""},"",null,"",null,"",null,{"$f":"IF(L279=\"\",\"\",IF(VLOOKUP(F279,Tabelle_Fisse!$B$4:$C$21,2,FALSE)=\"ok\",\"\",1))","v":""},null,"",null,"",""]
[{"$nulls":11},"",{"$f":"IF(L280=\"\",\"\",IF(COUNTIF(L$6:L$596,L280)=1,\"\",COUNTIF(L$6:L$596,L280)))","v":""},"",null,"",null,"",null,{"$f":"IF(L280=\"\",\"\",IF(VLOOKUP(F280,Tabelle_Fisse!$B$4:$C$21,2,FALSE)=\"ok\",\"\",1))","v":""},null,"",null,"",""]
[{"$nulls":11},"",{"$f":"IF(L281=\"\",\"\",IF(COUNTIF(L$6:L$596,L281)=1,\"\",COUNTIF(L$6:L$596,L281)))","v":""},"",null,"",null,"",null,{"$f":"IF(L281=\"\",\"\",IF(VLOOKUP(F281,Tabelle_Fisse!$B$4:$C$21,2,FALSE)=\"ok\",\"\",1))","v":""},null,"",null,"",""]
[{"$nulls":11},"",{"$f":"IF(L282=\"\",\"\",IF(COUNTIF(L$6:L$596,L282)=1,\"\",COUNTIF(L$6:L$596,L282)))","v":""},"",null,"",null,"",null,{"$f":"IF(L282=\"\",\"\",IF(VLOOKUP(F282,Tabelle_Fisse!$B$4:$C$21,2,FALSE)=\"ok\",\"\",1))","v":""},null,"",null,"",""]
[{"$nulls":11},"",{"$f":"IF(L283=\"\",\"\",IF(COUNTIF(L$6:L$596,L283)=1,\"\",COUNTIF(L$6:L$596,L283)))","v":""},"",null,"",null,"",null,{"$f":"IF(L283=\"\",\"\",IF(VLOOKUP(F283,Tabelle_Fisse!$B$4:$C$21,2,FALSE)=\"ok\",\"\",1))","v":""},null,"",null,"",""]
[{"$nulls":11},"",{"$f":"IF(L284=\"\",\"\",IF(COUNTIF(L$6:L$596,L284)=1,\"\",COUNTIF(L$6:L$596,L284)))","v":""},"",null,"",null,"",null,{"$f":"IF(L284=\"\",\"\",IF(VLOOKUP(F284,Tabelle_Fisse!$B$4:$C$21,2,FALSE)=\"ok\",\"\",1))","v":""},null,"",null,"",""]
[{"$nulls":11},"",{"$f":"IF(L285=\"\",\"\",IF(COUNTIF(L$6:L$596,L285)=1,\"\",COUNTIF(L$6:L$596,L285)))","v":""},"",null,"",null,"",null,{"$f":"IF(L285=\"\",\"\",IF(VLOOKUP(F285,Tabelle_Fisse!$B$4:$C$21,2,FALSE)=\"ok\",\"\",1))","v":""},null,"",null,"",""]
[{"$nulls":11},"",{"$f":"IF(L286=\"\",\"\",IF(COUNTIF(L$6:L$596,L286)=1,\"\",COUNTIF(L$6:L$596,L286)))","v":""},"",null,"",null,"",null,{"$f":"IF(L286=\"\",\"\",IF(VLOOKUP(F286,Tabelle_Fisse!$B$4:$C$21,2,FALSE)=\"ok\",\"\",1))","v":""},null,"",null,"",""]
[{"$nulls":11},"",{"$f":"IF(L287=\"\",\"\",IF(COUNTIF(L$6:L$596,L287)=1,\"\",COUNTIF(L$6:L$596,L287)))","v":""},"",null,"",null,"",null,{"$f":"IF(L287=\"\",\"\",IF(VLOOKUP(F287,Tabelle_Fisse!$B$4:$C$21,2,FALSE)=\"ok\",\"\",1))","v":""},null,"",null,"",""]
[{"$nulls":11},"",{"$f":"IF(L288=\"\",\"\",IF(COUNTIF(L$6:L$596,L288)=1,\"\",COUNTIF(L$6:L$596,L288)))","v":""},"",null,"",null,"",null,{"$f":"IF(L288=\"\",\"\",IF(VLOOKUP(F288,Tabelle_Fisse!$B$4:$C$21,2,FALSE)=\"ok\",\"\",1))","v":""},null,"",null,"",""]
[{"$nulls":11},"",{"$f":"IF(L289=\"\",\"\",IF(COUNTIF(L$6:L$596,L289)=1,\"\",COUNTIF(L$6:L$596,L289)))","v":""},"",null,"",null,"",null,{"$f":"IF(L289=\"\",\"\",IF(VLOOKUP(F289,Tabelle_Fisse!$B$4:$C$21,2,FALSE)=\"ok\",\"\",1))","v":""},null,"",null,"",""]
[{"$nulls":11},"",{"$f":"IF(L290=\"\",\"\",IF(COUNTIF(L$6:L$596,L290)=1,\"\",COUNTIF(L$6:L$596,L290)))","v":""},"",null,"",null,"",null,{"$f":"IF(L290=\"\",\"\",IF(VLOOKUP(F290,Tabelle_Fisse!$B$4:$C$21,2,FALSE)=\"ok\",\"\",1))","v":""},null,"",null,"",""]
[{"$nulls":11},"",{"$f":"IF(L291=\"\",\"\",IF(COUNTIF(L$6:L$596,L291)=1,\"\",COUNTIF(L$6:L$596,L291)))","v":""},"",null,"",null,"",null,{"$f":"IF(L291=\"\",\"\",IF(VLOOKUP(F291,Tabelle_Fisse!$B$4:$C$21,2,FALSE)=\"ok\",\"\",1))","v":""},null,"",null,"",""]
[{"$nulls":11},"",{"$f":"IF(L292=\"\",\"\",IF(COUNTIF(L$6:L$596,L292)=1,\"\",COUNTIF(L$6:L$596,L292)))","v":""},"",null,"",null,"",null,{"$f":"IF(L292=\"\",\"\",IF(VLOOKUP(F292,Tabelle_Fisse!$B$4:$C$21,2,FALSE)=\"ok\",\"\",1))","v":""},null,"",null,"",""]
[{"$nulls":11},"",{"$f":"IF(L293=\"\",\"\",IF(COUNTIF(L$6:L$596,L293)=1,\"\",COUNTIF(L$6:L$596,L293)))","v":""},"",null,"",null,"",null,{"$f":"IF(L293=\"\",\"\",IF(VLOOKUP(F293,Tabelle_Fisse!$B$4:$C$21,2,FALSE)=\"ok\",\"\",1))","v":""},null,"",null,"",""]
[{"$nulls":11},"",{"$f":"IF(L294=\"\",\"\",IF(COUNTIF(L$6:L$596,L294)=1,\"\",COUNTIF(L$6:L$596,L294)))","v":""},"",null,"",null,"",null,{"$f":"IF(L294=\"\",\"\",IF(VLOOKUP(F294,Tabelle_Fisse!$B$4:$C$21,2,FALSE)=\"ok\",\"\",1))","v":""},null,"",null,"",""]
[{"$nulls":11},"",{"$f":"IF(L295=\"\",\"\",IF(COUNTIF(L$6:L$596,L295)=1,\"\",COUNTIF(L$6:L$596,L295)))","v":""},"",null,"",null,"",null,{"$f":"IF(L295=\"\",\"\",IF(VLOOKUP(F295,Tabelle_Fisse!$B$4:$C$21,2,FALSE)=\"ok\",\"\",1))","v":""},null,"",null,"",""]
[{"$nulls":11},"",{"$f":"IF(L296=\"\",\"\",IF(COUNTIF(L$6:L$596,L296)=1,\"\",COUNTIF(L$6:L$596,L296)))","v":""},"",null,"",null,"",null,{"$f":"IF(L296=\"\",\"\",IF(VLOOKUP(F296,Tabelle_Fisse!$B$4:$C$21,2,FALSE)=\"ok\",\"\",1))","v":""},null,"",null,"",""]
[{"$nulls":11},"",{"$f":"IF(L297=\"\",\"\",IF(COUNTIF(L$6:L$596,L297)=1,\"\",COUNTIF(L$6:L$596,L297)))","v":""},"",null,"",null,"",null,{"$f":"IF(L297=\"\",\"\",IF(VLOOKUP(F297,Tabelle_Fisse!$B$4:$C$21,2,FALSE)=\"ok\",\"\",1))","v":""},null,"",null,"",""]
[{"$nulls":11},"",{"$f":"IF(L298=\"\",\"\",IF(COUNTIF(L$6:L$596,L298)=1,\"\",COUNTIF(L$6:L$596,L298)))","v":""},"",null,"",null,"",null,{"$f":"IF(L298=\"\",\"\",IF(VLOOKUP(F298,Tabelle_Fisse!$B$4:$C$21,2,FALSE)=\"ok\",\"\",1))","v":""},null,"",null,"",""]
[{"$nulls":11},"",{"$f":"IF(L299=\"\",\"\",IF(COUNTIF(L$6:L$596,L299)=1,\"\",COUNTIF(L$6:L$596,L299)))","v":""},"",null,"",null,"",null,{"$f":"IF(L299=\"\",\"\",IF(VLOOKUP(F299,Tabelle_Fisse!$B$4:$C$21,2,FALSE)=\"ok\",\"\",1))","v":""},null,"",null,"",""]
[{"$nulls":11},"",{"$f":"IF(L300=\"\",\"\",IF(COUNTIF(L$6:L$596,L300)=1,\"\",COUNTIF(L$6:L$596,L300)))","v":""},"",null,"",null,"",null,{"$f":"IF(L300=\"\",\"\",IF(VLOOKUP(F300,Tabelle_Fisse!$B$4:$C$21,2,FALSE)=\"ok\",\"\",1))","v":""},null,"",null,"",""]
[{"$nulls":11},"",{"$f":"IF(L301=\"\",\"\",IF(COUNTIF(L$6:L$596,L301)=1,\"\",COUNTIF(L$6:L$596,L301)))","v":""},"",null,"",null,"",null,{"$f":"IF(L301=\"\",\"\",IF(VLOOKUP(F301,Tabelle_Fisse!$B$4:$C$21,2,FALSE)=\"ok\",\"\",1))","v":""},null,"",null,"",""]
[{"$nulls":11},"",{"$f":"IF(L302=\"\",\"\",IF(COUNTIF(L$6:L$596,L302)=1,\"\",COUNTIF(L$6:L$596,L302)))","v":""},"",null,"",null,"",null,{"$f":"IF(L302=\"\",\"\",IF(VLOOKUP(F302,Tabelle_Fisse!$B$4:$C$21,2,FALSE)=\"ok\",\"\",1))","v":""},null,"",null,"",""]
[{"$nulls":11},"",{"$f":"IF(L303=\"\",\"\",IF(COUNTIF(L$6:L$596,L303)=1,\"\",COUNTIF(L$6:L$596,L303)))","v":""},"",null,"",null,"",null,{"$f":"IF(L303=\"\",\"\",IF(VLOOKUP(F303,Tabelle_Fisse!$B$4:$C$21,2,FALSE)=\"ok\",\"\",1))","v":""},null,"",null,"",""]
[{"$nulls":11},"",{"$f":"IF(L304=\"\",\"\",IF(COUNTIF(L$6:L$596,L304)=1,\"\",COUNTIF(L$6:L$596,L304)))","v":""},"",null,"",null,"",null,{"$f":"IF(L304=\"\",\"\",IF(VLOOKUP(F304,Tabelle_Fisse!$B$4:$C$21,2,FALSE)=\"ok\",\"\",1))","v":""},null,"",null,"",""]
[{"$nulls":11},"",{"$f":"IF(L305=\"\",\"\",IF(COUNTIF(L$6:L$596,L305)=1,\"\",COUNTIF(L$6:L$596,L305)))","v":""},"",null,"",null,"",null,{"$f":"IF(L305=\"\",\"\",IF(VLOOKUP(F305,Tabelle_Fisse!$B$4:$C$21,2,FALSE)=\"ok\",\"\",1))","v":""},null,"",null,"",""]
[{"$nulls":11},"",{"$f":"IF(L306=\"\",\"\",IF(COUNTIF(L$6:L$596,L306)=1,\"\",COUNTIF(L$6:L$596,L306)))","v":""},"",null,"",null,"",null,{"$f":"IF(L306=\"\",\"\",IF(VLOOKUP(F306,Tabelle_Fisse!$B$4:$C$21,2,FALSE)=\"ok\",\"\",1))","v":""},null,"",null,"",""]
[{"$nulls":11},"",{"$f":"IF(L307=\"\",\"\",IF(COUNTIF(L$6:L$596,L307)=1,\"\",COUNTIF(L$6:L$596,L307)))","v":""},"",null,"",null,"",null,{"$f":"IF(L307=\"\",\"\",IF(VLOOKUP(F307,Tabelle_Fisse!$B$4:$C$21,2,FALSE)=\"ok\",\"\",1))","v":""},null,"",null,"",""]
[{"$nulls":11},"",{"$f":"IF(L308=\"\",\"\",IF(COUNTIF(L$6:L$596,L308)=1,\"\",COUNTIF(L$6:L$596,L308)))","v":""},"",null,"",null,"",null,{"$f":"IF(L308=\"\",\"\",IF(VLOOKUP(F308,Tabelle_Fisse!$B$4:$C$21,2,FALSE)=\"ok\",\"\",1))","v":""},null,"",null,"",""]
[{"$nulls":11},"",{"$f":"IF(L309=\"\",\"\",IF(COUNTIF(L$6:L$596,L309)=1,\"\",COUNTIF(L$6:L$596,L309)))","v":""},"",null,"",null,"",null,{"$f":"IF(L309=\"\",\"\",IF(VLOOKUP(F309,Tabelle_Fisse!$B$4:$C$21,2,FALSE)=\"ok\",\"\",1))","v":""},null,"",null,"",""]
[{"$nulls":11},"",{"$f":"IF(L310=\"\",\"\",IF(COUNTIF(L$6:L$596,L310)=1,\"\",COUNTIF(L$6:L$596,L310)))","v":""},"",null,"",null,"",null,{"$f":"IF(L310=\"\",\"\",IF(VLOOKUP(F310,Tabelle_Fisse!$B$4:$C$21,2,FALSE)=\"ok\",\"\",1))","v":""},null,"",null,"",""]
[{"$nulls":11},"",{"$f":"IF(L311=\"\",\"\",IF(COUNTIF(L$6:L$596,L311)=1,\"\",COUNTIF(L$6:L$596,L311)))","v":""},"",null,"",null,"",null,{"$f":"IF(L311=\"\",\"\",IF(VLOOKUP(F311,Tabelle_Fisse!$B$4:$C$21,2,FALSE)=\"ok\",\"\",1))","v":""},null,"",null,"",""]
[{"$nulls":11},"",{"$f":"IF(L312=\"\",\"\",IF(COUNTIF(L$6:L$596,L312)=1,\"\",COUNTIF(L$6:L$596,L312)))","v":""},"",null,"",null,"",null,{"$f":"IF(L312=\"\",\"\",IF(VLOOKUP(F312,Tabelle_Fisse!$B$4:$C$21,2,FALSE)=\"ok\",\"\",1))","v":""},null,"",null,"",""]
[{"$nulls":11},"",{"$f":"IF(L313=\"\",\"\",IF(COUNTIF(L$6:L$596,L313)=1,\"\",COUNTIF(L$6:L$596,L313)))","v":""},"",null,"",null,"",null,{"$f":"IF(L313=\"\",\"\",IF(VLOOKUP(F313,Tabelle_Fisse!$B$4:$C$21,2,FALSE)=\"ok\",\"\",1))","v":""},null,"",null,"",""]
[{"$nulls":11},"",{"$f":"IF(L314=\"\",\"\",IF(COUNTIF(L$6:L$596,L314)=1,\"\",COUNTIF(L$6:L$596,L314)))","v":""},"",null,"",null,"",null,{"$f":"IF(L314=\"\",\"\",IF(VLOOKUP(F314,Tabelle_Fisse!$B$4:$C$21,2,FALSE)=\"ok\",\"\",1))","v":""},null,"",null,"",""]
[{"$nulls":11},"",{"$f":"IF(L315=\"\",\"\",IF(COUNTIF(L$6:L$596,L315)=1,\"\",COUNTIF(L$6:L$596,L315)))","v":""},"",null,"",null,"",null,{"$f":"IF(L315=\"\",\"\",IF(VLOOKUP(F315,Tabelle_Fisse!$B$4:$C$21,2,FALSE)=\"ok\",\"\",1))","v":""},null,"",null,"",""]
[{"$nulls":11},"",{"$f":"IF(L316=\"\",\"\",IF(COUNTIF(L$6:L$596,L316)=1,\"\",COUNTIF(L$6:L$596,L316)))","v":""},"",null,"",null,"",null,{"$f":"IF(L316=\"\",\"\",IF(VLOOKUP(F316,Tabelle_Fisse!$B$4:$C$21,2,FALSE)=\"ok\",\"\",1))","v":""},null,"",null,"",""]
[{"$nulls":11},"",{"$f":"IF(L317=\"\",\"\",IF(COUNTIF(L$6:L$596,L317)=1,\"\",COUNTIF(L$6:L$596,L317)))","v":""},"",null,"",null,"",null,{"$f":"IF(L317=\"\",\"\",IF(VLOOKUP(F317,Tabelle_Fisse!$B$4:$C$21,2,FALSE)=\"ok\",\"\",1))","v":""},null,"",null,"",""]
[{"$nulls":11},"",{"$f":"IF(L318=\"\",\"\",IF(COUNTIF(L$6:L$596,L318)=1,\"\",COUNTIF(L$6:L$596,L318)))","v":""},"",null,"",null,"",null,{"$f":"IF(L318=\"\",\"\",IF(VLOOKUP(F318,Tabelle_Fisse!$B$4:$C$21,2,FALSE)=\"ok\",\"\",1))","v":""},null,"",null,"",""]
[{"$nulls":11},"",{"$f":"IF(L319=\"\",\"\",IF(COUNTIF(L$6:L$596,L319)=1,\"\",COUNTIF(L$6:L$596,L319)))","v":""},"",null,"",null,"",null,{"$f":"IF(L319=\"\",\"\",IF(VLOOKUP(F319,Tabelle_Fisse!$B$4:$C$21,2,FALSE)=\"ok\",\"\",1))","v":""},null,"",null,"",""]
[{"$nulls":11},"",{"$f":"IF(L320=\"\",\"\",IF(COUNTIF(L$6:L$596,L320)=1,\"\",COUNTIF(L$6:L$596,L320)))","v":""},"",null,"",null,"",null,{"$f":"IF(L320=\"\",\"\",IF(VLOOKUP(F320,Tabelle_Fisse!$B$4:$C$21,2,FALSE)=\"ok\",\"\",1))","v":""},null,"",null,"",""]
[{"$nulls":11},"",{"$f":"IF(L321=\"\",\"\",IF(COUNTIF(L$6:L$596,L321)=1,\"\",COUNTIF(L$6:L$596,L321)))","v":""},"",null,"",null,"",null,{"$f":"IF(L321=\"\",\"\",IF(VLOOKUP(F321,Tabelle_Fisse!$B$4:$C$21,2,FALSE)=\"ok\",\"\",1))","v":""},null,"",null,"",""]
[{"$nulls":11},"",{"$f":"IF(L322=\"\",\"\",IF(COUNTIF(L$6:L$596,L322)=1,\"\",COUNTIF(L$6:L$596,L322)))","v":""},"",null,"",null,"",null,{"$f":"IF(L322=\"\",\"\",IF(VLOOKUP(F322,Tabelle_Fisse!$B$4:$C$21,2,FALSE)=\"ok\",\"\",1))","v":""},null,"",null,"",""]
[{"$nulls":11},{"$f":"TRIM(B323)","v":""},{"$f":"IF(L323=\"\",\"\",IF(COUNTIF(L$6:L$596,L323)=1,\"\",COUNTIF(L$6:L$596,L323)))","v":""},{"$f":"IF(L323=\"\",\"\",IF(LEN(L323)<>10,1,\"\"))","v":""},null,{"$f":"IF(L323=\"\",\"\",IF(LEN(C323)<>11,1,\"\"))","v":""},null,{"$f":"IF(L323=\"\",\"\",IF(LEN(E323)>250,1,\"\"))","v":""},null,{"$f":"IF(L323=\"\",\"\",IF(VLOOKUP(F323,Tabelle_Fisse!$B$4:$C$21,2,FALSE)=\"ok\",\"\",1))","v":""},null,{"$f":"IF(L323=\"\",\"\",IF(OR(ISNUMBER(G323)=FALSE,G323<=0),1,\"\"))","v":""},null,{"$f":"IF(OR(B323=\"\",H323=\"\"),\"\",IF(OR(H323<X$3,H323>X$4),1,\"\"))","v":""},{"$f":"IF(OR(B323=\"\",I323=\"\"),\"\",IF(OR(I323<Y$3,I323>Y$4),1,\"\"))","v":""}]
[{"$nulls":11},"",{"$f":"IF(L324=\"\",\"\",IF(COUNTIF(L$6:L$596,L324)=1,\"\",COUNTIF(L$6:L$596,L324)))","v":""},"",null,"",null,"",null,{"$f":"IF(L324=\"\",\"\",IF(VLOOKUP(F324,Tabelle_Fisse!$B$4:$C$21,2,FALSE)=\"ok\",\"\",1))","v":""},null,"",null,"",""]
[{"$nulls":11},"",{"$f":"IF(L325=\"\",\"\",IF(COUNTIF(L$6:L$596,L325)=1,\"\",COUNTIF(L$6:L$596,L325)))","v":""},"",null,"",null,"",null,{"$f":"IF(L325=\"\",\"\",IF(VLOOKUP(F325,Tabelle_Fisse!$B$4:$C$21,2,FALSE)=\"ok\",\"\",1))","v":""},null,"",null,"",""]
[{"$nulls":11},"",{"$f":"IF(L326=\"\",\"\",IF(COUNTIF(L$6:L$596,L326)=1,\"\",COUNTIF(L$6:L$596,L326)))","v":""},"",null,"",null,"",null,{"$f":"IF(L326=\"\",\"\",IF(VLOOKUP(F326,Tabelle_Fisse!$B$4:$C$21,2,FALSE)=\"ok\",\"\",1))","v":""},null,"",null,"",""]
[{"$nulls":11},"",{"$f":"IF(L327=\"\",\"\",IF(COUNTIF(L$6:L$596,L327)=1,\"\",COUNTIF(L$6:L$596,L327)))","v":""},"",null,"",null,"",null,{"$f":"IF(L327=\"\",\"\",IF(VLOOKUP(F327,Tabelle_Fisse!$B$4:$C$21,2,FALSE)=\"ok\",\"\",1))","v":""},null,"",null,"",""]
[{"$nulls":11},"",{"$f":"IF(L328=\"\",\"\",IF(COUNTIF(L$6:L$596,L328)=1,\"\",COUNTIF(L$6:L$596,L328)))","v":""},"",null,"",null,"",null,{"$f":"IF(L328=\"\",\"\",IF(VLOOKUP(F328,Tabelle_Fisse!$B$4:$C$21,2,FALSE)=\"ok\",\"\",1))","v":""},null,"",null,"",""]
[{"$nulls":11},"",{"$f":"IF(L329=\"\",\"\",IF(COUNTIF(L$6:L$596,L329)=1,\"\",COUNTIF(L$6:L$596,L329)))","v":""},"",null,"",null,"",null,{"$f":"IF(L329=\"\",\"\",IF(VLOOKUP(F329,Tabelle_Fisse!$B$4:$C$21,2,FALSE)=\"ok\",\"\",1))","v":""},null,"",null,"",""]
[{"$nulls":11},"",{"$f":"IF(L330=\"\",\"\",IF(COUNTIF(L$6:L$596,L330)=1,\"\",COUNTIF(L$6:L$596,L330)))","v":""},"",null,"",null,"",null,{"$f":"IF(L330=\"\",\"\",IF(VLOOKUP(F330,Tabelle_Fisse!$B$4:$C$21,2,FALSE)=\"ok\",\"\",1))","v":""},null,"",null,"",""]
[{"$nulls":11},"",{"$f":"IF(L331=\"\",\"\",IF(COUNTIF(L$6:L$596,L331)=1,\"\",COUNTIF(L$6:L$596,L331)))","v":""},"",null,"",null,"",null,{"$f":"IF(L331=\"\",\"\",IF(VLOOKUP(F331,Tabelle_Fisse!$B$4:$C$21,2,FALSE)=\"ok\",\"\",1))","v":""},null,"",null,"",""]
[{"$nulls":11},"",{"$f":"IF(L332=\"\",\"\",IF(COUNTIF(L$6:L$596,L332)=1,\"\",COUNTIF(L$6:L$596,L332)))","v":""},"",null,"",null,"",null,{"$f":"IF(L332=\"\",\"\",IF(VLOOKUP(F332,Tabelle_Fisse!$B$4:$C$21,2,FALSE)=\"ok\",\"\",1))","v":""},null,"",null,"",""]
[{"$nulls":11},"",{"$f":"IF(L333=\"\",\"\",IF(COUNTIF(L$6:L$596,L333)=1,\"\",COUNTIF(L$6:L$596,L333)))","v":""},"",null,"",null,"",null,{"$f":"IF(L333=\"\",\"\",IF(VLOOKUP(F333,Tabelle_Fisse!$B$4:$C$21,2,FALSE)=\"ok\",\"\",1))","v":""},null,"",null,"",""]
[{"$nulls":11},"",{"$f":"IF(L334=\"\",\"\",IF(COUNTIF(L$6:L$596,L334)=1,\"\",COUNTIF(L$6:L$596,L334)))","v":""},"",null,"",null,"",null,{"$f":"IF(L334=\"\",\"\",IF(VLOOKUP(F334,Tabelle_Fisse!$B$4:$C$21,2,FALSE)=\"ok\",\"\",1))","v":""},null,"",null,"",""]
[{"$nulls":11},"",{"$f":"IF(L335=\"\",\"\",IF(COUNTIF(L$6:L$596,L335)=1,\"\",COUNTIF(L$6:L$596,L335)))","v":""},"",null,"",null,"",null,{"$f":"IF(L335=\"\",\"\",IF(VLOOKUP(F335,Tabelle_Fisse!$B$4:$C$21,2,FALSE)=\"ok\",\"\",1))","v":""},null,"",null,"",""]
[{"$nulls":11},"",{"$f":"IF(L336=\"\",\"\",IF(COUNTIF(L$6:L$596,L336)=1,\"\",COUNTIF(L$6:L$596,L336)))","v":""},"",null,"",null,"",null,{"$f":"IF(L336=\"\",\"\",IF(VLOOKUP(F336,Tabelle_Fisse!$B$4:$C$21,2,FALSE)=\"ok\",\"\",1))","v":""},null,"",null,"",""]
[{"$nulls":11},"",{"$f":"IF(L337=\"\",\"\",IF(COUNTIF(L$6:L$596,L337)=1,\"\",COUNTIF(L$6:L$596,L337)))","v":""},"",null,"",null,"",null,{"$f":"IF(L337=\"\",\"\",IF(VLOOKUP(F337,Tabelle_Fisse!$B$4:$C$21,2,FALSE)=\"ok\",\"\",1))","v":""},null,"",null,"",""]
[{"$nulls":11},"",{"$f":"IF(L338=\"\",\"\",IF(COUNTIF(L$6:L$596,L338)=1,\"\",COUNTIF(L$6:L$596,L338)))","v":""},"",null,"",null,"",null,{"$f":"IF(L338=\"\",\"\",IF(VLOOKUP(F338,Tabelle_Fisse!$B$4:$C$21,2,FALSE)=\"ok\",\"\",1))","v":""},null,"",null,"",""]
[{"$nulls":11},"",{"$f":"IF(L339=\"\",\"\",IF(COUNTIF(L$6:L$596,L339)=1,\"\",COUNTIF(L$6:L$596,L339)))","v":""},"",null,"",null,"",null,{"$f":"IF(L339=\"\",\"\",IF(VLOOKUP(F339,Tabelle_Fisse!$B$4:$C$21,2,FALSE)=\"ok\",\"\",1))","v":""},null,"",null,"",""]
[{"$nulls":11},"",{"$f":"IF(L340=\"\",\"\",IF(COUNTIF(L$6:L$596,L340)=1,\"\",COUNTIF(L$6:L$596,L340)))","v":""},"",null,"",null,"",null,{"$f":"IF(L340=\"\",\"\",IF(VLOOKUP(F340,Tabelle_Fisse!$B$4:$C$21,2,FALSE)=\"ok\",\"\",1))","v":""},null,"",null,"",""]
[{"$nulls":11},"",{"$f":"IF(L341=\"\",\"\",IF(COUNTIF(L$6:L$596,L341)=1,\"\",COUNTIF(L$6:L$596,L341)))","v":""},"",null,"",null,"",null,{"$f":"IF(L341=\"\",\"\",IF(VLOOKUP(F341,Tabelle_Fisse!$B$4:$C$21,2,FALSE)=\"ok\",\"\",1))","v":""},null,"",null,"",""]
[{"$nulls":11},"",{"$f":"IF(L342=\"\",\"\",IF(COUNTIF(L$6:L$596,L342)=1,\"\",COUNTIF(L$6:L$596,L342)))","v":""},"",null,"",null,"",null,{"$f":"IF(L342=\"\",\"\",IF(VLOOKUP(F342,Tabelle_Fisse!$B$4:$C$21,2,FALSE)=\"ok\",\"\",1))","v":""},null,"",null,"",""]
[{"$nulls":11},"",{"$f":"IF(L343=\"\",\"\",IF(COUNTIF(L$6:L$596,L343)=1,\"\",COUNTIF(L$6:L$596,L343)))","v":""},"",null,"",null,"",null,{"$f":"IF(L343=\"\",\"\",IF(VLOOKUP(F343,Tabelle_Fisse!$B$4:$C$21,2,FALSE)=\"ok\",\"\",1))","v":""},null,"",null,"",""]
[{"$nulls":11},"",{"$f":"IF(L344=\"\",\"\",IF(COUNTIF(L$6:L$596,L344)=1,\"\",COUNTIF(L$6:L$596,L344)))","v":""},"",null,"",null,"",null,{"$f":"IF(L344=\"\",\"\",IF(VLOOKUP(F344,Tabelle_Fisse!$B$4:$C$21,2,FALSE)=\"ok\",\"\",1))","v":""},null,"",null,"",""]
[{"$nulls":11},"",{"$f":"IF(L345=\"\",\"\",IF(COUNTIF(L$6:L$596,L345)=1,\"\",COUNTIF(L$6:L$596,L345)))","v":""},"",null,"",null,"",null,{"$f":"IF(L345=\"\",\"\",IF(VLOOKUP(F345,Tabelle_Fisse!$B$4:$C$21,2,FALSE)=\"ok\",\"\",1))","v":""},null,"",null,"",""]
[{"$nulls":11},"",{"$f":"IF(L346=\"\",\"\",IF(COUNTIF(L$6:L$596,L346)=1,\"\",COUNTIF(L$6:L$596,L346)))","v":""},"",null,"",null,"",null,{"$f":"IF(L346=\"\",\"\",IF(VLOOKUP(F346,Tabelle_Fisse!$B$4:$C$21,2,FALSE)=\"ok\",\"\",1))","v":""},null,"",null,"",""]
[{"$nulls":11},"",{"$f":"IF(L347=\"\",\"\",IF(COUNTIF(L$6:L$596,L347)=1,\"\",COUNTIF(L$6:L$596,L347)))","v":""},"",null,"",null,"",null,{"$f":"IF(L347=\"\",\"\",IF(VLOOKUP(F347,Tabelle_Fisse!$B$4:$C$21,2,FALSE)=\"ok\",\"\",1))","v":""},null,"",null,"",""]
[{"$nulls":11},"",{"$f":"IF(L348=\"\",\"\",IF(COUNTIF(L$6:L$596,L348)=1,\"\",COUNTIF(L$6:L$596,L348)))","v":""},"",null,"",null,"",null,{"$f":"IF(L348=\"\",\"\",IF(VLOOKUP(F348,Tabelle_Fisse!$B$4:$C$21,2,FALSE)=\"ok\",\"\",1))","v":""},null,"",null,"",""]
[{"$nulls":11},"",{"$f":"IF(L349=\"\",\"\",IF(COUNTIF(L$6:L$596,L349)=1,\"\",COUNTIF(L$6:L$596,L349)))","v":""},"",null,"",null,"",null,{"$f":"IF(L349=\"\",\"\",IF(VLOOKUP(F349,Tabelle_Fisse!$B$4:$C$21,2,FALSE)=\"ok\",\"\",1))","v":""},null,"",null,"",""]
[{"$nulls":11},"",{"$f":"IF(L350=\"\",\"\",IF(COUNTIF(L$6:L$596,L350)=1,\"\",COUNTIF(L$6:L$596,L350)))","v":""},"",null,"",null,"",null,{"$f":"IF(L350=\"\",\"\",IF(VLOOKUP(F350,Tabelle_Fisse!$B$4:$C$21,2,FALSE)=\"ok\",\"\",1))","v":""},null,"",null,"",""]
[{"$nulls":11},"",{"$f":"IF(L351=\"\",\"\",IF(COUNTIF(L$6:L$596,L351)=1,\"\",COUNTIF(L$6:L$596,L351)))","v":""},"",null,"",null,"",null,{"$f":"IF(L351=\"\",\"\",IF(VLOOKUP(F351,Tabelle_Fisse!$B$4:$C$21,2,FALSE)=\"ok\",\"\",1))","v":""},null,"",null,"",""]
[{"$nulls":11},"",{"$f":"IF(L352=\"\",\"\",IF(COUNTIF(L$6:L$596,L352)=1,\"\",COUNTIF(L$6:L$596,L352)))","v":""},"",null,"",null,"",null,{"$f":"IF(L352=\"\",\"\",IF(VLOOKUP(F352,Tabelle_Fisse!$B$4:$C$21,2,FALSE)=\"ok\",\"\",1))","v":""},null,"",null,"",""]
[{"$nulls":11},"",{"$f":"IF(L353=\"\",\"\",IF(COUNTIF(L$6:L$596,L353)=1,\"\",COUNTIF(L$6:L$596,L353)))","v":""},"",null,"",null,"",null,{"$f":"IF(L353=\"\",\"\",IF(VLOOKUP(F353,Tabelle_Fisse!$B$4:$C$21,2,FALSE)=\"ok\",\"\",1))","v":""},null,"",null,"",""]
[{"$nulls":11},"",{"$f":"IF(L354=\"\",\"\",IF(COUNTIF(L$6:L$596,L354)=1,\"\",COUNTIF(L$6:L$596,L354)))","v":""},"",null,"",null,"",null,{"$f":"IF(L354=\"\",\"\",IF(VLOOKUP(F354,Tabelle_Fisse!$B$4:$C$21,2,FALSE)=\"ok\",\"\",1))","v":""},null,"",null,"",""]
[{"$nulls":11},"",{"$f":"IF(L355=\"\",\"\",IF(COUNTIF(L$6:L$596,L355)=1,\"\",COUNTIF(L$6:L$596,L355)))","v":""},"",null,"",null,"",null,{"$f":"IF(L355=\"\",\"\",IF(VLOOKUP(F355,Tabelle_Fisse!$B$4:$C$21,2,FALSE)=\"ok\",\"\",1))","v":""},null,"",null,"",""]
[{"$nulls":11},"",{"$f":"IF(L356=\"\",\"\",IF(COUNTIF(L$6:L$596,L356)=1,\"\",COUNTIF(L$6:L$596,L356)))","v":""},"",null,"",null,"",null,{"$f":"IF(L356=\"\",\"\",IF(VLOOKUP(F356,Tabelle_Fisse!$B$4:$C$21,2,FALSE)=\"ok\",\"\",1))","v":""},null,"",null,"",""]
[{"$nulls":11},"",{"$f":"IF(L357=\"\",\"\",IF(COUNTIF(L$6:L$596,L357)=1,\"\",COUNTIF(L$6:L$596,L357)))","v":""},"",null,"",null,"",null,{"$f":"IF(L357=\"\",\"\",IF(VLOOKUP(F357,Tabelle_Fisse!$B$4:$C$21,2,FALSE)=\"ok\",\"\",1))","v":""},null,"",null,"",""]
[{"$nulls":11},"",{"$f":"IF(L358=\"\",\"\",IF(COUNTIF(L$6:L$596,L358)=1,\"\",COUNTIF(L$6:L$596,L358)))","v":""},"",null,"",null,"",null,{"$f":"IF(L358=\"\",\"\",IF(VLOOKUP(F358,Tabelle_Fisse!$B$4:$C$21,2,FALSE)=\"ok\",\"\",1))","v":""},null,"",null,"",""]
[{"$nulls":11},"",{"$f":"IF(L359=\"\",\"\",IF(COUNTIF(L$6:L$596,L359)=1,\"\",COUNTIF(L$6:L$596,L359)))","v":""},"",null,"",null,"",null,{"$f":"IF(L359=\"\",\"\",IF(VLOOKUP(F359,Tabelle_Fisse!$B$4:$C$21,2,FALSE)=\"ok\",\"\",1))","v":""},null,"",null,"",""]
[{"$nulls":11},"",{"$f":"IF(L360=\"\",\"\",IF(COUNTIF(L$6:L$596,L360)=1,\"\",COUNTIF(L$6:L$596,L360)))","v":""},"",null,"",null,"",null,{"$f":"IF(L360=\"\",\"\",IF(VLOOKUP(F360,Tabelle_Fisse!$B$4:$C$21,2,FALSE)=\"ok\",\"\",1))","v":""},null,"",null,"",""]
[{"$nulls":11},"",{"$f":"IF(L361=\"\",\"\",IF(COUNTIF(L$6:L$596,L361)=1,\"\",COUNTIF(L$6:L$596,L361)))","v":""},"",null,"",null,"",null,{"$f":"IF(L361=\"\",\"\",IF(VLOOKUP(F361,Tabelle_Fisse!$B$4:$C$21,2,FALSE)=\"ok\",\"\",1))","v":""},null,"",null,"",""]
[{"$nulls":11},"",{"$f":"IF(L362=\"\",\"\",IF(COUNTIF(L$6:L$596,L362)=1,\"\",COUNTIF(L$6:L$596,L362)))","v":""},"",null,"",null,"",null,{"$f":"IF(L362=\"\",\"\",IF(VLOOKUP(F362,Tabelle_Fisse!$B$4:$C$21,2,FALSE)=\"ok\",\"\",1))","v":""},null,"",null,"",""]
[{"$nulls":11},"",{"$f":"IF(L363=\"\",\"\",IF(COUNTIF(L$6:L$596,L363)=1,\"\",COUNTIF(L$6:L$596,L363)))","v":""},"",null,"",null,"",null,{"$f":"IF(L363=\"\",\"\",IF(VLOOKUP(F363,Tabelle_Fisse!$B$4:$C$21,2,FALSE)=\"ok\",\"\",1))","v":""},null,"",null,"",""]
[{"$nulls":11},"",{"$f":"IF(L364=\"\",\"\",IF(COUNTIF(L$6:L$596,L364)=1,\"\",COUNTIF(L$6:L$596,L364)))","v":""},"",null,"",null,"",null,{"$f":"IF(L364=\"\",\"\",IF(VLOOKUP(F364,Tabelle_Fisse!$B$4:$C$21,2,FALSE)=\"ok\",\"\",1))","v":""},null,"",null,"",""]
[{"$nulls":11},"",{"$f":"IF(L365=\"\",\"\",IF(COUNTIF(L$6:L$596,L365)=1,\"\",COUNTIF(L$6:L$596,L365)))","v":""},"",null,"",null,"",null,{"$f":"IF(L365=\"\",\"\",IF(VLOOKUP(F365,Tabelle_Fisse!$B$4:$C$21,2,FALSE)=\"ok\",\"\",1))","v":""},null,"",null,"",""]
[{"$nulls":11},"",{"$f":"IF(L366=\"\",\"\",IF(COUNTIF(L$6:L$596,L366)=1,\"\",COUNTIF(L$6:L$596,L366)))","v":""},"",null,"",null,"",null,{"$f":"IF(L366=\"\",\"\",IF(VLOOKUP(F366,Tabelle_Fisse!$B$4:$C$21,2,FALSE)=\"ok\",\"\",1))","v":""},null,"",null,"",""]
[{"$nulls":11},"",{"$f":"IF(L367=\"\",\"\",IF(COUNTIF(L$6:L$596,L367)=1,\"\",COUNTIF(L$6:L$596,L367)))","v":""},"",null,"",null,"",null,{"$f":"IF(L367=\"\",\"\",IF(VLOOKUP(F367,Tabelle_Fisse!$B$4:$C$21,2,FALSE)=\"ok\",\"\",1))","v":""},null,"",null,"",""]
[{"$nulls":11},"",{"$f":"IF(L368=\"\",\"\",IF(COUNTIF(L$6:L$596,L368)=1,\"\",COUNTIF(L$6:L$596,L368)))","v":""},"",null,"",null,"",null,{"$f":"IF(L368=\"\",\"\",IF(VLOOKUP(F368,Tabelle_Fisse!$B$4:$C$21,2,FALSE)=\"ok\",\"\",1))","v":""},null,"",null,"",""]
[{"$nulls":11},"",{"$f":"IF(L369=\"\",\"\",IF(COUNTIF(L$6:L$596,L369)=1,\"\",COUNTIF(L$6:L$596,L369)))","v":""},"",null,"",null,"",null,{"$f":"IF(L369=\"\",\"\",IF(VLOOKUP(F369,Tabelle_Fisse!$B$4:$C$21,2,FALSE)=\"ok\",\"\",1))","v":""},null,"",null,"",""]
[{"$nulls":11},"",{"$f":"IF(L370=\"\",\"\",IF(COUNTIF(L$6:L$596,L370)=1,\"\",COUNTIF(L$6:L$596,L370)))","v":""},"",null,"",null,"",null,{"$f":"IF(L370=\"\",\"\",IF(VLOOKUP(F370,Tabelle_Fisse!$B$4:$C$21,2,FALSE)=\"ok\",\"\",1))","v":""},null,"",null,"",""]
[{"$nulls":11},"",{"$f":"IF(L371=\"\",\"\",IF(COUNTIF(L$6:L$596,L371)=1,\"\",COUNTIF(L$6:L$596,L371)))","v":""},"",null,"",null,"",null,{"$f":"IF(L371=\"\",\"\",IF(VLOOKUP(F371,Tabelle_Fisse!$B$4:$C$21,2,FALSE)=\"ok\",\"\",1))","v":""},null,"",null,"",""]
[{"$nulls":11},"",{"$f":"IF(L372=\"\",\"\",IF(COUNTIF(L$6:L$596,L372)=1,\"\",COUNTIF(L$6:L$596,L372)))","v":""},"",null,"",null,"",null,{"$f":"IF(L372=\"\",\"\",IF(VLOOKUP(F372,Tabelle_Fisse!$B$4:$C$21,2,FALSE)=\"ok\",\"\",1))","v":""},null,"",null,"",""]
[{"$nulls":11},"",{"$f":"IF(L373=\"\",\"\",IF(COUNTIF(L$6:L$596,L373)=1,\"\",COUNTIF(L$6:L$596,L373)))","v":""},"",null,"",null,"",null,{"$f":"IF(L373=\"\",\"\",IF(VLOOKUP(F373,Tabelle_Fisse!$B$4:$C$21,2,FALSE)=\"ok\",\"\",1))","v":""},null,"",null,"",""]
[{"$nulls":11},"",{"$f":"IF(L374=\"\",\"\",IF(COUNTIF(L$6:L$596,L374)=1,\"\",COUNTIF(L$6:L$596,L374)))","v":""},"",null,"",null,"",null,{"$f":"IF(L374=\"\",\"\",IF(VLOOKUP(F374,Tabelle_Fisse!$B$4:$C$21,2,FALSE)=\"ok\",\"\",1))","v":""},null,"",null,"",""]
[{"$nulls":11},"",{"$f":"IF(L375=\"\",\"\",IF(COUNTIF(L$6:L$596,L375)=1,\"\",COUNTIF(L$6:L$596,L375)))","v":""},"",null,"",null,"",null,{"$f":"IF(L375=\"\",\"\",IF(VLOOKUP(F375,Tabelle_Fisse!$B$4:$C$21,2,FALSE)=\"ok\",\"\",1))","v":""},null,"",null,"",""]
[{"$nulls":11},"",{"$f":"IF(L376=\"\",\"\",IF(COUNTIF(L$6:L$596,L376)=1,\"\",COUNTIF(L$6:L$596,L376)))","v":""},"",null,"",null,"",null,{"$f":"IF(L376=\"\",\"\",IF(VLOOKUP(F376,Tabelle_Fisse!$B$4:$C$21,2,FALSE)=\"ok\",\"\",1))","v":""},null,"",null,"",""]
[{"$nulls":11},"",{"$f":"IF(L377=\"\",\"\",IF(COUNTIF(L$6:L$596,L377)=1,\"\",COUNTIF(L$6:L$596,L377)))","v":""},"",null,"",null,"",null,{"$f":"IF(L377=\"\",\"\",IF(VLOOKUP(F377,Tabelle_Fisse!$B$4:$C$21,2,FALSE)=\"ok\",\"\",1))","v":""},null,"",null,"",""]
[{"$nulls":11},"",{"$f":"IF(L378=\"\",\"\",IF(COUNTIF(L$6:L$596,L378)=1,\"\",COUNTIF(L$6:L$596,L378)))","v":""},"",null,"",null,"",null,{"$f":"IF(L378=\"\",\"\",IF(VLOOKUP(F378,Tabelle_Fisse!$B$4:$C$21,2,FALSE)=\"ok\",\"\",1))","v":""},null,"",null,"",""]
[{"$nulls":11},"",{"$f":"IF(L379=\"\",\"\",IF(COUNTIF(L$6:L$596,L379)=1,\"\",COUNTIF(L$6:L$596,L379)))","v":""},"",null,"",null,"",null,{"$f":"IF(L379=\"\",\"\",IF(VLOOKUP(F379,Tabelle_Fisse!$B$4:$C$21,2,FALSE)=\"ok\",\"\",1))","v":""},null,"",null,"",""]
[{"$nulls":11},"",{"$f":"IF(L380=\"\",\"\",IF(COUNTIF(L$6:L$596,L380)=1,\"\",COUNTIF(L$6:L$596,L380)))","v":""},"",null,"",null,"",null,{"$f":"IF(L380=\"\",\"\",IF(VLOOKUP(F380,Tabelle_Fisse!$B$4:$C$21,2,FALSE)=\"ok\",\"\",1))","v":""},null,"",null,"",""]
[{"$nulls":11},"",{"$f":"IF(L381=\"\",\"\",IF(COUNTIF(L$6:L$596,L381)=1,\"\",COUNTIF(L$6:L$596,L381)))","v":""},"",null,"",null,"",null,{"$f":"IF(L381=\"\",\"\",IF(VLOOKUP(F381,Tabelle_Fisse!$B$4:$C$21,2,FALSE)=\"ok\",\"\",1))","v":""},null,"",null,"",""]
[{"$nulls":11},"",{"$f":"IF(L382=\"\",\"\",IF(COUNTIF(L$6:L$596,L382)=1,\"\",COUNTIF(L$6:L$596,L382)))","v":""},"",null,"",null,"",null,{"$f":"IF(L382=\"\",\"\",IF(VLOOKUP(F382,Tabelle_Fisse!$B$4:$C$21,2,FALSE)=\"ok\",\"\",1))","v":""},null,"",null,"",""]
[{"$nulls":11},"",{"$f":"IF(L383=\"\",\"\",IF(COUNTIF(L$6:L$596,L383)=1,\"\",COUNTIF(L$6:L$596,L383)))","v":""},"",null,"",null,"",null,{"$f":"IF(L383=\"\",\"\",IF(VLOOKUP(F383,Tabelle_Fisse!$B$4:$C$21,2,FALSE)=\"ok\",\"\",1))","v":""},null,"",null,"",""]
[{"$nulls":11},"",{"$f":"IF(L384=\"\",\"\",IF(COUNTIF(L$6:L$596,L384)=1,\"\",COUNTIF(L$6:L$596,L384)))","v":""},"",null,"",null,"",null,{"$f":"IF(L384=\"\",\"\",IF(VLOOKUP(F384,Tabelle_Fisse!$B$4:$C$21,2,FALSE)=\"ok\",\"\",1))","v":""},null,"",null,"",""]
[{"$nulls":11},"",{"$f":"IF(L385=\"\",\"\",IF(COUNTIF(L$6:L$596,L385)=1,\"\",COUNTIF(L$6:L$596,L385)))","v":""},"",null,"",null,"",null,{"$f":"IF(L385=\"\",\"\",IF(VLOOKUP(F385,Tabelle_Fisse!$B$4:$C$21,2,FALSE)=\"ok\",\"\",1))","v":""},null,"",null,"",""]
[{"$nulls":11},"",{"$f":"IF(L386=\"\",\"\",IF(COUNTIF(L$6:L$596,L386)=1,\"\",COUNTIF(L$6:L$596,L386)))","v":""},"",null,"",null,"",null,{"$f":"IF(L386=\"\",\"\",IF(VLOOKUP(F386,Tabelle_Fisse!$B$4:$C$21,2,FALSE)=\"ok\",\"\",1))","v":""},null,"",null,"",""]
[{"$nulls":11},{"$f":"TRIM(B387)","v":""},{"$f":"IF(L387=\"\",\"\",IF(COUNTIF(L$6:L$596,L387)=1,\"\",COUNTIF(L$6:L$596,L387)))","v":""},{"$f":"IF(L387=\"\",\"\",IF(LEN(L387)<>10,1,\"\"))","v":""},null,{"$f":"IF(L387=\"\",\"\",IF(LEN(C387)<>11,1,\"\"))","v":""},null,{"$f":"IF(L387=\"\",\"\",IF(LEN(E387)>250,1,\"\"))","v":""},null,{"$f":"IF(L387=\"\",\"\",IF(VLOOKUP(F387,Tabelle_Fisse!$B$4:$C$21,2,FALSE)=\"ok\",\"\",1))","v":""},null,{"$f":"IF(L387=\"\",\"\",IF(OR(ISNUMBER(G387)=FALSE,G387<=0),1,\"\"))","v":""},null,{"$f":"IF(OR(B387=\"\",H387=\"\"),\"\",IF(OR(H387<X$3,H387>X$4),1,\"\"))","v":""},{"$f":"IF(OR(B387=\"\",I387=\"\"),\"\",IF(OR(I387<Y$3,I387>Y$4),1,\"\"))","v":""}]
[{"$nulls":11},"",{"$f":"IF(L388=\"\",\"\",IF(COUNTIF(L$6:L$596,L388)=1,\"\",COUNTIF(L$6:L$596,L388)))","v":""},"",null,"",null,"",null,{"$f":"IF(L388=\"\",\"\",IF(VLOOKUP(F388,Tabelle_Fisse!$B$4:$C$21,2,FALSE)=\"ok\",\"\",1))","v":""},null,"",null,"",""]
[{"$nulls":11},"",{"$f":"IF(L389=\"\",\"\",IF(COUNTIF(L$6:L$596,L389)=1,\"\",COUNTIF(L$6:L$596,L389)))","v":""},"",null,"",null,"",null,{"$f":"IF(L389=\"\",\"\",IF(VLOOKUP(F389,Tabelle_Fisse!$B$4:$C$21,2,FALSE)=\"ok\",\"\",1))","v":""},null,"",null,"",""]
[{"$nulls":11},"",{"$f":"IF(L390=\"\",\"\",IF(COUNTIF(L$6:L$596,L390)=1,\"\",COUNTIF(L$6:L$596,L390)))","v":""},"",null,"",null,"",null,{"$f":"IF(L390=\"\",\"\",IF(VLOOKUP(F390,Tabelle_Fisse!$B$4:$C$21,2,FALSE)=\"ok\",\"\",1))","v":""},null,"",null,"",""]
[{"$nulls":11},"",{"$f":"IF(L391=\"\",\"\",IF(COUNTIF(L$6:L$596,L391)=1,\"\",COUNTIF(L$6:L$596,L391)))","v":""},"",null,"",null,"",null,{"$f":"IF(L391=\"\",\"\",IF(VLOOKUP(F391,Tabelle_Fisse!$B$4:$C$21,2,FALSE)=\"ok\",\"\",1))","v":""},null,"",null,"",""]
[{"$nulls":11},"",{"$f":"IF(L392=\"\",\"\",IF(COUNTIF(L$6:L$596,L392)=1,\"\",COUNTIF(L$6:L$596,L392)))","v":""},"",null,"",null,"",null,{"$f":"IF(L392=\"\",\"\",IF(VLOOKUP(F392,Tabelle_Fisse!$B$4:$C$21,2,FALSE)=\"ok\",\"\",1))","v":""},null,"",null,"",""]
[{"$nulls":11},"",{"$f":"IF(L393=\"\",\"\",IF(COUNTIF(L$6:L$596,L393)=1,\"\",COUNTIF(L$6:L$596,L393)))","v":""},"",null,"",null,"",null,{"$f":"IF(L393=\"\",\"\",IF(VLOOKUP(F393,Tabelle_Fisse!$B$4:$C$21,2,FALSE)=\"ok\",\"\",1))","v":""},null,"",null,"",""]
[{"$nulls":11},"",{"$f":"IF(L394=\"\",\"\",IF(COUNTIF(L$6:L$596,L394)=1,\"\",COUNTIF(L$6:L$596,L394)))","v":""},"",null,"",null,"",null,{"$f":"IF(L394=\"\",\"\",IF(VLOOKUP(F394,Tabelle_Fisse!$B$4:$C$21,2,FALSE)=\"ok\",\"\",1))","v":""},null,"",null,"",""]
[{"$nulls":11},"",{"$f":"IF(L395=\"\",\"\",IF(COUNTIF(L$6:L$596,L395)=1,\"\",COUNTIF(L$6:L$596,L395)))","v":""},"",null,"",null,"",null,{"$f":"IF(L395=\"\",\"\",IF(VLOOKUP(F395,Tabelle_Fisse!$B$4:$C$21,2,FALSE)=\"ok\",\"\",1))","v":""},null,"",null,"",""]
[{"$nulls":11},"",{"$f":"IF(L396=\"\",\"\",IF(COUNTIF(L$6:L$596,L396)=1,\"\",COUNTIF(L$6:L$596,L396)))","v":""},"",null,"",null,"",null,{"$f":"IF(L396=\"\",\"\",IF(VLOOKUP(F396,Tabelle_Fisse!$B$4:$C$21,2,FALSE)=\"ok\",\"\",1))","v":""},null,"",null,"",""]
[{"$nulls":11},"",{"$f":"IF(L397=\"\",\"\",IF(COUNTIF(L$6:L$596,L397)=1,\"\",COUNTIF(L$6:L$596,L397)))","v":""},"",null,"",null,"",null,{"$f":"IF(L397=\"\",\"\",IF(VLOOKUP(F397,Tabelle_Fisse!$B$4:$C$21,2,FALSE)=\"ok\",\"\",1))","v":""},null,"",null,"",""]
[{"$nulls":11},"",{"$f":"IF(L398=\"\",\"\",IF(COUNTIF(L$6:L$596,L398)=1,\"\",COUNTIF(L$6:L$596,L398)))","v":""},"",null,"",null,"",null,{"$f":"IF(L398=\"\",\"\",IF(VLOOKUP(F398,Tabelle_Fisse!$B$4:$C$21,2,FALSE)=\"ok\",\"\",1))","v":""},null,"",null,"",""]
[{"$nulls":11},"",{"$f":"IF(L399=\"\",\"\",IF(COUNTIF(L$6:L$596,L399)=1,\"\",COUNTIF(L$6:L$596,L399)))","v":""},"",null,"",null,"",null,{"$f":"IF(L399=\"\",\"\",IF(VLOOKUP(F399,Tabelle_Fisse!$B$4:$C$21,2,FALSE)=\"ok\",\"\",1))","v":""},null,"",null,"",""]
[{"$nulls":11},"",{"$f":"IF(L400=\"\",\"\",IF(COUNTIF(L$6:L$596,L400)=1,\"\",COUNTIF(L$6:L$596,L400)))","v":""},"",null,"",null,"",null,{"$f":"IF(L400=\"\",\"\",IF(VLOOKUP(F400,Tabelle_Fisse!$B$4:$C$21,2,FALSE)=\"ok\",\"\",1))","v":""},null,"",null,"",""]
[{"$nulls":11},"",{"$f":"IF(L401=\"\",\"\",IF(COUNTIF(L$6:L$596,L401)=1,\"\",COUNTIF(L$6:L$596,L401)))","v":""},"",null,"",null,"",null,{"$f":"IF(L401=\"\",\"\",IF(VLOOKUP(F401,Tabelle_Fisse!$B$4:$C$21,2,FALSE)=\"ok\",\"\",1))","v":""},null,"",null,"",""]
[{"$nulls":11},"",{"$f":"IF(L402=\"\",\"\",IF(COUNTIF(L$6:L$596,L402)=1,\"\",COUNTIF(L$6:L$596,L402)))","v":""},"",null,"",null,"",null,{"$f":"IF(L402=\"\",\"\",IF(VLOOKUP(F402,Tabelle_Fisse!$B$4:$C$21,2,FALSE)=\"ok\",\"\",1))","v":""},null,"",null,"",""]
[{"$nulls":11},"",{"$f":"IF(L403=\"\",\"\",IF(COUNTIF(L$6:L$596,L403)=1,\"\",COUNTIF(L$6:L$596,L403)))","v":""},"",null,"",null,"",null,{"$f":"IF(L403=\"\",\"\",IF(VLOOKUP(F403,Tabelle_Fisse!$B$4:$C$21,2,FALSE)=\"ok\",\"\",1))","v":""},null,"",null,"",""]
[{"$nulls":11},"",{"$f":"IF(L404=\"\",\"\",IF(COUNTIF(L$6:L$596,L404)=1,\"\",COUNTIF(L$6:L$596,L404)))","v":""},"",null,"",null,"",null,{"$f":"IF(L404=\"\",\"\",IF(VLOOKUP(F404,Tabelle_Fisse!$B$4:$C$21,2,FALSE)=\"ok\",\"\",1))","v":""},null,"",null,"",""]
[{"$nulls":11},"",{"$f":"IF(L405=\"\",\"\",IF(COUNTIF(L$6:L$596,L405)=1,\"\",COUNTIF(L$6:L$596,L405)))","v":""},"",null,"",null,"",null,{"$f":"IF(L405=\"\",\"\",IF(VLOOKUP(F405,Tabelle_Fisse!$B$4:$C$21,2,FALSE)=\"ok\",\"\",1))","v":""},null,"",null,"",""]
[{"$nulls":11},"",{"$f":"IF(L406=\"\",\"\",IF(COUNTIF(L$6:L$596,L406)=1,\"\",COUNTIF(L$6:L$596,L406)))","v":""},"",null,"",null,"",null,{"$f":"IF(L406=\"\",\"\",IF(VLOOKUP(F406,Tabelle_Fisse!$B$4:$C$21,2,FALSE)=\"ok\",\"\",1))","v":""},null,"",null,"",""]
[{"$nulls":11},"",{"$f":"IF(L407=\"\",\"\",IF(COUNTIF(L$6:L$596,L407)=1,\"\",COUNTIF(L$6:L$596,L407)))","v":""},"",null,"",null,"",null,{"$f":"IF(L407=\"\",\"\",IF(VLOOKUP(F407,Tabelle_Fisse!$B$4:$C$21,2,FALSE)=\"ok\",\"\",1))","v":""},null,"",null,"",""]
[{"$nulls":11},"",{"$f":"IF(L408=\"\",\"\",IF(COUNTIF(L$6:L$596,L408)=1,\"\",COUNTIF(L$6:L$596,L408)))","v":""},"",null,"",null,"",null,{"$f":"IF(L408=\"\",\"\",IF(VLOOKUP(F408,Tabelle_Fisse!$B$4:$C$21,2,FALSE)=\"ok\",\"\",1))","v":""},null,"",null,"",""]
[{"$nulls":11},"",{"$f":"IF(L409=\"\",\"\",IF(COUNTIF(L$6:L$596,L409)=1,\"\",COUNTIF(L$6:L$596,L409)))","v":""},"",null,"",null,"",null,{"$f":"IF(L409=\"\",\"\",IF(VLOOKUP(F409,Tabelle_Fisse!$B$4:$C$21,2,FALSE)=\"ok\",\"\",1))","v":""},null,"",null,"",""]
[{"$nulls":11},"",{"$f":"IF(L410=\"\",\"\",IF(COUNTIF(L$6:L$596,L410)=1,\"\",COUNTIF(L$6:L$596,L410)))","v":""},"",null,"",null,"",null,{"$f":"IF(L410=\"\",\"\",IF(VLOOKUP(F410,Tabelle_Fisse!$B$4:$C$21,2,FALSE)=\"ok\",\"\",1))","v":""},null,"",null,"",""]
[{"$nulls":11},"",{"$f":"IF(L411=\"\",\"\",IF(COUNTIF(L$6:L$596,L411)=1,\"\",COUNTIF(L$6:L$596,L411)))","v":""},"",null,"",null,"",null,{"$f":"IF(L411=\"\",\"\",IF(VLOOKUP(F411,Tabelle_Fisse!$B$4:$C$21,2,FALSE)=\"ok\",\"\",1))","v":""},null,"",null,"",""]
[{"$nulls":11},"",{"$f":"IF(L412=\"\",\"\",IF(COUNTIF(L$6:L$596,L412)=1,\"\",COUNTIF(L$6:L$596,L412)))","v":""},"",null,"",null,"",null,{"$f":"IF(L412=\"\",\"\",IF(VLOOKUP(F412,Tabelle_Fisse!$B$4:$C$21,2,FALSE)=\"ok\",\"\",1))","v":""},null,"",null,"",""]
[{"$nulls":11},"",{"$f":"IF(L413=\"\",\"\",IF(COUNTIF(L$6:L$596,L413)=1,\"\",COUNTIF(L$6:L$596,L413)))","v":""},"",null,"",null,"",null,{"$f":"IF(L413=\"\",\"\",IF(VLOOKUP(F413,Tabelle_Fisse!$B$4:$C$21,2,FALSE)=\"ok\",\"\",1))","v":""},null,"",null,"",""]
[{"$nulls":11},"",{"$f":"IF(L414=\"\",\"\",IF(COUNTIF(L$6:L$596,L414)=1,\"\",COUNTIF(L$6:L$596,L414)))","v":""},"",null,"",null,"",null,{"$f":"IF(L414=\"\",\"\",IF(VLOOKUP(F414,Tabelle_Fisse!$B$4:$C$21,2,FALSE)=\"ok\",\"\",1))","v":""},null,"",null,"",""]
[{"$nulls":11},"",{"$f":"IF(L415=\"\",\"\",IF(COUNTIF(L$6:L$596,L415)=1,\"\",COUNTIF(L$6:L$596,L415)))","v":""},"",null,"",null,"",null,{"$f":"IF(L415=\"\",\"\",IF(VLOOKUP(F415,Tabelle_Fisse!$B$4:$C$21,2,FALSE)=\"ok\",\"\",1))","v":""},null,"",null,"",""]
[{"$nulls":11},"",{"$f":"IF(L416=\"\",\"\",IF(COUNTIF(L$6:L$596,L416)=1,\"\",COUNTIF(L$6:L$596,L416)))","v":""},"",null,"",null,"",null,{"$f":"IF(L416=\"\",\"\",IF(VLOOKUP(F416,Tabelle_Fisse!$B$4:$C$21,2,FALSE)=\"ok\",\"\",1))","v":""},null,"",null,"",""]
[{"$nulls":11},"",{"$f":"IF(L417=\"\",\"\",IF(COUNTIF(L$6:L$596,L417)=1,\"\",COUNTIF(L$6:L$596,L417)))","v":""},"",null,"",null,"",null,{"$f":"IF(L417=\"\",\"\",IF(VLOOKUP(F417,Tabelle_Fisse!$B$4:$C$21,2,FALSE)=\"ok\",\"\",1))","v":""},null,"",null,"",""]
[{"$nulls":11},"",{"$f":"IF(L418=\"\",\"\",IF(COUNTIF(L$6:L$596,L418)=1,\"\",COUNTIF(L$6:L$596,L418)))","v":""},"",null,"",null,"",null,{"$f":"IF(L418=\"\",\"\",IF(VLOOKUP(F418,Tabelle_Fisse!$B$4:$C$21,2,FALSE)=\"ok\",\"\",1))","v":""},null,"",null,"",""]
[{"$nulls":11},"",{"$f":"IF(L419=\"\",\"\",IF(COUNTIF(L$6:L$596,L419)=1,\"\",COUNTIF(L$6:L$596,L419)))","v":""},"",null,"",null,"",null,{"$f":"IF(L419=\"\",\"\",IF(VLOOKUP(F419,Tabelle_Fisse!$B$4:$C$21,2,FALSE)=\"ok\",\"\",1))","v":""},null,"",null,"",""]
[{"$nulls":11},"",{"$f":"IF(L420=\"\",\"\",IF(COUNTIF(L$6:L$596,L420)=1,\"\",COUNTIF(L$6:L$596,L420)))","v":""},"",null,"",null,"",null,{"$f":"IF(L420=\"\",\"\",IF(VLOOKUP(F420,Tabelle_Fisse!$B$4:$C$21,2,FALSE)=\"ok\",\"\",1))","v":""},null,"",null,"",""]
[{"$nulls":11},"",{"$f":"IF(L421=\"\",\"\",IF(COUNTIF(L$6:L$596,L421)=1,\"\",COUNTIF(L$6:L$596,L421)))","v":""},"",null,"",null,"",null,{"$f":"IF(L421=\"\",\"\",IF(VLOOKUP(F421,Tabelle_Fisse!$B$4:$C$21,2,FALSE)=\"ok\",\"\",1))","v":""},null,"",null,"",""]
[{"$nulls":11},"",{"$f":"IF(L422=\"\",\"\",IF(COUNTIF(L$6:L$596,L422)=1,\"\",COUNTIF(L$6:L$596,L422)))","v":""},"",null,"",null,"",null,{"$f":"IF(L422=\"\",\"\",IF(VLOOKUP(F422,Tabelle_Fisse!$B$4:$C$21,2,FALSE)=\"ok\",\"\",1))","v":""},null,"",null,"",""]
[{"$nulls":11},"",{"$f":"IF(L423=\"\",\"\",IF(COUNTIF(L$6:L$596,L423)=1,\"\",COUNTIF(L$6:L$596,L423)))","v":""},"",null,"",null,"",null,{"$f":"IF(L423=\"\",\"\",IF(VLOOKUP(F423,Tabelle_Fisse!$B$4:$C$21,2,FALSE)=\"ok\",\"\",1))","v":""},null,"",null,"",""]
[{"$nulls":11},"",{"$f":"IF(L424=\"\",\"\",IF(COUNTIF(L$6:L$596,L424)=1,\"\",COUNTIF(L$6:L$596,L424)))","v":""},"",null,"",null,"",null,{"$f":"IF(L424=\"\",\"\",IF(VLOOKUP(F424,Tabelle_Fisse!$B$4:$C$21,2,FALSE)=\"ok\",\"\",1))","v":""},null,"",null,"",""]
[{"$nulls":11},"",{"$f":"IF(L425=\"\",\"\",IF(COUNTIF(L$6:L$596,L425)=1,\"\",COUNTIF(L$6:L$596,L425)))","v":""},"",null,"",null,"",null,{"$f":"IF(L425=\"\",\"\",IF(VLOOKUP(F425,Tabelle_Fisse!$B$4:$C$21,2,FALSE)=\"ok\",\"\",1))","v":""},null,"",null,"",""]
[{"$nulls":11},"",{"$f":"IF(L426=\"\",\"\",IF(COUNTIF(L$6:L$596,L426)=1,\"\",COUNTIF(L$6:L$596,L426)))","v":""},"",null,"",null,"",null,{"$f":"IF(L426=\"\",\"\",IF(VLOOKUP(F426,Tabelle_Fisse!$B$4:$C$21,2,FALSE)=\"ok\",\"\",1))","v":""},null,"",null,"",""]
[{"$nulls":11},"",{"$f":"IF(L427=\"\",\"\",IF(COUNTIF(L$6:L$596,L427)=1,\"\",COUNTIF(L$6:L$596,L427)))","v":""},"",null,"",null,"",null,{"$f":"IF(L427=\"\",\"\",IF(VLOOKUP(F427,Tabelle_Fisse!$B$4:$C$21,2,FALSE)=\"ok\",\"\",1))","v":""},null,"",null,"",""]
[{"$nulls":11},"",{"$f":"IF(L428=\"\",\"\",IF(COUNTIF(L$6:L$596,L428)=1,\"\",COUNTIF(L$6:L$596,L428)))","v":""},"",null,"",null,"",null,{"$f":"IF(L428=\"\",\"\",IF(VLOOKUP(F428,Tabelle_Fisse!$B$4:$C$21,2,FALSE)=\"ok\",\"\",1))","v":""},null,"",null,"",""]
[{"$nulls":11},"",{"$f":"IF(L429=\"\",\"\",IF(COUNTIF(L$6:L$596,L429)=1,\"\",COUNTIF(L$6:L$596,L429)))","v":""},"",null,"",null,"",null,{"$f":"IF(L429=\"\",\"\",IF(VLOOKUP(F429,Tabelle_Fisse!$B$4:$C$21,2,FALSE)=\"ok\",\"\",1))","v":""},null,"",null,"",""]
[{"$nulls":11},"",{"$f":"IF(L430=\"\",\"\",IF(COUNTIF(L$6:L$596,L430)=1,\"\",COUNTIF(L$6:L$596,L430)))","v":""},"",null,"",null,"",null,{"$f":"IF(L430=\"\",\"\",IF(VLOOKUP(F430,Tabelle_Fisse!$B$4:$C$21,2,FALSE)=\"ok\",\"\",1))","v":""},null,"",null,"",""]
[{"$nulls":11},"",{"$f":"IF(L431=\"\",\"\",IF(COUNTIF(L$6:L$596,L431)=1,\"\",COUNTIF(L$6:L$596,L431)))","v":""},"",null,"",null,"",null,{"$f":"IF(L431=\"\",\"\",IF(VLOOKUP(F431,Tabelle_Fisse!$B$4:$C$21,2,FALSE)=\"ok\",\"\",1))","v":""},null,"",null,"",""]
[{"$nulls":11},"",{"$f":"IF(L432=\"\",\"\",IF(COUNTIF(L$6:L$596,L432)=1,\"\",COUNTIF(L$6:L$596,L432)))","v":""},"",null,"",null,"",null,{"$f":"IF(L432=\"\",\"\",IF(VLOOKUP(F432,Tabelle_Fisse!$B$4:$C$21,2,FALSE)=\"ok\",\"\",1))","v":""},null,"",null,"",""]
[{"$nulls":11},"",{"$f":"IF(L433=\"\",\"\",IF(COUNTIF(L$6:L$596,L433)=1,\"\",COUNTIF(L$6:L$596,L433)))","v":""},"",null,"",null,"",null,{"$f":"IF(L433=\"\",\"\",IF(VLOOKUP(F433,Tabelle_Fisse!$B$4:$C$21,2,FALSE)=\"ok\",\"\",1))","v":""},null,"",null,"",""]
[{"$nulls":11},"",{"$f":"IF(L434=\"\",\"\",IF(COUNTIF(L$6:L$596,L434)=1,\"\",COUNTIF(L$6:L$596,L434)))","v":""},"",null,"",null,"",null,{"$f":"IF(L434=\"\",\"\",IF(VLOOKUP(F434,Tabelle_Fisse!$B$4:$C$21,2,FALSE)=\"ok\",\"\",1))","v":""},null,"",null,"",""]
[{"$nulls":11},"",{"$f":"IF(L435=\"\",\"\",IF(COUNTIF(L$6:L$596,L435)=1,\"\",COUNTIF(L$6:L$596,L435)))","v":""},"",null,"",null,"",null,{"$f":"IF(L435=\"\",\"\",IF(VLOOKUP(F435,Tabelle_Fisse!$B$4:$C$21,2,FALSE)=\"ok\",\"\",1))","v":""},null,"",null,"",""]
[{"$nulls":11},"",{"$f":"IF(L436=\"\",\"\",IF(COUNTIF(L$6:L$596,L436)=1,\"\",COUNTIF(L$6:L$596,L436)))","v":""},"",null,"",null,"",null,{"$f":"IF(L436=\"\",\"\",IF(VLOOKUP(F436,Tabelle_Fisse!$B$4:$C$21,2,FALSE)=\"ok\",\"\",1))","v":""},null,"",null,"",""]
[{"$nulls":11},"",{"$f":"IF(L437=\"\",\"\",IF(COUNTIF(L$6:L$596,L437)=1,\"\",COUNTIF(L$6:L$596,L437)))","v":""},"",null,"",null,"",null,{"$f":"IF(L437=\"\",\"\",IF(VLOOKUP(F437,Tabelle_Fisse!$B$4:$C$21,2,FALSE)=\"ok\",\"\",1))","v":""},null,"",null,"",""]
[{"$nulls":11},"",{"$f":"IF(L438=\"\",\"\",IF(COUNTIF(L$6:L$596,L438)=1,\"\",COUNTIF(L$6:L$596,L438)))","v":""},"",null,"",null,"",null,{"$f":"IF(L438=\"\",\"\",IF(VLOOKUP(F438,Tabelle_Fisse!$B$4:$C$21,2,FALSE)=\"ok\",\"\",1))","v":""},null,"",null,"",""]
[{"$nulls":11},"",{"$f":"IF(L439=\"\",\"\",IF(COUNTIF(L$6:L$596,L439)=1,\"\",COUNTIF(L$6:L$596,L439)))","v":""},"",null,"",null,"",null,{"$f":"IF(L439=\"\",\"\",IF(VLOOKUP(F439,Tabelle_Fisse!$B$4:$C$21,2,FALSE)=\"ok\",\"\",1))","v":""},null,"",null,"",""]
[{"$nulls":11},"",{"$f":"IF(L440=\"\",\"\",IF(COUNTIF(L$6:L$596,L440)=1,\"\",COUNTIF(L$6:L$596,L440)))","v":""},"",null,"",null,"",null,{"$f":"IF(L440=\"\",\"\",IF(VLOOKUP(F440,Tabelle_Fisse!$B$4:$C$21,2,FALSE)=\"ok\",\"\",1))","v":""},null,"",null,"",""]
[{"$nulls":11},"",{"$f":"IF(L441=\"\",\"\",IF(COUNTIF(L$6:L$596,L441)=1,\"\",COUNTIF(L$6:L$596,L441)))","v":""},"",null,"",null,"",null,{"$f":"IF(L441=\"\",\"\",IF(VLOOKUP(F441,Tabelle_Fisse!$B$4:$C$21,2,FALSE)=\"ok\",\"\",1))","v":""},null,"",null,"",""]
[{"$nulls":11},"",{"$f":"IF(L442=\"\",\"\",IF(COUNTIF(L$6:L$596,L442)=1,\"\",COUNTIF(L$6:L$596,L442)))","v":""},"",null,"",null,"",null,{"$f":"IF(L442=\"\",\"\",IF(VLOOKUP(F442,Tabelle_Fisse!$B$4:$C$21,2,FALSE)=\"ok\",\"\",1))","v":""},null,"",null,"",""]
[{"$nulls":11},"",{"$f":"IF(L443=\"\",\"\",IF(COUNTIF(L$6:L$596,L443)=1,\"\",COUNTIF(L$6:L$596,L443)))","v":""},"",null,"",null,"",null,{"$f":"IF(L443=\"\",\"\",IF(VLOOKUP(F443,Tabelle_Fisse!$B$4:$C$21,2,FALSE)=\"ok\",\"\",1))","v":""},null,"",null,"",""]
[{"$nulls":11},"",{"$f":"IF(L444=\"\",\"\",IF(COUNTIF(L$6:L$596,L444)=1,\"\",COUNTIF(L$6:L$596,L444)))","v":""},"",null,"",null,"",null,{"$f":"IF(L444=\"\",\"\",IF(VLOOKUP(F444,Tabelle_Fisse!$B$4:$C$21,2,FALSE)=\"ok\",\"\",1))","v":""},null,"",null,"",""]
[{"$nulls":11},"",{"$f":"IF(L445=\"\",\"\",IF(COUNTIF(L$6:L$596,L445)=1,\"\",COUNTIF(L$6:L$596,L445)))","v":""},"",null,"",null,"",null,{"$f":"IF(L445=\"\",\"\",IF(VLOOKUP(F445,Tabelle_Fisse!$B$4:$C$21,2,FALSE)=\"ok\",\"\",1))","v":""},null,"",null,"",""]
[{"$nulls":11},"",{"$f":"IF(L446=\"\",\"\",IF(COUNTIF(L$6:L$596,L446)=1,\"\",COUNTIF(L$6:L$596,L446)))","v":""},"",null,"",null,"",null,{"$f":"IF(L446=\"\",\"\",IF(VLOOKUP(F446,Tabelle_Fisse!$B$4:$C$21,2,FALSE)=\"ok\",\"\",1))","v":""},null,"",null,"",""]
[{"$nulls":11},"",{"$f":"IF(L447=\"\",\"\",IF(COUNTIF(L$6:L$596,L447)=1,\"\",COUNTIF(L$6:L$596,L447)))","v":""},"",null,"",null,"",null,{"$f":"IF(L447=\"\",\"\",IF(VLOOKUP(F447,Tabelle_Fisse!$B$4:$C$21,2,FALSE)=\"ok\",\"\",1))","v":""},null,"",null,"",""]
[{"$nulls":11},"",{"$f":"IF(L448=\"\",\"\",IF(COUNTIF(L$6:L$596,L448)=1,\"\",COUNTIF(L$6:L$596,L448)))","v":""},"",null,"",null,"",null,{"$f":"IF(L448=\"\",\"\",IF(VLOOKUP(F448,Tabelle_Fisse!$B$4:$C$21,2,FALSE)=\"ok\",\"\",1))","v":""},null,"",null,"",""]
[{"$nulls":11},"",{"$f":"IF(L449=\"\",\"\",IF(COUNTIF(L$6:L$596,L449)=1,\"\",COUNTIF(L$6:L$596,L449)))","v":""},"",null,"",null,"",null,{"$f":"IF(L449=\"\",\"\",IF(VLOOKUP(F449,Tabelle_Fisse!$B$4:$C$21,2,FALSE)=\"ok\",\"\",1))","v":""},null,"",null,"",""]
[{"$nulls":11},"",{"$f":"IF(L450=\"\",\"\",IF(COUNTIF(L$6:L$596,L450)=1,\"\",COUNTIF(L$6:L$596,L450)))","v":""},"",null,"",null,"",null,{"$f":"IF(L450=\"\",\"\",IF(VLOOKUP(F450,Tabelle_Fisse!$B$4:$C$21,2,FALSE)=\"ok\",\"\",1))","v":""},null,"",null,"",""]
[{"$nulls":11},{"$f":"TRIM(B451)","v":""},{"$f":"IF(L451=\"\",\"\",IF(COUNTIF(L$6:L$596,L451)=1,\"\",COUNTIF(L$6:L$596,L451)))","v":""},{"$f":"IF(L451=\"\",\"\",IF(LEN(L451)<>10,1,\"\"))","v":""},null,{"$f":"IF(L451=\"\",\"\",IF(LEN(C451)<>11,1,\"\"))","v":""},null,{"$f":"IF(L451=\"\",\"\",IF(LEN(E451)>250,1,\"\"))","v":""},null,{"$f":"IF(L451=\"\",\"\",IF(VLOOKUP(F451,Tabelle_Fisse!$B$4:$C$21,2,FALSE)=\"ok\",\"\",1))","v":""},null,{"$f":"IF(L451=\"\",\"\",IF(OR(ISNUMBER(G451)=FALSE,G451<=0),1,\"\"))","v":""},null,{"$f":"IF(OR(B451=\"\",H451=\"\"),\"\",IF(OR(H451<X$3,H451>X$4),1,\"\"))","v":""},{"$f":"IF(OR(B451=\"\",I451=\"\"),\"\",IF(OR(I451<Y$3,I451>Y$4),1,\"\"))","v":""}]
[{"$nulls":11},"",{"$f":"IF(L452=\"\",\"\",IF(COUNTIF(L$6:L$596,L452)=1,\"\",COUNTIF(L$6:L$596,L452)))","v":""},"",null,"",null,"",null,{"$f":"IF(L452=\"\",\"\",IF(VLOOKUP(F452,Tabelle_Fisse!$B$4:$C$21,2,FALSE)=\"ok\",\"\",1))","v":""},null,"",null,"",""]
[{"$nulls":11},"",{"$f":"IF(L453=\"\",\"\",IF(COUNTIF(L$6:L$596,L453)=1,\"\",COUNTIF(L$6:L$596,L453)))","v":""},"",null,"",null,"",null,{"$f":"IF(L453=\"\",\"\",IF(VLOOKUP(F453,Tabelle_Fisse!$B$4:$C$21,2,FALSE)=\"ok\",\"\",1))","v":""},null,"",null,"",""]
[{"$nulls":11},"",{"$f":"IF(L454=\"\",\"\",IF(COUNTIF(L$6:L$596,L454)=1,\"\",COUNTIF(L$6:L$596,L454)))","v":""},"",null,"",null,"",null,{"$f":"IF(L454=\"\",\"\",IF(VLOOKUP(F454,Tabelle_Fisse!$B$4:$C$21,2,FALSE)=\"ok\",\"\",1))","v":""},null,"",null,"",""]
[{"$nulls":11},"",{"$f":"IF(L455=\"\",\"\",IF(COUNTIF(L$6:L$596,L455)=1,\"\",COUNTIF(L$6:L$596,L455)))","v":""},"",null,"",null,"",null,{"$f":"IF(L455=\"\",\"\",IF(VLOOKUP(F455,Tabelle_Fisse!$B$4:$C$21,2,FALSE)=\"ok\",\"\",1))","v":""},null,"",null,"",""]
[{"$nulls":11},"",{"$f":"IF(L456=\"\",\"\",IF(COUNTIF(L$6:L$596,L456)=1,\"\",COUNTIF(L$6:L$596,L456)))","v":""},"",null,"",null,"",null,{"$f":"IF(L456=\"\",\"\",IF(VLOOKUP(F456,Tabelle_Fisse!$B$4:$C$21,2,FALSE)=\"ok\",\"\",1))","v":""},null,"",null,"",""]
[{"$nulls":11},"",{"$f":"IF(L457=\"\",\"\",IF(COUNTIF(L$6:L$596,L457)=1,\"\",COUNTIF(L$6:L$596,L457)))","v":""},"",null,"",null,"",null,{"$f":"IF(L457=\"\",\"\",IF(VLOOKUP(F457,Tabelle_Fisse!$B$4:$C$21,2,FALSE)=\"ok\",\"\",1))","v":""},null,"",null,"",""]
[{"$nulls":11},"",{"$f":"IF(L458=\"\",\"\",IF(COUNTIF(L$6:L$596,L458)=1,\"\",COUNTIF(L$6:L$596,L458)))","v":""},"",null,"",null,"",null,{"$f":"IF(L458=\"\",\"\",IF(VLOOKUP(F458,Tabelle_Fisse!$B$4:$C$21,2,FALSE)=\"ok\",\"\",1))","v":""},null,"",null,"",""]
[{"$nulls":11},"",{"$f":"IF(L459=\"\",\"\",IF(COUNTIF(L$6:L$596,L459)=1,\"\",COUNTIF(L$6:L$596,L459)))","v":""},"",null,"",null,"",null,{"$f":"IF(L459=\"\",\"\",IF(VLOOKUP(F459,Tabelle_Fisse!$B$4:$C$21,2,FALSE)=\"ok\",\"\",1))","v":""},null,"",null,"",""]
[{"$nulls":11},"",{"$f":"IF(L460=\"\",\"\",IF(COUNTIF(L$6:L$596,L460)=1,\"\",COUNTIF(L$6:L$596,L460)))","v":""},"",null,"",null,"",null,{"$f":"IF(L460=\"\",\"\",IF(VLOOKUP(F460,Tabelle_Fisse!$B$4:$C$21,2,FALSE)=\"ok\",\"\",1))","v":""},null,"",null,"",""]
[{"$nulls":11},"",{"$f":"IF(L461=\"\",\"\",IF(COUNTIF(L$6:L$596,L461)=1,\"\",COUNTIF(L$6:L$596,L461)))","v":""},"",null,"",null,"",null,{"$f":"IF(L461=\"\",\"\",IF(VLOOKUP(F461,Tabelle_Fisse!$B$4:$C$21,2,FALSE)=\"ok\",\"\",1))","v":""},null,"",null,"",""]
[{"$nulls":11},"",{"$f":"IF(L462=\"\",\"\",IF(COUNTIF(L$6:L$596,L462)=1,\"\",COUNTIF(L$6:L$596,L462)))","v":""},"",null,"",null,"",null,{"$f":"IF(L462=\"\",\"\",IF(VLOOKUP(F462,Tabelle_Fisse!$B$4:$C$21,2,FALSE)=\"ok\",\"\",1))","v":""},null,"",null,"",""]
[{"$nulls":11},"",{"$f":"IF(L463=\"\",\"\",IF(COUNTIF(L$6:L$596,L463)=1,\"\",COUNTIF(L$6:L$596,L463)))","v":""},"",null,"",null,"",null,{"$f":"IF(L463=\"\",\"\",IF(VLOOKUP(F463,Tabelle_Fisse!$B$4:$C$21,2,FALSE)=\"ok\",\"\",1))","v":""},null,"",null,"",""]
[{"$nulls":11},"",{"$f":"IF(L464=\"\",\"\",IF(COUNTIF(L$6:L$596,L464)=1,\"\",COUNTIF(L$6:L$596,L464)))","v":""},"",null,"",null,"",null,{"$f":"IF(L464=\"\",\"\",IF(VLOOKUP(F464,Tabelle_Fisse!$B$4:$C$21,2,FALSE)=\"ok\",\"\",1))","v":""},null,"",null,"",""]
[{"$nulls":11},"",{"$f":"IF(L465=\"\",\"\",IF(COUNTIF(L$6:L$596,L465)=1,\"\",COUNTIF(L$6:L$596,L465)))","v":""},"",null,"",null,"",null,{"$f":"IF(L465=\"\",\"\",IF(VLOOKUP(F465,Tabelle_Fisse!$B$4:$C$21,2,FALSE)=\"ok\",\"\",1))","v":""},null,"",null,"",""]
[{"$nulls":11},"",{"$f":"IF(L466=\"\",\"\",IF(COUNTIF(L$6:L$596,L466)=1,\"\",COUNTIF(L$6:L$596,L466)))","v":""},"",null,"",null,"",null,{"$f":"IF(L466=\"\",\"\",IF(VLOOKUP(F466,Tabelle_Fisse!$B$4:$C$21,2,FALSE)=\"ok\",\"\",1))","v":""},null,"",null,"",""]
[{"$nulls":11},"",{"$f":"IF(L467=\"\",\"\",IF(COUNTIF(L$6:L$596,L467)=1,\"\",COUNTIF(L$6:L$596,L467)))","v":""},"",null,"",null,"",null,{"$f":"IF(L467=\"\",\"\",IF(VLOOKUP(F467,Tabelle_Fisse!$B$4:$C$21,2,FALSE)=\"ok\",\"\",1))","v":""},null,"",null,"",""]
[{"$nulls":11},"",{"$f":"IF(L468=\"\",\"\",IF(COUNTIF(L$6:L$596,L468)=1,\"\",COUNTIF(L$6:L$596,L468)))","v":""},"",null,"",null,"",null,{"$f":"IF(L468=\"\",\"\",IF(VLOOKUP(F468,Tabelle_Fisse!$B$4:$C$21,2,FALSE)=\"ok\",\"\",1))","v":""},null,"",null,"",""]
[{"$nulls":11},"",{"$f":"IF(L469=\"\",\"\",IF(COUNTIF(L$6:L$596,L469)=1,\"\",COUNTIF(L$6:L$596,L469)))","v":""},"",null,"",null,"",null,{"$f":"IF(L469=\"\",\"\",IF(VLOOKUP(F469,Tabelle_Fisse!$B$4:$C$21,2,FALSE)=\"ok\",\"\",1))","v":""},null,"",null,"",""]
[{"$nulls":11},"",{"$f":"IF(L470=\"\",\"\",IF(COUNTIF(L$6:L$596,L470)=1,\"\",COUNTIF(L$6:L$596,L470)))","v":""},"",null,"",null,"",null,{"$f":"IF(L470=\"\",\"\",IF(VLOOKUP(F470,Tabelle_Fisse!$B$4:$C$21,2,FALSE)=\"ok\",\"\",1))","v":""},null,"",null,"",""]
[{"$nulls":11},"",{"$f":"IF(L471=\"\",\"\",IF(COUNTIF(L$6:L$596,L471)=1,\"\",COUNTIF(L$6:L$596,L471)))","v":""},"",null,"",null,"",null,{"$f":"IF(L471=\"\",\"\",IF(VLOOKUP(F471,Tabelle_Fisse!$B$4:$C$21,2,FALSE)=\"ok\",\"\",1))","v":""},null,"",null,"",""]
[{"$nulls":11},"",{"$f":"IF(L472=\"\",\"\",IF(COUNTIF(L$6:L$596,L472)=1,\"\",COUNTIF(L$6:L$596,L472)))","v":""},"",null,"",null,"",null,{"$f":"IF(L472=\"\",\"\",IF(VLOOKUP(F472,Tabelle_Fisse!$B$4:$C$21,2,FALSE)=\"ok\",\"\",1))","v":""},null,"",null,"",""]
[{"$nulls":11},"",{"$f":"IF(L473=\"\",\"\",IF(COUNTIF(L$6:L$596,L473)=1,\"\",COUNTIF(L$6:L$596,L473)))","v":""},"",null,"",null,"",null,{"$f":"IF(L473=\"\",\"\",IF(VLOOKUP(F473,Tabelle_Fisse!$B$4:$C$21,2,FALSE)=\"ok\",\"\",1))","v":""},null,"",null,"",""]
[{"$nulls":11},"",{"$f":"IF(L474=\"\",\"\",IF(COUNTIF(L$6:L$596,L474)=1,\"\",COUNTIF(L$6:L$596,L474)))","v":""},"",null,"",null,"",null,{"$f":"IF(L474=\"\",\"\",IF(VLOOKUP(F474,Tabelle_Fisse!$B$4:$C$21,2,FALSE)=\"ok\",\"\",1))","v":""},null,"",null,"",""]
[{"$nulls":11},"",{"$f":"IF(L475=\"\",\"\",IF(COUNTIF(L$6:L$596,L475)=1,\"\",COUNTIF(L$6:L$596,L475)))","v":""},"",null,"",null,"",null,{"$f":"IF(L475=\"\",\"\",IF(VLOOKUP(F475,Tabelle_Fisse!$B$4:$C$21,2,FALSE)=\"ok\",\"\",1))","v":""},null,"",null,"",""]
[{"$nulls":11},"",{"$f":"IF(L476=\"\",\"\",IF(COUNTIF(L$6:L$596,L476)=1,\"\",COUNTIF(L$6:L$596,L476)))","v":""},"",null,"",null,"",null,{"$f":"IF(L476=\"\",\"\",IF(VLOOKUP(F476,Tabelle_Fisse!$B$4:$C$21,2,FALSE)=\"ok\",\"\",1))","v":""},null,"",null,"",""]
[{"$nulls":11},"",{"$f":"IF(L477=\"\",\"\",IF(COUNTIF(L$6:L$596,L477)=1,\"\",COUNTIF(L$6:L$596,L477)))","v":""},"",null,"",null,"",null,{"$f":"IF(L477=\"\",\"\",IF(VLOOKUP(F477,Tabelle_Fisse!$B$4:$C$21,2,FALSE)=\"ok\",\"\",1))","v":""},null,"",null,"",""]
[{"$nulls":11},"",{"$f":"IF(L478=\"\",\"\",IF(COUNTIF(L$6:L$596,L478)=1,\"\",COUNTIF(L$6:L$596,L478)))","v":""},"",null,"",null,"",null,{"$f":"IF(L478=\"\",\"\",IF(VLOOKUP(F478,Tabelle_Fisse!$B$4:$C$21,2,FALSE)=\"ok\",\"\",1))","v":""},null,"",null,"",""]
[{"$nulls":11},"",{"$f":"IF(L479=\"\",\"\",IF(COUNTIF(L$6:L$596,L479)=1,\"\",COUNTIF(L$6:L$596,L479)))","v":""},"",null,"",null,"",null,{"$f":"IF(L479=\"\",\"\",IF(VLOOKUP(F479,Tabelle_Fisse!$B$4:$C$21,2,FALSE)=\"ok\",\"\",1))","v":""},null,"",null,"",""]
[{"$nulls":11},"",{"$f":"IF(L480=\"\",\"\",IF(COUNTIF(L$6:L$596,L480)=1,\"\",COUNTIF(L$6:L$596,L480)))","v":""},"",null,"",null,"",null,{"$f":"IF(L480=\"\",\"\",IF(VLOOKUP(F480,Tabelle_Fisse!$B$4:$C$21,2,FALSE)=\"ok\",\"\",1))","v":""},null,"",null,"",""]
[{"$nulls":11},"",{"$f":"IF(L481=\"\",\"\",IF(COUNTIF(L$6:L$596,L481)=1,\"\",COUNTIF(L$6:L$596,L481)))","v":""},"",null,"",null,"",null,{"$f":"IF(L481=\"\",\"\",IF(VLOOKUP(F481,Tabelle_Fisse!$B$4:$C$21,2,FALSE)=\"ok\",\"\",1))","v":""},null,"",null,"",""]
[{"$nulls":11},"",{"$f":"IF(L482=\"\",\"\",IF(COUNTIF(L$6:L$596,L482)=1,\"\",COUNTIF(L$6:L$596,L482)))","v":""},"",null,"",null,"",null,{"$f":"IF(L482=\"\",\"\",IF(VLOOKUP(F482,Tabelle_Fisse!$B$4:$C$21,2,FALSE)=\"ok\",\"\",1))","v":""},null,"",null,"",""]
[{"$nulls":11},"",{"$f":"IF(L483=\"\",\"\",IF(COUNTIF(L$6:L$596,L483)=1,\"\",COUNTIF(L$6:L$596,L483)))","v":""},"",null,"",null,"",null,{"$f":"IF(L483=\"\",\"\",IF(VLOOKUP(F483,Tabelle_Fisse!$B$4:$C$21,2,FALSE)=\"ok\",\"\",1))","v":""},null,"",null,"",""]
[{"$nulls":11},"",{"$f":"IF(L484=\"\",\"\",IF(COUNTIF(L$6:L$596,L484)=1,\"\",COUNTIF(L$6:L$596,L484)))","v":""},"",null,"",null,"",null,{"$f":"IF(L484=\"\",\"\",IF(VLOOKUP(F484,Tabelle_Fisse!$B$4:$C$21,2,FALSE)=\"ok\",\"\",1))","v":""},null,"",null,"",""]
[{"$nulls":11},"",{"$f":"IF(L485=\"\",\"\",IF(COUNTIF(L$6:L$596,L485)=1,\"\",COUNTIF(L$6:L$596,L485)))","v":""},"",null,"",null,"",null,{"$f":"IF(L485=\"\",\"\",IF(VLOOKUP(F485,Tabelle_Fisse!$B$4:$C$21,2,FALSE)=\"ok\",\"\",1))","v":""},null,"",null,"",""]
[{"$nulls":11},"",{"$f":"IF(L486=\"\",\"\",IF(COUNTIF(L$6:L$596,L486)=1,\"\",COUNTIF(L$6:L$596,L486)))","v":""},"",null,"",null,"",null,{"$f":"IF(L486=\"\",\"\",IF(VLOOKUP(F486,Tabelle_Fisse!$B$4:$C$21,2,FALSE)=\"ok\",\"\",1))","v":""},null,"",null,"",""]
[{"$nulls":11},"",{"$f":"IF(L487=\"\",\"\",IF(COUNTIF(L$6:L$596,L487)=1,\"\",COUNTIF(L$6:L$596,L487)))","v":""},"",null,"",null,"",null,{"$f":"IF(L487=\"\",\"\",IF(VLOOKUP(F487,Tabelle_Fisse!$B$4:$C$21,2,FALSE)=\"ok\",\"\",1))","v":""},null,"",null,"",""]
[{"$nulls":11},"",{"$f":"IF(L488=\"\",\"\",IF(COUNTIF(L$6:L$596,L488)=1,\"\",COUNTIF(L$6:L$596,L488)))","v":""},"",null,"",null,"",null,{"$f":"IF(L488=\"\",\"\",IF(VLOOKUP(F488,Tabelle_Fisse!$B$4:$C$21,2,FALSE)=\"ok\",\"\",1))","v":""},null,"",null,"",""]
[{"$nulls":11},"",{"$f":"IF(L489=\"\",\"\",IF(COUNTIF(L$6:L$596,L489)=1,\"\",COUNTIF(L$6:L$596,L489)))","v":""},"",null,"",null,"",null,{"$f":"IF(L489=\"\",\"\",IF(VLOOKUP(F489,Tabelle_Fisse!$B$4:$C$21,2,FALSE)=\"ok\",\"\",1))","v":""},null,"",null,"",""]
[{"$nulls":11},"",{"$f":"IF(L490=\"\",\"\",IF(COUNTIF(L$6:L$596,L490)=1,\"\",COUNTIF(L$6:L$596,L490)))","v":""},"",null,"",null,"",null,{"$f":"IF(L490=\"\",\"\",IF(VLOOKUP(F490,Tabelle_Fisse!$B$4:$C$21,2,FALSE)=\"ok\",\"\",1))","v":""},null,"",null,"",""]
[{"$nulls":11},"",{"$f":"IF(L491=\"\",\"\",IF(COUNTIF(L$6:L$596,L491)=1,\"\",COUNTIF(L$6:L$596,L491)))","v":""},"",null,"",null,"",null,{"$f":"IF(L491=\"\",\"\",IF(VLOOKUP(F491,Tabelle_Fisse!$B$4:$C$21,2,FALSE)=\"ok\",\"\",1))","v":""},null,"",null,"",""]
[{"$nulls":11},"",{"$f":"IF(L492=\"\",\"\",IF(COUNTIF(L$6:L$596,L492)=1,\"\",COUNTIF(L$6:L$596,L492)))","v":""},"",null,"",null,"",null,{"$f":"IF(L492=\"\",\"\",IF(VLOOKUP(F492,Tabelle_Fisse!$B$4:$C$21,2,FALSE)=\"ok\",\"\",1))","v":""},null,"",null,"",""]
[{"$nulls":11},"",{"$f":"IF(L493=\"\",\"\",IF(COUNTIF(L$6:L$596,L493)=1,\"\",COUNTIF(L$6:L$596,L493)))","v":""},"",null,"",null,"",null,{"$f":"IF(L493=\"\",\"\",IF(VLOOKUP(F493,Tabelle_Fisse!$B$4:$C$21,2,FALSE)=\"ok\",\"\",1))","v":""},null,"",null,"",""]
[{"$nulls":11},"",{"$f":"IF(L494=\"\",\"\",IF(COUNTIF(L$6:L$596,L494)=1,\"\",COUNTIF(L$6:L$596,L494)))","v":""},"",null,"",null,"",null,{"$f":"IF(L494=\"\",\"\",IF(VLOOKUP(F494,Tabelle_Fisse!$B$4:$C$21,2,FALSE)=\"ok\",\"\",1))","v":""},null,"",null,"",""]
[{"$nulls":11},"",{"$f":"IF(L495=\"\",\"\",IF(COUNTIF(L$6:L$596,L495)=1,\"\",COUNTIF(L$6:L$596,L495)))","v":""},"",null,"",null,"",null,{"$f":"IF(L495=\"\",\"\",IF(VLOOKUP(F495,Tabelle_Fisse!$B$4:$C$21,2,FALSE)=\"ok\",\"\",1))","v":""},null,"",null,"",""]
[{"$nulls":11},"",{"$f":"IF(L496=\"\",\"\",IF(COUNTIF(L$6:L$596,L496)=1,\"\",COUNTIF(L$6:L$596,L496)))","v":""},"",null,"",null,"",null,{"$f":"IF(L496=\"\",\"\",IF(VLOOKUP(F496,Tabelle_Fisse!$B$4:$C$21,2,FALSE)=\"ok\",\"\",1))","v":""},null,"",null,"",""]
[{"$nulls":11},"",{"$f":"IF(L497=\"\",\"\",IF(COUNTIF(L$6:L$596,L497)=1,\"\",COUNTIF(L$6:L$596,L497)))","v":""},"",null,"",null,"",null,{"$f":"IF(L497=\"\",\"\",IF(VLOOKUP(F497,Tabelle_Fisse!$B$4:$C$21,2,FALSE)=\"ok\",\"\",1))","v":""},null,"",null,"",""]
[{"$nulls":11},"",{"$f":"IF(L498=\"\",\"\",IF(COUNTIF(L$6:L$596,L498)=1,\"\",COUNTIF(L$6:L$596,L498)))","v":""},"",null,"",null,"",null,{"$f":"IF(L498=\"\",\"\",IF(VLOOKUP(F498,Tabelle_Fisse!$B$4:$C$21,2,FALSE)=\"ok\",\"\",1))","v":""},null,"",null,"",""]
[{"$nulls":11},"",{"$f":"IF(L499=\"\",\"\",IF(COUNTIF(L$6:L$596,L499)=1,\"\",COUNTIF(L$6:L$596,L499)))","v":""},"",null,"",null,"",null,{"$f":"IF(L499=\"\",\"\",IF(VLOOKUP(F499,Tabelle_Fisse!$B$4:$C$21,2,FALSE)=\"ok\",\"\",1))","v":""},null,"",null,"",""]
[{"$nulls":11},"",{"$f":"IF(L500=\"\",\"\",IF(COUNTIF(L$6:L$596,L500)=1,\"\",COUNTIF(L$6:L$596,L500)))","v":""},"",null,"",null,"",null,{"$f":"IF(L500=\"\",\"\",IF(VLOOKUP(F500,Tabelle_Fisse!$B$4:$C$21,2,FALSE)=\"ok\",\"\",1))","v":""},null,"",null,"",""]
[{"$nulls":11},"",{"$f":"IF(L501=\"\",\"\",IF(COUNTIF(L$6:L$596,L501)=1,\"\",COUNTIF(L$6:L$596,L501)))","v":""},"",null,"",null,"",null,{"$f":"IF(L501=\"\",\"\",IF(VLOOKUP(F501,Tabelle_Fisse!$B$4:$C$21,2,FALSE)=\"ok\",\"\",1))","v":""},null,"",null,"",""]
[{"$nulls":11},"",{"$f":"IF(L502=\"\",\"\",IF(COUNTIF(L$6:L$596,L502)=1,\"\",COUNTIF(L$6:L$596,L502)))","v":""},"",null,"",null,"",null,{"$f":"IF(L502=\"\",\"\",IF(VLOOKUP(F502,Tabelle_Fisse!$B$4:$C$21,2,FALSE)=\"ok\",\"\",1))","v":""},null,"",null,"",""]
[{"$nulls":11},"",{"$f":"IF(L503=\"\",\"\",IF(COUNTIF(L$6:L$596,L503)=1,\"\",COUNTIF(L$6:L$596,L503)))","v":""},"",null,"",null,"",null,{"$f":"IF(L503=\"\",\"\",IF(VLOOKUP(F503,Tabelle_Fisse!$B$4:$C$21,2,FALSE)=\"ok\",\"\",1))","v":""},null,"",null,"",""]
[{"$nulls":11},"",{"$f":"IF(L504=\"\",\"\",IF(COUNTIF(L$6:L$596,L504)=1,\"\",COUNTIF(L$6:L$596,L504)))","v":""},"",null,"",null,"",null,{"$f":"IF(L504=\"\",\"\",IF(VLOOKUP(F504,Tabelle_Fisse!$B$4:$C$21,2,FALSE)=\"ok\",\"\",1))","v":""},null,"",null,"",""]
[{"$nulls":11},"",{"$f":"IF(L505=\"\",\"\",IF(COUNTIF(L$6:L$596,L505)=1,\"\",COUNTIF(L$6:L$596,L505)))","v":""},"",null,"",null,"",null,{"$f":"IF(L505=\"\",\"\",IF(VLOOKUP(F505,Tabelle_Fisse!$B$4:$C$21,2,FALSE)=\"ok\",\"\",1))","v":""},null,"",null,"",""]
[{"$nulls":11},"",{"$f":"IF(L506=\"\",\"\",IF(COUNTIF(L$6:L$596,L506)=1,\"\",COUNTIF(L$6:L$596,L506)))","v":""},"",null,"",null,"",null,{"$f":"IF(L506=\"\",\"\",IF(VLOOKUP(F506,Tabelle_Fisse!$B$4:$C$21,2,FALSE)=\"ok\",\"\",1))","v":""},null,"",null,"",""]
[{"$nulls":11},"",{"$f":"IF(L507=\"\",\"\",IF(COUNTIF(L$6:L$596,L507)=1,\"\",COUNTIF(L$6:L$596,L507)))","v":""},"",null,"",null,"",null,{"$f":"IF(L507=\"\",\"\",IF(VLOOKUP(F507,Tabelle_Fisse!$B$4:$C$21,2,FALSE)=\"ok\",\"\",1))","v":""},null,"",null,"",""]
[{"$nulls":11},"",{"$f":"IF(L508=\"\",\"\",IF(COUNTIF(L$6:L$596,L508)=1,\"\",COUNTIF(L$6:L$596,L508)))","v":""},"",null,"",null,"",null,{"$f":"IF(L508=\"\",\"\",IF(VLOOKUP(F508,Tabelle_Fisse!$B$4:$C$21,2,FALSE)=\"ok\",\"\",1))","v":""},null,"",null,"",""]
[{"$nulls":11},"",{"$f":"IF(L509=\"\",\"\",IF(COUNTIF(L$6:L$596,L509)=1,\"\",COUNTIF(L$6:L$596,L509)))","v":""},"",null,"",null,"",null,{"$f":"IF(L509=\"\",\"\",IF(VLOOKUP(F509,Tabelle_Fisse!$B$4:$C$21,2,FALSE)=\"ok\",\"\",1))","v":""},null,"",null,"",""]
[{"$nulls":11},"",{"$f":"IF(L510=\"\",\"\",IF(COUNTIF(L$6:L$596,L510)=1,\"\",COUNTIF(L$6:L$596,L510)))","v":""},"",null,"",null,"",null,{"$f":"IF(L510=\"\",\"\",IF(VLOOKUP(F510,Tabelle_Fisse!$B$4:$C$21,2,FALSE)=\"ok\",\"\",1))","v":""},null,"",null,"",""]
[{"$nulls":11},"",{"$f":"IF(L511=\"\",\"\",IF(COUNTIF(L$6:L$596,L511)=1,\"\",COUNTIF(L$6:L$596,L511)))","v":""},"",null,"",null,"",null,{"$f":"IF(L511=\"\",\"\",IF(VLOOKUP(F511,Tabelle_Fisse!$B$4:$C$21,2,FALSE)=\"ok\",\"\",1))","v":""},null,"",null,"",""]
[{"$nulls":11},"",{"$f":"IF(L512=\"\",\"\",IF(COUNTIF(L$6:L$596,L512)=1,\"\",COUNTIF(L$6:L$596,L512)))","v":""},"",null,"",null,"",null,{"$f":"IF(L512=\"\",\"\",IF(VLOOKUP(F512,Tabelle_Fisse!$B$4:$C$21,2,FALSE)=\"ok\",\"\",1))","v":""},null,"",null,"",""]
[{"$nulls":11},"",{"$f":"IF(L513=\"\",\"\",IF(COUNTIF(L$6:L$596,L513)=1,\"\",COUNTIF(L$6:L$596,L513)))","v":""},"",null,"",null,"",null,{"$f":"IF(L513=\"\",\"\",IF(VLOOKUP(F513,Tabelle_Fisse!$B$4:$C$21,2,FALSE)=\"ok\",\"\",1))","v":""},null,"",null,"",""]
[{"$nulls":11},"",{"$f":"IF(L514=\"\",\"\",IF(COUNTIF(L$6:L$596,L514)=1,\"\",COUNTIF(L$6:L$596,L514)))","v":""},"",null,"",null,"",null,{"$f":"IF(L514=\"\",\"\",IF(VLOOKUP(F514,Tabelle_Fisse!$B$4:$C$21,2,FALSE)=\"ok\",\"\",1))","v":""},null,"",null,"",""]
[{"$nulls":11},{"$f":"TRIM(B515)","v":""},{"$f":"IF(L515=\"\",\"\",IF(COUNTIF(L$6:L$596,L515)=1,\"\",COUNTIF(L$6:L$596,L515)))","v":""},{"$f":"IF(L515=\"\",\"\",IF(LEN(L515)<>10,1,\"\"))","v":""},null,{"$f":"IF(L515=\"\",\"\",IF(LEN(C515)<>11,1,\"\"))","v":""},null,{"$f":"IF(L515=\"\",\"\",IF(LEN(E515)>250,1,\"\"))","v":""},null,{"$f":"IF(L515=\"\",\"\",IF(VLOOKUP(F515,Tabelle_Fisse!$B$4:$C$21,2,FALSE)=\"ok\",\"\",1))","v":""},null,{"$f":"IF(L515=\"\",\"\",IF(OR(ISNUMBER(G515)=FALSE,G515<=0),1,\"\"))","v":""},null,{"$f":"IF(OR(B515=\"\",H515=\"\"),\"\",IF(OR(H515<X$3,H515>X$4),1,\"\"))","v":""},{"$f":"IF(OR(B515=\"\",I515=\"\"),\"\",IF(OR(I515<Y$3,I515>Y$4),1,\"\"))","v":""}]
[{"$nulls":11},"",{"$f":"IF(L516=\"\",\"\",IF(COUNTIF(L$6:L$596,L516)=1,\"\",COUNTIF(L$6:L$596,L516)))","v":""},"",null,"",null,"",null,{"$f":"IF(L516=\"\",\"\",IF(VLOOKUP(F516,Tabelle_Fisse!$B$4:$C$21,2,FALSE)=\"ok\",\"\",1))","v":""},null,"",null,"",""]
[{"$nulls":11},"",{"$f":"IF(L517=\"\",\"\",IF(COUNTIF(L$6:L$596,L517)=1,\"\",COUNTIF(L$6:L$596,L517)))","v":""},"",null,"",null,"",null,{"$f":"IF(L517=\"\",\"\",IF(VLOOKUP(F517,Tabelle_Fisse!$B$4:$C$21,2,FALSE)=\"ok\",\"\",1))","v":""},null,"",null,"",""]
[{"$nulls":11},"",{"$f":"IF(L518=\"\",\"\",IF(COUNTIF(L$6:L$596,L518)=1,\"\",COUNTIF(L$6:L$596,L518)))","v":""},"",null,"",null,"",null,{"$f":"IF(L518=\"\",\"\",IF(VLOOKUP(F518,Tabelle_Fisse!$B$4:$C$21,2,FALSE)=\"ok\",\"\",1))","v":""},null,"",null,"",""]
[{"$nulls":11},"",{"$f":"IF(L519=\"\",\"\",IF(COUNTIF(L$6:L$596,L519)=1,\"\",COUNTIF(L$6:L$596,L519)))","v":""},"",null,"",null,"",null,{"$f":"IF(L519=\"\",\"\",IF(VLOOKUP(F519,Tabelle_Fisse!$B$4:$C$21,2,FALSE)=\"ok\",\"\",1))","v":""},null,"",null,"",""]
[{"$nulls":11},"",{"$f":"IF(L520=\"\",\"\",IF(COUNTIF(L$6:L$596,L520)=1,\"\",COUNTIF(L$6:L$596,L520)))","v":""},"",null,"",null,"",null,{"$f":"IF(L520=\"\",\"\",IF(VLOOKUP(F520,Tabelle_Fisse!$B$4:$C$21,2,FALSE)=\"ok\",\"\",1))","v":""},null,"",null,"",""]
[{"$nulls":11},"",{"$f":"IF(L521=\"\",\"\",IF(COUNTIF(L$6:L$596,L521)=1,\"\",COUNTIF(L$6:L$596,L521)))","v":""},"",null,"",null,"",null,{"$f":"IF(L521=\"\",\"\",IF(VLOOKUP(F521,Tabelle_Fisse!$B$4:$C$21,2,FALSE)=\"ok\",\"\",1))","v":""},null,"",null,"",""]
[{"$nulls":11},"",{"$f":"IF(L522=\"\",\"\",IF(COUNTIF(L$6:L$596,L522)=1,\"\",COUNTIF(L$6:L$596,L522)))","v":""},"",null,"",null,"",null,{"$f":"IF(L522=\"\",\"\",IF(VLOOKUP(F522,Tabelle_Fisse!$B$4:$C$21,2,FALSE)=\"ok\",\"\",1))","v":""},null,"",null,"",""]
[{"$nulls":11},"",{"$f":"IF(L523=\"\",\"\",IF(COUNTIF(L$6:L$596,L523)=1,\"\",COUNTIF(L$6:L$596,L523)))","v":""},"",null,"",null,"",null,{"$f":"IF(L523=\"\",\"\",IF(VLOOKUP(F523,Tabelle_Fisse!$B$4:$C$21,2,FALSE)=\"ok\",\"\",1))","v":""},null,"",null,"",""]
[{"$nulls":11},"",{"$f":"IF(L524=\"\",\"\",IF(COUNTIF(L$6:L$596,L524)=1,\"\",COUNTIF(L$6:L$596,L524)))","v":""},"",null,"",null,"",null,{"$f":"IF(L524=\"\",\"\",IF(VLOOKUP(F524,Tabelle_Fisse!$B$4:$C$21,2,FALSE)=\"ok\",\"\",1))","v":""},null,"",null,"",""]
[{"$nulls":11},"",{"$f":"IF(L525=\"\",\"\",IF(COUNTIF(L$6:L$596,L525)=1,\"\",COUNTIF(L$6:L$596,L525)))","v":""},"",null,"",null,"",null,{"$f":"IF(L525=\"\",\"\",IF(VLOOKUP(F525,Tabelle_Fisse!$B$4:$C$21,2,FALSE)=\"ok\",\"\",1))","v":""},null,"",null,"",""]
[{"$nulls":11},"",{"$f":"IF(L526=\"\",\"\",IF(COUNTIF(L$6:L$596,L526)=1,\"\",COUNTIF(L$6:L$596,L526)))","v":""},"",null,"",null,"",null,{"$f":"IF(L526=\"\",\"\",IF(VLOOKUP(F526,Tabelle_Fisse!$B$4:$C$21,2,FALSE)=\"ok\",\"\",1))","v":""},null,"",null,"",""]
[{"$nulls":11},"",{"$f":"IF(L527=\"\",\"\",IF(COUNTIF(L$6:L$596,L527)=1,\"\",COUNTIF(L$6:L$596,L527)))","v":""},"",null,"",null,"",null,{"$f":"IF(L527=\"\",\"\",IF(VLOOKUP(F527,Tabelle_Fisse!$B$4:$C$21,2,FALSE)=\"ok\",\"\",1))","v":""},null,"",null,"",""]
[{"$nulls":11},"",{"$f":"IF(L528=\"\",\"\",IF(COUNTIF(L$6:L$596,L528)=1,\"\",COUNTIF(L$6:L$596,L528)))","v":""},"",null,"",null,"",null,{"$f":"IF(L528=\"\",\"\",IF(VLOOKUP(F528,Tabelle_Fisse!$B$4:$C$21,2,FALSE)=\"ok\",\"\",1))","v":""},null,"",null,"",""]
[{"$nulls":11},"",{"$f":"IF(L529=\"\",\"\",IF(COUNTIF(L$6:L$596,L529)=1,\"\",COUNTIF(L$6:L$596,L529)))","v":""},"",null,"",null,"",null,{"$f":"IF(L529=\"\",\"\",IF(VLOOKUP(F529,Tabelle_Fisse!$B$4:$C$21,2,FALSE)=\"ok\",\"\",1))","v":""},null,"",null,"",""]
[{"$nulls":11},"",{"$f":"IF(L530=\"\",\"\",IF(COUNTIF(L$6:L$596,L530)=1,\"\",COUNTIF(L$6:L$596,L530)))","v":""},"",null,"",null,"",null,{"$f":"IF(L530=\"\",\"\",IF(VLOOKUP(F530,Tabelle_Fisse!$B$4:$C$21,2,FALSE)=\"ok\",\"\",1))","v":""},null,"",null,"",""]
[{"$nulls":11},"",{"$f":"IF(L531=\"\",\"\",IF(COUNTIF(L$6:L$596,L531)=1,\"\",COUNTIF(L$6:L$596,L531)))","v":""},"",null,"",null,"",null,{"$f":"IF(L531=\"\",\"\",IF(VLOOKUP(F531,Tabelle_Fisse!$B$4:$C$21,2,FALSE)=\"ok\",\"\",1))","v":""},null,"",null,"",""]
[{"$nulls":11},"",{"$f":"IF(L532=\"\",\"\",IF(COUNTIF(L$6:L$596,L532)=1,\"\",COUNTIF(L$6:L$596,L532)))","v":""},"",null,"",null,"",null,{"$f":"IF(L532=\"\",\"\",IF(VLOOKUP(F532,Tabelle_Fisse!$B$4:$C$21,2,FALSE)=\"ok\",\"\",1))","v":""},null,"",null,"",""]
[{"$nulls":11},"",{"$f":"IF(L533=\"\",\"\",IF(COUNTIF(L$6:L$596,L533)=1,\"\",COUNTIF(L$6:L$596,L533)))","v":""},"",null,"",null,"",null,{"$f":"IF(L533=\"\",\"\",IF(VLOOKUP(F533,Tabelle_Fisse!$B$4:$C$21,2,FALSE)=\"ok\",\"\",1))","v":""},null,"",null,"",""]
[{"$nulls":11},"",{"$f":"IF(L534=\"\",\"\",IF(COUNTIF(L$6:L$596,L534)=1,\"\",COUNTIF(L$6:L$596,L534)))","v":""},"",null,"",null,"",null,{"$f":"IF(L534=\"\",\"\",IF(VLOOKUP(F534,Tabelle_Fisse!$B$4:$C$21,2,FALSE)=\"ok\",\"\",1))","v":""},null,"",null,"",""]
[{"$nulls":11},"",{"$f":"IF(L535=\"\",\"\",IF(COUNTIF(L$6:L$596,L535)=1,\"\",COUNTIF(L$6:L$596,L535)))","v":""},"",null,"",null,"",null,{"$f":"IF(L535=\"\",\"\",IF(VLOOKUP(F535,Tabelle_Fisse!$B$4:$C$21,2,FALSE)=\"ok\",\"\",1))","v":""},null,"",null,"",""]
[{"$nulls":11},"",{"$f":"IF(L536=\"\",\"\",IF(COUNTIF(L$6:L$596,L536)=1,\"\",COUNTIF(L$6:L$596,L536)))","v":""},"",null,"",null,"",null,{"$f":"IF(L536=\"\",\"\",IF(VLOOKUP(F536,Tabelle_Fisse!$B$4:$C$21,2,FALSE)=\"ok\",\"\",1))","v":""},null,"",null,"",""]
[{"$nulls":11},"",{"$f":"IF(L537=\"\",\"\",IF(COUNTIF(L$6:L$596,L537)=1,\"\",COUNTIF(L$6:L$596,L537)))","v":""},"",null,"",null,"",null,{"$f":"IF(L537=\"\",\"\",IF(VLOOKUP(F537,Tabelle_Fisse!$B$4:$C$21,2,FALSE)=\"ok\",\"\",1))","v":""},null,"",null,"",""]
[{"$nulls":11},"",{"$f":"IF(L538=\"\",\"\",IF(COUNTIF(L$6:L$596,L538)=1,\"\",COUNTIF(L$6:L$596,L538)))","v":""},"",null,"",null,"",null,{"$f":"IF(L538=\"\",\"\",IF(VLOOKUP(F538,Tabelle_Fisse!$B$4:$C$21,2,FALSE)=\"ok\",\"\",1))","v":""},null,"",null,"",""]
[{"$nulls":11},"",{"$f":"IF(L539=\"\",\"\",IF(COUNTIF(L$6:L$596,L539)=1,\"\",COUNTIF(L$6:L$596,L539)))","v":""},"",null,"",null,"",null,{"$f":"IF(L539=\"\",\"\",IF(VLOOKUP(F539,Tabelle_Fisse!$B$4:$C$21,2,FALSE)=\"ok\",\"\",1))","v":""},null,"",null,"",""]
[{"$nulls":11},"",{"$f":"IF(L540=\"\",\"\",IF(COUNTIF(L$6:L$596,L540)=1,\"\",COUNTIF(L$6:L$596,L540)))","v":""},"",null,"",null,"",null,{"$f":"IF(L540=\"\",\"\",IF(VLOOKUP(F540,Tabelle_Fisse!$B$4:$C$21,2,FALSE)=\"ok\",\"\",1))","v":""},null,"",null,"",""]
[{"$nulls":11},"",{"$f":"IF(L541=\"\",\"\",IF(COUNTIF(L$6:L$596,L541)=1,\"\",COUNTIF(L$6:L$596,L541)))","v":""},"",null,"",null,"",null,{"$f":"IF(L541=\"\",\"\",IF(VLOOKUP(F541,Tabelle_Fisse!$B$4:$C$21,2,FALSE)=\"ok\",\"\",1))","v":""},null,"",null,"",""]
[{"$nulls":11},"",{"$f":"IF(L542=\"\",\"\",IF(COUNTIF(L$6:L$596,L542)=1,\"\",COUNTIF(L$6:L$596,L542)))","v":""},"",null,"",null,"",null,{"$f":"IF(L542=\"\",\"\",IF(VLOOKUP(F542,Tabelle_Fisse!$B$4:$C$21,2,FALSE)=\"ok\",\"\",1))","v":""},null,"",null,"",""]
[{"$nulls":11},"",{"$f":"IF(L543=\"\",\"\",IF(COUNTIF(L$6:L$596,L543)=1,\"\",COUNTIF(L$6:L$596,L543)))","v":""},"",null,"",null,"",null,{"$f":"IF(L543=\"\",\"\",IF(VLOOKUP(F543,Tabelle_Fisse!$B$4:$C$21,2,FALSE)=\"ok\",\"\",1))","v":""},null,"",null,"",""]
[{"$nulls":11},"",{"$f":"IF(L544=\"\",\"\",IF(COUNTIF(L$6:L$596,L544)=1,\"\",COUNTIF(L$6:L$596,L544)))","v":""},"",null,"",null,"",null,{"$f":"IF(L544=\"\",\"\",IF(VLOOKUP(F544,Tabelle_Fisse!$B$4:$C$21,2,FALSE)=\"ok\",\"\",1))","v":""},null,"",null,"",""]
[{"$nulls":11},"",{"$f":"IF(L545=\"\",\"\",IF(COUNTIF(L$6:L$596,L545)=1,\"\",COUNTIF(L$6:L$596,L545)))","v":""},"",null,"",null,"",null,{"$f":"IF(L545=\"\",\"\",IF(VLOOKUP(F545,Tabelle_Fisse!$B$4:$C$21,2,FALSE)=\"ok\",\"\",1))","v":""},null,"",null,"",""]
[{"$nulls":11},"",{"$f":"IF(L546=\"\",\"\",IF(COUNTIF(L$6:L$596,L546)=1,\"\",COUNTIF(L$6:L$596,L546)))","v":""},"",null,"",null,"",null,{"$f":"IF(L546=\"\",\"\",IF(VLOOKUP(F546,Tabelle_Fisse!$B$4:$C$21,2,FALSE)=\"ok\",\"\",1))","v":""},null,"",null,"",""]
[{"$nulls":11},"",{"$f":"IF(L547=\"\",\"\",IF(COUNTIF(L$6:L$596,L547)=1,\"\",COUNTIF(L$6:L$596,L547)))","v":""},"",null,"",null,"",null,{"$f":"IF(L547=\"\",\"\",IF(VLOOKUP(F547,Tabelle_Fisse!$B$4:$C$21,2,FALSE)=\"ok\",\"\",1))","v":""},null,"",null,"",""]
[{"$nulls":11},"",{"$f":"IF(L548=\"\",\"\",IF(COUNTIF(L$6:L$596,L548)=1,\"\",COUNTIF(L$6:L$596,L548)))","v":""},"",null,"",null,"",null,{"$f":"IF(L548=\"\",\"\",IF(VLOOKUP(F548,Tabelle_Fisse!$B$4:$C$21,2,FALSE)=\"ok\",\"\",1))","v":""},null,"",null,"",""]
[{"$nulls":11},"",{"$f":"IF(L549=\"\",\"\",IF(COUNTIF(L$6:L$596,L549)=1,\"\",COUNTIF(L$6:L$596,L549)))","v":""},"",null,"",null,"",null,{"$f":"IF(L549=\"\",\"\",IF(VLOOKUP(F549,Tabelle_Fisse!$B$4:$C$21,2,FALSE)=\"ok\",\"\",1))","v":""},null,"",null,"",""]
[{"$nulls":11},"",{"$f":"IF(L550=\"\",\"\",IF(COUNTIF(L$6:L$596,L550)=1,\"\",COUNTIF(L$6:L$596,L550)))","v":""},"",null,"",null,"",null,{"$f":"IF(L550=\"\",\"\",IF(VLOOKUP(F550,Tabelle_Fisse!$B$4:$C$21,2,FALSE)=\"ok\",\"\",1))","v":""},null,"",null,"",""]
[{"$nulls":11},"",{"$f":"IF(L551=\"\",\"\",IF(COUNTIF(L$6:L$596,L551)=1,\"\",COUNTIF(L$6:L$596,L551)))","v":""},"",null,"",null,"",null,{"$f":"IF(L551=\"\",\"\",IF(VLOOKUP(F551,Tabelle_Fisse!$B$4:$C$21,2,FALSE)=\"ok\",\"\",1))","v":""},null,"",null,"",""]
[{"$nulls":11},"",{"$f":"IF(L552=\"\",\"\",IF(COUNTIF(L$6:L$596,L552)=1,\"\",COUNTIF(L$6:L$596,L552)))","v":""},"",null,"",null,"",null,{"$f":"IF(L552=\"\",\"\",IF(VLOOKUP(F552,Tabelle_Fisse!$B$4:$C$21,2,FALSE)=\"ok\",\"\",1))","v":""},null,"",null,"",""]
[{"$nulls":11},"",{"$f":"IF(L553=\"\",\"\",IF(COUNTIF(L$6:L$596,L553)=1,\"\",COUNTIF(L$6:L$596,L553)))","v":""},"",null,"",null,"",null,{"$f":"IF(L553=\"\",\"\",IF(VLOOKUP(F553,Tabelle_Fisse!$B$4:$C$21,2,FALSE)=\"ok\",\"\",1))","v":""},null,"",null,"",""]
[{"$nulls":11},"",{"$f":"IF(L554=\"\",\"\",IF(COUNTIF(L$6:L$596,L554)=1,\"\",COUNTIF(L$6:L$596,L554)))","v":""},"",null,"",null,"",null,{"$f":"IF(L554=\"\",\"\",IF(VLOOKUP(F554,Tabelle_Fisse!$B$4:$C$21,2,FALSE)=\"ok\",\"\",1))","v":""},null,"",null,"",""]
[{"$nulls":11},"",{"$f":"IF(L555=\"\",\"\",IF(COUNTIF(L$6:L$596,L555)=1,\"\",COUNTIF(L$6:L$596,L555)))","v":""},"",null,"",null,"",null,{"$f":"IF(L555=\"\",\"\",IF(VLOOKUP(F555,Tabelle_Fisse!$B$4:$C$21,2,FALSE)=\"ok\",\"\",1))","v":""},null,"",null,"",""]
[{"$nulls":11},"",{"$f":"IF(L556=\"\",\"\",IF(COUNTIF(L$6:L$596,L556)=1,\"\",COUNTIF(L$6:L$596,L556)))","v":""},"",null,"",null,"",null,{"$f":"IF(L556=\"\",\"\",IF(VLOOKUP(F556,Tabelle_Fisse!$B$4:$C$21,2,FALSE)=\"ok\",\"\",1))","v":""},null,"",null,"",""]
[{"$nulls":11},"",{"$f":"IF(L557=\"\",\"\",IF(COUNTIF(L$6:L$596,L557)=1,\"\",COUNTIF(L$6:L$596,L557)))","v":""},"",null,"",null,"",null,{"$f":"IF(L557=\"\",\"\",IF(VLOOKUP(F557,Tabelle_Fisse!$B$4:$C$21,2,FALSE)=\"ok\",\"\",1))","v":""},null,"",null,"",""]
[{"$nulls":11},"",{"$f":"IF(L558=\"\",\"\",IF(COUNTIF(L$6:L$596,L558)=1,\"\",COUNTIF(L$6:L$596,L558)))","v":""},"",null,"",null,"",null,{"$f":"IF(L558=\"\",\"\",IF(VLOOKUP(F558,Tabelle_Fisse!$B$4:$C$21,2,FALSE)=\"ok\",\"\",1))","v":""},null,"",null,"",""]
[{"$nulls":11},"",{"$f":"IF(L559=\"\",\"\",IF(COUNTIF(L$6:L$596,L559)=1,\"\",COUNTIF(L$6:L$596,L559)))","v":""},"",null,"",null,"",null,{"$f":"IF(L559=\"\",\"\",IF(VLOOKUP(F559,Tabelle_Fisse!$B$4:$C$21,2,FALSE)=\"ok\",\"\",1))","v":""},null,"",null,"",""]
[{"$nulls":11},"",{"$f":"IF(L560=\"\",\"\",IF(COUNTIF(L$6:L$596,L560)=1,\"\",COUNTIF(L$6:L$596,L560)))","v":""},"",null,"",null,"",null,{"$f":"IF(L560=\"\",\"\",IF(VLOOKUP(F560,Tabelle_Fisse!$B$4:$C$21,2,FALSE)=\"ok\",\"\",1))","v":""},null,"",null,"",""]
[{"$nulls":11},"",{"$f":"IF(L561=\"\",\"\",IF(COUNTIF(L$6:L$596,L561)=1,\"\",COUNTIF(L$6:L$596,L561)))","v":""},"",null,"",null,"",null,{"$f":"IF(L561=\"\",\"\",IF(VLOOKUP(F561,Tabelle_Fisse!$B$4:$C$21,2,FALSE)=\"ok\",\"\",1))","v":""},null,"",null,"",""]
[{"$nulls":11},"",{"$f":"IF(L562=\"\",\"\",IF(COUNTIF(L$6:L$596,L562)=1,\"\",COUNTIF(L$6:L$596,L562)))","v":""},"",null,"",null,"",null,{"$f":"IF(L562=\"\",\"\",IF(VLOOKUP(F562,Tabelle_Fisse!$B$4:$C$21,2,FALSE)=\"ok\",\"\",1))","v":""},null,"",null,"",""]
[{"$nulls":11},"",{"$f":"IF(L563=\"\",\"\",IF(COUNTIF(L$6:L$596,L563)=1,\"\",COUNTIF(L$6:L$596,L563)))","v":""},"",null,"",null,"",null,{"$f":"IF(L563=\"\",\"\",IF(VLOOKUP(F563,Tabelle_Fisse!$B$4:$C$21,2,FALSE)=\"ok\",\"\",1))","v":""},null,"",null,"",""]
[{"$nulls":11},"",{"$f":"IF(L564=\"\",\"\",IF(COUNTIF(L$6:L$596,L564)=1,\"\",COUNTIF(L$6:L$596,L564)))","v":""},"",null,"",null,"",null,{"$f":"IF(L564=\"\",\"\",IF(VLOOKUP(F564,Tabelle_Fisse!$B$4:$C$21,2,FALSE)=\"ok\",\"\",1))","v":""},null,"",null,"",""]
[{"$nulls":11},"",{"$f":"IF(L565=\"\",\"\",IF(COUNTIF(L$6:L$596,L565)=1,\"\",COUNTIF(L$6:L$596,L565)))","v":""},"",null,"",null,"",null,{"$f":"IF(L565=\"\",\"\",IF(VLOOKUP(F565,Tabelle_Fisse!$B$4:$C$21,2,FALSE)=\"ok\",\"\",1))","v":""},null,"",null,"",""]
[{"$nulls":11},"",{"$f":"IF(L566=\"\",\"\",IF(COUNTIF(L$6:L$596,L566)=1,\"\",COUNTIF(L$6:L$596,L566)))","v":""},"",null,"",null,"",null,{"$f":"IF(L566=\"\",\"\",IF(VLOOKUP(F566,Tabelle_Fisse!$B$4:$C$21,2,FALSE)=\"ok\",\"\",1))","v":""},null,"",null,"",""]
[{"$nulls":11},"",{"$f":"IF(L567=\"\",\"\",IF(COUNTIF(L$6:L$596,L567)=1,\"\",COUNTIF(L$6:L$596,L567)))","v":""},"",null,"",null,"",null,{"$f":"IF(L567=\"\",\"\",IF(VLOOKUP(F567,Tabelle_Fisse!$B$4:$C$21,2,FALSE)=\"ok\",\"\",1))","v":""},null,"",null,"",""]
[{"$nulls":11},"",{"$f":"IF(L568=\"\",\"\",IF(COUNTIF(L$6:L$596,L568)=1,\"\",COUNTIF(L$6:L$596,L568)))","v":""},"",null,"",null,"",null,{"$f":"IF(L568=\"\",\"\",IF(VLOOKUP(F568,Tabelle_Fisse!$B$4:$C$21,2,FALSE)=\"ok\",\"\",1))","v":""},null,"",null,"",""]
[{"$nulls":11},"",{"$f":"IF(L569=\"\",\"\",IF(COUNTIF(L$6:L$596,L569)=1,\"\",COUNTIF(L$6:L$596,L569)))","v":""},"",null,"",null,"",null,{"$f":"IF(L569=\"\",\"\",IF(VLOOKUP(F569,Tabelle_Fisse!$B$4:$C$21,2,FALSE)=\"ok\",\"\",1))","v":""},null,"",null,"",""]
[{"$nulls":11},"",{"$f":"IF(L570=\"\",\"\",IF(COUNTIF(L$6:L$596,L570)=1,\"\",COUNTIF(L$6:L$596,L570)))","v":""},"",null,"",null,"",null,{"$f":"IF(L570=\"\",\"\",IF(VLOOKUP(F570,Tabelle_Fisse!$B$4:$C$21,2,FALSE)=\"ok\",\"\",1))","v":""},null,"",null,"",""]
[{"$nulls":11},"",{"$f":"IF(L571=\"\",\"\",IF(COUNTIF(L$6:L$596,L571)=1,\"\",COUNTIF(L$6:L$596,L571)))","v":""},"",null,"",null,"",null,{"$f":"IF(L571=\"\",\"\",IF(VLOOKUP(F571,Tabelle_Fisse!$B$4:$C$21,2,FALSE)=\"ok\",\"\",1))","v":""},null,"",null,"",""]
[{"$nulls":11},"",{"$f":"IF(L572=\"\",\"\",IF(COUNTIF(L$6:L$596,L572)=1,\"\",COUNTIF(L$6:L$596,L572)))","v":""},"",null,"",null,"",null,{"$f":"IF(L572=\"\",\"\",IF(VLOOKUP(F572,Tabelle_Fisse!$B$4:$C$21,2,FALSE)=\"ok\",\"\",1))","v":""},null,"",null,"",""]
[{"$nulls":11},"",{"$f":"IF(L573=\"\",\"\",IF(COUNTIF(L$6:L$596,L573)=1,\"\",COUNTIF(L$6:L$596,L573)))","v":""},"",null,"",null,"",null,{"$f":"IF(L573=\"\",\"\",IF(VLOOKUP(F573,Tabelle_Fisse!$B$4:$C$21,2,FALSE)=\"ok\",\"\",1))","v":""},null,"",null,"",""]
[{"$nulls":11},"",{"$f":"IF(L574=\"\",\"\",IF(COUNTIF(L$6:L$596,L574)=1,\"\",COUNTIF(L$6:L$596,L574)))","v":""},"",null,"",null,"",null,{"$f":"IF(L574=\"\",\"\",IF(VLOOKUP(F574,Tabelle_Fisse!$B$4:$C$21,2,FALSE)=\"ok\",\"\",1))","v":""},null,"",null,"",""]
[{"$nulls":11},"",{"$f":"IF(L575=\"\",\"\",IF(COUNTIF(L$6:L$596,L575)=1,\"\",COUNTIF(L$6:L$596,L575)))","v":""},"",null,"",null,"",null,{"$f":"IF(L575=\"\",\"\",IF(VLOOKUP(F575,Tabelle_Fisse!$B$4:$C$21,2,FALSE)=\"ok\",\"\",1))","v":""},null,"",null,"",""]
[{"$nulls":11},"",{"$f":"IF(L576=\"\",\"\",IF(COUNTIF(L$6:L$596,L576)=1,\"\",COUNTIF(L$6:L$596,L576)))","v":""},"",null,"",null,"",null,{"$f":"IF(L576=\"\",\"\",IF(VLOOKUP(F576,Tabelle_Fisse!$B$4:$C$21,2,FALSE)=\"ok\",\"\",1))","v":""},null,"",null,"",""]
[{"$nulls":11},"",{"$f":"IF(L577=\"\",\"\",IF(COUNTIF(L$6:L$596,L577)=1,\"\",COUNTIF(L$6:L$596,L577)))","v":""},"",null,"",null,"",null,{"$f":"IF(L577=\"\",\"\",IF(VLOOKUP(F577,Tabelle_Fisse!$B$4:$C$21,2,FALSE)=\"ok\",\"\",1))","v":""},null,"",null,"",""]
[{"$nulls":11},"",{"$f":"IF(L578=\"\",\"\",IF(COUNTIF(L$6:L$596,L578)=1,\"\",COUNTIF(L$6:L$596,L578)))","v":""},"",null,"",null,"",null,{"$f":"IF(L578=\"\",\"\",IF(VLOOKUP(F578,Tabelle_Fisse!$B$4:$C$21,2,FALSE)=\"ok\",\"\",1))","v":""},null,"",null,"",""]
[{"$nulls":11},{"$f":"TRIM(B579)","v":""},{"$f":"IF(L579=\"\",\"\",IF(COUNTIF(L$6:L$596,L579)=1,\"\",COUNTIF(L$6:L$596,L579)))","v":""},{"$f":"IF(L579=\"\",\"\",IF(LEN(L579)<>10,1,\"\"))","v":""},null,{"$f":"IF(L579=\"\",\"\",IF(LEN(C579)<>11,1,\"\"))","v":""},null,{"$f":"IF(L579=\"\",\"\",IF(LEN(E579)>250,1,\"\"))","v":""},null,{"$f":"IF(L579=\"\",\"\",IF(VLOOKUP(F579,Tabelle_Fisse!$B$4:$C$21,2,FALSE)=\"ok\",\"\",1))","v":""},null,{"$f":"IF(L579=\"\",\"\",IF(OR(ISNUMBER(G579)=FALSE,G579<=0),1,\"\"))","v":""},null,{"$f":"IF(OR(B579=\"\",H579=\"\"),\"\",IF(OR(H579<X$3,H579>X$4),1,\"\"))","v":""},{"$f":"IF(OR(B579=\"\",I579=\"\"),\"\",IF(OR(I579<Y$3,I579>Y$4),1,\"\"))","v":""}]
[{"$nulls":11},"",{"$f":"IF(L580=\"\",\"\",IF(COUNTIF(L$6:L$596,L580)=1,\"\",COUNTIF(L$6:L$596,L580)))","v":""},"",null,"",null,"",null,{"$f":"IF(L580=\"\",\"\",IF(VLOOKUP(F580,Tabelle_Fisse!$B$4:$C$21,2,FALSE)=\"ok\",\"\",1))","v":""},null,"",null,"",""]
[{"$nulls":11},"",{"$f":"IF(L581=\"\",\"\",IF(COUNTIF(L$6:L$596,L581)=1,\"\",COUNTIF(L$6:L$596,L581)))","v":""},"",null,"",null,"",null,{"$f":"IF(L581=\"\",\"\",IF(VLOOKUP(F581,Tabelle_Fisse!$B$4:$C$21,2,FALSE)=\"ok\",\"\",1))","v":""},null,"",null,"",""]
[{"$nulls":11},"",{"$f":"IF(L582=\"\",\"\",IF(COUNTIF(L$6:L$596,L582)=1,\"\",COUNTIF(L$6:L$596,L582)))","v":""},"",null,"",null,"",null,{"$f":"IF(L582=\"\",\"\",IF(VLOOKUP(F582,Tabelle_Fisse!$B$4:$C$21,2,FALSE)=\"ok\",\"\",1))","v":""},null,"",null,"",""]
[{"$nulls":11},"",{"$f":"IF(L583=\"\",\"\",IF(COUNTIF(L$6:L$596,L583)=1,\"\",COUNTIF(L$6:L$596,L583)))","v":""},"",null,"",null,"",null,{"$f":"IF(L583=\"\",\"\",IF(VLOOKUP(F583,Tabelle_Fisse!$B$4:$C$21,2,FALSE)=\"ok\",\"\",1))","v":""},null,"",null,"",""]
[{"$nulls":11},"",{"$f":"IF(L584=\"\",\"\",IF(COUNTIF(L$6:L$596,L584)=1,\"\",COUNTIF(L$6:L$596,L584)))","v":""},"",null,"",null,"",null,{"$f":"IF(L584=\"\",\"\",IF(VLOOKUP(F584,Tabelle_Fisse!$B$4:$C$21,2,FALSE)=\"ok\",\"\",1))","v":""},null,"",null,"",""]
[{"$nulls":11},"",{"$f":"IF(L585=\"\",\"\",IF(COUNTIF(L$6:L$596,L585)=1,\"\",COUNTIF(L$6:L$596,L585)))","v":""},"",null,"",null,"",null,{"$f":"IF(L585=\"\",\"\",IF(VLOOKUP(F585,Tabelle_Fisse!$B$4:$C$21,2,FALSE)=\"ok\",\"\",1))","v":""},null,"",null,"",""]
[{"$nulls":11},"",{"$f":"IF(L586=\"\",\"\",IF(COUNTIF(L$6:L$596,L586)=1,\"\",COUNTIF(L$6:L$596,L586)))","v":""},"",null,"",null,"",null,{"$f":"IF(L586=\"\",\"\",IF(VLOOKUP(F586,Tabelle_Fisse!$B$4:$C$21,2,FALSE)=\"ok\",\"\",1))","v":""},null,"",null,"",""]
[{"$nulls":11},"",{"$f":"IF(L587=\"\",\"\",IF(COUNTIF(L$6:L$596,L587)=1,\"\",COUNTIF(L$6:L$596,L587)))","v":""},"",null,"",null,"",null,{"$f":"IF(L587=\"\",\"\",IF(VLOOKUP(F587,Tabelle_Fisse!$B$4:$C$21,2,FALSE)=\"ok\",\"\",1))","v":""},null,"",null,"",""]
[{"$nulls":11},"",{"$f":"IF(L588=\"\",\"\",IF(COUNTIF(L$6:L$596,L588)=1,\"\",COUNTIF(L$6:L$596,L588)))","v":""},"",null,"",null,"",null,{"$f":"IF(L588=\"\",\"\",IF(VLOOKUP(F588,Tabelle_Fisse!$B$4:$C$21,2,FALSE)=\"ok\",\"\",1))","v":""},null,"",null,"",""]
[{"$nulls":11},"",{"$f":"IF(L589=\"\",\"\",IF(COUNTIF(L$6:L$596,L589)=1,\"\",COUNTIF(L$6:L$596,L589)))","v":""},"",null,"",null,"",null,{"$f":"IF(L589=\"\",\"\",IF(VLOOKUP(F589,Tabelle_Fisse!$B$4:$C$21,2,FALSE)=\"ok\",\"\",1))","v":""},null,"",null,"",""]
[{"$nulls":11},"",{"$f":"IF(L590=\"\",\"\",IF(COUNTIF(L$6:L$596,L590)=1,\"\",COUNTIF(L$6:L$596,L590)))","v":""},"",null,"",null,"",null,{"$f":"IF(L590=\"\",\"\",IF(VLOOKUP(F590,Tabelle_Fisse!$B$4:$C$21,2,FALSE)=\"ok\",\"\",1))","v":""},null,"",null,"",""]
[{"$nulls":11},"",{"$f":"IF(L591=\"\",\"\",IF(COUNTIF(L$6:L$596,L591)=1,\"\",COUNTIF(L$6:L$596,L591)))","v":""},"",null,"",null,"",null,{"$f":"IF(L591=\"\",\"\",IF(VLOOKUP(F591,Tabelle_Fisse!$B$4:$C$21,2,FALSE)=\"ok\",\"\",1))","v":""},null,"",null,"",""]
[{"$nulls":11},"",{"$f":"IF(L592=\"\",\"\",IF(COUNTIF(L$6:L$596,L592)=1,\"\",COUNTIF(L$6:L$596,L592)))","v":""},"",null,"",null,"",null,{"$f":"IF(L592=\"\",\"\",IF(VLOOKUP(F592,Tabelle_Fisse!$B$4:$C$21,2,FALSE)=\"ok\",\"\",1))","v":""},null,"",null,"",""]
[{"$nulls":11},"",{"$f":"IF(L593=\"\",\"\",IF(COUNTIF(L$6:L$596,L593)=1,\"\",COUNTIF(L$6:L$596,L593)))","v":""},"",null,"",null,"",null,{"$f":"IF(L593=\"\",\"\",IF(VLOOKUP(F593,Tabelle_Fisse!$B$4:$C$21,2,FALSE)=\"ok\",\"\",1))","v":""},null,"",null,"",""]
[{"$nulls":11},"",{"$f":"IF(L594=\"\",\"\",IF(COUNTIF(L$6:L$596,L594)=1,\"\",COUNTIF(L$6:L$596,L594)))","v":""},"",null,"",null,"",null,{"$f":"IF(L594=\"\",\"\",IF(VLOOKUP(F594,Tabelle_Fisse!$B$4:$C$21,2,FALSE)=\"ok\",\"\",1))","v":""},null,"",null,"",""]
[{"$nulls":11},"",{"$f":"IF(L595=\"\",\"\",IF(COUNTIF(L$6:L$596,L595)=1,\"\",COUNTIF(L$6:L$596,L595)))","v":""},"",null,"",null,"",null,{"$f":"IF(L595=\"\",\"\",IF(VLOOKUP(F595,Tabelle_Fisse!$B$4:$C$21,2,FALSE)=\"ok\",\"\",1))","v":""},null,"",null,"",""]
[{"$nulls":11},"",{"$f":"IF(L596=\"\",\"\",IF(COUNTIF(L$6:L$596,L596)=1,\"\",COUNTIF(L$6:L$596,L596)))","v":""},"",null,"",null,"",null,{"$f":"IF(L596=\"\",\"\",IF(VLOOKUP(F596,Tabelle_Fisse!$B$4:$C$21,2,FALSE)=\"ok\",\"\",1))","v":""},null,"",null,"",""]

{"sheet":"Partecipanti","index":1,"n_rows":1196,"n_cols":23,"rows_kept":1196,"cut":false,"hidden":false,"merged":[[3,9,3,17],[3,1,5,1],[3,2,5,2],[3,3,3,4],[3,5,4,5],[3,6,3,7],[4,3,4,4],[4,7,5,7]]}
[]
[null,"Dati dei partecipanti ai singoli appalti"]
[]
[null,"CIG","Ragione Sociale","Identificativo fiscale",null,"Aggiudicatario (sì/no) (utilizzare il menu a tendina)","Raggruppamento (compilare SOLO se il partecipante è membro di un raggruppamento di imprese)",null,null,"Controlli principali - Foglio PARTECIPANTI"]
[null,null,null,"(compilare UNO SOLO dei due campi)",null,null,"Numero identificativo del raggruppamento","Ruolo dell'impresa nel raggruppamento (utilizzare il menu a tendina)"]
[null,null,null,"Codice Fiscale","Identificativo fiscale estero","(Indicare \"SI\" se l'impresa è risultata aggiudicataria o come partecipante singola ovvero come membro del raggruppamento aggiudicatario)","(utilizzare un numero identificativo diverso per ciascun raggruppamento di imprese partecipante al lotto - imprese componenti il medesimo raggruppamento devono riportare lo stesso numero)",null,null,"CIG senza spazi (effettuare incolla valori)","CIG non presente nel foglio LOTTI",null,"Errore sull'identificativo fiscale (CF o ident. Fisc. Estero)",null,"Aggiudicatario (SI/NO) errato","Anomalia: Aggiudicatario del Lotto-CIG mancante",null,"Ruolo dell'impresa nel raggruppamento errato",{"$nulls":4},"Concatena CIG+Aggiudicatario"]
[null,"Z1407A3353","GLOBO s.r.l.","02598580161",null,"SI",null,null,null,{"$f":"TRIM(B7)","v":"Z1407A3353"},{"$f":"IF(J7=\"\",\"\",IF(VLOOKUP(J7,Lotti!B$6:B$596,1,FALSE)=J7,\"\",1))","v":""},null,{"$f":"IF(J7=\"\",\"\",IF(OR(AND(E7=\"\",LEN(D7)<>11,LEN(D7)<>16),AND(D7=\"\",E7=\"\"),AND(D7<>\"\",E7<>\"\")),1,\"\"))","v":""},null,{"$f":"IF(J7=\"\",\"\",IF(VLOOKUP(F7,Tabelle_Fisse!$B$33:$C$34,2,FALSE)=\"ok\",\"\",1))","v":""},{"$f":"IF(J7=\"\",\"\",IF(VLOOKUP(CONCATENATE(J7,\" SI\"),W$7:W$1196,1,FALSE)=CONCATENATE(J7,\" SI\"),\"\",1))","v":""},null,{"$f":"IF(OR(J7=\"\",G7=\"\"),\"\",IF(VLOOKUP(H7,Tabelle_Fisse!$B$25:$C$29,2,FALSE)=\"ok\",\"\",1))","v":""},{"$nulls":4},{"$f":"IF(J7=\"\",\"\",CONCATENATE(J7,\" \",F7))","v":"Z1407A3353 SI"}]
[null,"Z3907BB5CC","ING. SANDRO D'AGOSTINI","DGSSDR64H17D530L",null,"SI",null,null,null,{"$f":"TRIM(B8)","v":"Z3907BB5CC"},{"$f":"IF(J8=\"\",\"\",IF(VLOOKUP(J8,Lotti!B$6:B$596,1,FALSE)=J8,\"\",1))","v":""},null,{"$f":"IF(J8=\"\",\"\",IF(OR(AND(E8=\"\",LEN(D8)<>11,LEN(D8)<>16),AND(D8=\"\",E8=\"\"),AND(D8<>\"\",E8<>\"\")),1,\"\"))","v":""},null,{"$f":"IF(J8=\"\",\"\",IF(VLOOKUP(F8,Tabelle_Fisse!$B$33:$C$34,2,FALSE)=\"ok\",\"\",1))","v":""},{"$f":"IF(J8=\"\",\"\",IF(VLOOKUP(CONCATENATE(J8,\" SI\"),W$7:W$1196,1,FALSE)=CONCATENATE(J8,\" SI\"),\"\",1))","v":""},null,{"$f":"IF(OR(J8=\"\",G8=\"\"),\"\",IF(VLOOKUP(H8,Tabelle_Fisse!$B$25:$C$29,2,FALSE)=\"ok\",\"\",1))","v":""},{"$nulls":4},{"$f":"IF(J8=\"\",\"\",CONCATENATE(J8,\" \",F8))","v":"Z3907BB5CC SI"}]
[null,"Z6A07A33F4","GLOBO s.r.l.","02598580161",null,"SI",null,null,null,"Z6A07A33F4",{"$f":"IF(J9=\"\",\"\",IF(VLOOKUP(J9,Lotti!B$6:B$596,1,FALSE)=J9,\"\",1))","v":""},null,"",null,{"$f":"IF(J9=\"\",\"\",IF(VLOOKUP(F9,Tabelle_Fisse!$B$33:$C$34,2,FALSE)=\"ok\",\"\",1))","v":""},{"$f":"IF(J9=\"\",\"\",IF(VLOOKUP(CONCATENATE(J9,\" SI\"),W$7:W$1196,1,FALSE)=CONCATENATE(J9,\" SI\"),\"\",1))","v":""},null,{"$f":"IF(OR(J9=\"\",G9=\"\"),\"\",IF(VLOOKUP(H9,Tabelle_Fisse!$B$25:$C$29,2,FALSE)=\"ok\",\"\",1))","v":""},{"$nulls":4},"Z6A07A33F4 SI"]
[null,"Z5C079CF1D","SMAO MEDICINA DEL LAVORO","02919710174",null,"SI",null,null,null,"Z5C079CF1D",{"$f":"IF(J10=\"\",\"\",IF(VLOOKUP(J10,Lotti!B$6:B$596,1,FALSE)=J10,\"\",1))","v":""},null,"",null,{"$f":"IF(J10=\"\",\"\",IF(VLOOKUP(F10,Tabelle_Fisse!$B$33:$C$34,2,FALSE)=\"ok\",\"\",1))","v":""},{"$f":"IF(J10=\"\",\"\",IF(VLOOKUP(CONCATENATE(J10,\" SI\"),W$7:W$1196,1,FALSE)=CONCATENATE(J10,\" SI\"),\"\",1))","v":""},null,{"$f":"IF(OR(J10=\"\",G10=\"\"),\"\",IF(VLOOKUP(H10,Tabelle_Fisse!$B$25:$C$29,2,FALSE)=\"ok\",\"\",1))","v":""},{"$nulls":4},"Z5C079CF1D SI"]
[null,"ZFA07BC394","SMAO MEDICINA DEL LAVORO","02919710174",null,"SI",null,null,null,"ZFA07BC394",{"$f":"IF(J11=\"\",\"\",IF(VLOOKUP(J11,Lotti!B$6:B$596,1,FALSE)=J11,\"\",1))","v":""},null,"",null,{"$f":"IF(J11=\"\",\"\",IF(VLOOKUP(F11,Tabelle_Fisse!$B$33:$C$34,2,FALSE)=\"ok\",\"\",1))","v":""},{"$f":"IF(J11=\"\",\"\",IF(VLOOKUP(CONCATENATE(J11,\" SI\"),W$7:W$1196,1,FALSE)=CONCATENATE(J11,\" SI\"),\"\",1))","v":""},null,{"$f":"IF(OR(J11=\"\",G11=\"\"),\"\",IF(VLOOKUP(H11,Tabelle_Fisse!$B$25:$C$29,2,FALSE)=\"ok\",\"\",1))","v":""},{"$nulls":4},"ZFA07BC394 SI"]
[null,"Z3E0825B47","FULMIX S.A.S.\ndi Menegari Paolo & C.","00618900229",null,"SI",null,null,null,"Z3E0825B47",{"$f":"IF(J12=\"\",\"\",IF(VLOOKUP(J12,Lotti!B$6:B$596,1,FALSE)=J12,\"\",1))","v":""},null,"",null,{"$f":"IF(J12=\"\",\"\",IF(VLOOKUP(F12,Tabelle_Fisse!$B$33:$C$34,2,FALSE)=\"ok\",\"\",1))","v":""},{"$f":"IF(J12=\"\",\"\",IF(VLOOKUP(CONCATENATE(J12,\" SI\"),W$7:W$1196,1,FALSE)=CONCATENATE(J12,\" SI\"),\"\",1))","v":""},null,{"$f":"IF(OR(J12=\"\",G12=\"\"),\"\",IF(VLOOKUP(H12,Tabelle_Fisse!$B$25:$C$29,2,FALSE)=\"ok\",\"\",1))","v":""},{"$nulls":4},"Z3E0825B47 SI"]
[null,"ZE2082DFB9","CONSORZIO FORESTALE DEL SEBINO BRESCIANO \"SEBINFOR\"","98096890177",null,"SI",null,null,null,"ZE2082DFB9",{"$f":"IF(J13=\"\",\"\",IF(VLOOKUP(J13,Lotti!B$6:B$596,1,FALSE)=J13,\"\",1))","v":""},null,"",null,{"$f":"IF(J13=\"\",\"\",IF(VLOOKUP(F13,Tabelle_Fisse!$B$33:$C$34,2,FALSE)=\"ok\",\"\",1))","v":""},{"$f":"IF(J13=\"\",\"\",IF(VLOOKUP(CONCATENATE(J13,\" SI\"),W$7:W$1196,1,FALSE)=CONCATENATE(J13,\" SI\"),\"\",1))","v":""},null,{"$f":"IF(OR(J13=\"\",G13=\"\"),\"\",IF(VLOOKUP(H13,Tabelle_Fisse!$B$25:$C$29,2,FALSE)=\"ok\",\"\",1))","v":""},{"$nulls":4},"ZE2082DFB9 SI"]
[null,"Z3D084F4BF","GEOM. EZIO COMELLA","CMLZEI60A10E010K",null,"SI",null,null,null,"Z3D084F4BF",{"$f":"IF(J14=\"\",\"\",IF(VLOOKUP(J14,Lotti!B$6:B$596,1,FALSE)=J14,\"\",1))","v":""},null,"",null,{"$f":"IF(J14=\"\",\"\",IF(VLOOKUP(F14,Tabelle_Fisse!$B$33:$C$34,2,FALSE)=\"ok\",\"\",1))","v":""},{"$f":"IF(J14=\"\",\"\",IF(VLOOKUP(CONCATENATE(J14,\" SI\"),W$7:W$1196,1,FALSE)=CONCATENATE(J14,\" SI\"),\"\",1))","v":""},null,{"$f":"IF(OR(J14=\"\",G14=\"\"),\"\",IF(VLOOKUP(H14,Tabelle_Fisse!$B$25:$C$29,2,FALSE)=\"ok\",\"\",1))","v":""},{"$nulls":4},"Z3D084F4BF SI"]
[null,"ZDB08731C4","ING. MAURIZIO RECALDINI","RCLMRZ77C11E704P",null,"SI",null,null,null,"ZDB08731C4",{"$f":"IF(J15=\"\",\"\",IF(VLOOKUP(J15,Lotti!B$6:B$596,1,FALSE)=J15,\"\",1))","v":""},null,"",null,{"$f":"IF(J15=\"\",\"\",IF(VLOOKUP(F15,Tabelle_Fisse!$B$33:$C$34,2,FALSE)=\"ok\",\"\",1))","v":""},{"$f":"IF(J15=\"\",\"\",IF(VLOOKUP(CONCATENATE(J15,\" SI\"),W$7:W$1196,1,FALSE)=CONCATENATE(J15,\" SI\"),\"\",1))","v":""},null,{"$f":"IF(OR(J15=\"\",G15=\"\"),\"\",IF(VLOOKUP(H15,Tabelle_Fisse!$B$25:$C$29,2,FALSE)=\"ok\",\"\",1))","v":""},{"$nulls":4},"ZDB08731C4 SI"]
[null,"ZA908CDF12","HARNEKINFO s.r.l.","02671800163",null,"SI",null,null,null,"ZA908CDF12",{"$f":"IF(J16=\"\",\"\",IF(VLOOKUP(J16,Lotti!B$6:B$596,1,FALSE)=J16,\"\",1))","v":""},null,"",null,{"$f":"IF(J16=\"\",\"\",IF(VLOOKUP(F16,Tabelle_Fisse!$B$33:$C$34,2,FALSE)=\"ok\",\"\",1))","v":""},{"$f":"IF(J16=\"\",\"\",IF(VLOOKUP(CONCATENATE(J16,\" SI\"),W$7:W$1196,1,FALSE)=CONCATENATE(J16,\" SI\"),\"\",1))","v":""},null,{"$f":"IF(OR(J16=\"\",G16=\"\"),\"\",IF(VLOOKUP(H16,Tabelle_Fisse!$B$25:$C$29,2,FALSE)=\"ok\",\"\",1))","v":""},{"$nulls":4},"ZA908CDF12 SI"]
[null,"ZDA08D6DB3","MEDIATECH s.r.l.","03164980173",null,"SI",null,null,null,"ZDA08D6DB3",{"$f":"IF(J17=\"\",\"\",IF(VLOOKUP(J17,Lotti!B$6:B$596,1,FALSE)=J17,\"\",1))","v":""},null,"",null,{"$f":"IF(J17=\"\",\"\",IF(VLOOKUP(F17,Tabelle_Fisse!$B$33:$C$34,2,FALSE)=\"ok\",\"\",1))","v":""},{"$f":"IF(J17=\"\",\"\",IF(VLOOKUP(CONCATENATE(J17,\" SI\"),W$7:W$1196,1,FALSE)=CONCATENATE(J17,\" SI\"),\"\",1))","v":""},null,{"$f":"IF(OR(J17=\"\",G17=\"\"),\"\",IF(VLOOKUP(H17,Tabelle_Fisse!$B$25:$C$29,2,FALSE)=\"ok\",\"\",1))","v":""},{"$nulls":4},"ZDA08D6DB3 SI"]
[null,"ZAC08E1F83","MEDIATECH s.r.l.","03164980173",null,"SI",null,null,null,"ZAC08E1F83",{"$f":"IF(J18=\"\",\"\",IF(VLOOKUP(J18,Lotti!B$6:B$596,1,FALSE)=J18,\"\",1))","v":""},null,"",null,{"$f":"IF(J18=\"\",\"\",IF(VLOOKUP(F18,Tabelle_Fisse!$B$33:$C$34,2,FALSE)=\"ok\",\"\",1))","v":""},{"$f":"IF(J18=\"\",\"\",IF(VLOOKUP(CONCATENATE(J18,\" SI\"),W$7:W$1196,1,FALSE)=CONCATENATE(J18,\" SI\"),\"\",1))","v":""},null,{"$f":"IF(OR(J18=\"\",G18=\"\"),\"\",IF(VLOOKUP(H18,Tabelle_Fisse!$B$25:$C$29,2,FALSE)=\"ok\",\"\",1))","v":""},{"$nulls":4},"ZAC08E1F83 SI"]
[null,"Z36091AFE6","MEDIATECH s.r.l.","03164980173",null,"SI",null,null,null,"Z36091AFE6",{"$f":"IF(J19=\"\",\"\",IF(VLOOKUP(J19,Lotti!B$6:B$596,1,FALSE)=J19,\"\",1))","v":""},null,"",null,{"$f":"IF(J19=\"\",\"\",IF(VLOOKUP(F19,Tabelle_Fisse!$B$33:$C$34,2,FALSE)=\"ok\",\"\",1))","v":""},{"$f":"IF(J19=\"\",\"\",IF(VLOOKUP(CONCATENATE(J19,\" SI\"),W$7:W$1196,1,FALSE)=CONCATENATE(J19,\" SI\"),\"\",1))","v":""},null,{"$f":"IF(OR(J19=\"\",G19=\"\"),\"\",IF(VLOOKUP(H19,Tabelle_Fisse!$B$25:$C$29,2,FALSE)=\"ok\",\"\",1))","v":""},{"$nulls":4},"Z36091AFE6 SI"]
[null,"ZD8092C6E0","LA NUOVA STAMPA s.r.l.","03291900987",null,"SI",null,null,null,"ZD8092C6E0",{"$f":"IF(J20=\"\",\"\",IF(VLOOKUP(J20,Lotti!B$6:B$596,1,FALSE)=J20,\"\",1))","v":""},null,"",null,{"$f":"IF(J20=\"\",\"\",IF(VLOOKUP(F20,Tabelle_Fisse!$B$33:$C$34,2,FALSE)=\"ok\",\"\",1))","v":""},{"$f":"IF(J20=\"\",\"\",IF(VLOOKUP(CONCATENATE(J20,\" SI\"),W$7:W$1196,1,FALSE)=CONCATENATE(J20,\" SI\"),\"\",1))","v":""},null,{"$f":"IF(OR(J20=\"\",G20=\"\"),\"\",IF(VLOOKUP(H20,Tabelle_Fisse!$B$25:$C$29,2,FALSE)=\"ok\",\"\",1))","v":""},{"$nulls":4},"ZD8092C6E0 SI"]
[null,"ZB5096CCBD","ROMEDA INFISSI di Romeda Francesco","RMDFNC53A05H699G",null,"SI",null,null,null,"ZB5096CCBD",{"$f":"IF(J21=\"\",\"\",IF(VLOOKUP(J21,Lotti!B$6:B$596,1,FALSE)=J21,\"\",1))","v":""},null,"",null,{"$f":"IF(J21=\"\",\"\",IF(VLOOKUP(F21,Tabelle_Fisse!$B$33:$C$34,2,FALSE)=\"ok\",\"\",1))","v":""},{"$f":"IF(J21=\"\",\"\",IF(VLOOKUP(CONCATENATE(J21,\" SI\"),W$7:W$1196,1,FALSE)=CONCATENATE(J21,\" SI\"),\"\",1))","v":""},null,{"$f":"IF(OR(J21=\"\",G21=\"\"),\"\",IF(VLOOKUP(H21,Tabelle_Fisse!$B$25:$C$29,2,FALSE)=\"ok\",\"\",1))","v":""},{"$nulls":4},"ZB5096CCBD SI"]
[null,"ZDD0980A68","FOR GARDEN s.c. a r.l.","03164750170",null,"SI",null,null,null,"ZDD0980A68",{"$f":"IF(J22=\"\",\"\",IF(VLOOKUP(J22,Lotti!B$6:B$596,1,FALSE)=J22,\"\",1))","v":""},null,"",null,{"$f":"IF(J22=\"\",\"\",IF(VLOOKUP(F22,Tabelle_Fisse!$B$33:$C$34,2,FALSE)=\"ok\",\"\",1))","v":""},{"$f":"IF(J22=\"\",\"\",IF(VLOOKUP(CONCATENATE(J22,\" SI\"),W$7:W$1196,1,FALSE)=CONCATENATE(J22,\" SI\"),\"\",1))","v":""},null,{"$f":"IF(OR(J22=\"\",G22=\"\"),\"\",IF(VLOOKUP(H22,Tabelle_Fisse!$B$25:$C$29,2,FALSE)=\"ok\",\"\",1))","v":""},{"$nulls":4},"ZDD0980A68 SI"]
[null,"Z4F09B343D","ENEL SOLE s.r.l.","05999811002",null,"SI",null,null,null,"Z4F09B343D",{"$f":"IF(J23=\"\",\"\",IF(VLOOKUP(J23,Lotti!B$6:B$596,1,FALSE)=J23,\"\",1))","v":""},null,"",null,{"$f":"IF(J23=\"\",\"\",IF(VLOOKUP(F23,Tabelle_Fisse!$B$33:$C$34,2,FALSE)=\"ok\",\"\",1))","v":""},{"$f":"IF(J23=\"\",\"\",IF(VLOOKUP(CONCATENATE(J23,\" SI\"),W$7:W$1196,1,FALSE)=CONCATENATE(J23,\" SI\"),\"\",1))","v":""},null,{"$f":"IF(OR(J23=\"\",G23=\"\"),\"\",IF(VLOOKUP(H23,Tabelle_Fisse!$B$25:$C$29,2,FALSE)=\"ok\",\"\",1))","v":""},{"$nulls":4},"Z4F09B343D SI"]
[null,"ZBA0A0596A","LINEA COM s.r.l.","02071390989",null,"SI",null,null,null,"ZBA0A0596A",{"$f":"IF(J24=\"\",\"\",IF(VLOOKUP(J24,Lotti!B$6:B$596,1,FALSE)=J24,\"\",1))","v":""},null,"",null,{"$f":"IF(J24=\"\",\"\",IF(VLOOKUP(F24,Tabelle_Fisse!$B$33:$C$34,2,FALSE)=\"ok\",\"\",1))","v":""},{"$f":"IF(J24=\"\",\"\",IF(VLOOKUP(CONCATENATE(J24,\" SI\"),W$7:W$1196,1,FALSE)=CONCATENATE(J24,\" SI\"),\"\",1))","v":""},null,{"$f":"IF(OR(J24=\"\",G24=\"\"),\"\",IF(VLOOKUP(H24,Tabelle_Fisse!$B$25:$C$29,2,FALSE)=\"ok\",\"\",1))","v":""},{"$nulls":4},"ZBA0A0596A SI"]
[null,"ZD70A1A4C9","CAPRIOLI SOLUTIONS s.r.l.","10892451005",null,"SI",null,null,null,"ZD70A1A4C9",{"$f":"IF(J25=\"\",\"\",IF(VLOOKUP(J25,Lotti!B$6:B$596,1,FALSE)=J25,\"\",1))","v":""},null,"",null,{"$f":"IF(J25=\"\",\"\",IF(VLOOKUP(F25,Tabelle_Fisse!$B$33:$C$34,2,FALSE)=\"ok\",\"\",1))","v":""},{"$f":"IF(J25=\"\",\"\",IF(VLOOKUP(CONCATENATE(J25,\" SI\"),W$7:W$1196,1,FALSE)=CONCATENATE(J25,\" SI\"),\"\",1))","v":""},null,{"$f":"IF(OR(J25=\"\",G25=\"\"),\"\",IF(VLOOKUP(H25,Tabelle_Fisse!$B$25:$C$29,2,FALSE)=\"ok\",\"\",1))","v":""},{"$nulls":4},"ZD70A1A4C9 SI"]
[null,"Z440A6A5DB","I.I.S. GIACOMO ANTONIETTI","98007620176",null,"SI",null,null,null,"Z440A6A5DB",{"$f":"IF(J26=\"\",\"\",IF(VLOOKUP(J26,Lotti!B$6:B$596,1,FALSE)=J26,\"\",1))","v":""},null,"",null,{"$f":"IF(J26=\"\",\"\",IF(VLOOKUP(F26,Tabelle_Fisse!$B$33:$C$34,2,FALSE)=\"ok\",\"\",1))","v":""},{"$f":"IF(J26=\"\",\"\",IF(VLOOKUP(CONCATENATE(J26,\" SI\"),W$7:W$1196,1,FALSE)=CONCATENATE(J26,\" SI\"),\"\",1))","v":""},null,{"$f":"IF(OR(J26=\"\",G26=\"\"),\"\",IF(VLOOKUP(H26,Tabelle_Fisse!$B$25:$C$29,2,FALSE)=\"ok\",\"\",1))","v":""},{"$nulls":4},"Z440A6A5DB SI"]
[null,"Z120A752AB","MEDIATECH s.r.l.","03164980173",null,"SI",null,null,null,"Z120A752AB",{"$f":"IF(J27=\"\",\"\",IF(VLOOKUP(J27,Lotti!B$6:B$596,1,FALSE)=J27,\"\",1))","v":""},null,"",null,{"$f":"IF(J27=\"\",\"\",IF(VLOOKUP(F27,Tabelle_Fisse!$B$33:$C$34,2,FALSE)=\"ok\",\"\",1))","v":""},{"$f":"IF(J27=\"\",\"\",IF(VLOOKUP(CONCATENATE(J27,\" SI\"),W$7:W$1196,1,FALSE)=CONCATENATE(J27,\" SI\"),\"\",1))","v":""},null,{"$f":"IF(OR(J27=\"\",G27=\"\"),\"\",IF(VLOOKUP(H27,Tabelle_Fisse!$B$25:$C$29,2,FALSE)=\"ok\",\"\",1))","v":""},{"$nulls":4},"Z120A752AB SI"]
[null,"Z8A0B56CBE","HARNEKINFO s.r.l.","02671800163",null,"SI",null,null,null,"Z8A0B56CBE",{"$f":"IF(J28=\"\",\"\",IF(VLOOKUP(J28,Lotti!B$6:B$596,1,FALSE)=J28,\"\",1))","v":""},null,"",null,{"$f":"IF(J28=\"\",\"\",IF(VLOOKUP(F28,Tabelle_Fisse!$B$33:$C$34,2,FALSE)=\"ok\",\"\",1))","v":""},{"$f":"IF(J28=\"\",\"\",IF(VLOOKUP(CONCATENATE(J28,\" SI\"),W$7:W$1196,1,FALSE)=CONCATENATE(J28,\" SI\"),\"\",1))","v":""},null,{"$f":"IF(OR(J28=\"\",G28=\"\"),\"\",IF(VLOOKUP(H28,Tabelle_Fisse!$B$25:$C$29,2,FALSE)=\"ok\",\"\",1))","v":""},{"$nulls":4},"Z8A0B56CBE SI"]
[null,"Z5A0B786D4","ING. RENATO BENEDETTI","BNDRNT46M12E333G",null,"SI",null,null,null,"Z5A0B786D4",{"$f":"IF(J29=\"\",\"\",IF(VLOOKUP(J29,Lotti!B$6:B$596,1,FALSE)=J29,\"\",1))","v":""},null,"",null,{"$f":"IF(J29=\"\",\"\",IF(VLOOKUP(F29,Tabelle_Fisse!$B$33:$C$34,2,FALSE)=\"ok\",\"\",1))","v":""},{"$f":"IF(J29=\"\",\"\",IF(VLOOKUP(CONCATENATE(J29,\" SI\"),W$7:W$1196,1,FALSE)=CONCATENATE(J29,\" SI\"),\"\",1))","v":""},null,{"$f":"IF(OR(J29=\"\",G29=\"\"),\"\",IF(VLOOKUP(H29,Tabelle_Fisse!$B$25:$C$29,2,FALSE)=\"ok\",\"\",1))","v":""},{"$nulls":4},"Z5A0B786D4 SI"]
[null,"Z620BF6CC0","CIMA s.r.l.","02356860987",null,"SI",null,null,null,"Z620BF6CC0",{"$f":"IF(J30=\"\",\"\",IF(VLOOKUP(J30,Lotti!B$6:B$596,1,FALSE)=J30,\"\",1))","v":""},null,"",null,{"$f":"IF(J30=\"\",\"\",IF(VLOOKUP(F30,Tabelle_Fisse!$B$33:$C$34,2,FALSE)=\"ok\",\"\",1))","v":""},{"$f":"IF(J30=\"\",\"\",IF(VLOOKUP(CONCATENATE(J30,\" SI\"),W$7:W$1196,1,FALSE)=CONCATENATE(J30,\" SI\"),\"\",1))","v":""},null,{"$f":"IF(OR(J30=\"\",G30=\"\"),\"\",IF(VLOOKUP(H30,Tabelle_Fisse!$B$25:$C$29,2,FALSE)=\"ok\",\"\",1))","v":""},{"$nulls":4},"Z620BF6CC0 SI"]
[null,"Z8F0BF935A","RERMAN ASCENSORI s.r.l.","02791980986",null,"SI",null,null,null,"Z8F0BF935A",{"$f":"IF(J31=\"\",\"\",IF(VLOOKUP(J31,Lotti!B$6:B$596,1,FALSE)=J31,\"\",1))","v":""},null,"",null,{"$f":"IF(J31=\"\",\"\",IF(VLOOKUP(F31,Tabelle_Fisse!$B$33:$C$34,2,FALSE)=\"ok\",\"\",1))","v":""},{"$f":"IF(J31=\"\",\"\",IF(VLOOKUP(CONCATENATE(J31,\" SI\"),W$7:W$1196,1,FALSE)=CONCATENATE(J31,\" SI\"),\"\",1))","v":""},null,{"$f":"IF(OR(J31=\"\",G31=\"\"),\"\",IF(VLOOKUP(H31,Tabelle_Fisse!$B$25:$C$29,2,FALSE)=\"ok\",\"\",1))","v":""},{"$nulls":4},"Z8F0BF935A SI"]
[null,"Z1C0C25997","CDR s.r.l.","04170450482",null,"SI",null,null,null,"Z1C0C25997",{"$f":"IF(J32=\"\",\"\",IF(VLOOKUP(J32,Lotti!B$6:B$596,1,FALSE)=J32,\"\",1))","v":""},null,"",null,{"$f":"IF(J32=\"\",\"\",IF(VLOOKUP(F32,Tabelle_Fisse!$B$33:$C$34,2,FALSE)=\"ok\",\"\",1))","v":""},{"$f":"IF(J32=\"\",\"\",IF(VLOOKUP(CONCATENATE(J32,\" SI\"),W$7:W$1196,1,FALSE)=CONCATENATE(J32,\" SI\"),\"\",1))","v":""},null,{"$f":"IF(OR(J32=\"\",G32=\"\"),\"\",IF(VLOOKUP(H32,Tabelle_Fisse!$B$25:$C$29,2,FALSE)=\"ok\",\"\",1))","v":""},{"$nulls":4},"Z1C0C25997 SI"]
[null,"ZE90C51CDB","WEB SERVICE s.r.l.","02537990042",null,"SI",null,null,null,"ZE90C51CDB",{"$f":"IF(J33=\"\",\"\",IF(VLOOKUP(J33,Lotti!B$6:B$596,1,FALSE)=J33,\"\",1))","v":""},null,"",null,{"$f":"IF(J33=\"\",\"\",IF(VLOOKUP(F33,Tabelle_Fisse!$B$33:$C$34,2,FALSE)=\"ok\",\"\",1))","v":""},{"$f":"IF(J33=\"\",\"\",IF(VLOOKUP(CONCATENATE(J33,\" SI\"),W$7:W$1196,1,FALSE)=CONCATENATE(J33,\" SI\"),\"\",1))","v":""},null,{"$f":"IF(OR(J33=\"\",G33=\"\"),\"\",IF(VLOOKUP(H33,Tabelle_Fisse!$B$25:$C$29,2,FALSE)=\"ok\",\"\",1))","v":""},{"$nulls":4},"ZE90C51CDB SI"]
[null,"Z690C62F34","TERMOIDRAULICA s.n.c. di Borghesi Paolo e Bruno","03128010174",null,"SI",null,null,null,"Z690C62F34",{"$f":"IF(J34=\"\",\"\",IF(VLOOKUP(J34,Lotti!B$6:B$596,1,FALSE)=J34,\"\",1))","v":""},null,"",null,{"$f":"IF(J34=\"\",\"\",IF(VLOOKUP(F34,Tabelle_Fisse!$B$33:$C$34,2,FALSE)=\"ok\",\"\",1))","v":""},{"$f":"IF(J34=\"\",\"\",IF(VLOOKUP(CONCATENATE(J34,\" SI\"),W$7:W$1196,1,FALSE)=CONCATENATE(J34,\" SI\"),\"\",1))","v":""},null,{"$f":"IF(OR(J34=\"\",G34=\"\"),\"\",IF(VLOOKUP(H34,Tabelle_Fisse!$B$25:$C$29,2,FALSE)=\"ok\",\"\",1))","v":""},{"$nulls":4},"Z690C62F34 SI"]
[null,"ZF70C7ED5A","HARNEKINFO s.r.l.","02671800163",null,"SI",null,null,null,"ZF70C7ED5A",{"$f":"IF(J35=\"\",\"\",IF(VLOOKUP(J35,Lotti!B$6:B$596,1,FALSE)=J35,\"\",1))","v":""},null,"",null,{"$f":"IF(J35=\"\",\"\",IF(VLOOKUP(F35,Tabelle_Fisse!$B$33:$C$34,2,FALSE)=\"ok\",\"\",1))","v":""},{"$f":"IF(J35=\"\",\"\",IF(VLOOKUP(CONCATENATE(J35,\" SI\"),W$7:W$1196,1,FALSE)=CONCATENATE(J35,\" SI\"),\"\",1))","v":""},null,{"$f":"IF(OR(J35=\"\",G35=\"\"),\"\",IF(VLOOKUP(H35,Tabelle_Fisse!$B$25:$C$29,2,FALSE)=\"ok\",\"\",1))","v":""},{"$nulls":4},"ZF70C7ED5A SI"]
[null,"Z9E0C86B60","AUTOFFICINA LOTTICI MANLIO","LTTMNL72R09E333T",null,"SI",null,null,null,"Z9E0C86B60",{"$f":"IF(J36=\"\",\"\",IF(VLOOKUP(J36,Lotti!B$6:B$596,1,FALSE)=J36,\"\",1))","v":""},null,"",null,{"$f":"IF(J36=\"\",\"\",IF(VLOOKUP(F36,Tabelle_Fisse!$B$33:$C$34,2,FALSE)=\"ok\",\"\",1))","v":""},{"$f":"IF(J36=\"\",\"\",IF(VLOOKUP(CONCATENATE(J36,\" SI\"),W$7:W$1196,1,FALSE)=CONCATENATE(J36,\" SI\"),\"\",1))","v":""},null,{"$f":"IF(OR(J36=\"\",G36=\"\"),\"\",IF(VLOOKUP(H36,Tabelle_Fisse!$B$25:$C$29,2,FALSE)=\"ok\",\"\",1))","v":""},{"$nulls":4},"Z9E0C86B60 SI"]
[null,"Z9F0C8A28D","VIGILANZA GROUP S.C. a r.l.","00884000175",null,"SI",null,null,null,"Z9F0C8A28D",{"$f":"IF(J37=\"\",\"\",IF(VLOOKUP(J37,Lotti!B$6:B$596,1,FALSE)=J37,\"\",1))","v":""},null,"",null,{"$f":"IF(J37=\"\",\"\",IF(VLOOKUP(F37,Tabelle_Fisse!$B$33:$C$34,2,FALSE)=\"ok\",\"\",1))","v":""},{"$f":"IF(J37=\"\",\"\",IF(VLOOKUP(CONCATENATE(J37,\" SI\"),W$7:W$1196,1,FALSE)=CONCATENATE(J37,\" SI\"),\"\",1))","v":""},null,{"$f":"IF(OR(J37=\"\",G37=\"\"),\"\",IF(VLOOKUP(H37,Tabelle_Fisse!$B$25:$C$29,2,FALSE)=\"ok\",\"\",1))","v":""},{"$nulls":4},"Z9F0C8A28D SI"]
[null,"Z900C980FF","PICCHI s.n.c.","01092950177",null,"SI",null,null,null,"Z900C980FF",{"$f":"IF(J38=\"\",\"\",IF(VLOOKUP(J38,Lotti!B$6:B$596,1,FALSE)=J38,\"\",1))","v":""},null,"",null,{"$f":"IF(J38=\"\",\"\",IF(VLOOKUP(F38,Tabelle_Fisse!$B$33:$C$34,2,FALSE)=\"ok\",\"\",1))","v":""},{"$f":"IF(J38=\"\",\"\",IF(VLOOKUP(CONCATENATE(J38,\" SI\"),W$7:W$1196,1,FALSE)=CONCATENATE(J38,\" SI\"),\"\",1))","v":""},null,{"$f":"IF(OR(J38=\"\",G38=\"\"),\"\",IF(VLOOKUP(H38,Tabelle_Fisse!$B$25:$C$29,2,FALSE)=\"ok\",\"\",1))","v":""},{"$nulls":4},"Z900C980FF SI"]
[null,"Z890CAF0BF","SERIOLI ELETTROIMPIANTI","03002060980",null,"SI",null,null,null,"Z890CAF0BF",{"$f":"IF(J39=\"\",\"\",IF(VLOOKUP(J39,Lotti!B$6:B$596,1,FALSE)=J39,\"\",1))","v":""},null,"",null,{"$f":"IF(J39=\"\",\"\",IF(VLOOKUP(F39,Tabelle_Fisse!$B$33:$C$34,2,FALSE)=\"ok\",\"\",1))","v":""},{"$f":"IF(J39=\"\",\"\",IF(VLOOKUP(CONCATENATE(J39,\" SI\"),W$7:W$1196,1,FALSE)=CONCATENATE(J39,\" SI\"),\"\",1))","v":""},null,{"$f":"IF(OR(J39=\"\",G39=\"\"),\"\",IF(VLOOKUP(H39,Tabelle_Fisse!$B$25:$C$29,2,FALSE)=\"ok\",\"\",1))","v":""},{"$nulls":4},"Z890CAF0BF SI"]
[null,"Z520CCD6F1","IL SANDALO S.C.S. onlus","03382190175",null,"SI",null,null,null,"Z520CCD6F1",{"$f":"IF(J40=\"\",\"\",IF(VLOOKUP(J40,Lotti!B$6:B$596,1,FALSE)=J40,\"\",1))","v":""},null,"",null,{"$f":"IF(J40=\"\",\"\",IF(VLOOKUP(F40,Tabelle_Fisse!$B$33:$C$34,2,FALSE)=\"ok\",\"\",1))","v":""},{"$f":"IF(J40=\"\",\"\",IF(VLOOKUP(CONCATENATE(J40,\" SI\"),W$7:W$1196,1,FALSE)=CONCATENATE(J40,\" SI\"),\"\",1))","v":""},null,{"$f":"IF(OR(J40=\"\",G40=\"\"),\"\",IF(VLOOKUP(H40,Tabelle_Fisse!$B$25:$C$29,2,FALSE)=\"ok\",\"\",1))","v":""},{"$nulls":4},"Z520CCD6F1 SI"]
[null,"Z070CDEFBB","CLIMAGEST s.r.l.","03291260176",null,"SI",null,null,null,"Z070CDEFBB",{"$f":"IF(J41=\"\",\"\",IF(VLOOKUP(J41,Lotti!B$6:B$596,1,FALSE)=J41,\"\",1))","v":""},null,"",null,{"$f":"IF(J41=\"\",\"\",IF(VLOOKUP(F41,Tabelle_Fisse!$B$33:$C$34,2,FALSE)=\"ok\",\"\",1))","v":""},{"$f":"IF(J41=\"\",\"\",IF(VLOOKUP(CONCATENATE(J41,\" SI\"),W$7:W$1196,1,FALSE)=CONCATENATE(J41,\" SI\"),\"\",1))","v":""},null,{"$f":"IF(OR(J41=\"\",G41=\"\"),\"\",IF(VLOOKUP(H41,Tabelle_Fisse!$B$25:$C$29,2,FALSE)=\"ok\",\"\",1))","v":""},{"$nulls":4},"Z070CDEFBB SI"]
[null,"4760217F52","DUCI s.r.l.","02583510165",null,"SI",null,null,null,"4760217F52",{"$f":"IF(J42=\"\",\"\",IF(VLOOKUP(J42,Lotti!B$6:B$596,1,FALSE)=J42,\"\",1))","v":""},null,"",null,{"$f":"IF(J42=\"\",\"\",IF(VLOOKUP(F42,Tabelle_Fisse!$B$33:$C$34,2,FALSE)=\"ok\",\"\",1))","v":""},{"$f":"IF(J42=\"\",\"\",IF(VLOOKUP(CONCATENATE(J42,\" SI\"),W$7:W$1196,1,FALSE)=CONCATENATE(J42,\" SI\"),\"\",1))","v":""},null,{"$f":"IF(OR(J42=\"\",G42=\"\"),\"\",IF(VLOOKUP(H42,Tabelle_Fisse!$B$25:$C$29,2,FALSE)=\"ok\",\"\",1))","v":""},{"$nulls":4},"4760217F52 SI"]
[null,"4760217F52","EDIL F.A.S. SPA","01491640163",null,"NO",null,null,null,"4760217F52",{"$f":"IF(J43=\"\",\"\",IF(VLOOKUP(J43,Lotti!B$6:B$596,1,FALSE)=J43,\"\",1))","v":""},null,"",null,{"$f":"IF(J43=\"\",\"\",IF(VLOOKUP(F43,Tabelle_Fisse!$B$33:$C$34,2,FALSE)=\"ok\",\"\",1))","v":""},{"$f":"IF(J43=\"\",\"\",IF(VLOOKUP(CONCATENATE(J43,\" SI\"),W$7:W$1196,1,FALSE)=CONCATENATE(J43,\" SI\"),\"\",1))","v":""},null,{"$f":"IF(OR(J43=\"\",G43=\"\"),\"\",IF(VLOOKUP(H43,Tabelle_Fisse!$B$25:$C$29,2,FALSE)=\"ok\",\"\",1))","v":""},{"$nulls":4},"4760217F52 NO"]
[null,"4760217F52","IMPRESA PACCANI SPA","00211270160",null,"NO",null,null,null,"4760217F52",{"$f":"IF(J44=\"\",\"\",IF(VLOOKUP(J44,Lotti!B$6:B$596,1,FALSE)=J44,\"\",1))","v":""},null,"",null,{"$f":"IF(J44=\"\",\"\",IF(VLOOKUP(F44,Tabelle_Fisse!$B$33:$C$34,2,FALSE)=\"ok\",\"\",1))","v":""},{"$f":"IF(J44=\"\",\"\",IF(VLOOKUP(CONCATENATE(J44,\" SI\"),W$7:W$1196,1,FALSE)=CONCATENATE(J44,\" SI\"),\"\",1))","v":""},null,{"$f":"IF(OR(J44=\"\",G44=\"\"),\"\",IF(VLOOKUP(H44,Tabelle_Fisse!$B$25:$C$29,2,FALSE)=\"ok\",\"\",1))","v":""},{"$nulls":4},"4760217F52 NO"]
[null,"4760217F52","GIUDICI SPA","00226710168",null,"NO",null,null,null,"4760217F52",{"$f":"IF(J45=\"\",\"\",IF(VLOOKUP(J45,Lotti!B$6:B$596,1,FALSE)=J45,\"\",1))","v":""},null,"",null,{"$f":"IF(J45=\"\",\"\",IF(VLOOKUP(F45,Tabelle_Fisse!$B$33:$C$34,2,FALSE)=\"ok\",\"\",1))","v":""},{"$f":"IF(J45=\"\",\"\",IF(VLOOKUP(CONCATENATE(J45,\" SI\"),W$7:W$1196,1,FALSE)=CONCATENATE(J45,\" SI\"),\"\",1))","v":""},null,{"$f":"IF(OR(J45=\"\",G45=\"\"),\"\",IF(VLOOKUP(H45,Tabelle_Fisse!$B$25:$C$29,2,FALSE)=\"ok\",\"\",1))","v":""},{"$nulls":4},"4760217F52 NO"]
[null,"4760217F52","IMPRESA EDILE STRADALE ARTIFONI SPA","01418590160",null,"NO",null,null,null,"4760217F52",{"$f":"IF(J46=\"\",\"\",IF(VLOOKUP(J46,Lotti!B$6:B$596,1,FALSE)=J46,\"\",1))","v":""},null,"",null,{"$f":"IF(J46=\"\",\"\",IF(VLOOKUP(F46,Tabelle_Fisse!$B$33:$C$34,2,FALSE)=\"ok\",\"\",1))","v":""},{"$f":"IF(J46=\"\",\"\",IF(VLOOKUP(CONCATENATE(J46,\" SI\"),W$7:W$1196,1,FALSE)=CONCATENATE(J46,\" SI\"),\"\",1))","v":""},null,{"$f":"IF(OR(J46=\"\",G46=\"\"),\"\",IF(VLOOKUP(H46,Tabelle_Fisse!$B$25:$C$29,2,FALSE)=\"ok\",\"\",1))","v":""},{"$nulls":4},"4760217F52 NO"]
[null,"4760217F52","C.B.C. COSTRUZIONI SNC","00642060982",null,"NO",null,null,null,"4760217F52",{"$f":"IF(J47=\"\",\"\",IF(VLOOKUP(J47,Lotti!B$6:B$596,1,FALSE)=J47,\"\",1))","v":""},null,"",null,{"$f":"IF(J47=\"\",\"\",IF(VLOOKUP(F47,Tabelle_Fisse!$B$33:$C$34,2,FALSE)=\"ok\",\"\",1))","v":""},{"$f":"IF(J47=\"\",\"\",IF(VLOOKUP(CONCATENATE(J47,\" SI\"),W$7:W$1196,1,FALSE)=CONCATENATE(J47,\" SI\"),\"\",1))","v":""},null,{"$f":"IF(OR(J47=\"\",G47=\"\"),\"\",IF(VLOOKUP(H47,Tabelle_Fisse!$B$25:$C$29,2,FALSE)=\"ok\",\"\",1))","v":""},{"$nulls":4},"4760217F52 NO"]
[null,"4760217F52","ROFFIA SRL","01411770207",null,"NO",null,null,null,"4760217F52",{"$f":"IF(J48=\"\",\"\",IF(VLOOKUP(J48,Lotti!B$6:B$596,1,FALSE)=J48,\"\",1))","v":""},null,"",null,{"$f":"IF(J48=\"\",\"\",IF(VLOOKUP(F48,Tabelle_Fisse!$B$33:$C$34,2,FALSE)=\"ok\",\"\",1))","v":""},{"$f":"IF(J48=\"\",\"\",IF(VLOOKUP(CONCATENATE(J48,\" SI\"),W$7:W$1196,1,FALSE)=CONCATENATE(J48,\" SI\"),\"\",1))","v":""},null,{"$f":"IF(OR(J48=\"\",G48=\"\"),\"\",IF(VLOOKUP(H48,Tabelle_Fisse!$B$25:$C$29,2,FALSE)=\"ok\",\"\",1))","v":""},{"$nulls":4},"4760217F52 NO"]
[null,"4760217F52","MOVI.TERRA","00264370206",null,"NO",null,null,null,"4760217F52",{"$f":"IF(J49=\"\",\"\",IF(VLOOKUP(J49,Lotti!B$6:B$596,1,FALSE)=J49,\"\",1))","v":""},null,"",null,{"$f":"IF(J49=\"\",\"\",IF(VLOOKUP(F49,Tabelle_Fisse!$B$33:$C$34,2,FALSE)=\"ok\",\"\",1))","v":""},{"$f":"IF(J49=\"\",\"\",IF(VLOOKUP(CONCATENATE(J49,\" SI\"),W$7:W$1196,1,FALSE)=CONCATENATE(J49,\" SI\"),\"\",1))","v":""},null,{"$f":"IF(OR(J49=\"\",G49=\"\"),\"\",IF(VLOOKUP(H49,Tabelle_Fisse!$B$25:$C$29,2,FALSE)=\"ok\",\"\",1))","v":""},{"$nulls":4},"4760217F52 NO"]
[null,"4760217F52","BETTONI SPA","01516110168",null,"NO",null,null,null,"4760217F52",{"$f":"IF(J50=\"\",\"\",IF(VLOOKUP(J50,Lotti!B$6:B$596,1,FALSE)=J50,\"\",1))","v":""},null,"",null,{"$f":"IF(J50=\"\",\"\",IF(VLOOKUP(F50,Tabelle_Fisse!$B$33:$C$34,2,FALSE)=\"ok\",\"\",1))","v":""},{"$f":"IF(J50=\"\",\"\",IF(VLOOKUP(CONCATENATE(J50,\" SI\"),W$7:W$1196,1,FALSE)=CONCATENATE(J50,\" SI\"),\"\",1))","v":""},null,{"$f":"IF(OR(J50=\"\",G50=\"\"),\"\",IF(VLOOKUP(H50,Tabelle_Fisse!$B$25:$C$29,2,FALSE)=\"ok\",\"\",1))","v":""},{"$nulls":4},"4760217F52 NO"]
[null,"4760217F52","PANZERI SPA","01860710167",null,"NO",null,null,null,"4760217F52",{"$f":"IF(J51=\"\",\"\",IF(VLOOKUP(J51,Lotti!B$6:B$596,1,FALSE)=J51,\"\",1))","v":""},null,"",null,{"$f":"IF(J51=\"\",\"\",IF(VLOOKUP(F51,Tabelle_Fisse!$B$33:$C$34,2,FALSE)=\"ok\",\"\",1))","v":""},{"$f":"IF(J51=\"\",\"\",IF(VLOOKUP(CONCATENATE(J51,\" SI\"),W$7:W$1196,1,FALSE)=CONCATENATE(J51,\" SI\"),\"\",1))","v":""},null,{"$f":"IF(OR(J51=\"\",G51=\"\"),\"\",IF(VLOOKUP(H51,Tabelle_Fisse!$B$25:$C$29,2,FALSE)=\"ok\",\"\",1))","v":""},{"$nulls":4},"4760217F52 NO"]
[null,"4760217F52","ANTONUTTI SPA","00613340983",null,"NO",null,null,null,"4760217F52",{"$f":"IF(J52=\"\",\"\",IF(VLOOKUP(J52,Lotti!B$6:B$596,1,FALSE)=J52,\"\",1))","v":""},null,"",null,{"$f":"IF(J52=\"\",\"\",IF(VLOOKUP(F52,Tabelle_Fisse!$B$33:$C$34,2,FALSE)=\"ok\",\"\",1))","v":""},{"$f":"IF(J52=\"\",\"\",IF(VLOOKUP(CONCATENATE(J52,\" SI\"),W$7:W$1196,1,FALSE)=CONCATENATE(J52,\" SI\"),\"\",1))","v":""},null,{"$f":"IF(OR(J52=\"\",G52=\"\"),\"\",IF(VLOOKUP(H52,Tabelle_Fisse!$B$25:$C$29,2,FALSE)=\"ok\",\"\",1))","v":""},{"$nulls":4},"4760217F52 NO"]
[null,"4760217F52","SINA DELFINO E FIGLI SRL","01368220172",null,"NO",null,null,null,"4760217F52",{"$f":"IF(J53=\"\",\"\",IF(VLOOKUP(J53,Lotti!B$6:B$596,1,FALSE)=J53,\"\",1))","v":""},null,"",null,{"$f":"IF(J53=\"\",\"\",IF(VLOOKUP(F53,Tabelle_Fisse!$B$33:$C$34,2,FALSE)=\"ok\",\"\",1))","v":""},{"$f":"IF(J53=\"\",\"\",IF(VLOOKUP(CONCATENATE(J53,\" SI\"),W$7:W$1196,1,FALSE)=CONCATENATE(J53,\" SI\"),\"\",1))","v":""},null,{"$f":"IF(OR(J53=\"\",G53=\"\"),\"\",IF(VLOOKUP(H53,Tabelle_Fisse!$B$25:$C$29,2,FALSE)=\"ok\",\"\",1))","v":""},{"$nulls":4},"4760217F52 NO"]
[null,"4760217F52","GEOM. MAGNATI RENATO SRL","03354410163",null,"NO",null,null,null,"4760217F52",{"$f":"IF(J54=\"\",\"\",IF(VLOOKUP(J54,Lotti!B$6:B$596,1,FALSE)=J54,\"\",1))","v":""},null,"",null,{"$f":"IF(J54=\"\",\"\",IF(VLOOKUP(F54,Tabelle_Fisse!$B$33:$C$34,2,FALSE)=\"ok\",\"\",1))","v":""},{"$f":"IF(J54=\"\",\"\",IF(VLOOKUP(CONCATENATE(J54,\" SI\"),W$7:W$1196,1,FALSE)=CONCATENATE(J54,\" SI\"),\"\",1))","v":""},null,{"$f":"IF(OR(J54=\"\",G54=\"\"),\"\",IF(VLOOKUP(H54,Tabelle_Fisse!$B$25:$C$29,2,FALSE)=\"ok\",\"\",1))","v":""},{"$nulls":4},"4760217F52 NO"]
[null,"4760217F52","ADIGE STRADE SRL","02037570237",null,"NO",null,null,null,"4760217F52",{"$f":"IF(J55=\"\",\"\",IF(VLOOKUP(J55,Lotti!B$6:B$596,1,FALSE)=J55,\"\",1))","v":""},null,"",null,{"$f":"IF(J55=\"\",\"\",IF(VLOOKUP(F55,Tabelle_Fisse!$B$33:$C$34,2,FALSE)=\"ok\",\"\",1))","v":""},{"$f":"IF(J55=\"\",\"\",IF(VLOOKUP(CONCATENATE(J55,\" SI\"),W$7:W$1196,1,FALSE)=CONCATENATE(J55,\" SI\"),\"\",1))","v":""},null,{"$f":"IF(OR(J55=\"\",G55=\"\"),\"\",IF(VLOOKUP(H55,Tabelle_Fisse!$B$25:$C$29,2,FALSE)=\"ok\",\"\",1))","v":""},{"$nulls":4},"4760217F52 NO"]
[null,"4760217F52","GARITO SRL","01897580021",null,"NO",null,null,null,"4760217F52",{"$f":"IF(J56=\"\",\"\",IF(VLOOKUP(J56,Lotti!B$6:B$596,1,FALSE)=J56,\"\",1))","v":""},null,"",null,{"$f":"IF(J56=\"\",\"\",IF(VLOOKUP(F56,Tabelle_Fisse!$B$33:$C$34,2,FALSE)=\"ok\",\"\",1))","v":""},{"$f":"IF(J56=\"\",\"\",IF(VLOOKUP(CONCATENATE(J56,\" SI\"),W$7:W$1196,1,FALSE)=CONCATENATE(J56,\" SI\"),\"\",1))","v":""},null,{"$f":"IF(OR(J56=\"\",G56=\"\"),\"\",IF(VLOOKUP(H56,Tabelle_Fisse!$B$25:$C$29,2,FALSE)=\"ok\",\"\",1))","v":""},{"$nulls":4},"4760217F52 NO"]
[null,"4760217F52","F.LLI TRENTINI SRL","00656400983",null,"NO",null,null,null,"4760217F52",{"$f":"IF(J57=\"\",\"\",IF(VLOOKUP(J57,Lotti!B$6:B$596,1,FALSE)=J57,\"\",1))","v":""},null,"",null,{"$f":"IF(J57=\"\",\"\",IF(VLOOKUP(F57,Tabelle_Fisse!$B$33:$C$34,2,FALSE)=\"ok\",\"\",1))","v":""},{"$f":"IF(J57=\"\",\"\",IF(VLOOKUP(CONCATENATE(J57,\" SI\"),W$7:W$1196,1,FALSE)=CONCATENATE(J57,\" SI\"),\"\",1))","v":""},null,{"$f":"IF(OR(J57=\"\",G57=\"\"),\"\",IF(VLOOKUP(H57,Tabelle_Fisse!$B$25:$C$29,2,FALSE)=\"ok\",\"\",1))","v":""},{"$nulls":4},"4760217F52 NO"]
[null,"4760217F52","MARZOCCHI SRL","02175240981",null,"NO",null,null,null,"4760217F52",{"$f":"IF(J58=\"\",\"\",IF(VLOOKUP(J58,Lotti!B$6:B$596,1,FALSE)=J58,\"\",1))","v":""},null,"",null,{"$f":"IF(J58=\"\",\"\",IF(VLOOKUP(F58,Tabelle_Fisse!$B$33:$C$34,2,FALSE)=\"ok\",\"\",1))","v":""},{"$f":"IF(J58=\"\",\"\",IF(VLOOKUP(CONCATENATE(J58,\" SI\"),W$7:W$1196,1,FALSE)=CONCATENATE(J58,\" SI\"),\"\",1))","v":""},null,{"$f":"IF(OR(J58=\"\",G58=\"\"),\"\",IF(VLOOKUP(H58,Tabelle_Fisse!$B$25:$C$29,2,FALSE)=\"ok\",\"\",1))","v":""},{"$nulls":4},"4760217F52 NO"]
[null,"4760217F52","SOFIA EDIL SONICO SNC","00616670980",null,"NO",null,null,null,"4760217F52",{"$f":"IF(J59=\"\",\"\",IF(VLOOKUP(J59,Lotti!B$6:B$596,1,FALSE)=J59,\"\",1))","v":""},null,"",null,{"$f":"IF(J59=\"\",\"\",IF(VLOOKUP(F59,Tabelle_Fisse!$B$33:$C$34,2,FALSE)=\"ok\",\"\",1))","v":""},{"$f":"IF(J59=\"\",\"\",IF(VLOOKUP(CONCATENATE(J59,\" SI\"),W$7:W$1196,1,FALSE)=CONCATENATE(J59,\" SI\"),\"\",1))","v":""},null,{"$f":"IF(OR(J59=\"\",G59=\"\"),\"\",IF(VLOOKUP(H59,Tabelle_Fisse!$B$25:$C$29,2,FALSE)=\"ok\",\"\",1))","v":""},{"$nulls":4},"4760217F52 NO"]
[null,"4760217F52","IMPRESA DOSSI GEOM. CLAUDIO","00677430209",null,"NO",null,null,null,"4760217F52",{"$f":"IF(J60=\"\",\"\",IF(VLOOKUP(J60,Lotti!B$6:B$596,1,FALSE)=J60,\"\",1))","v":""},null,"",null,{"$f":"IF(J60=\"\",\"\",IF(VLOOKUP(F60,Tabelle_Fisse!$B$33:$C$34,2,FALSE)=\"ok\",\"\",1))","v":""},{"$f":"IF(J60=\"\",\"\",IF(VLOOKUP(CONCATENATE(J60,\" SI\"),W$7:W$1196,1,FALSE)=CONCATENATE(J60,\" SI\"),\"\",1))","v":""},null,{"$f":"IF(OR(J60=\"\",G60=\"\"),\"\",IF(VLOOKUP(H60,Tabelle_Fisse!$B$25:$C$29,2,FALSE)=\"ok\",\"\",1))","v":""},{"$nulls":4},"4760217F52 NO"]
[null,"4760217F52","IMPRESA DORA SRL","06473610969",null,"NO",null,null,null,"4760217F52",{"$f":"IF(J61=\"\",\"\",IF(VLOOKUP(J61,Lotti!B$6:B$596,1,FALSE)=J61,\"\",1))","v":""},null,"",null,{"$f":"IF(J61=\"\",\"\",IF(VLOOKUP(F61,Tabelle_Fisse!$B$33:$C$34,2,FALSE)=\"ok\",\"\",1))","v":""},{"$f":"IF(J61=\"\",\"\",IF(VLOOKUP(CONCATENATE(J61,\" SI\"),W$7:W$1196,1,FALSE)=CONCATENATE(J61,\" SI\"),\"\",1))","v":""},null,{"$f":"IF(OR(J61=\"\",G61=\"\"),\"\",IF(VLOOKUP(H61,Tabelle_Fisse!$B$25:$C$29,2,FALSE)=\"ok\",\"\",1))","v":""},{"$nulls":4},"4760217F52 NO"]
[null,"4760217F52","DAPAM SRL","01760180982",null,"NO",null,null,null,"4760217F52",{"$f":"IF(J62=\"\",\"\",IF(VLOOKUP(J62,Lotti!B$6:B$596,1,FALSE)=J62,\"\",1))","v":""},null,"",null,{"$f":"IF(J62=\"\",\"\",IF(VLOOKUP(F62,Tabelle_Fisse!$B$33:$C$34,2,FALSE)=\"ok\",\"\",1))","v":""},{"$f":"IF(J62=\"\",\"\",IF(VLOOKUP(CONCATENATE(J62,\" SI\"),W$7:W$1196,1,FALSE)=CONCATENATE(J62,\" SI\"),\"\",1))","v":""},null,{"$f":"IF(OR(J62=\"\",G62=\"\"),\"\",IF(VLOOKUP(H62,Tabelle_Fisse!$B$25:$C$29,2,FALSE)=\"ok\",\"\",1))","v":""},{"$nulls":4},"4760217F52 NO"]
[null,"4760217F52","EDIL STRADE VIGANI","01331400166",null,"NO",null,null,null,"4760217F52",{"$f":"IF(J63=\"\",\"\",IF(VLOOKUP(J63,Lotti!B$6:B$596,1,FALSE)=J63,\"\",1))","v":""},null,"",null,{"$f":"IF(J63=\"\",\"\",IF(VLOOKUP(F63,Tabelle_Fisse!$B$33:$C$34,2,FALSE)=\"ok\",\"\",1))","v":""},{"$f":"IF(J63=\"\",\"\",IF(VLOOKUP(CONCATENATE(J63,\" SI\"),W$7:W$1196,1,FALSE)=CONCATENATE(J63,\" SI\"),\"\",1))","v":""},null,{"$f":"IF(OR(J63=\"\",G63=\"\"),\"\",IF(VLOOKUP(H63,Tabelle_Fisse!$B$25:$C$29,2,FALSE)=\"ok\",\"\",1))","v":""},{"$nulls":4},"4760217F52 NO"]
[null,"4760217F52","GROUPECO AMBIENTE SRL","03097480838",null,"NO",null,null,null,"4760217F52",{"$f":"IF(J64=\"\",\"\",IF(VLOOKUP(J64,Lotti!B$6:B$596,1,FALSE)=J64,\"\",1))","v":""},null,"",null,{"$f":"IF(J64=\"\",\"\",IF(VLOOKUP(F64,Tabelle_Fisse!$B$33:$C$34,2,FALSE)=\"ok\",\"\",1))","v":""},{"$f":"IF(J64=\"\",\"\",IF(VLOOKUP(CONCATENATE(J64,\" SI\"),W$7:W$1196,1,FALSE)=CONCATENATE(J64,\" SI\"),\"\",1))","v":""},null,{"$f":"IF(OR(J64=\"\",G64=\"\"),\"\",IF(VLOOKUP(H64,Tabelle_Fisse!$B$25:$C$29,2,FALSE)=\"ok\",\"\",1))","v":""},{"$nulls":4},"4760217F52 NO"]
[null,"4760217F52","TRE PIU' IMPRESA SRL","03226390981",null,"NO",null,null,null,"4760217F52",{"$f":"IF(J65=\"\",\"\",IF(VLOOKUP(J65,Lotti!B$6:B$596,1,FALSE)=J65,\"\",1))","v":""},null,"",null,{"$f":"IF(J65=\"\",\"\",IF(VLOOKUP(F65,Tabelle_Fisse!$B$33:$C$34,2,FALSE)=\"ok\",\"\",1))","v":""},{"$f":"IF(J65=\"\",\"\",IF(VLOOKUP(CONCATENATE(J65,\" SI\"),W$7:W$1196,1,FALSE)=CONCATENATE(J65,\" SI\"),\"\",1))","v":""},null,{"$f":"IF(OR(J65=\"\",G65=\"\"),\"\",IF(VLOOKUP(H65,Tabelle_Fisse!$B$25:$C$29,2,FALSE)=\"ok\",\"\",1))","v":""},{"$nulls":4},"4760217F52 NO"]
[null,"4760217F52","TRIDELLO GENNI","01045020292",null,"NO",null,null,null,"4760217F52",{"$f":"IF(J66=\"\",\"\",IF(VLOOKUP(J66,Lotti!B$6:B$596,1,FALSE)=J66,\"\",1))","v":""},null,"",null,{"$f":"IF(J66=\"\",\"\",IF(VLOOKUP(F66,Tabelle_Fisse!$B$33:$C$34,2,FALSE)=\"ok\",\"\",1))","v":""},{"$f":"IF(J66=\"\",\"\",IF(VLOOKUP(CONCATENATE(J66,\" SI\"),W$7:W$1196,1,FALSE)=CONCATENATE(J66,\" SI\"),\"\",1))","v":""},null,{"$f":"IF(OR(J66=\"\",G66=\"\"),\"\",IF(VLOOKUP(H66,Tabelle_Fisse!$B$25:$C$29,2,FALSE)=\"ok\",\"\",1))","v":""},{"$nulls":4},"4760217F52 NO"]
[null,"4760217F52","RICO' SRL","02206700359",null,"NO",null,null,null,"4760217F52",{"$f":"IF(J67=\"\",\"\",IF(VLOOKUP(J67,Lotti!B$6:B$596,1,FALSE)=J67,\"\",1))","v":""},null,"",null,{"$f":"IF(J67=\"\",\"\",IF(VLOOKUP(F67,Tabelle_Fisse!$B$33:$C$34,2,FALSE)=\"ok\",\"\",1))","v":""},{"$f":"IF(J67=\"\",\"\",IF(VLOOKUP(CONCATENATE(J67,\" SI\"),W$7:W$1196,1,FALSE)=CONCATENATE(J67,\" SI\"),\"\",1))","v":""},null,{"$f":"IF(OR(J67=\"\",G67=\"\"),\"\",IF(VLOOKUP(H67,Tabelle_Fisse!$B$25:$C$29,2,FALSE)=\"ok\",\"\",1))","v":""},{"$nulls":4},"4760217F52 NO"]
[null,"4760217F52","CORMA CONSORZIO RUSPISTI MONTANI ASSOCIATI","00697560357",null,"NO",null,null,null,"4760217F52",{"$f":"IF(J68=\"\",\"\",IF(VLOOKUP(J68,Lotti!B$6:B$596,1,FALSE)=J68,\"\",1))","v":""},null,"",null,{"$f":"IF(J68=\"\",\"\",IF(VLOOKUP(F68,Tabelle_Fisse!$B$33:$C$34,2,FALSE)=\"ok\",\"\",1))","v":""},{"$f":"IF(J68=\"\",\"\",IF(VLOOKUP(CONCATENATE(J68,\" SI\"),W$7:W$1196,1,FALSE)=CONCATENATE(J68,\" SI\"),\"\",1))","v":""},null,{"$f":"IF(OR(J68=\"\",G68=\"\"),\"\",IF(VLOOKUP(H68,Tabelle_Fisse!$B$25:$C$29,2,FALSE)=\"ok\",\"\",1))","v":""},{"$nulls":4},"4760217F52 NO"]
[null,"4760217F52","VERDIMPIANTI DI VERONESE LUCA","00802330290",null,"NO",null,null,null,"4760217F52",{"$f":"IF(J69=\"\",\"\",IF(VLOOKUP(J69,Lotti!B$6:B$596,1,FALSE)=J69,\"\",1))","v":""},null,"",null,{"$f":"IF(J69=\"\",\"\",IF(VLOOKUP(F69,Tabelle_Fisse!$B$33:$C$34,2,FALSE)=\"ok\",\"\",1))","v":""},{"$f":"IF(J69=\"\",\"\",IF(VLOOKUP(CONCATENATE(J69,\" SI\"),W$7:W$1196,1,FALSE)=CONCATENATE(J69,\" SI\"),\"\",1))","v":""},null,{"$f":"IF(OR(J69=\"\",G69=\"\"),\"\",IF(VLOOKUP(H69,Tabelle_Fisse!$B$25:$C$29,2,FALSE)=\"ok\",\"\",1))","v":""},{"$nulls":4},"4760217F52 NO"]
[null,"4760217F52","GIUDICI BATTISTA SNC","01632790166",null,"NO",null,null,null,"4760217F52",{"$f":"IF(J70=\"\",\"\",IF(VLOOKUP(J70,Lotti!B$6:B$596,1,FALSE)=J70,\"\",1))","v":""},null,"",null,{"$f":"IF(J70=\"\",\"\",IF(VLOOKUP(F70,Tabelle_Fisse!$B$33:$C$34,2,FALSE)=\"ok\",\"\",1))","v":""},{"$f":"IF(J70=\"\",\"\",IF(VLOOKUP(CONCATENATE(J70,\" SI\"),W$7:W$1196,1,FALSE)=CONCATENATE(J70,\" SI\"),\"\",1))","v":""},null,{"$f":"IF(OR(J70=\"\",G70=\"\"),\"\",IF(VLOOKUP(H70,Tabelle_Fisse!$B$25:$C$29,2,FALSE)=\"ok\",\"\",1))","v":""},{"$nulls":4},"4760217F52 NO"]
[null,"4760217F52","EDILIZIA GENERALE SRL","05991530964",null,"NO",null,null,null,"4760217F52",{"$f":"IF(J71=\"\",\"\",IF(VLOOKUP(J71,Lotti!B$6:B$596,1,FALSE)=J71,\"\",1))","v":""},null,"",null,{"$f":"IF(J71=\"\",\"\",IF(VLOOKUP(F71,Tabelle_Fisse!$B$33:$C$34,2,FALSE)=\"ok\",\"\",1))","v":""},{"$f":"IF(J71=\"\",\"\",IF(VLOOKUP(CONCATENATE(J71,\" SI\"),W$7:W$1196,1,FALSE)=CONCATENATE(J71,\" SI\"),\"\",1))","v":""},null,{"$f":"IF(OR(J71=\"\",G71=\"\"),\"\",IF(VLOOKUP(H71,Tabelle_Fisse!$B$25:$C$29,2,FALSE)=\"ok\",\"\",1))","v":""},{"$nulls":4},"4760217F52 NO"]
[null,"4760217F52","EUROSTRADE SRL","00050790146",null,"NO",null,null,null,{"$f":"TRIM(B72)","v":"4760217F52"},{"$f":"IF(J72=\"\",\"\",IF(VLOOKUP(J72,Lotti!B$6:B$596,1,FALSE)=J72,\"\",1))","v":""},null,{"$f":"IF(J72=\"\",\"\",IF(OR(AND(E72=\"\",LEN(D72)<>11,LEN(D72)<>16),AND(D72=\"\",E72=\"\"),AND(D72<>\"\",E72<>\"\")),1,\"\"))","v":""},null,{"$f":"IF(J72=\"\",\"\",IF(VLOOKUP(F72,Tabelle_Fisse!$B$33:$C$34,2,FALSE)=\"ok\",\"\",1))","v":""},{"$f":"IF(J72=\"\",\"\",IF(VLOOKUP(CONCATENATE(J72,\" SI\"),W$7:W$1196,1,FALSE)=CONCATENATE(J72,\" SI\"),\"\",1))","v":""},null,{"$f":"IF(OR(J72=\"\",G72=\"\"),\"\",IF(VLOOKUP(H72,Tabelle_Fisse!$B$25:$C$29,2,FALSE)=\"ok\",\"\",1))","v":""},{"$nulls":4},{"$f":"IF(J72=\"\",\"\",CONCATENATE(J72,\" \",F72))","v":"4760217F52 NO"}]
[null,"4760217F52","OLLI SCAVI SRL","01608340178",null,"NO",null,null,null,"4760217F52",{"$f":"IF(J73=\"\",\"\",IF(VLOOKUP(J73,Lotti!B$6:B$596,1,FALSE)=J73,\"\",1))","v":""},null,"",null,{"$f":"IF(J73=\"\",\"\",IF(VLOOKUP(F73,Tabelle_Fisse!$B$33:$C$34,2,FALSE)=\"ok\",\"\",1))","v":""},{"$f":"IF(J73=\"\",\"\",IF(VLOOKUP(CONCATENATE(J73,\" SI\"),W$7:W$1196,1,FALSE)=CONCATENATE(J73,\" SI\"),\"\",1))","v":""},null,{"$f":"IF(OR(J73=\"\",G73=\"\"),\"\",IF(VLOOKUP(H73,Tabelle_Fisse!$B$25:$C$29,2,FALSE)=\"ok\",\"\",1))","v":""},{"$nulls":4},"4760217F52 NO"]
[null,"4760217F52","CABRINI ALBINO SRL","01905100168",null,"NO",null,null,null,"4760217F52",{"$f":"IF(J74=\"\",\"\",IF(VLOOKUP(J74,Lotti!B$6:B$596,1,FALSE)=J74,\"\",1))","v":""},null,"",null,{"$f":"IF(J74=\"\",\"\",IF(VLOOKUP(F74,Tabelle_Fisse!$B$33:$C$34,2,FALSE)=\"ok\",\"\",1))","v":""},{"$f":"IF(J74=\"\",\"\",IF(VLOOKUP(CONCATENATE(J74,\" SI\"),W$7:W$1196,1,FALSE)=CONCATENATE(J74,\" SI\"),\"\",1))","v":""},null,{"$f":"IF(OR(J74=\"\",G74=\"\"),\"\",IF(VLOOKUP(H74,Tabelle_Fisse!$B$25:$C$29,2,FALSE)=\"ok\",\"\",1))","v":""},{"$nulls":4},"4760217F52 NO"]
[null,"4760217F52","IMP. COGES SRL ","00226300168",null,"NO",null,null,null,"4760217F52",{"$f":"IF(J75=\"\",\"\",IF(VLOOKUP(J75,Lotti!B$6:B$596,1,FALSE)=J75,\"\",1))","v":""},null,"",null,{"$f":"IF(J75=\"\",\"\",IF(VLOOKUP(F75,Tabelle_Fisse!$B$33:$C$34,2,FALSE)=\"ok\",\"\",1))","v":""},{"$f":"IF(J75=\"\",\"\",IF(VLOOKUP(CONCATENATE(J75,\" SI\"),W$7:W$1196,1,FALSE)=CONCATENATE(J75,\" SI\"),\"\",1))","v":""},null,{"$f":"IF(OR(J75=\"\",G75=\"\"),\"\",IF(VLOOKUP(H75,Tabelle_Fisse!$B$25:$C$29,2,FALSE)=\"ok\",\"\",1))","v":""},{"$nulls":4},"4760217F52 NO"]
[null,"4760217F52","CAV. EMILIO GIOVETTI SRL","02180170363",null,"NO",null,null,null,"4760217F52",{"$f":"IF(J76=\"\",\"\",IF(VLOOKUP(J76,Lotti!B$6:B$596,1,FALSE)=J76,\"\",1))","v":""},null,"",null,{"$f":"IF(J76=\"\",\"\",IF(VLOOKUP(F76,Tabelle_Fisse!$B$33:$C$34,2,FALSE)=\"ok\",\"\",1))","v":""},{"$f":"IF(J76=\"\",\"\",IF(VLOOKUP(CONCATENATE(J76,\" SI\"),W$7:W$1196,1,FALSE)=CONCATENATE(J76,\" SI\"),\"\",1))","v":""},null,{"$f":"IF(OR(J76=\"\",G76=\"\"),\"\",IF(VLOOKUP(H76,Tabelle_Fisse!$B$25:$C$29,2,FALSE)=\"ok\",\"\",1))","v":""},{"$nulls":4},"4760217F52 NO"]
[null,"4760217F52","CIVELLI COSTRUZIONI SRL","02067440129",null,"NO",null,null,null,"4760217F52",{"$f":"IF(J77=\"\",\"\",IF(VLOOKUP(J77,Lotti!B$6:B$596,1,FALSE)=J77,\"\",1))","v":""},null,"",null,{"$f":"IF(J77=\"\",\"\",IF(VLOOKUP(F77,Tabelle_Fisse!$B$33:$C$34,2,FALSE)=\"ok\",\"\",1))","v":""},{"$f":"IF(J77=\"\",\"\",IF(VLOOKUP(CONCATENATE(J77,\" SI\"),W$7:W$1196,1,FALSE)=CONCATENATE(J77,\" SI\"),\"\",1))","v":""},null,{"$f":"IF(OR(J77=\"\",G77=\"\"),\"\",IF(VLOOKUP(H77,Tabelle_Fisse!$B$25:$C$29,2,FALSE)=\"ok\",\"\",1))","v":""},{"$nulls":4},"4760217F52 NO"]
[null,"4760217F52","BURNELLI PLACIDO FRANCO SRL","03185410234",null,"NO",null,null,null,"4760217F52",{"$f":"IF(J78=\"\",\"\",IF(VLOOKUP(J78,Lotti!B$6:B$596,1,FALSE)=J78,\"\",1))","v":""},null,"",null,{"$f":"IF(J78=\"\",\"\",IF(VLOOKUP(F78,Tabelle_Fisse!$B$33:$C$34,2,FALSE)=\"ok\",\"\",1))","v":""},{"$f":"IF(J78=\"\",\"\",IF(VLOOKUP(CONCATENATE(J78,\" SI\"),W$7:W$1196,1,FALSE)=CONCATENATE(J78,\" SI\"),\"\",1))","v":""},null,{"$f":"IF(OR(J78=\"\",G78=\"\"),\"\",IF(VLOOKUP(H78,Tabelle_Fisse!$B$25:$C$29,2,FALSE)=\"ok\",\"\",1))","v":""},{"$nulls":4},"4760217F52 NO"]
[null,"4760217F52","LAVORI STRADALI SUARDI SPA","03231070164",null,"NO",null,null,null,"4760217F52",{"$f":"IF(J79=\"\",\"\",IF(VLOOKUP(J79,Lotti!B$6:B$596,1,FALSE)=J79,\"\",1))","v":""},null,"",null,{"$f":"IF(J79=\"\",\"\",IF(VLOOKUP(F79,Tabelle_Fisse!$B$33:$C$34,2,FALSE)=\"ok\",\"\",1))","v":""},{"$f":"IF(J79=\"\",\"\",IF(VLOOKUP(CONCATENATE(J79,\" SI\"),W$7:W$1196,1,FALSE)=CONCATENATE(J79,\" SI\"),\"\",1))","v":""},null,{"$f":"IF(OR(J79=\"\",G79=\"\"),\"\",IF(VLOOKUP(H79,Tabelle_Fisse!$B$25:$C$29,2,FALSE)=\"ok\",\"\",1))","v":""},{"$nulls":4},"4760217F52 NO"]
[null,"4760217F52","RANGHETTI SRL","01621050986",null,"NO",null,null,null,"4760217F52",{"$f":"IF(J80=\"\",\"\",IF(VLOOKUP(J80,Lotti!B$6:B$596,1,FALSE)=J80,\"\",1))","v":""},null,"",null,{"$f":"IF(J80=\"\",\"\",IF(VLOOKUP(F80,Tabelle_Fisse!$B$33:$C$34,2,FALSE)=\"ok\",\"\",1))","v":""},{"$f":"IF(J80=\"\",\"\",IF(VLOOKUP(CONCATENATE(J80,\" SI\"),W$7:W$1196,1,FALSE)=CONCATENATE(J80,\" SI\"),\"\",1))","v":""},null,{"$f":"IF(OR(J80=\"\",G80=\"\"),\"\",IF(VLOOKUP(H80,Tabelle_Fisse!$B$25:$C$29,2,FALSE)=\"ok\",\"\",1))","v":""},{"$nulls":4},"4760217F52 NO"]
[null,"4760217F52","IMPRESA LEGRENZI SRL","00518860168",null,"NO",null,null,null,"4760217F52",{"$f":"IF(J81=\"\",\"\",IF(VLOOKUP(J81,Lotti!B$6:B$596,1,FALSE)=J81,\"\",1))","v":""},null,"",null,{"$f":"IF(J81=\"\",\"\",IF(VLOOKUP(F81,Tabelle_Fisse!$B$33:$C$34,2,FALSE)=\"ok\",\"\",1))","v":""},{"$f":"IF(J81=\"\",\"\",IF(VLOOKUP(CONCATENATE(J81,\" SI\"),W$7:W$1196,1,FALSE)=CONCATENATE(J81,\" SI\"),\"\",1))","v":""},null,{"$f":"IF(OR(J81=\"\",G81=\"\"),\"\",IF(VLOOKUP(H81,Tabelle_Fisse!$B$25:$C$29,2,FALSE)=\"ok\",\"\",1))","v":""},{"$nulls":4},"4760217F52 NO"]
[null,"4760217F52","PLONA COSTRUZIONI SRL","12983000154",null,"NO",null,null,null,"4760217F52",{"$f":"IF(J82=\"\",\"\",IF(VLOOKUP(J82,Lotti!B$6:B$596,1,FALSE)=J82,\"\",1))","v":""},null,"",null,{"$f":"IF(J82=\"\",\"\",IF(VLOOKUP(F82,Tabelle_Fisse!$B$33:$C$34,2,FALSE)=\"ok\",\"\",1))","v":""},{"$f":"IF(J82=\"\",\"\",IF(VLOOKUP(CONCATENATE(J82,\" SI\"),W$7:W$1196,1,FALSE)=CONCATENATE(J82,\" SI\"),\"\",1))","v":""},null,{"$f":"IF(OR(J82=\"\",G82=\"\"),\"\",IF(VLOOKUP(H82,Tabelle_Fisse!$B$25:$C$29,2,FALSE)=\"ok\",\"\",1))","v":""},{"$nulls":4},"4760217F52 NO"]
[null,"4760217F52","M.D.R. SRL","02665010167",null,"NO",null,null,null,"4760217F52",{"$f":"IF(J83=\"\",\"\",IF(VLOOKUP(J83,Lotti!B$6:B$596,1,FALSE)=J83,\"\",1))","v":""},null,"",null,{"$f":"IF(J83=\"\",\"\",IF(VLOOKUP(F83,Tabelle_Fisse!$B$33:$C$34,2,FALSE)=\"ok\",\"\",1))","v":""},{"$f":"IF(J83=\"\",\"\",IF(VLOOKUP(CONCATENATE(J83,\" SI\"),W$7:W$1196,1,FALSE)=CONCATENATE(J83,\" SI\"),\"\",1))","v":""},null,{"$f":"IF(OR(J83=\"\",G83=\"\"),\"\",IF(VLOOKUP(H83,Tabelle_Fisse!$B$25:$C$29,2,FALSE)=\"ok\",\"\",1))","v":""},{"$nulls":4},"4760217F52 NO"]
[null,"4760217F52","RIVERDITI COSTRUZIONI SRL","03036670044",null,"NO",null,null,null,"4760217F52",{"$f":"IF(J84=\"\",\"\",IF(VLOOKUP(J84,Lotti!B$6:B$596,1,FALSE)=J84,\"\",1))","v":""},null,"",null,{"$f":"IF(J84=\"\",\"\",IF(VLOOKUP(F84,Tabelle_Fisse!$B$33:$C$34,2,FALSE)=\"ok\",\"\",1))","v":""},{"$f":"IF(J84=\"\",\"\",IF(VLOOKUP(CONCATENATE(J84,\" SI\"),W$7:W$1196,1,FALSE)=CONCATENATE(J84,\" SI\"),\"\",1))","v":""},null,{"$f":"IF(OR(J84=\"\",G84=\"\"),\"\",IF(VLOOKUP(H84,Tabelle_Fisse!$B$25:$C$29,2,FALSE)=\"ok\",\"\",1))","v":""},{"$nulls":4},"4760217F52 NO"]
[null,"4760217F52","BELINGHERI CRISTOFORO SRL","01633080161",null,"NO",null,null,null,"4760217F52",{"$f":"IF(J85=\"\",\"\",IF(VLOOKUP(J85,Lotti!B$6:B$596,1,FALSE)=J85,\"\",1))","v":""},null,"",null,{"$f":"IF(J85=\"\",\"\",IF(VLOOKUP(F85,Tabelle_Fisse!$B$33:$C$34,2,FALSE)=\"ok\",\"\",1))","v":""},{"$f":"IF(J85=\"\",\"\",IF(VLOOKUP(CONCATENATE(J85,\" SI\"),W$7:W$1196,1,FALSE)=CONCATENATE(J85,\" SI\"),\"\",1))","v":""},null,{"$f":"IF(OR(J85=\"\",G85=\"\"),\"\",IF(VLOOKUP(H85,Tabelle_Fisse!$B$25:$C$29,2,FALSE)=\"ok\",\"\",1))","v":""},{"$nulls":4},"4760217F52 NO"]
[null,"4760217F52","S.A.B. COSTRUZIONI SRL","03467520049",null,"NO",null,null,null,"4760217F52",{"$f":"IF(J86=\"\",\"\",IF(VLOOKUP(J86,Lotti!B$6:B$596,1,FALSE)=J86,\"\",1))","v":""},null,"",null,{"$f":"IF(J86=\"\",\"\",IF(VLOOKUP(F86,Tabelle_Fisse!$B$33:$C$34,2,FALSE)=\"ok\",\"\",1))","v":""},{"$f":"IF(J86=\"\",\"\",IF(VLOOKUP(CONCATENATE(J86,\" SI\"),W$7:W$1196,1,FALSE)=CONCATENATE(J86,\" SI\"),\"\",1))","v":""},null,{"$f":"IF(OR(J86=\"\",G86=\"\"),\"\",IF(VLOOKUP(H86,Tabelle_Fisse!$B$25:$C$29,2,FALSE)=\"ok\",\"\",1))","v":""},{"$nulls":4},"4760217F52 NO"]
[null,"4760217F52","ANTONIO PICONE","02354120616",null,"NO",null,null,null,"4760217F52",{"$f":"IF(J87=\"\",\"\",IF(VLOOKUP(J87,Lotti!B$6:B$596,1,FALSE)=J87,\"\",1))","v":""},null,"",null,{"$f":"IF(J87=\"\",\"\",IF(VLOOKUP(F87,Tabelle_Fisse!$B$33:$C$34,2,FALSE)=\"ok\",\"\",1))","v":""},{"$f":"IF(J87=\"\",\"\",IF(VLOOKUP(CONCATENATE(J87,\" SI\"),W$7:W$1196,1,FALSE)=CONCATENATE(J87,\" SI\"),\"\",1))","v":""},null,{"$f":"IF(OR(J87=\"\",G87=\"\"),\"\",IF(VLOOKUP(H87,Tabelle_Fisse!$B$25:$C$29,2,FALSE)=\"ok\",\"\",1))","v":""},{"$nulls":4},"4760217F52 NO"]
[null,"4760217F52","ITALBETON SRL","01027900222",null,"NO",null,null,null,"4760217F52",{"$f":"IF(J88=\"\",\"\",IF(VLOOKUP(J88,Lotti!B$6:B$596,1,FALSE)=J88,\"\",1))","v":""},null,"",null,{"$f":"IF(J88=\"\",\"\",IF(VLOOKUP(F88,Tabelle_Fisse!$B$33:$C$34,2,FALSE)=\"ok\",\"\",1))","v":""},{"$f":"IF(J88=\"\",\"\",IF(VLOOKUP(CONCATENATE(J88,\" SI\"),W$7:W$1196,1,FALSE)=CONCATENATE(J88,\" SI\"),\"\",1))","v":""},null,{"$f":"IF(OR(J88=\"\",G88=\"\"),\"\",IF(VLOOKUP(H88,Tabelle_Fisse!$B$25:$C$29,2,FALSE)=\"ok\",\"\",1))","v":""},{"$nulls":4},"4760217F52 NO"]
[null,"4760217F52","AVANZINI COSTRUZIONI SRL","03091200984",null,"NO",null,null,null,"4760217F52",{"$f":"IF(J89=\"\",\"\",IF(VLOOKUP(J89,Lotti!B$6:B$596,1,FALSE)=J89,\"\",1))","v":""},null,"",null,{"$f":"IF(J89=\"\",\"\",IF(VLOOKUP(F89,Tabelle_Fisse!$B$33:$C$34,2,FALSE)=\"ok\",\"\",1))","v":""},{"$f":"IF(J89=\"\",\"\",IF(VLOOKUP(CONCATENATE(J89,\" SI\"),W$7:W$1196,1,FALSE)=CONCATENATE(J89,\" SI\"),\"\",1))","v":""},null,{"$f":"IF(OR(J89=\"\",G89=\"\"),\"\",IF(VLOOKUP(H89,Tabelle_Fisse!$B$25:$C$29,2,FALSE)=\"ok\",\"\",1))","v":""},{"$nulls":4},"4760217F52 NO"]
[null,"4760217F52","F.LLI ARICI SPA","00662570175",null,"NO",null,null,null,"4760217F52",{"$f":"IF(J90=\"\",\"\",IF(VLOOKUP(J90,Lotti!B$6:B$596,1,FALSE)=J90,\"\",1))","v":""},null,"",null,{"$f":"IF(J90=\"\",\"\",IF(VLOOKUP(F90,Tabelle_Fisse!$B$33:$C$34,2,FALSE)=\"ok\",\"\",1))","v":""},{"$f":"IF(J90=\"\",\"\",IF(VLOOKUP(CONCATENATE(J90,\" SI\"),W$7:W$1196,1,FALSE)=CONCATENATE(J90,\" SI\"),\"\",1))","v":""},null,{"$f":"IF(OR(J90=\"\",G90=\"\"),\"\",IF(VLOOKUP(H90,Tabelle_Fisse!$B$25:$C$29,2,FALSE)=\"ok\",\"\",1))","v":""},{"$nulls":4},"4760217F52 NO"]
[null,"4760217F52","PUNTO 4 SRL","01821030986",null,"NO",null,null,null,"4760217F52",{"$f":"IF(J91=\"\",\"\",IF(VLOOKUP(J91,Lotti!B$6:B$596,1,FALSE)=J91,\"\",1))","v":""},null,"",null,{"$f":"IF(J91=\"\",\"\",IF(VLOOKUP(F91,Tabelle_Fisse!$B$33:$C$34,2,FALSE)=\"ok\",\"\",1))","v":""},{"$f":"IF(J91=\"\",\"\",IF(VLOOKUP(CONCATENATE(J91,\" SI\"),W$7:W$1196,1,FALSE)=CONCATENATE(J91,\" SI\"),\"\",1))","v":""},null,{"$f":"IF(OR(J91=\"\",G91=\"\"),\"\",IF(VLOOKUP(H91,Tabelle_Fisse!$B$25:$C$29,2,FALSE)=\"ok\",\"\",1))","v":""},{"$nulls":4},"4760217F52 NO"]
[null,"4760217F52","GARDANI SRL","03000730818",null,"NO",null,null,null,"4760217F52",{"$f":"IF(J92=\"\",\"\",IF(VLOOKUP(J92,Lotti!B$6:B$596,1,FALSE)=J92,\"\",1))","v":""},null,"",null,{"$f":"IF(J92=\"\",\"\",IF(VLOOKUP(F92,Tabelle_Fisse!$B$33:$C$34,2,FALSE)=\"ok\",\"\",1))","v":""},{"$f":"IF(J92=\"\",\"\",IF(VLOOKUP(CONCATENATE(J92,\" SI\"),W$7:W$1196,1,FALSE)=CONCATENATE(J92,\" SI\"),\"\",1))","v":""},null,{"$f":"IF(OR(J92=\"\",G92=\"\"),\"\",IF(VLOOKUP(H92,Tabelle_Fisse!$B$25:$C$29,2,FALSE)=\"ok\",\"\",1))","v":""},{"$nulls":4},"4760217F52 NO"]
[null,"4760217F52","DINAMIC SRL","01222850225",null,"NO",null,null,null,"4760217F52",{"$f":"IF(J93=\"\",\"\",IF(VLOOKUP(J93,Lotti!B$6:B$596,1,FALSE)=J93,\"\",1))","v":""},null,"",null,{"$f":"IF(J93=\"\",\"\",IF(VLOOKUP(F93,Tabelle_Fisse!$B$33:$C$34,2,FALSE)=\"ok\",\"\",1))","v":""},{"$f":"IF(J93=\"\",\"\",IF(VLOOKUP(CONCATENATE(J93,\" SI\"),W$7:W$1196,1,FALSE)=CONCATENATE(J93,\" SI\"),\"\",1))","v":""},null,{"$f":"IF(OR(J93=\"\",G93=\"\"),\"\",IF(VLOOKUP(H93,Tabelle_Fisse!$B$25:$C$29,2,FALSE)=\"ok\",\"\",1))","v":""},{"$nulls":4},"4760217F52 NO"]
[null,"4760217F52","EUROSCAVI SNC","03790280659",null,"NO",null,null,null,"4760217F52",{"$f":"IF(J94=\"\",\"\",IF(VLOOKUP(J94,Lotti!B$6:B$596,1,FALSE)=J94,\"\",1))","v":""},null,"",null,{"$f":"IF(J94=\"\",\"\",IF(VLOOKUP(F94,Tabelle_Fisse!$B$33:$C$34,2,FALSE)=\"ok\",\"\",1))","v":""},{"$f":"IF(J94=\"\",\"\",IF(VLOOKUP(CONCATENATE(J94,\" SI\"),W$7:W$1196,1,FALSE)=CONCATENATE(J94,\" SI\"),\"\",1))","v":""},null,{"$f":"IF(OR(J94=\"\",G94=\"\"),\"\",IF(VLOOKUP(H94,Tabelle_Fisse!$B$25:$C$29,2,FALSE)=\"ok\",\"\",1))","v":""},{"$nulls":4},"4760217F52 NO"]
[null,"4760217F52","C.O.M.A.C. SRL","02150110241",null,"NO",null,null,null,"4760217F52",{"$f":"IF(J95=\"\",\"\",IF(VLOOKUP(J95,Lotti!B$6:B$596,1,FALSE)=J95,\"\",1))","v":""},null,"",null,{"$f":"IF(J95=\"\",\"\",IF(VLOOKUP(F95,Tabelle_Fisse!$B$33:$C$34,2,FALSE)=\"ok\",\"\",1))","v":""},{"$f":"IF(J95=\"\",\"\",IF(VLOOKUP(CONCATENATE(J95,\" SI\"),W$7:W$1196,1,FALSE)=CONCATENATE(J95,\" SI\"),\"\",1))","v":""},null,{"$f":"IF(OR(J95=\"\",G95=\"\"),\"\",IF(VLOOKUP(H95,Tabelle_Fisse!$B$25:$C$29,2,FALSE)=\"ok\",\"\",1))","v":""},{"$nulls":4},"4760217F52 NO"]
[null,"4760217F52","SODIS SRL","02018700027",null,"NO",null,null,null,"4760217F52",{"$f":"IF(J96=\"\",\"\",IF(VLOOKUP(J96,Lotti!B$6:B$596,1,FALSE)=J96,\"\",1))","v":""},null,"",null,{"$f":"IF(J96=\"\",\"\",IF(VLOOKUP(F96,Tabelle_Fisse!$B$33:$C$34,2,FALSE)=\"ok\",\"\",1))","v":""},{"$f":"IF(J96=\"\",\"\",IF(VLOOKUP(CONCATENATE(J96,\" SI\"),W$7:W$1196,1,FALSE)=CONCATENATE(J96,\" SI\"),\"\",1))","v":""},null,{"$f":"IF(OR(J96=\"\",G96=\"\"),\"\",IF(VLOOKUP(H96,Tabelle_Fisse!$B$25:$C$29,2,FALSE)=\"ok\",\"\",1))","v":""},{"$nulls":4},"4760217F52 NO"]
[null,"4760217F52","COSTRUZIONI EREDI DEL MARCO SRL","00604130146",null,"NO",null,null,null,"4760217F52",{"$f":"IF(J97=\"\",\"\",IF(VLOOKUP(J97,Lotti!B$6:B$596,1,FALSE)=J97,\"\",1))","v":""},null,"",null,{"$f":"IF(J97=\"\",\"\",IF(VLOOKUP(F97,Tabelle_Fisse!$B$33:$C$34,2,FALSE)=\"ok\",\"\",1))","v":""},{"$f":"IF(J97=\"\",\"\",IF(VLOOKUP(CONCATENATE(J97,\" SI\"),W$7:W$1196,1,FALSE)=CONCATENATE(J97,\" SI\"),\"\",1))","v":""},null,{"$f":"IF(OR(J97=\"\",G97=\"\"),\"\",IF(VLOOKUP(H97,Tabelle_Fisse!$B$25:$C$29,2,FALSE)=\"ok\",\"\",1))","v":""},{"$nulls":4},"4760217F52 NO"]
[null,"4760217F52","TDM SRL","00868050147",null,"NO",null,null,null,"4760217F52",{"$f":"IF(J98=\"\",\"\",IF(VLOOKUP(J98,Lotti!B$6:B$596,1,FALSE)=J98,\"\",1))","v":""},null,"",null,{"$f":"IF(J98=\"\",\"\",IF(VLOOKUP(F98,Tabelle_Fisse!$B$33:$C$34,2,FALSE)=\"ok\",\"\",1))","v":""},{"$f":"IF(J98=\"\",\"\",IF(VLOOKUP(CONCATENATE(J98,\" SI\"),W$7:W$1196,1,FALSE)=CONCATENATE(J98,\" SI\"),\"\",1))","v":""},null,{"$f":"IF(OR(J98=\"\",G98=\"\"),\"\",IF(VLOOKUP(H98,Tabelle_Fisse!$B$25:$C$29,2,FALSE)=\"ok\",\"\",1))","v":""},{"$nulls":4},"4760217F52 NO"]
[null,"4760217F52","VEZZOLA SPA","00636510984",null,"NO",null,null,null,"4760217F52",{"$f":"IF(J99=\"\",\"\",IF(VLOOKUP(J99,Lotti!B$6:B$596,1,FALSE)=J99,\"\",1))","v":""},null,"",null,{"$f":"IF(J99=\"\",\"\",IF(VLOOKUP(F99,Tabelle_Fisse!$B$33:$C$34,2,FALSE)=\"ok\",\"\",1))","v":""},{"$f":"IF(J99=\"\",\"\",IF(VLOOKUP(CONCATENATE(J99,\" SI\"),W$7:W$1196,1,FALSE)=CONCATENATE(J99,\" SI\"),\"\",1))","v":""},null,{"$f":"IF(OR(J99=\"\",G99=\"\"),\"\",IF(VLOOKUP(H99,Tabelle_Fisse!$B$25:$C$29,2,FALSE)=\"ok\",\"\",1))","v":""},{"$nulls":4},"4760217F52 NO"]
[null,"4760217F52","FEA SRL","02764870362",null,"NO",null,null,null,"4760217F52",{"$f":"IF(J100=\"\",\"\",IF(VLOOKUP(J100,Lotti!B$6:B$596,1,FALSE)=J100,\"\",1))","v":""},null,"",null,{"$f":"IF(J100=\"\",\"\",IF(VLOOKUP(F100,Tabelle_Fisse!$B$33:$C$34,2,FALSE)=\"ok\",\"\",1))","v":""},{"$f":"IF(J100=\"\",\"\",IF(VLOOKUP(CONCATENATE(J100,\" SI\"),W$7:W$1196,1,FALSE)=CONCATENATE(J100,\" SI\"),\"\",1))","v":""},null,{"$f":"IF(OR(J100=\"\",G100=\"\"),\"\",IF(VLOOKUP(H100,Tabelle_Fisse!$B$25:$C$29,2,FALSE)=\"ok\",\"\",1))","v":""},{"$nulls":4},"4760217F52 NO"]
[null,"4760217F52","EDILALPI SRL","02151540164",null,"NO",null,null,null,"4760217F52",{"$f":"IF(J101=\"\",\"\",IF(VLOOKUP(J101,Lotti!B$6:B$596,1,FALSE)=J101,\"\",1))","v":""},null,"",null,{"$f":"IF(J101=\"\",\"\",IF(VLOOKUP(F101,Tabelle_Fisse!$B$33:$C$34,2,FALSE)=\"ok\",\"\",1))","v":""},{"$f":"IF(J101=\"\",\"\",IF(VLOOKUP(CONCATENATE(J101,\" SI\"),W$7:W$1196,1,FALSE)=CONCATENATE(J101,\" SI\"),\"\",1))","v":""},null,{"$f":"IF(OR(J101=\"\",G101=\"\"),\"\",IF(VLOOKUP(H101,Tabelle_Fisse!$B$25:$C$29,2,FALSE)=\"ok\",\"\",1))","v":""},{"$nulls":4},"4760217F52 NO"]
[null,"4760217F52","DUCOLI BORTOLO FRANCESCO E FIGLI SRL","00664810983",null,"NO",null,null,null,"4760217F52",{"$f":"IF(J102=\"\",\"\",IF(VLOOKUP(J102,Lotti!B$6:B$596,1,FALSE)=J102,\"\",1))","v":""},null,"",null,{"$f":"IF(J102=\"\",\"\",IF(VLOOKUP(F102,Tabelle_Fisse!$B$33:$C$34,2,FALSE)=\"ok\",\"\",1))","v":""},{"$f":"IF(J102=\"\",\"\",IF(VLOOKUP(CONCATENATE(J102,\" SI\"),W$7:W$1196,1,FALSE)=CONCATENATE(J102,\" SI\"),\"\",1))","v":""},null,{"$f":"IF(OR(J102=\"\",G102=\"\"),\"\",IF(VLOOKUP(H102,Tabelle_Fisse!$B$25:$C$29,2,FALSE)=\"ok\",\"\",1))","v":""},{"$nulls":4},"4760217F52 NO"]
[null,"4760217F52","RAMBALDINI SCAVI SRL","02016810984",null,"NO",null,null,null,"4760217F52",{"$f":"IF(J103=\"\",\"\",IF(VLOOKUP(J103,Lotti!B$6:B$596,1,FALSE)=J103,\"\",1))","v":""},null,"",null,{"$f":"IF(J103=\"\",\"\",IF(VLOOKUP(F103,Tabelle_Fisse!$B$33:$C$34,2,FALSE)=\"ok\",\"\",1))","v":""},{"$f":"IF(J103=\"\",\"\",IF(VLOOKUP(CONCATENATE(J103,\" SI\"),W$7:W$1196,1,FALSE)=CONCATENATE(J103,\" SI\"),\"\",1))","v":""},null,{"$f":"IF(OR(J103=\"\",G103=\"\"),\"\",IF(VLOOKUP(H103,Tabelle_Fisse!$B$25:$C$29,2,FALSE)=\"ok\",\"\",1))","v":""},{"$nulls":4},"4760217F52 NO"]
[null,"4760217F52","FILIPPI PALMINO SRL ","02317690168",null,"NO",null,null,null,"4760217F52",{"$f":"IF(J104=\"\",\"\",IF(VLOOKUP(J104,Lotti!B$6:B$596,1,FALSE)=J104,\"\",1))","v":""},null,"",null,{"$f":"IF(J104=\"\",\"\",IF(VLOOKUP(F104,Tabelle_Fisse!$B$33:$C$34,2,FALSE)=\"ok\",\"\",1))","v":""},{"$f":"IF(J104=\"\",\"\",IF(VLOOKUP(CONCATENATE(J104,\" SI\"),W$7:W$1196,1,FALSE)=CONCATENATE(J104,\" SI\"),\"\",1))","v":""},null,{"$f":"IF(OR(J104=\"\",G104=\"\"),\"\",IF(VLOOKUP(H104,Tabelle_Fisse!$B$25:$C$29,2,FALSE)=\"ok\",\"\",1))","v":""},{"$nulls":4},"4760217F52 NO"]
[null,"4760217F52","EDILSCAVI BONOMELLI SRL","02718500982",null,"NO",null,null,null,"4760217F52",{"$f":"IF(J105=\"\",\"\",IF(VLOOKUP(J105,Lotti!B$6:B$596,1,FALSE)=J105,\"\",1))","v":""},null,"",null,{"$f":"IF(J105=\"\",\"\",IF(VLOOKUP(F105,Tabelle_Fisse!$B$33:$C$34,2,FALSE)=\"ok\",\"\",1))","v":""},{"$f":"IF(J105=\"\",\"\",IF(VLOOKUP(CONCATENATE(J105,\" SI\"),W$7:W$1196,1,FALSE)=CONCATENATE(J105,\" SI\"),\"\",1))","v":""},null,{"$f":"IF(OR(J105=\"\",G105=\"\"),\"\",IF(VLOOKUP(H105,Tabelle_Fisse!$B$25:$C$29,2,FALSE)=\"ok\",\"\",1))","v":""},{"$nulls":4},"4760217F52 NO"]
[null,"4760217F52","PGS ASFALTI SPA","01625730179",null,"NO",null,null,null,"4760217F52",{"$f":"IF(J106=\"\",\"\",IF(VLOOKUP(J106,Lotti!B$6:B$596,1,FALSE)=J106,\"\",1))","v":""},null,"",null,{"$f":"IF(J106=\"\",\"\",IF(VLOOKUP(F106,Tabelle_Fisse!$B$33:$C$34,2,FALSE)=\"ok\",\"\",1))","v":""},{"$f":"IF(J106=\"\",\"\",IF(VLOOKUP(CONCATENATE(J106,\" SI\"),W$7:W$1196,1,FALSE)=CONCATENATE(J106,\" SI\"),\"\",1))","v":""},null,{"$f":"IF(OR(J106=\"\",G106=\"\"),\"\",IF(VLOOKUP(H106,Tabelle_Fisse!$B$25:$C$29,2,FALSE)=\"ok\",\"\",1))","v":""},{"$nulls":4},"4760217F52 NO"]
[null,"4760217F52","BETTINESCHI SRL","00322090168",null,"NO",null,null,null,"4760217F52",{"$f":"IF(J107=\"\",\"\",IF(VLOOKUP(J107,Lotti!B$6:B$596,1,FALSE)=J107,\"\",1))","v":""},null,"",null,{"$f":"IF(J107=\"\",\"\",IF(VLOOKUP(F107,Tabelle_Fisse!$B$33:$C$34,2,FALSE)=\"ok\",\"\",1))","v":""},{"$f":"IF(J107=\"\",\"\",IF(VLOOKUP(CONCATENATE(J107,\" SI\"),W$7:W$1196,1,FALSE)=CONCATENATE(J107,\" SI\"),\"\",1))","v":""},null,{"$f":"IF(OR(J107=\"\",G107=\"\"),\"\",IF(VLOOKUP(H107,Tabelle_Fisse!$B$25:$C$29,2,FALSE)=\"ok\",\"\",1))","v":""},{"$nulls":4},"4760217F52 NO"]
[null,"4760217F52","FERRE' CAMILLO SNC","00896210143",null,"NO",null,null,null,"4760217F52",{"$f":"IF(J108=\"\",\"\",IF(VLOOKUP(J108,Lotti!B$6:B$596,1,FALSE)=J108,\"\",1))","v":""},null,"",null,{"$f":"IF(J108=\"\",\"\",IF(VLOOKUP(F108,Tabelle_Fisse!$B$33:$C$34,2,FALSE)=\"ok\",\"\",1))","v":""},{"$f":"IF(J108=\"\",\"\",IF(VLOOKUP(CONCATENATE(J108,\" SI\"),W$7:W$1196,1,FALSE)=CONCATENATE(J108,\" SI\"),\"\",1))","v":""},null,{"$f":"IF(OR(J108=\"\",G108=\"\"),\"\",IF(VLOOKUP(H108,Tabelle_Fisse!$B$25:$C$29,2,FALSE)=\"ok\",\"\",1))","v":""},{"$nulls":4},"4760217F52 NO"]
[null,"4760217F52","DE MARZI GEOM. PIETRO SRL","00580210144",null,"NO",null,null,null,"4760217F52",{"$f":"IF(J109=\"\",\"\",IF(VLOOKUP(J109,Lotti!B$6:B$596,1,FALSE)=J109,\"\",1))","v":""},null,"",null,{"$f":"IF(J109=\"\",\"\",IF(VLOOKUP(F109,Tabelle_Fisse!$B$33:$C$34,2,FALSE)=\"ok\",\"\",1))","v":""},{"$f":"IF(J109=\"\",\"\",IF(VLOOKUP(CONCATENATE(J109,\" SI\"),W$7:W$1196,1,FALSE)=CONCATENATE(J109,\" SI\"),\"\",1))","v":""},null,{"$f":"IF(OR(J109=\"\",G109=\"\"),\"\",IF(VLOOKUP(H109,Tabelle_Fisse!$B$25:$C$29,2,FALSE)=\"ok\",\"\",1))","v":""},{"$nulls":4},"4760217F52 NO"]
[null,"4760217F52","COSTEL SRL","00779220144",null,"NO",null,null,null,"4760217F52",{"$f":"IF(J110=\"\",\"\",IF(VLOOKUP(J110,Lotti!B$6:B$596,1,FALSE)=J110,\"\",1))","v":""},null,"",null,{"$f":"IF(J110=\"\",\"\",IF(VLOOKUP(F110,Tabelle_Fisse!$B$33:$C$34,2,FALSE)=\"ok\",\"\",1))","v":""},{"$f":"IF(J110=\"\",\"\",IF(VLOOKUP(CONCATENATE(J110,\" SI\"),W$7:W$1196,1,FALSE)=CONCATENATE(J110,\" SI\"),\"\",1))","v":""},null,{"$f":"IF(OR(J110=\"\",G110=\"\"),\"\",IF(VLOOKUP(H110,Tabelle_Fisse!$B$25:$C$29,2,FALSE)=\"ok\",\"\",1))","v":""},{"$nulls":4},"4760217F52 NO"]
[null,"4760217F52","TRIVELLA COSTRUZIONI E CALCESTRUZZI SRL","00122040140",null,"NO",null,null,null,"4760217F52",{"$f":"IF(J111=\"\",\"\",IF(VLOOKUP(J111,Lotti!B$6:B$596,1,FALSE)=J111,\"\",1))","v":""},null,"",null,{"$f":"IF(J111=\"\",\"\",IF(VLOOKUP(F111,Tabelle_Fisse!$B$33:$C$34,2,FALSE)=\"ok\",\"\",1))","v":""},{"$f":"IF(J111=\"\",\"\",IF(VLOOKUP(CONCATENATE(J111,\" SI\"),W$7:W$1196,1,FALSE)=CONCATENATE(J111,\" SI\"),\"\",1))","v":""},null,{"$f":"IF(OR(J111=\"\",G111=\"\"),\"\",IF(VLOOKUP(H111,Tabelle_Fisse!$B$25:$C$29,2,FALSE)=\"ok\",\"\",1))","v":""},{"$nulls":4},"4760217F52 NO"]
[null,"4760217F52","ACQUISTAPACE DANIELE & C. SNC","00642610141",null,"NO",null,null,null,"4760217F52",{"$f":"IF(J112=\"\",\"\",IF(VLOOKUP(J112,Lotti!B$6:B$596,1,FALSE)=J112,\"\",1))","v":""},null,"",null,{"$f":"IF(J112=\"\",\"\",IF(VLOOKUP(F112,Tabelle_Fisse!$B$33:$C$34,2,FALSE)=\"ok\",\"\",1))","v":""},{"$f":"IF(J112=\"\",\"\",IF(VLOOKUP(CONCATENATE(J112,\" SI\"),W$7:W$1196,1,FALSE)=CONCATENATE(J112,\" SI\"),\"\",1))","v":""},null,{"$f":"IF(OR(J112=\"\",G112=\"\"),\"\",IF(VLOOKUP(H112,Tabelle_Fisse!$B$25:$C$29,2,FALSE)=\"ok\",\"\",1))","v":""},{"$nulls":4},"4760217F52 NO"]
[null,"4760217F52","COSTRUZIONI VALLONE SRL","03757830231",null,"NO",null,null,null,"4760217F52",{"$f":"IF(J113=\"\",\"\",IF(VLOOKUP(J113,Lotti!B$6:B$596,1,FALSE)=J113,\"\",1))","v":""},null,"",null,{"$f":"IF(J113=\"\",\"\",IF(VLOOKUP(F113,Tabelle_Fisse!$B$33:$C$34,2,FALSE)=\"ok\",\"\",1))","v":""},{"$f":"IF(J113=\"\",\"\",IF(VLOOKUP(CONCATENATE(J113,\" SI\"),W$7:W$1196,1,FALSE)=CONCATENATE(J113,\" SI\"),\"\",1))","v":""},null,{"$f":"IF(OR(J113=\"\",G113=\"\"),\"\",IF(VLOOKUP(H113,Tabelle_Fisse!$B$25:$C$29,2,FALSE)=\"ok\",\"\",1))","v":""},{"$nulls":4},"4760217F52 NO"]
[null,"4760217F52","BELLESINI EDOARDO SRL","02477070235",null,"NO",null,null,null,"4760217F52",{"$f":"IF(J114=\"\",\"\",IF(VLOOKUP(J114,Lotti!B$6:B$596,1,FALSE)=J114,\"\",1))","v":""},null,"",null,{"$f":"IF(J114=\"\",\"\",IF(VLOOKUP(F114,Tabelle_Fisse!$B$33:$C$34,2,FALSE)=\"ok\",\"\",1))","v":""},{"$f":"IF(J114=\"\",\"\",IF(VLOOKUP(CONCATENATE(J114,\" SI\"),W$7:W$1196,1,FALSE)=CONCATENATE(J114,\" SI\"),\"\",1))","v":""},null,{"$f":"IF(OR(J114=\"\",G114=\"\"),\"\",IF(VLOOKUP(H114,Tabelle_Fisse!$B$25:$C$29,2,FALSE)=\"ok\",\"\",1))","v":""},{"$nulls":4},"4760217F52 NO"]
[null,"4760217F52","COSTRUZIONI BARRI MARINO","00743610149",null,"NO",null,null,null,"4760217F52",{"$f":"IF(J115=\"\",\"\",IF(VLOOKUP(J115,Lotti!B$6:B$596,1,FALSE)=J115,\"\",1))","v":""},null,"",null,{"$f":"IF(J115=\"\",\"\",IF(VLOOKUP(F115,Tabelle_Fisse!$B$33:$C$34,2,FALSE)=\"ok\",\"\",1))","v":""},{"$f":"IF(J115=\"\",\"\",IF(VLOOKUP(CONCATENATE(J115,\" SI\"),W$7:W$1196,1,FALSE)=CONCATENATE(J115,\" SI\"),\"\",1))","v":""},null,{"$f":"IF(OR(J115=\"\",G115=\"\"),\"\",IF(VLOOKUP(H115,Tabelle_Fisse!$B$25:$C$29,2,FALSE)=\"ok\",\"\",1))","v":""},{"$nulls":4},"4760217F52 NO"]
[null,"4760217F52","LUSIGNANI COSTRUZIONI SNC","01797770342",null,"NO",null,null,null,"4760217F52",{"$f":"IF(J116=\"\",\"\",IF(VLOOKUP(J116,Lotti!B$6:B$596,1,FALSE)=J116,\"\",1))","v":""},null,"",null,{"$f":"IF(J116=\"\",\"\",IF(VLOOKUP(F116,Tabelle_Fisse!$B$33:$C$34,2,FALSE)=\"ok\",\"\",1))","v":""},{"$f":"IF(J116=\"\",\"\",IF(VLOOKUP(CONCATENATE(J116,\" SI\"),W$7:W$1196,1,FALSE)=CONCATENATE(J116,\" SI\"),\"\",1))","v":""},null,{"$f":"IF(OR(J116=\"\",G116=\"\"),\"\",IF(VLOOKUP(H116,Tabelle_Fisse!$B$25:$C$29,2,FALSE)=\"ok\",\"\",1))","v":""},{"$nulls":4},"4760217F52 NO"]
[null,"4760217F52","BOLPAGNI REGINALDO SAS","03244210179",null,"NO",null,null,null,"4760217F52",{"$f":"IF(J117=\"\",\"\",IF(VLOOKUP(J117,Lotti!B$6:B$596,1,FALSE)=J117,\"\",1))","v":""},null,"",null,{"$f":"IF(J117=\"\",\"\",IF(VLOOKUP(F117,Tabelle_Fisse!$B$33:$C$34,2,FALSE)=\"ok\",\"\",1))","v":""},{"$f":"IF(J117=\"\",\"\",IF(VLOOKUP(CONCATENATE(J117,\" SI\"),W$7:W$1196,1,FALSE)=CONCATENATE(J117,\" SI\"),\"\",1))","v":""},null,{"$f":"IF(OR(J117=\"\",G117=\"\"),\"\",IF(VLOOKUP(H117,Tabelle_Fisse!$B$25:$C$29,2,FALSE)=\"ok\",\"\",1))","v":""},{"$nulls":4},"4760217F52 NO"]
[null,"4760217F52","C.S.G. COSTURZIONI SPADA SRL","02105890160",null,"NO",null,null,null,"4760217F52",{"$f":"IF(J118=\"\",\"\",IF(VLOOKUP(J118,Lotti!B$6:B$596,1,FALSE)=J118,\"\",1))","v":""},null,"",null,{"$f":"IF(J118=\"\",\"\",IF(VLOOKUP(F118,Tabelle_Fisse!$B$33:$C$34,2,FALSE)=\"ok\",\"\",1))","v":""},{"$f":"IF(J118=\"\",\"\",IF(VLOOKUP(CONCATENATE(J118,\" SI\"),W$7:W$1196,1,FALSE)=CONCATENATE(J118,\" SI\"),\"\",1))","v":""},null,{"$f":"IF(OR(J118=\"\",G118=\"\"),\"\",IF(VLOOKUP(H118,Tabelle_Fisse!$B$25:$C$29,2,FALSE)=\"ok\",\"\",1))","v":""},{"$nulls":4},"4760217F52 NO"]
[null,"4760217F52","NARELL SCAVI SRL","01681390165",null,"NO",null,null,null,"4760217F52",{"$f":"IF(J119=\"\",\"\",IF(VLOOKUP(J119,Lotti!B$6:B$596,1,FALSE)=J119,\"\",1))","v":""},null,"",null,{"$f":"IF(J119=\"\",\"\",IF(VLOOKUP(F119,Tabelle_Fisse!$B$33:$C$34,2,FALSE)=\"ok\",\"\",1))","v":""},{"$f":"IF(J119=\"\",\"\",IF(VLOOKUP(CONCATENATE(J119,\" SI\"),W$7:W$1196,1,FALSE)=CONCATENATE(J119,\" SI\"),\"\",1))","v":""},null,{"$f":"IF(OR(J119=\"\",G119=\"\"),\"\",IF(VLOOKUP(H119,Tabelle_Fisse!$B$25:$C$29,2,FALSE)=\"ok\",\"\",1))","v":""},{"$nulls":4},"4760217F52 NO"]
[null,"4760217F52","ZILIANI F.LLI E FIGLI SPA","00946990173",null,"NO",null,null,null,"4760217F52",{"$f":"IF(J120=\"\",\"\",IF(VLOOKUP(J120,Lotti!B$6:B$596,1,FALSE)=J120,\"\",1))","v":""},null,"",null,{"$f":"IF(J120=\"\",\"\",IF(VLOOKUP(F120,Tabelle_Fisse!$B$33:$C$34,2,FALSE)=\"ok\",\"\",1))","v":""},{"$f":"IF(J120=\"\",\"\",IF(VLOOKUP(CONCATENATE(J120,\" SI\"),W$7:W$1196,1,FALSE)=CONCATENATE(J120,\" SI\"),\"\",1))","v":""},null,{"$f":"IF(OR(J120=\"\",G120=\"\"),\"\",IF(VLOOKUP(H120,Tabelle_Fisse!$B$25:$C$29,2,FALSE)=\"ok\",\"\",1))","v":""},{"$nulls":4},"4760217F52 NO"]
[null,"4760217F52","COSTRUZIONI RUBERTO SRL","04522950650",null,"NO",null,null,null,"4760217F52",{"$f":"IF(J121=\"\",\"\",IF(VLOOKUP(J121,Lotti!B$6:B$596,1,FALSE)=J121,\"\",1))","v":""},null,"",null,{"$f":"IF(J121=\"\",\"\",IF(VLOOKUP(F121,Tabelle_Fisse!$B$33:$C$34,2,FALSE)=\"ok\",\"\",1))","v":""},{"$f":"IF(J121=\"\",\"\",IF(VLOOKUP(CONCATENATE(J121,\" SI\"),W$7:W$1196,1,FALSE)=CONCATENATE(J121,\" SI\"),\"\",1))","v":""},null,{"$f":"IF(OR(J121=\"\",G121=\"\"),\"\",IF(VLOOKUP(H121,Tabelle_Fisse!$B$25:$C$29,2,FALSE)=\"ok\",\"\",1))","v":""},{"$nulls":4},"4760217F52 NO"]
[null,"4760217F52","GRENTI SRL","01514520343",null,"NO",null,null,null,"4760217F52",{"$f":"IF(J122=\"\",\"\",IF(VLOOKUP(J122,Lotti!B$6:B$596,1,FALSE)=J122,\"\",1))","v":""},null,"",null,{"$f":"IF(J122=\"\",\"\",IF(VLOOKUP(F122,Tabelle_Fisse!$B$33:$C$34,2,FALSE)=\"ok\",\"\",1))","v":""},{"$f":"IF(J122=\"\",\"\",IF(VLOOKUP(CONCATENATE(J122,\" SI\"),W$7:W$1196,1,FALSE)=CONCATENATE(J122,\" SI\"),\"\",1))","v":""},null,{"$f":"IF(OR(J122=\"\",G122=\"\"),\"\",IF(VLOOKUP(H122,Tabelle_Fisse!$B$25:$C$29,2,FALSE)=\"ok\",\"\",1))","v":""},{"$nulls":4},"4760217F52 NO"]
[null,"4760217F52","BERGAMELLI SRL","00487540163",null,"NO",null,null,null,"4760217F52",{"$f":"IF(J123=\"\",\"\",IF(VLOOKUP(J123,Lotti!B$6:B$596,1,FALSE)=J123,\"\",1))","v":""},null,"",null,{"$f":"IF(J123=\"\",\"\",IF(VLOOKUP(F123,Tabelle_Fisse!$B$33:$C$34,2,FALSE)=\"ok\",\"\",1))","v":""},{"$f":"IF(J123=\"\",\"\",IF(VLOOKUP(CONCATENATE(J123,\" SI\"),W$7:W$1196,1,FALSE)=CONCATENATE(J123,\" SI\"),\"\",1))","v":""},null,{"$f":"IF(OR(J123=\"\",G123=\"\"),\"\",IF(VLOOKUP(H123,Tabelle_Fisse!$B$25:$C$29,2,FALSE)=\"ok\",\"\",1))","v":""},{"$nulls":4},"4760217F52 NO"]
[null,"4760217F52","EDILPRONTO SRL","06739430152",null,"NO",null,null,null,"4760217F52",{"$f":"IF(J124=\"\",\"\",IF(VLOOKUP(J124,Lotti!B$6:B$596,1,FALSE)=J124,\"\",1))","v":""},null,"",null,{"$f":"IF(J124=\"\",\"\",IF(VLOOKUP(F124,Tabelle_Fisse!$B$33:$C$34,2,FALSE)=\"ok\",\"\",1))","v":""},{"$f":"IF(J124=\"\",\"\",IF(VLOOKUP(CONCATENATE(J124,\" SI\"),W$7:W$1196,1,FALSE)=CONCATENATE(J124,\" SI\"),\"\",1))","v":""},null,{"$f":"IF(OR(J124=\"\",G124=\"\"),\"\",IF(VLOOKUP(H124,Tabelle_Fisse!$B$25:$C$29,2,FALSE)=\"ok\",\"\",1))","v":""},{"$nulls":4},"4760217F52 NO"]
[null,"4760217F52","CONSORZIO CIRO MENOTTI","00966060378",null,"NO",null,null,null,"4760217F52",{"$f":"IF(J125=\"\",\"\",IF(VLOOKUP(J125,Lotti!B$6:B$596,1,FALSE)=J125,\"\",1))","v":""},null,"",null,{"$f":"IF(J125=\"\",\"\",IF(VLOOKUP(F125,Tabelle_Fisse!$B$33:$C$34,2,FALSE)=\"ok\",\"\",1))","v":""},{"$f":"IF(J125=\"\",\"\",IF(VLOOKUP(CONCATENATE(J125,\" SI\"),W$7:W$1196,1,FALSE)=CONCATENATE(J125,\" SI\"),\"\",1))","v":""},null,{"$f":"IF(OR(J125=\"\",G125=\"\"),\"\",IF(VLOOKUP(H125,Tabelle_Fisse!$B$25:$C$29,2,FALSE)=\"ok\",\"\",1))","v":""},{"$nulls":4},"4760217F52 NO"]
[null,"4760217F52","LANZETTI DOMENICO SRL","02549830988",null,"NO",null,null,null,"4760217F52",{"$f":"IF(J126=\"\",\"\",IF(VLOOKUP(J126,Lotti!B$6:B$596,1,FALSE)=J126,\"\",1))","v":""},null,"",null,{"$f":"IF(J126=\"\",\"\",IF(VLOOKUP(F126,Tabelle_Fisse!$B$33:$C$34,2,FALSE)=\"ok\",\"\",1))","v":""},{"$f":"IF(J126=\"\",\"\",IF(VLOOKUP(CONCATENATE(J126,\" SI\"),W$7:W$1196,1,FALSE)=CONCATENATE(J126,\" SI\"),\"\",1))","v":""},null,{"$f":"IF(OR(J126=\"\",G126=\"\"),\"\",IF(VLOOKUP(H126,Tabelle_Fisse!$B$25:$C$29,2,FALSE)=\"ok\",\"\",1))","v":""},{"$nulls":4},"4760217F52 NO"]
[null,"4760217F52","BERTOIA SRL","02220130351",null,"NO",null,null,null,"4760217F52",{"$f":"IF(J127=\"\",\"\",IF(VLOOKUP(J127,Lotti!B$6:B$596,1,FALSE)=J127,\"\",1))","v":""},null,"",null,{"$f":"IF(J127=\"\",\"\",IF(VLOOKUP(F127,Tabelle_Fisse!$B$33:$C$34,2,FALSE)=\"ok\",\"\",1))","v":""},{"$f":"IF(J127=\"\",\"\",IF(VLOOKUP(CONCATENATE(J127,\" SI\"),W$7:W$1196,1,FALSE)=CONCATENATE(J127,\" SI\"),\"\",1))","v":""},null,{"$f":"IF(OR(J127=\"\",G127=\"\"),\"\",IF(VLOOKUP(H127,Tabelle_Fisse!$B$25:$C$29,2,FALSE)=\"ok\",\"\",1))","v":""},{"$nulls":4},"4760217F52 NO"]
[null,"4929224C50","DAPAM s.r.l.","01760180982",null,"SI",null,null,null,"4929224C50",{"$f":"IF(J128=\"\",\"\",IF(VLOOKUP(J128,Lotti!B$6:B$596,1,FALSE)=J128,\"\",1))","v":""},null,"",null,{"$f":"IF(J128=\"\",\"\",IF(VLOOKUP(F128,Tabelle_Fisse!$B$33:$C$34,2,FALSE)=\"ok\",\"\",1))","v":""},{"$f":"IF(J128=\"\",\"\",IF(VLOOKUP(CONCATENATE(J128,\" SI\"),W$7:W$1196,1,FALSE)=CONCATENATE(J128,\" SI\"),\"\",1))","v":""},null,{"$f":"IF(OR(J128=\"\",G128=\"\"),\"\",IF(VLOOKUP(H128,Tabelle_Fisse!$B$25:$C$29,2,FALSE)=\"ok\",\"\",1))","v":""},{"$nulls":4},"4929224C50 SI"]
[null,"4929224C50","MELOTTI DARIO","02749270985",null,"NO",null,null,null,"4929224C50",{"$f":"IF(J129=\"\",\"\",IF(VLOOKUP(J129,Lotti!B$6:B$596,1,FALSE)=J129,\"\",1))","v":""},null,"",null,{"$f":"IF(J129=\"\",\"\",IF(VLOOKUP(F129,Tabelle_Fisse!$B$33:$C$34,2,FALSE)=\"ok\",\"\",1))","v":""},{"$f":"IF(J129=\"\",\"\",IF(VLOOKUP(CONCATENATE(J129,\" SI\"),W$7:W$1196,1,FALSE)=CONCATENATE(J129,\" SI\"),\"\",1))","v":""},null,{"$f":"IF(OR(J129=\"\",G129=\"\"),\"\",IF(VLOOKUP(H129,Tabelle_Fisse!$B$25:$C$29,2,FALSE)=\"ok\",\"\",1))","v":""},{"$nulls":4},"4929224C50 NO"]
[null,"4929224C50","CONSORZIO TRIVENETO ROCCIATORI","00586730251",null,"NO",null,null,null,"4929224C50",{"$f":"IF(J130=\"\",\"\",IF(VLOOKUP(J130,Lotti!B$6:B$596,1,FALSE)=J130,\"\",1))","v":""},null,"",null,{"$f":"IF(J130=\"\",\"\",IF(VLOOKUP(F130,Tabelle_Fisse!$B$33:$C$34,2,FALSE)=\"ok\",\"\",1))","v":""},{"$f":"IF(J130=\"\",\"\",IF(VLOOKUP(CONCATENATE(J130,\" SI\"),W$7:W$1196,1,FALSE)=CONCATENATE(J130,\" SI\"),\"\",1))","v":""},null,{"$f":"IF(OR(J130=\"\",G130=\"\"),\"\",IF(VLOOKUP(H130,Tabelle_Fisse!$B$25:$C$29,2,FALSE)=\"ok\",\"\",1))","v":""},{"$nulls":4},"4929224C50 NO"]
[null,"4929224C50","GHELLER","02230600245",null,"NO",null,null,null,"4929224C50",{"$f":"IF(J131=\"\",\"\",IF(VLOOKUP(J131,Lotti!B$6:B$596,1,FALSE)=J131,\"\",1))","v":""},null,"",null,{"$f":"IF(J131=\"\",\"\",IF(VLOOKUP(F131,Tabelle_Fisse!$B$33:$C$34,2,FALSE)=\"ok\",\"\",1))","v":""},{"$f":"IF(J131=\"\",\"\",IF(VLOOKUP(CONCATENATE(J131,\" SI\"),W$7:W$1196,1,FALSE)=CONCATENATE(J131,\" SI\"),\"\",1))","v":""},null,{"$f":"IF(OR(J131=\"\",G131=\"\"),\"\",IF(VLOOKUP(H131,Tabelle_Fisse!$B$25:$C$29,2,FALSE)=\"ok\",\"\",1))","v":""},{"$nulls":4},"4929224C50 NO"]
[null,"501626727B","FULVIO SINA RESTAURO DI OPERE D'ARTE","02026610176",null,"SI",null,null,null,"501626727B",{"$f":"IF(J132=\"\",\"\",IF(VLOOKUP(J132,Lotti!B$6:B$596,1,FALSE)=J132,\"\",1))","v":""},null,"",null,{"$f":"IF(J132=\"\",\"\",IF(VLOOKUP(F132,Tabelle_Fisse!$B$33:$C$34,2,FALSE)=\"ok\",\"\",1))","v":""},{"$f":"IF(J132=\"\",\"\",IF(VLOOKUP(CONCATENATE(J132,\" SI\"),W$7:W$1196,1,FALSE)=CONCATENATE(J132,\" SI\"),\"\",1))","v":""},null,{"$f":"IF(OR(J132=\"\",G132=\"\"),\"\",IF(VLOOKUP(H132,Tabelle_Fisse!$B$25:$C$29,2,FALSE)=\"ok\",\"\",1))","v":""},{"$nulls":4},"501626727B SI"]
[null,"501626727B","ARC RESTAURI","02959160983",null,"NO",null,null,null,"501626727B",{"$f":"IF(J133=\"\",\"\",IF(VLOOKUP(J133,Lotti!B$6:B$596,1,FALSE)=J133,\"\",1))","v":""},null,"",null,{"$f":"IF(J133=\"\",\"\",IF(VLOOKUP(F133,Tabelle_Fisse!$B$33:$C$34,2,FALSE)=\"ok\",\"\",1))","v":""},{"$f":"IF(J133=\"\",\"\",IF(VLOOKUP(CONCATENATE(J133,\" SI\"),W$7:W$1196,1,FALSE)=CONCATENATE(J133,\" SI\"),\"\",1))","v":""},null,{"$f":"IF(OR(J133=\"\",G133=\"\"),\"\",IF(VLOOKUP(H133,Tabelle_Fisse!$B$25:$C$29,2,FALSE)=\"ok\",\"\",1))","v":""},{"$nulls":4},"501626727B NO"]
[null,"501626727B","ATTORRESE ELISABETTA","TTRLBT69E70F205F",null,"NO",null,null,null,"501626727B",{"$f":"IF(J134=\"\",\"\",IF(VLOOKUP(J134,Lotti!B$6:B$596,1,FALSE)=J134,\"\",1))","v":""},null,"",null,{"$f":"IF(J134=\"\",\"\",IF(VLOOKUP(F134,Tabelle_Fisse!$B$33:$C$34,2,FALSE)=\"ok\",\"\",1))","v":""},{"$f":"IF(J134=\"\",\"\",IF(VLOOKUP(CONCATENATE(J134,\" SI\"),W$7:W$1196,1,FALSE)=CONCATENATE(J134,\" SI\"),\"\",1))","v":""},null,{"$f":"IF(OR(J134=\"\",G134=\"\"),\"\",IF(VLOOKUP(H134,Tabelle_Fisse!$B$25:$C$29,2,FALSE)=\"ok\",\"\",1))","v":""},{"$nulls":4},"501626727B NO"]
[null,"52008304AF","EDIL DO DI DO GIACOMO ","02572980981",null,"SI",null,null,null,"52008304AF",{"$f":"IF(J135=\"\",\"\",IF(VLOOKUP(J135,Lotti!B$6:B$596,1,FALSE)=J135,\"\",1))","v":""},null,"",null,{"$f":"IF(J135=\"\",\"\",IF(VLOOKUP(F135,Tabelle_Fisse!$B$33:$C$34,2,FALSE)=\"ok\",\"\",1))","v":""},{"$f":"IF(J135=\"\",\"\",IF(VLOOKUP(CONCATENATE(J135,\" SI\"),W$7:W$1196,1,FALSE)=CONCATENATE(J135,\" SI\"),\"\",1))","v":""},null,{"$f":"IF(OR(J135=\"\",G135=\"\"),\"\",IF(VLOOKUP(H135,Tabelle_Fisse!$B$25:$C$29,2,FALSE)=\"ok\",\"\",1))","v":""},{"$nulls":4},"52008304AF SI"]
[null,"52008304AF","PONTOGLIO SCAVI SRL","03200540981",null,"NO",null,null,null,{"$f":"TRIM(B136)","v":"52008304AF"},{"$f":"IF(J136=\"\",\"\",IF(VLOOKUP(J136,Lotti!B$6:B$596,1,FALSE)=J136,\"\",1))","v":""},null,{"$f":"IF(J136=\"\",\"\",IF(OR(AND(E136=\"\",LEN(D136)<>11,LEN(D136)<>16),AND(D136=\"\",E136=\"\"),AND(D136<>\"\",E136<>\"\")),1,\"\"))","v":""},null,{"$f":"IF(J136=\"\",\"\",IF(VLOOKUP(F136,Tabelle_Fisse!$B$33:$C$34,2,FALSE)=\"ok\",\"\",1))","v":""},{"$f":"IF(J136=\"\",\"\",IF(VLOOKUP(CONCATENATE(J136,\" SI\"),W$7:W$1196,1,FALSE)=CONCATENATE(J136,\" SI\"),\"\",1))","v":""},null,{"$f":"IF(OR(J136=\"\",G136=\"\"),\"\",IF(VLOOKUP(H136,Tabelle_Fisse!$B$25:$C$29,2,FALSE)=\"ok\",\"\",1))","v":""},{"$nulls":4},{"$f":"IF(J136=\"\",\"\",CONCATENATE(J136,\" \",F136))","v":"52008304AF NO"}]
[null,"52008304AF","DUCI SRL","02583510165",null,"NO",null,null,null,"52008304AF",{"$f":"IF(J137=\"\",\"\",IF(VLOOKUP(J137,Lotti!B$6:B$596,1,FALSE)=J137,\"\",1))","v":""},null,"",null,{"$f":"IF(J137=\"\",\"\",IF(VLOOKUP(F137,Tabelle_Fisse!$B$33:$C$34,2,FALSE)=\"ok\",\"\",1))","v":""},{"$f":"IF(J137=\"\",\"\",IF(VLOOKUP(CONCATENATE(J137,\" SI\"),W$7:W$1196,1,FALSE)=CONCATENATE(J137,\" SI\"),\"\",1))","v":""},null,{"$f":"IF(OR(J137=\"\",G137=\"\"),\"\",IF(VLOOKUP(H137,Tabelle_Fisse!$B$25:$C$29,2,FALSE)=\"ok\",\"\",1))","v":""},{"$nulls":4},"52008304AF NO"]
[null,"52008304AF","ARICI F.LLI SRL","00662570175",null,"NO",null,null,null,"52008304AF",{"$f":"IF(J138=\"\",\"\",IF(VLOOKUP(J138,Lotti!B$6:B$596,1,FALSE)=J138,\"\",1))","v":""},null,"",null,{"$f":"IF(J138=\"\",\"\",IF(VLOOKUP(F138,Tabelle_Fisse!$B$33:$C$34,2,FALSE)=\"ok\",\"\",1))","v":""},{"$f":"IF(J138=\"\",\"\",IF(VLOOKUP(CONCATENATE(J138,\" SI\"),W$7:W$1196,1,FALSE)=CONCATENATE(J138,\" SI\"),\"\",1))","v":""},null,{"$f":"IF(OR(J138=\"\",G138=\"\"),\"\",IF(VLOOKUP(H138,Tabelle_Fisse!$B$25:$C$29,2,FALSE)=\"ok\",\"\",1))","v":""},{"$nulls":4},"52008304AF NO"]
[null,"Z9A0814421","Trattoria “Antico Eden” di Pilzone","01951030178",null,"SI",null,null,null,"Z9A0814421",{"$f":"IF(J139=\"\",\"\",IF(VLOOKUP(J139,Lotti!B$6:B$596,1,FALSE)=J139,\"\",1))","v":""},null,"",null,{"$f":"IF(J139=\"\",\"\",IF(VLOOKUP(F139,Tabelle_Fisse!$B$33:$C$34,2,FALSE)=\"ok\",\"\",1))","v":""},{"$f":"IF(J139=\"\",\"\",IF(VLOOKUP(CONCATENATE(J139,\" SI\"),W$7:W$1196,1,FALSE)=CONCATENATE(J139,\" SI\"),\"\",1))","v":""},null,{"$f":"IF(OR(J139=\"\",G139=\"\"),\"\",IF(VLOOKUP(H139,Tabelle_Fisse!$B$25:$C$29,2,FALSE)=\"ok\",\"\",1))","v":""},{"$nulls":4},"Z9A0814421 SI"]
[null,"ZCF08230FB","Coop. Sociale Dolce Società Cooperativa a r.l.","03772490375",null,"SI",null,null,null,"ZCF08230FB",{"$f":"IF(J140=\"\",\"\",IF(VLOOKUP(J140,Lotti!B$6:B$596,1,FALSE)=J140,\"\",1))","v":""},null,"",null,{"$f":"IF(J140=\"\",\"\",IF(VLOOKUP(F140,Tabelle_Fisse!$B$33:$C$34,2,FALSE)=\"ok\",\"\",1))","v":""},{"$f":"IF(J140=\"\",\"\",IF(VLOOKUP(CONCATENATE(J140,\" SI\"),W$7:W$1196,1,FALSE)=CONCATENATE(J140,\" SI\"),\"\",1))","v":""},null,{"$f":"IF(OR(J140=\"\",G140=\"\"),\"\",IF(VLOOKUP(H140,Tabelle_Fisse!$B$25:$C$29,2,FALSE)=\"ok\",\"\",1))","v":""},{"$nulls":4},"ZCF08230FB SI"]
[null,"ZEE0874984","Mediatech Srl","03164980173",null,"SI",null,null,null,"ZEE0874984",{"$f":"IF(J141=\"\",\"\",IF(VLOOKUP(J141,Lotti!B$6:B$596,1,FALSE)=J141,\"\",1))","v":""},null,"",null,{"$f":"IF(J141=\"\",\"\",IF(VLOOKUP(F141,Tabelle_Fisse!$B$33:$C$34,2,FALSE)=\"ok\",\"\",1))","v":""},{"$f":"IF(J141=\"\",\"\",IF(VLOOKUP(CONCATENATE(J141,\" SI\"),W$7:W$1196,1,FALSE)=CONCATENATE(J141,\" SI\"),\"\",1))","v":""},null,{"$f":"IF(OR(J141=\"\",G141=\"\"),\"\",IF(VLOOKUP(H141,Tabelle_Fisse!$B$25:$C$29,2,FALSE)=\"ok\",\"\",1))","v":""},{"$nulls":4},"ZEE0874984 SI"]
[null,"ZCB0890CE7","To Be Incentive & Convention srl","02335380982",null,"SI",null,null,null,"ZCB0890CE7",{"$f":"IF(J142=\"\",\"\",IF(VLOOKUP(J142,Lotti!B$6:B$596,1,FALSE)=J142,\"\",1))","v":""},null,"",null,{"$f":"IF(J142=\"\",\"\",IF(VLOOKUP(F142,Tabelle_Fisse!$B$33:$C$34,2,FALSE)=\"ok\",\"\",1))","v":""},{"$f":"IF(J142=\"\",\"\",IF(VLOOKUP(CONCATENATE(J142,\" SI\"),W$7:W$1196,1,FALSE)=CONCATENATE(J142,\" SI\"),\"\",1))","v":""},null,{"$f":"IF(OR(J142=\"\",G142=\"\"),\"\",IF(VLOOKUP(H142,Tabelle_Fisse!$B$25:$C$29,2,FALSE)=\"ok\",\"\",1))","v":""},{"$nulls":4},"ZCB0890CE7 SI"]
[null,"ZCB0890CE7","Voilà Soc. Coop.","03398230981",null,"NO",null,null,null,"ZCB0890CE7",{"$f":"IF(J143=\"\",\"\",IF(VLOOKUP(J143,Lotti!B$6:B$596,1,FALSE)=J143,\"\",1))","v":""},null,"",null,{"$f":"IF(J143=\"\",\"\",IF(VLOOKUP(F143,Tabelle_Fisse!$B$33:$C$34,2,FALSE)=\"ok\",\"\",1))","v":""},{"$f":"IF(J143=\"\",\"\",IF(VLOOKUP(CONCATENATE(J143,\" SI\"),W$7:W$1196,1,FALSE)=CONCATENATE(J143,\" SI\"),\"\",1))","v":""},null,{"$f":"IF(OR(J143=\"\",G143=\"\"),\"\",IF(VLOOKUP(H143,Tabelle_Fisse!$B$25:$C$29,2,FALSE)=\"ok\",\"\",1))","v":""},{"$nulls":4},"ZCB0890CE7 NO"]
[null,"ZCB0890CE7","Econstat srl","03153270370",null,"NO",null,null,null,"ZCB0890CE7",{"$f":"IF(J144=\"\",\"\",IF(VLOOKUP(J144,Lotti!B$6:B$596,1,FALSE)=J144,\"\",1))","v":""},null,"",null,{"$f":"IF(J144=\"\",\"\",IF(VLOOKUP(F144,Tabelle_Fisse!$B$33:$C$34,2,FALSE)=\"ok\",\"\",1))","v":""},{"$f":"IF(J144=\"\",\"\",IF(VLOOKUP(CONCATENATE(J144,\" SI\"),W$7:W$1196,1,FALSE)=CONCATENATE(J144,\" SI\"),\"\",1))","v":""},null,{"$f":"IF(OR(J144=\"\",G144=\"\"),\"\",IF(VLOOKUP(H144,Tabelle_Fisse!$B$25:$C$29,2,FALSE)=\"ok\",\"\",1))","v":""},{"$nulls":4},"ZCB0890CE7 NO"]
[null,"ZD9089940F","Omnia Group","02404300986",null,"SI",null,null,null,"ZD9089940F",{"$f":"IF(J145=\"\",\"\",IF(VLOOKUP(J145,Lotti!B$6:B$596,1,FALSE)=J145,\"\",1))","v":""},null,"",null,{"$f":"IF(J145=\"\",\"\",IF(VLOOKUP(F145,Tabelle_Fisse!$B$33:$C$34,2,FALSE)=\"ok\",\"\",1))","v":""},{"$f":"IF(J145=\"\",\"\",IF(VLOOKUP(CONCATENATE(J145,\" SI\"),W$7:W$1196,1,FALSE)=CONCATENATE(J145,\" SI\"),\"\",1))","v":""},null,{"$f":"IF(OR(J145=\"\",G145=\"\"),\"\",IF(VLOOKUP(H145,Tabelle_Fisse!$B$25:$C$29,2,FALSE)=\"ok\",\"\",1))","v":""},{"$nulls":4},"ZD9089940F SI"]
[null,"ZD9089940F","Schiribis snc","03396040986",null,"NO",null,null,null,"ZD9089940F",{"$f":"IF(J146=\"\",\"\",IF(VLOOKUP(J146,Lotti!B$6:B$596,1,FALSE)=J146,\"\",1))","v":""},null,"",null,{"$f":"IF(J146=\"\",\"\",IF(VLOOKUP(F146,Tabelle_Fisse!$B$33:$C$34,2,FALSE)=\"ok\",\"\",1))","v":""},{"$f":"IF(J146=\"\",\"\",IF(VLOOKUP(CONCATENATE(J146,\" SI\"),W$7:W$1196,1,FALSE)=CONCATENATE(J146,\" SI\"),\"\",1))","v":""},null,{"$f":"IF(OR(J146=\"\",G146=\"\"),\"\",IF(VLOOKUP(H146,Tabelle_Fisse!$B$25:$C$29,2,FALSE)=\"ok\",\"\",1))","v":""},{"$nulls":4},"ZD9089940F NO"]
[null,"ZD9089940F","Hullabaloo srl","05465101219",null,"NO",null,null,null,"ZD9089940F",{"$f":"IF(J147=\"\",\"\",IF(VLOOKUP(J147,Lotti!B$6:B$596,1,FALSE)=J147,\"\",1))","v":""},null,"",null,{"$f":"IF(J147=\"\",\"\",IF(VLOOKUP(F147,Tabelle_Fisse!$B$33:$C$34,2,FALSE)=\"ok\",\"\",1))","v":""},{"$f":"IF(J147=\"\",\"\",IF(VLOOKUP(CONCATENATE(J147,\" SI\"),W$7:W$1196,1,FALSE)=CONCATENATE(J147,\" SI\"),\"\",1))","v":""},null,{"$f":"IF(OR(J147=\"\",G147=\"\"),\"\",IF(VLOOKUP(H147,Tabelle_Fisse!$B$25:$C$29,2,FALSE)=\"ok\",\"\",1))","v":""},{"$nulls":4},"ZD9089940F NO"]
[null,"Z1A08C6435","M.G.P. SPORTSWEAR S.N.C.","01626920175",null,"SI",null,null,null,"Z1A08C6435",{"$f":"IF(J148=\"\",\"\",IF(VLOOKUP(J148,Lotti!B$6:B$596,1,FALSE)=J148,\"\",1))","v":""},null,"",null,{"$f":"IF(J148=\"\",\"\",IF(VLOOKUP(F148,Tabelle_Fisse!$B$33:$C$34,2,FALSE)=\"ok\",\"\",1))","v":""},{"$f":"IF(J148=\"\",\"\",IF(VLOOKUP(CONCATENATE(J148,\" SI\"),W$7:W$1196,1,FALSE)=CONCATENATE(J148,\" SI\"),\"\",1))","v":""},null,{"$f":"IF(OR(J148=\"\",G148=\"\"),\"\",IF(VLOOKUP(H148,Tabelle_Fisse!$B$25:$C$29,2,FALSE)=\"ok\",\"\",1))","v":""},{"$nulls":4},"Z1A08C6435 SI"]
[null,"Z3B08D904D","Coop. Sociale Dolce Società Cooperativa a r.l.","03772490375",null,"SI",null,null,null,"Z3B08D904D",{"$f":"IF(J149=\"\",\"\",IF(VLOOKUP(J149,Lotti!B$6:B$596,1,FALSE)=J149,\"\",1))","v":""},null,"",null,{"$f":"IF(J149=\"\",\"\",IF(VLOOKUP(F149,Tabelle_Fisse!$B$33:$C$34,2,FALSE)=\"ok\",\"\",1))","v":""},{"$f":"IF(J149=\"\",\"\",IF(VLOOKUP(CONCATENATE(J149,\" SI\"),W$7:W$1196,1,FALSE)=CONCATENATE(J149,\" SI\"),\"\",1))","v":""},null,{"$f":"IF(OR(J149=\"\",G149=\"\"),\"\",IF(VLOOKUP(H149,Tabelle_Fisse!$B$25:$C$29,2,FALSE)=\"ok\",\"\",1))","v":""},{"$nulls":4},"Z3B08D904D SI"]
[null,"Z8A08D9101","Istituto Bassano Cremonesini per Disabili Psichiche Onlus” ","88002090178",null,"SI",null,null,null,"Z8A08D9101",{"$f":"IF(J150=\"\",\"\",IF(VLOOKUP(J150,Lotti!B$6:B$596,1,FALSE)=J150,\"\",1))","v":""},null,"",null,{"$f":"IF(J150=\"\",\"\",IF(VLOOKUP(F150,Tabelle_Fisse!$B$33:$C$34,2,FALSE)=\"ok\",\"\",1))","v":""},{"$f":"IF(J150=\"\",\"\",IF(VLOOKUP(CONCATENATE(J150,\" SI\"),W$7:W$1196,1,FALSE)=CONCATENATE(J150,\" SI\"),\"\",1))","v":""},null,{"$f":"IF(OR(J150=\"\",G150=\"\"),\"\",IF(VLOOKUP(H150,Tabelle_Fisse!$B$25:$C$29,2,FALSE)=\"ok\",\"\",1))","v":""},{"$nulls":4},"Z8A08D9101 SI"]
[null,"ZAA08D94BA","Cooperativa Sociale LA SCOTTA Onlus","03530400179",null,"SI",null,null,null,"ZAA08D94BA",{"$f":"IF(J151=\"\",\"\",IF(VLOOKUP(J151,Lotti!B$6:B$596,1,FALSE)=J151,\"\",1))","v":""},null,"",null,{"$f":"IF(J151=\"\",\"\",IF(VLOOKUP(F151,Tabelle_Fisse!$B$33:$C$34,2,FALSE)=\"ok\",\"\",1))","v":""},{"$f":"IF(J151=\"\",\"\",IF(VLOOKUP(CONCATENATE(J151,\" SI\"),W$7:W$1196,1,FALSE)=CONCATENATE(J151,\" SI\"),\"\",1))","v":""},null,{"$f":"IF(OR(J151=\"\",G151=\"\"),\"\",IF(VLOOKUP(H151,Tabelle_Fisse!$B$25:$C$29,2,FALSE)=\"ok\",\"\",1))","v":""},{"$nulls":4},"ZAA08D94BA SI"]
[null,"ZB308D9531","Casa Albergo Focolare F.lli Felini – F.lli Bianchi","03165370176",null,"SI",null,null,null,"ZB308D9531",{"$f":"IF(J152=\"\",\"\",IF(VLOOKUP(J152,Lotti!B$6:B$596,1,FALSE)=J152,\"\",1))","v":""},null,"",null,{"$f":"IF(J152=\"\",\"\",IF(VLOOKUP(F152,Tabelle_Fisse!$B$33:$C$34,2,FALSE)=\"ok\",\"\",1))","v":""},{"$f":"IF(J152=\"\",\"\",IF(VLOOKUP(CONCATENATE(J152,\" SI\"),W$7:W$1196,1,FALSE)=CONCATENATE(J152,\" SI\"),\"\",1))","v":""},null,{"$f":"IF(OR(J152=\"\",G152=\"\"),\"\",IF(VLOOKUP(H152,Tabelle_Fisse!$B$25:$C$29,2,FALSE)=\"ok\",\"\",1))","v":""},{"$nulls":4},"ZB308D9531 SI"]
[null,"Z8508D958A","Cooperativa Sociale Nikolajewka Onlus","01046690176",null,"SI",null,null,null,"Z8508D958A",{"$f":"IF(J153=\"\",\"\",IF(VLOOKUP(J153,Lotti!B$6:B$596,1,FALSE)=J153,\"\",1))","v":""},null,"",null,{"$f":"IF(J153=\"\",\"\",IF(VLOOKUP(F153,Tabelle_Fisse!$B$33:$C$34,2,FALSE)=\"ok\",\"\",1))","v":""},{"$f":"IF(J153=\"\",\"\",IF(VLOOKUP(CONCATENATE(J153,\" SI\"),W$7:W$1196,1,FALSE)=CONCATENATE(J153,\" SI\"),\"\",1))","v":""},null,{"$f":"IF(OR(J153=\"\",G153=\"\"),\"\",IF(VLOOKUP(H153,Tabelle_Fisse!$B$25:$C$29,2,FALSE)=\"ok\",\"\",1))","v":""},{"$nulls":4},"Z8508D958A SI"]
[null,"ZE908D9605","Associazione Comuni Bresciani Servizi S.r.l.","03611520176",null,"SI",null,null,null,"ZE908D9605",{"$f":"IF(J154=\"\",\"\",IF(VLOOKUP(J154,Lotti!B$6:B$596,1,FALSE)=J154,\"\",1))","v":""},null,"",null,{"$f":"IF(J154=\"\",\"\",IF(VLOOKUP(F154,Tabelle_Fisse!$B$33:$C$34,2,FALSE)=\"ok\",\"\",1))","v":""},{"$f":"IF(J154=\"\",\"\",IF(VLOOKUP(CONCATENATE(J154,\" SI\"),W$7:W$1196,1,FALSE)=CONCATENATE(J154,\" SI\"),\"\",1))","v":""},null,{"$f":"IF(OR(J154=\"\",G154=\"\"),\"\",IF(VLOOKUP(H154,Tabelle_Fisse!$B$25:$C$29,2,FALSE)=\"ok\",\"\",1))","v":""},{"$nulls":4},"ZE908D9605 SI"]
[null,"ZB108E3D4B","Cooperativa La Nuova Cordata","03074540174",null,"SI",null,null,null,"ZB108E3D4B",{"$f":"IF(J155=\"\",\"\",IF(VLOOKUP(J155,Lotti!B$6:B$596,1,FALSE)=J155,\"\",1))","v":""},null,"",null,{"$f":"IF(J155=\"\",\"\",IF(VLOOKUP(F155,Tabelle_Fisse!$B$33:$C$34,2,FALSE)=\"ok\",\"\",1))","v":""},{"$f":"IF(J155=\"\",\"\",IF(VLOOKUP(CONCATENATE(J155,\" SI\"),W$7:W$1196,1,FALSE)=CONCATENATE(J155,\" SI\"),\"\",1))","v":""},null,{"$f":"IF(OR(J155=\"\",G155=\"\"),\"\",IF(VLOOKUP(H155,Tabelle_Fisse!$B$25:$C$29,2,FALSE)=\"ok\",\"\",1))","v":""},{"$nulls":4},"ZB108E3D4B SI"]
[null,"ZC908E3EDC","Cooperativa Il Germoglio","01990640177",null,"SI",null,null,null,"ZC908E3EDC",{"$f":"IF(J156=\"\",\"\",IF(VLOOKUP(J156,Lotti!B$6:B$596,1,FALSE)=J156,\"\",1))","v":""},null,"",null,{"$f":"IF(J156=\"\",\"\",IF(VLOOKUP(F156,Tabelle_Fisse!$B$33:$C$34,2,FALSE)=\"ok\",\"\",1))","v":""},{"$f":"IF(J156=\"\",\"\",IF(VLOOKUP(CONCATENATE(J156,\" SI\"),W$7:W$1196,1,FALSE)=CONCATENATE(J156,\" SI\"),\"\",1))","v":""},null,{"$f":"IF(OR(J156=\"\",G156=\"\"),\"\",IF(VLOOKUP(H156,Tabelle_Fisse!$B$25:$C$29,2,FALSE)=\"ok\",\"\",1))","v":""},{"$nulls":4},"ZC908E3EDC SI"]
[null,"Z6E08F205A","Trattoria Antico Eden","01951030178",null,"SI",null,null,null,"Z6E08F205A",{"$f":"IF(J157=\"\",\"\",IF(VLOOKUP(J157,Lotti!B$6:B$596,1,FALSE)=J157,\"\",1))","v":""},null,"",null,{"$f":"IF(J157=\"\",\"\",IF(VLOOKUP(F157,Tabelle_Fisse!$B$33:$C$34,2,FALSE)=\"ok\",\"\",1))","v":""},{"$f":"IF(J157=\"\",\"\",IF(VLOOKUP(CONCATENATE(J157,\" SI\"),W$7:W$1196,1,FALSE)=CONCATENATE(J157,\" SI\"),\"\",1))","v":""},null,{"$f":"IF(OR(J157=\"\",G157=\"\"),\"\",IF(VLOOKUP(H157,Tabelle_Fisse!$B$25:$C$29,2,FALSE)=\"ok\",\"\",1))","v":""},{"$nulls":4},"Z6E08F205A SI"]
[null,"Z9A0933F6E","all’Associazione Sportiva Dilettantistica Circolo Ippico Wakinyan Ranch","90013520177",null,"SI",null,null,null,"Z9A0933F6E",{"$f":"IF(J158=\"\",\"\",IF(VLOOKUP(J158,Lotti!B$6:B$596,1,FALSE)=J158,\"\",1))","v":""},null,"",null,{"$f":"IF(J158=\"\",\"\",IF(VLOOKUP(F158,Tabelle_Fisse!$B$33:$C$34,2,FALSE)=\"ok\",\"\",1))","v":""},{"$f":"IF(J158=\"\",\"\",IF(VLOOKUP(CONCATENATE(J158,\" SI\"),W$7:W$1196,1,FALSE)=CONCATENATE(J158,\" SI\"),\"\",1))","v":""},null,{"$f":"IF(OR(J158=\"\",G158=\"\"),\"\",IF(VLOOKUP(H158,Tabelle_Fisse!$B$25:$C$29,2,FALSE)=\"ok\",\"\",1))","v":""},{"$nulls":4},"Z9A0933F6E SI"]
[null,"Z9B09340AE","Cooperativa Sociale Nuovo Impegno","03271040176",null,"SI",null,null,null,"Z9B09340AE",{"$f":"IF(J159=\"\",\"\",IF(VLOOKUP(J159,Lotti!B$6:B$596,1,FALSE)=J159,\"\",1))","v":""},null,"",null,{"$f":"IF(J159=\"\",\"\",IF(VLOOKUP(F159,Tabelle_Fisse!$B$33:$C$34,2,FALSE)=\"ok\",\"\",1))","v":""},{"$f":"IF(J159=\"\",\"\",IF(VLOOKUP(CONCATENATE(J159,\" SI\"),W$7:W$1196,1,FALSE)=CONCATENATE(J159,\" SI\"),\"\",1))","v":""},null,{"$f":"IF(OR(J159=\"\",G159=\"\"),\"\",IF(VLOOKUP(H159,Tabelle_Fisse!$B$25:$C$29,2,FALSE)=\"ok\",\"\",1))","v":""},{"$nulls":4},"Z9B09340AE SI"]
[null,"Z950934106","Azienda agricola Sebino Cavalli di Renè Berger","03341180176",null,"SI",null,null,null,"Z950934106",{"$f":"IF(J160=\"\",\"\",IF(VLOOKUP(J160,Lotti!B$6:B$596,1,FALSE)=J160,\"\",1))","v":""},null,"",null,{"$f":"IF(J160=\"\",\"\",IF(VLOOKUP(F160,Tabelle_Fisse!$B$33:$C$34,2,FALSE)=\"ok\",\"\",1))","v":""},{"$f":"IF(J160=\"\",\"\",IF(VLOOKUP(CONCATENATE(J160,\" SI\"),W$7:W$1196,1,FALSE)=CONCATENATE(J160,\" SI\"),\"\",1))","v":""},null,{"$f":"IF(OR(J160=\"\",G160=\"\"),\"\",IF(VLOOKUP(H160,Tabelle_Fisse!$B$25:$C$29,2,FALSE)=\"ok\",\"\",1))","v":""},{"$nulls":4},"Z950934106 SI"]
[null,"ZAF096EB7A","Safco Italia Srl","02572790984",null,"SI",null,null,null,"ZAF096EB7A",{"$f":"IF(J161=\"\",\"\",IF(VLOOKUP(J161,Lotti!B$6:B$596,1,FALSE)=J161,\"\",1))","v":""},null,"",null,{"$f":"IF(J161=\"\",\"\",IF(VLOOKUP(F161,Tabelle_Fisse!$B$33:$C$34,2,FALSE)=\"ok\",\"\",1))","v":""},{"$f":"IF(J161=\"\",\"\",IF(VLOOKUP(CONCATENATE(J161,\" SI\"),W$7:W$1196,1,FALSE)=CONCATENATE(J161,\" SI\"),\"\",1))","v":""},null,{"$f":"IF(OR(J161=\"\",G161=\"\"),\"\",IF(VLOOKUP(H161,Tabelle_Fisse!$B$25:$C$29,2,FALSE)=\"ok\",\"\",1))","v":""},{"$nulls":4},"ZAF096EB7A SI"]
[null,"Z40096EBF4","Calzaturificio TreEmme","00683720262",null,"SI",null,null,null,"Z40096EBF4",{"$f":"IF(J162=\"\",\"\",IF(VLOOKUP(J162,Lotti!B$6:B$596,1,FALSE)=J162,\"\",1))","v":""},null,"",null,{"$f":"IF(J162=\"\",\"\",IF(VLOOKUP(F162,Tabelle_Fisse!$B$33:$C$34,2,FALSE)=\"ok\",\"\",1))","v":""},{"$f":"IF(J162=\"\",\"\",IF(VLOOKUP(CONCATENATE(J162,\" SI\"),W$7:W$1196,1,FALSE)=CONCATENATE(J162,\" SI\"),\"\",1))","v":""},null,{"$f":"IF(OR(J162=\"\",G162=\"\"),\"\",IF(VLOOKUP(H162,Tabelle_Fisse!$B$25:$C$29,2,FALSE)=\"ok\",\"\",1))","v":""},{"$nulls":4},"Z40096EBF4 SI"]
[null,"Z4F096EC13","Antincendi Fulmix Sas di Menegari Paolo e C.","00618900229",null,"SI",null,null,null,"Z4F096EC13",{"$f":"IF(J163=\"\",\"\",IF(VLOOKUP(J163,Lotti!B$6:B$596,1,FALSE)=J163,\"\",1))","v":""},null,"",null,{"$f":"IF(J163=\"\",\"\",IF(VLOOKUP(F163,Tabelle_Fisse!$B$33:$C$34,2,FALSE)=\"ok\",\"\",1))","v":""},{"$f":"IF(J163=\"\",\"\",IF(VLOOKUP(CONCATENATE(J163,\" SI\"),W$7:W$1196,1,FALSE)=CONCATENATE(J163,\" SI\"),\"\",1))","v":""},null,{"$f":"IF(OR(J163=\"\",G163=\"\"),\"\",IF(VLOOKUP(H163,Tabelle_Fisse!$B$25:$C$29,2,FALSE)=\"ok\",\"\",1))","v":""},{"$nulls":4},"Z4F096EC13 SI"]
[null,"ZD209ADCFD","Ghirardelli Leopoldo & C. s.n.c.","00911550176",null,"SI",null,null,null,"ZD209ADCFD",{"$f":"IF(J164=\"\",\"\",IF(VLOOKUP(J164,Lotti!B$6:B$596,1,FALSE)=J164,\"\",1))","v":""},null,"",null,{"$f":"IF(J164=\"\",\"\",IF(VLOOKUP(F164,Tabelle_Fisse!$B$33:$C$34,2,FALSE)=\"ok\",\"\",1))","v":""},{"$f":"IF(J164=\"\",\"\",IF(VLOOKUP(CONCATENATE(J164,\" SI\"),W$7:W$1196,1,FALSE)=CONCATENATE(J164,\" SI\"),\"\",1))","v":""},null,{"$f":"IF(OR(J164=\"\",G164=\"\"),\"\",IF(VLOOKUP(H164,Tabelle_Fisse!$B$25:$C$29,2,FALSE)=\"ok\",\"\",1))","v":""},{"$nulls":4},"ZD209ADCFD SI"]
[null,"Z0609B8783","EUROLAB di Schiavi G. Coppedè M.& C SNC","01679010460",null,"SI",null,null,null,"Z0609B8783",{"$f":"IF(J165=\"\",\"\",IF(VLOOKUP(J165,Lotti!B$6:B$596,1,FALSE)=J165,\"\",1))","v":""},null,"",null,{"$f":"IF(J165=\"\",\"\",IF(VLOOKUP(F165,Tabelle_Fisse!$B$33:$C$34,2,FALSE)=\"ok\",\"\",1))","v":""},{"$f":"IF(J165=\"\",\"\",IF(VLOOKUP(CONCATENATE(J165,\" SI\"),W$7:W$1196,1,FALSE)=CONCATENATE(J165,\" SI\"),\"\",1))","v":""},null,{"$f":"IF(OR(J165=\"\",G165=\"\"),\"\",IF(VLOOKUP(H165,Tabelle_Fisse!$B$25:$C$29,2,FALSE)=\"ok\",\"\",1))","v":""},{"$nulls":4},"Z0609B8783 SI"]
[null,"ZB40B17F51","Cooperativa Arca – Soc. Coop","01397680178",null,"SI",null,null,null,"ZB40B17F51",{"$f":"IF(J166=\"\",\"\",IF(VLOOKUP(J166,Lotti!B$6:B$596,1,FALSE)=J166,\"\",1))","v":""},null,"",null,{"$f":"IF(J166=\"\",\"\",IF(VLOOKUP(F166,Tabelle_Fisse!$B$33:$C$34,2,FALSE)=\"ok\",\"\",1))","v":""},{"$f":"IF(J166=\"\",\"\",IF(VLOOKUP(CONCATENATE(J166,\" SI\"),W$7:W$1196,1,FALSE)=CONCATENATE(J166,\" SI\"),\"\",1))","v":""},null,{"$f":"IF(OR(J166=\"\",G166=\"\"),\"\",IF(VLOOKUP(H166,Tabelle_Fisse!$B$25:$C$29,2,FALSE)=\"ok\",\"\",1))","v":""},{"$nulls":4},"ZB40B17F51 SI"]
[null,"ZA30B31B6F","Società Nord BroKer srl","02538210986",null,"SI",null,null,null,"ZA30B31B6F",{"$f":"IF(J167=\"\",\"\",IF(VLOOKUP(J167,Lotti!B$6:B$596,1,FALSE)=J167,\"\",1))","v":""},null,"",null,{"$f":"IF(J167=\"\",\"\",IF(VLOOKUP(F167,Tabelle_Fisse!$B$33:$C$34,2,FALSE)=\"ok\",\"\",1))","v":""},{"$f":"IF(J167=\"\",\"\",IF(VLOOKUP(CONCATENATE(J167,\" SI\"),W$7:W$1196,1,FALSE)=CONCATENATE(J167,\" SI\"),\"\",1))","v":""},null,{"$f":"IF(OR(J167=\"\",G167=\"\"),\"\",IF(VLOOKUP(H167,Tabelle_Fisse!$B$25:$C$29,2,FALSE)=\"ok\",\"\",1))","v":""},{"$nulls":4},"ZA30B31B6F SI"]
[null,"Z520B73D19","Cooperativa Sociale Nuovo Impegno","03271040178",null,"SI",null,null,null,"Z520B73D19",{"$f":"IF(J168=\"\",\"\",IF(VLOOKUP(J168,Lotti!B$6:B$596,1,FALSE)=J168,\"\",1))","v":""},null,"",null,{"$f":"IF(J168=\"\",\"\",IF(VLOOKUP(F168,Tabelle_Fisse!$B$33:$C$34,2,FALSE)=\"ok\",\"\",1))","v":""},{"$f":"IF(J168=\"\",\"\",IF(VLOOKUP(CONCATENATE(J168,\" SI\"),W$7:W$1196,1,FALSE)=CONCATENATE(J168,\" SI\"),\"\",1))","v":""},null,{"$f":"IF(OR(J168=\"\",G168=\"\"),\"\",IF(VLOOKUP(H168,Tabelle_Fisse!$B$25:$C$29,2,FALSE)=\"ok\",\"\",1))","v":""},{"$nulls":4},"Z520B73D19 SI"]
[null,"Z700B7E5FB","ACB Servizi Srl","03611520176",null,"SI",null,null,null,"Z700B7E5FB",{"$f":"IF(J169=\"\",\"\",IF(VLOOKUP(J169,Lotti!B$6:B$596,1,FALSE)=J169,\"\",1))","v":""},null,"",null,{"$f":"IF(J169=\"\",\"\",IF(VLOOKUP(F169,Tabelle_Fisse!$B$33:$C$34,2,FALSE)=\"ok\",\"\",1))","v":""},{"$f":"IF(J169=\"\",\"\",IF(VLOOKUP(CONCATENATE(J169,\" SI\"),W$7:W$1196,1,FALSE)=CONCATENATE(J169,\" SI\"),\"\",1))","v":""},null,{"$f":"IF(OR(J169=\"\",G169=\"\"),\"\",IF(VLOOKUP(H169,Tabelle_Fisse!$B$25:$C$29,2,FALSE)=\"ok\",\"\",1))","v":""},{"$nulls":4},"Z700B7E5FB SI"]
[null,"Z8E0BB0C2B","Società Risorse ed Ambiente s.r.l.","00297733170",null,"SI",null,null,null,"Z8E0BB0C2B",{"$f":"IF(J170=\"\",\"\",IF(VLOOKUP(J170,Lotti!B$6:B$596,1,FALSE)=J170,\"\",1))","v":""},null,"",null,{"$f":"IF(J170=\"\",\"\",IF(VLOOKUP(F170,Tabelle_Fisse!$B$33:$C$34,2,FALSE)=\"ok\",\"\",1))","v":""},{"$f":"IF(J170=\"\",\"\",IF(VLOOKUP(CONCATENATE(J170,\" SI\"),W$7:W$1196,1,FALSE)=CONCATENATE(J170,\" SI\"),\"\",1))","v":""},null,{"$f":"IF(OR(J170=\"\",G170=\"\"),\"\",IF(VLOOKUP(H170,Tabelle_Fisse!$B$25:$C$29,2,FALSE)=\"ok\",\"\",1))","v":""},{"$nulls":4},"Z8E0BB0C2B SI"]
[null,"Z9B0BB0DB6","Associazione Unità di Salvaguardia del Patrimonio Archeologico Architettonico e Artistico (USPAAA)","98031450178",null,"SI",null,null,null,"Z9B0BB0DB6",{"$f":"IF(J171=\"\",\"\",IF(VLOOKUP(J171,Lotti!B$6:B$596,1,FALSE)=J171,\"\",1))","v":""},null,"",null,{"$f":"IF(J171=\"\",\"\",IF(VLOOKUP(F171,Tabelle_Fisse!$B$33:$C$34,2,FALSE)=\"ok\",\"\",1))","v":""},{"$f":"IF(J171=\"\",\"\",IF(VLOOKUP(CONCATENATE(J171,\" SI\"),W$7:W$1196,1,FALSE)=CONCATENATE(J171,\" SI\"),\"\",1))","v":""},null,{"$f":"IF(OR(J171=\"\",G171=\"\"),\"\",IF(VLOOKUP(H171,Tabelle_Fisse!$B$25:$C$29,2,FALSE)=\"ok\",\"\",1))","v":""},{"$nulls":4},"Z9B0BB0DB6 SI"]
[null,"Z720BF7401","Stazione di servizio esso Picchi snc","01092950177",null,"SI",null,null,null,"Z720BF7401",{"$f":"IF(J172=\"\",\"\",IF(VLOOKUP(J172,Lotti!B$6:B$596,1,FALSE)=J172,\"\",1))","v":""},null,"",null,{"$f":"IF(J172=\"\",\"\",IF(VLOOKUP(F172,Tabelle_Fisse!$B$33:$C$34,2,FALSE)=\"ok\",\"\",1))","v":""},{"$f":"IF(J172=\"\",\"\",IF(VLOOKUP(CONCATENATE(J172,\" SI\"),W$7:W$1196,1,FALSE)=CONCATENATE(J172,\" SI\"),\"\",1))","v":""},null,{"$f":"IF(OR(J172=\"\",G172=\"\"),\"\",IF(VLOOKUP(H172,Tabelle_Fisse!$B$25:$C$29,2,FALSE)=\"ok\",\"\",1))","v":""},{"$nulls":4},"Z720BF7401 SI"]
[null,"Z050BF7505","Consorzio Forestale “Sebinfor”","98096890177",null,"SI",null,null,null,"Z050BF7505",{"$f":"IF(J173=\"\",\"\",IF(VLOOKUP(J173,Lotti!B$6:B$596,1,FALSE)=J173,\"\",1))","v":""},null,"",null,{"$f":"IF(J173=\"\",\"\",IF(VLOOKUP(F173,Tabelle_Fisse!$B$33:$C$34,2,FALSE)=\"ok\",\"\",1))","v":""},{"$f":"IF(J173=\"\",\"\",IF(VLOOKUP(CONCATENATE(J173,\" SI\"),W$7:W$1196,1,FALSE)=CONCATENATE(J173,\" SI\"),\"\",1))","v":""},null,{"$f":"IF(OR(J173=\"\",G173=\"\"),\"\",IF(VLOOKUP(H173,Tabelle_Fisse!$B$25:$C$29,2,FALSE)=\"ok\",\"\",1))","v":""},{"$nulls":4},"Z050BF7505 SI"]
[null,"Z680BF7731","Società Cooperativa Sociale Onlus DIOGENE","03420730172",null,"SI",null,null,null,"Z680BF7731",{"$f":"IF(J174=\"\",\"\",IF(VLOOKUP(J174,Lotti!B$6:B$596,1,FALSE)=J174,\"\",1))","v":""},null,"",null,{"$f":"IF(J174=\"\",\"\",IF(VLOOKUP(F174,Tabelle_Fisse!$B$33:$C$34,2,FALSE)=\"ok\",\"\",1))","v":""},{"$f":"IF(J174=\"\",\"\",IF(VLOOKUP(CONCATENATE(J174,\" SI\"),W$7:W$1196,1,FALSE)=CONCATENATE(J174,\" SI\"),\"\",1))","v":""},null,{"$f":"IF(OR(J174=\"\",G174=\"\"),\"\",IF(VLOOKUP(H174,Tabelle_Fisse!$B$25:$C$29,2,FALSE)=\"ok\",\"\",1))","v":""},{"$nulls":4},"Z680BF7731 SI"]
[null,"ZCF0BF7780","Cooperativa ARCA Soc. Coop. a r.l.","01397680178",null,"SI",null,null,null,"ZCF0BF7780",{"$f":"IF(J175=\"\",\"\",IF(VLOOKUP(J175,Lotti!B$6:B$596,1,FALSE)=J175,\"\",1))","v":""},null,"",null,{"$f":"IF(J175=\"\",\"\",IF(VLOOKUP(F175,Tabelle_Fisse!$B$33:$C$34,2,FALSE)=\"ok\",\"\",1))","v":""},{"$f":"IF(J175=\"\",\"\",IF(VLOOKUP(CONCATENATE(J175,\" SI\"),W$7:W$1196,1,FALSE)=CONCATENATE(J175,\" SI\"),\"\",1))","v":""},null,{"$f":"IF(OR(J175=\"\",G175=\"\"),\"\",IF(VLOOKUP(H175,Tabelle_Fisse!$B$25:$C$29,2,FALSE)=\"ok\",\"\",1))","v":""},{"$nulls":4},"ZCF0BF7780 SI"]
[null,"Z6B0C078E2","Ghirardelli Leopoldo & C. s.n.c.","00911550176",null,"SI",null,null,null,"Z6B0C078E2",{"$f":"IF(J176=\"\",\"\",IF(VLOOKUP(J176,Lotti!B$6:B$596,1,FALSE)=J176,\"\",1))","v":""},null,"",null,{"$f":"IF(J176=\"\",\"\",IF(VLOOKUP(F176,Tabelle_Fisse!$B$33:$C$34,2,FALSE)=\"ok\",\"\",1))","v":""},{"$f":"IF(J176=\"\",\"\",IF(VLOOKUP(CONCATENATE(J176,\" SI\"),W$7:W$1196,1,FALSE)=CONCATENATE(J176,\" SI\"),\"\",1))","v":""},null,{"$f":"IF(OR(J176=\"\",G176=\"\"),\"\",IF(VLOOKUP(H176,Tabelle_Fisse!$B$25:$C$29,2,FALSE)=\"ok\",\"\",1))","v":""},{"$nulls":4},"Z6B0C078E2 SI"]
[null,"ZE50C07969","361° Consulting+Solution di Michela di Stefano","02522930987",null,"SI",null,null,null,"ZE50C07969",{"$f":"IF(J177=\"\",\"\",IF(VLOOKUP(J177,Lotti!B$6:B$596,1,FALSE)=J177,\"\",1))","v":""},null,"",null,{"$f":"IF(J177=\"\",\"\",IF(VLOOKUP(F177,Tabelle_Fisse!$B$33:$C$34,2,FALSE)=\"ok\",\"\",1))","v":""},{"$f":"IF(J177=\"\",\"\",IF(VLOOKUP(CONCATENATE(J177,\" SI\"),W$7:W$1196,1,FALSE)=CONCATENATE(J177,\" SI\"),\"\",1))","v":""},null,{"$f":"IF(OR(J177=\"\",G177=\"\"),\"\",IF(VLOOKUP(H177,Tabelle_Fisse!$B$25:$C$29,2,FALSE)=\"ok\",\"\",1))","v":""},{"$nulls":4},"ZE50C07969 SI"]
[null,"Z8C0C11BB6","Agoghè Società Cooperativa Sociale Onlus","03489420178",null,"SI",null,null,null,"Z8C0C11BB6",{"$f":"IF(J178=\"\",\"\",IF(VLOOKUP(J178,Lotti!B$6:B$596,1,FALSE)=J178,\"\",1))","v":""},null,"",null,{"$f":"IF(J178=\"\",\"\",IF(VLOOKUP(F178,Tabelle_Fisse!$B$33:$C$34,2,FALSE)=\"ok\",\"\",1))","v":""},{"$f":"IF(J178=\"\",\"\",IF(VLOOKUP(CONCATENATE(J178,\" SI\"),W$7:W$1196,1,FALSE)=CONCATENATE(J178,\" SI\"),\"\",1))","v":""},null,{"$f":"IF(OR(J178=\"\",G178=\"\"),\"\",IF(VLOOKUP(H178,Tabelle_Fisse!$B$25:$C$29,2,FALSE)=\"ok\",\"\",1))","v":""},{"$nulls":4},"Z8C0C11BB6 SI"]
[null,"Z610C11CDE","Cooperativa Terre Unite","98079530170",null,"SI",null,null,null,"Z610C11CDE",{"$f":"IF(J179=\"\",\"\",IF(VLOOKUP(J179,Lotti!B$6:B$596,1,FALSE)=J179,\"\",1))","v":""},null,"",null,{"$f":"IF(J179=\"\",\"\",IF(VLOOKUP(F179,Tabelle_Fisse!$B$33:$C$34,2,FALSE)=\"ok\",\"\",1))","v":""},{"$f":"IF(J179=\"\",\"\",IF(VLOOKUP(CONCATENATE(J179,\" SI\"),W$7:W$1196,1,FALSE)=CONCATENATE(J179,\" SI\"),\"\",1))","v":""},null,{"$f":"IF(OR(J179=\"\",G179=\"\"),\"\",IF(VLOOKUP(H179,Tabelle_Fisse!$B$25:$C$29,2,FALSE)=\"ok\",\"\",1))","v":""},{"$nulls":4},"Z610C11CDE SI"]
[null,"ZF90C16631","L’Agricola Massussi","02071330175",null,"SI",null,null,null,"ZF90C16631",{"$f":"IF(J180=\"\",\"\",IF(VLOOKUP(J180,Lotti!B$6:B$596,1,FALSE)=J180,\"\",1))","v":""},null,"",null,{"$f":"IF(J180=\"\",\"\",IF(VLOOKUP(F180,Tabelle_Fisse!$B$33:$C$34,2,FALSE)=\"ok\",\"\",1))","v":""},{"$f":"IF(J180=\"\",\"\",IF(VLOOKUP(CONCATENATE(J180,\" SI\"),W$7:W$1196,1,FALSE)=CONCATENATE(J180,\" SI\"),\"\",1))","v":""},null,{"$f":"IF(OR(J180=\"\",G180=\"\"),\"\",IF(VLOOKUP(H180,Tabelle_Fisse!$B$25:$C$29,2,FALSE)=\"ok\",\"\",1))","v":""},{"$nulls":4},"ZF90C16631 SI"]
[null,"ZC40C20573","Stazione di servizio esso Picchi snc","01092950177",null,"SI",null,null,null,"ZC40C20573",{"$f":"IF(J181=\"\",\"\",IF(VLOOKUP(J181,Lotti!B$6:B$596,1,FALSE)=J181,\"\",1))","v":""},null,"",null,{"$f":"IF(J181=\"\",\"\",IF(VLOOKUP(F181,Tabelle_Fisse!$B$33:$C$34,2,FALSE)=\"ok\",\"\",1))","v":""},{"$f":"IF(J181=\"\",\"\",IF(VLOOKUP(CONCATENATE(J181,\" SI\"),W$7:W$1196,1,FALSE)=CONCATENATE(J181,\" SI\"),\"\",1))","v":""},null,{"$f":"IF(OR(J181=\"\",G181=\"\"),\"\",IF(VLOOKUP(H181,Tabelle_Fisse!$B$25:$C$29,2,FALSE)=\"ok\",\"\",1))","v":""},{"$nulls":4},"ZC40C20573 SI"]
[null,"ZF70C20578","Consorzio Forestale “Sebinfor","98096890177",null,"SI",null,null,null,"ZF70C20578",{"$f":"IF(J182=\"\",\"\",IF(VLOOKUP(J182,Lotti!B$6:B$596,1,FALSE)=J182,\"\",1))","v":""},null,"",null,{"$f":"IF(J182=\"\",\"\",IF(VLOOKUP(F182,Tabelle_Fisse!$B$33:$C$34,2,FALSE)=\"ok\",\"\",1))","v":""},{"$f":"IF(J182=\"\",\"\",IF(VLOOKUP(CONCATENATE(J182,\" SI\"),W$7:W$1196,1,FALSE)=CONCATENATE(J182,\" SI\"),\"\",1))","v":""},null,{"$f":"IF(OR(J182=\"\",G182=\"\"),\"\",IF(VLOOKUP(H182,Tabelle_Fisse!$B$25:$C$29,2,FALSE)=\"ok\",\"\",1))","v":""},{"$nulls":4},"ZF70C20578 SI"]
[null,"ZE50C20585","Consorzio Forestale “Sebinfor”","98096890177",null,"SI",null,null,null,"ZE50C20585",{"$f":"IF(J183=\"\",\"\",IF(VLOOKUP(J183,Lotti!B$6:B$596,1,FALSE)=J183,\"\",1))","v":""},null,"",null,{"$f":"IF(J183=\"\",\"\",IF(VLOOKUP(F183,Tabelle_Fisse!$B$33:$C$34,2,FALSE)=\"ok\",\"\",1))","v":""},{"$f":"IF(J183=\"\",\"\",IF(VLOOKUP(CONCATENATE(J183,\" SI\"),W$7:W$1196,1,FALSE)=CONCATENATE(J183,\" SI\"),\"\",1))","v":""},null,{"$f":"IF(OR(J183=\"\",G183=\"\"),\"\",IF(VLOOKUP(H183,Tabelle_Fisse!$B$25:$C$29,2,FALSE)=\"ok\",\"\",1))","v":""},{"$nulls":4},"ZE50C20585 SI"]
[null,"Z9E0C538AF","Società Nord BroKer srl","02538210986",null,"SI",1,"01-MANDANTE",null,"Z9E0C538AF",{"$f":"IF(J184=\"\",\"\",IF(VLOOKUP(J184,Lotti!B$6:B$596,1,FALSE)=J184,\"\",1))","v":""},null,"",null,{"$f":"IF(J184=\"\",\"\",IF(VLOOKUP(F184,Tabelle_Fisse!$B$33:$C$34,2,FALSE)=\"ok\",\"\",1))","v":""},{"$f":"IF(J184=\"\",\"\",IF(VLOOKUP(CONCATENATE(J184,\" SI\"),W$7:W$1196,1,FALSE)=CONCATENATE(J184,\" SI\"),\"\",1))","v":""},null,{"$f":"IF(OR(J184=\"\",G184=\"\"),\"\",IF(VLOOKUP(H184,Tabelle_Fisse!$B$25:$C$29,2,FALSE)=\"ok\",\"\",1))","v":""},{"$nulls":4},"Z9E0C538AF SI"]
[null,"Z9E0C538AF","Reale Mutua Assicurazioni","03909600169",null,"SI",1,"02-MANDATARIA",null,"Z9E0C538AF",{"$f":"IF(J185=\"\",\"\",IF(VLOOKUP(J185,Lotti!B$6:B$596,1,FALSE)=J185,\"\",1))","v":""},null,"",null,{"$f":"IF(J185=\"\",\"\",IF(VLOOKUP(F185,Tabelle_Fisse!$B$33:$C$34,2,FALSE)=\"ok\",\"\",1))","v":""},{"$f":"IF(J185=\"\",\"\",IF(VLOOKUP(CONCATENATE(J185,\" SI\"),W$7:W$1196,1,FALSE)=CONCATENATE(J185,\" SI\"),\"\",1))","v":""},null,{"$f":"IF(OR(J185=\"\",G185=\"\"),\"\",IF(VLOOKUP(H185,Tabelle_Fisse!$B$25:$C$29,2,FALSE)=\"ok\",\"\",1))","v":""},{"$nulls":4},"Z9E0C538AF SI"]
[null,"Z9B0C538DB","Società Nord BroKer srl","02538210986",null,"SI",2,"01-MANDANTE",null,"Z9B0C538DB",{"$f":"IF(J186=\"\",\"\",IF(VLOOKUP(J186,Lotti!B$6:B$596,1,FALSE)=J186,\"\",1))","v":""},null,"",null,{"$f":"IF(J186=\"\",\"\",IF(VLOOKUP(F186,Tabelle_Fisse!$B$33:$C$34,2,FALSE)=\"ok\",\"\",1))","v":""},{"$f":"IF(J186=\"\",\"\",IF(VLOOKUP(CONCATENATE(J186,\" SI\"),W$7:W$1196,1,FALSE)=CONCATENATE(J186,\" SI\"),\"\",1))","v":""},null,{"$f":"IF(OR(J186=\"\",G186=\"\"),\"\",IF(VLOOKUP(H186,Tabelle_Fisse!$B$25:$C$29,2,FALSE)=\"ok\",\"\",1))","v":""},{"$nulls":4},"Z9B0C538DB SI"]
[null,"Z9B0C538DB","Reale Mutua Assicurazioni","03909600169",null,"NO",2,"02-MANDATARIA",null,"Z9B0C538DB",{"$f":"IF(J187=\"\",\"\",IF(VLOOKUP(J187,Lotti!B$6:B$596,1,FALSE)=J187,\"\",1))","v":""},null,"",null,{"$f":"IF(J187=\"\",\"\",IF(VLOOKUP(F187,Tabelle_Fisse!$B$33:$C$34,2,FALSE)=\"ok\",\"\",1))","v":""},{"$f":"IF(J187=\"\",\"\",IF(VLOOKUP(CONCATENATE(J187,\" SI\"),W$7:W$1196,1,FALSE)=CONCATENATE(J187,\" SI\"),\"\",1))","v":""},null,{"$f":"IF(OR(J187=\"\",G187=\"\"),\"\",IF(VLOOKUP(H187,Tabelle_Fisse!$B$25:$C$29,2,FALSE)=\"ok\",\"\",1))","v":""},{"$nulls":4},"Z9B0C538DB NO"]
[null,"Z9B0C538DB","Milano La Previdente","00957670151",null,"SI",2,"02-MANDATARIA",null,"Z9B0C538DB",{"$f":"IF(J188=\"\",\"\",IF(VLOOKUP(J188,Lotti!B$6:B$596,1,FALSE)=J188,\"\",1))","v":""},null,"",null,{"$f":"IF(J188=\"\",\"\",IF(VLOOKUP(F188,Tabelle_Fisse!$B$33:$C$34,2,FALSE)=\"ok\",\"\",1))","v":""},{"$f":"IF(J188=\"\",\"\",IF(VLOOKUP(CONCATENATE(J188,\" SI\"),W$7:W$1196,1,FALSE)=CONCATENATE(J188,\" SI\"),\"\",1))","v":""},null,{"$f":"IF(OR(J188=\"\",G188=\"\"),\"\",IF(VLOOKUP(H188,Tabelle_Fisse!$B$25:$C$29,2,FALSE)=\"ok\",\"\",1))","v":""},{"$nulls":4},"Z9B0C538DB SI"]
[null,"ZF70C53924","Società Nord BroKer srl","02538210986",null,"SI",3,"01-MANDANTE",null,"ZF70C53924",{"$f":"IF(J189=\"\",\"\",IF(VLOOKUP(J189,Lotti!B$6:B$596,1,FALSE)=J189,\"\",1))","v":""},null,"",null,{"$f":"IF(J189=\"\",\"\",IF(VLOOKUP(F189,Tabelle_Fisse!$B$33:$C$34,2,FALSE)=\"ok\",\"\",1))","v":""},{"$f":"IF(J189=\"\",\"\",IF(VLOOKUP(CONCATENATE(J189,\" SI\"),W$7:W$1196,1,FALSE)=CONCATENATE(J189,\" SI\"),\"\",1))","v":""},null,{"$f":"IF(OR(J189=\"\",G189=\"\"),\"\",IF(VLOOKUP(H189,Tabelle_Fisse!$B$25:$C$29,2,FALSE)=\"ok\",\"\",1))","v":""},{"$nulls":4},"ZF70C53924 SI"]
[null,"ZF70C53924","Reale Mutua Assicurazioni","03909600169",null,"NO",3,"02-MANDATARIA",null,"ZF70C53924",{"$f":"IF(J190=\"\",\"\",IF(VLOOKUP(J190,Lotti!B$6:B$596,1,FALSE)=J190,\"\",1))","v":""},null,"",null,{"$f":"IF(J190=\"\",\"\",IF(VLOOKUP(F190,Tabelle_Fisse!$B$33:$C$34,2,FALSE)=\"ok\",\"\",1))","v":""},{"$f":"IF(J190=\"\",\"\",IF(VLOOKUP(CONCATENATE(J190,\" SI\"),W$7:W$1196,1,FALSE)=CONCATENATE(J190,\" SI\"),\"\",1))","v":""},null,{"$f":"IF(OR(J190=\"\",G190=\"\"),\"\",IF(VLOOKUP(H190,Tabelle_Fisse!$B$25:$C$29,2,FALSE)=\"ok\",\"\",1))","v":""},{"$nulls":4},"ZF70C53924 NO"]
[null,"ZF70C53924","Milano La Previdente","00957670151",null,"NO",3,"02-MANDATARIA",null,"ZF70C53924",{"$f":"IF(J191=\"\",\"\",IF(VLOOKUP(J191,Lotti!B$6:B$596,1,FALSE)=J191,\"\",1))","v":""},null,"",null,{"$f":"IF(J191=\"\",\"\",IF(VLOOKUP(F191,Tabelle_Fisse!$B$33:$C$34,2,FALSE)=\"ok\",\"\",1))","v":""},{"$f":"IF(J191=\"\",\"\",IF(VLOOKUP(CONCATENATE(J191,\" SI\"),W$7:W$1196,1,FALSE)=CONCATENATE(J191,\" SI\"),\"\",1))","v":""},null,{"$f":"IF(OR(J191=\"\",G191=\"\"),\"\",IF(VLOOKUP(H191,Tabelle_Fisse!$B$25:$C$29,2,FALSE)=\"ok\",\"\",1))","v":""},{"$nulls":4},"ZF70C53924 NO"]
[null,"ZF70C53924","INA Assitalia","00409920584",null,"SI",3,"02-MANDATARIA",null,"ZF70C53924",{"$f":"IF(J192=\"\",\"\",IF(VLOOKUP(J192,Lotti!B$6:B$596,1,FALSE)=J192,\"\",1))","v":""},null,"",null,{"$f":"IF(J192=\"\",\"\",IF(VLOOKUP(F192,Tabelle_Fisse!$B$33:$C$34,2,FALSE)=\"ok\",\"\",1))","v":""},{"$f":"IF(J192=\"\",\"\",IF(VLOOKUP(CONCATENATE(J192,\" SI\"),W$7:W$1196,1,FALSE)=CONCATENATE(J192,\" SI\"),\"\",1))","v":""},null,{"$f":"IF(OR(J192=\"\",G192=\"\"),\"\",IF(VLOOKUP(H192,Tabelle_Fisse!$B$25:$C$29,2,FALSE)=\"ok\",\"\",1))","v":""},{"$nulls":4},"ZF70C53924 SI"]
[null,"Z1D0C53936","Società Nord BroKer srl","02538210986",null,"SI",4,"01-MANDANTE",null,"Z1D0C53936",{"$f":"IF(J193=\"\",\"\",IF(VLOOKUP(J193,Lotti!B$6:B$596,1,FALSE)=J193,\"\",1))","v":""},null,"",null,{"$f":"IF(J193=\"\",\"\",IF(VLOOKUP(F193,Tabelle_Fisse!$B$33:$C$34,2,FALSE)=\"ok\",\"\",1))","v":""},{"$f":"IF(J193=\"\",\"\",IF(VLOOKUP(CONCATENATE(J193,\" SI\"),W$7:W$1196,1,FALSE)=CONCATENATE(J193,\" SI\"),\"\",1))","v":""},null,{"$f":"IF(OR(J193=\"\",G193=\"\"),\"\",IF(VLOOKUP(H193,Tabelle_Fisse!$B$25:$C$29,2,FALSE)=\"ok\",\"\",1))","v":""},{"$nulls":4},"Z1D0C53936 SI"]
[null,"Z1D0C53936","Reale Mutua Assicurazioni","03909600169",null,"NO",4,"02-MANDATARIA",null,"Z1D0C53936",{"$f":"IF(J194=\"\",\"\",IF(VLOOKUP(J194,Lotti!B$6:B$596,1,FALSE)=J194,\"\",1))","v":""},null,"",null,{"$f":"IF(J194=\"\",\"\",IF(VLOOKUP(F194,Tabelle_Fisse!$B$33:$C$34,2,FALSE)=\"ok\",\"\",1))","v":""},{"$f":"IF(J194=\"\",\"\",IF(VLOOKUP(CONCATENATE(J194,\" SI\"),W$7:W$1196,1,FALSE)=CONCATENATE(J194,\" SI\"),\"\",1))","v":""},null,{"$f":"IF(OR(J194=\"\",G194=\"\"),\"\",IF(VLOOKUP(H194,Tabelle_Fisse!$B$25:$C$29,2,FALSE)=\"ok\",\"\",1))","v":""},{"$nulls":4},"Z1D0C53936 NO"]
[null,"Z1D0C53936","Milano La Previdente","00957670151",null,"SI",4,"02-MANDATARIA",null,"Z1D0C53936",{"$f":"IF(J195=\"\",\"\",IF(VLOOKUP(J195,Lotti!B$6:B$596,1,FALSE)=J195,\"\",1))","v":""},null,"",null,{"$f":"IF(J195=\"\",\"\",IF(VLOOKUP(F195,Tabelle_Fisse!$B$33:$C$34,2,FALSE)=\"ok\",\"\",1))","v":""},{"$f":"IF(J195=\"\",\"\",IF(VLOOKUP(CONCATENATE(J195,\" SI\"),W$7:W$1196,1,FALSE)=CONCATENATE(J195,\" SI\"),\"\",1))","v":""},null,{"$f":"IF(OR(J195=\"\",G195=\"\"),\"\",IF(VLOOKUP(H195,Tabelle_Fisse!$B$25:$C$29,2,FALSE)=\"ok\",\"\",1))","v":""},{"$nulls":4},"Z1D0C53936 SI"]
[null,"Z3E0C53948","Società Nord BroKer srl","02538210986",null,"SI",5,"01-MANDANTE",null,"Z3E0C53948",{"$f":"IF(J196=\"\",\"\",IF(VLOOKUP(J196,Lotti!B$6:B$596,1,FALSE)=J196,\"\",1))","v":""},null,"",null,{"$f":"IF(J196=\"\",\"\",IF(VLOOKUP(F196,Tabelle_Fisse!$B$33:$C$34,2,FALSE)=\"ok\",\"\",1))","v":""},{"$f":"IF(J196=\"\",\"\",IF(VLOOKUP(CONCATENATE(J196,\" SI\"),W$7:W$1196,1,FALSE)=CONCATENATE(J196,\" SI\"),\"\",1))","v":""},null,{"$f":"IF(OR(J196=\"\",G196=\"\"),\"\",IF(VLOOKUP(H196,Tabelle_Fisse!$B$25:$C$29,2,FALSE)=\"ok\",\"\",1))","v":""},{"$nulls":4},"Z3E0C53948 SI"]
[null,"Z3E0C53948","Reale Mutua Assicurazioni","03909600169",null,"NO",5,"02-MANDATARIA",null,"Z3E0C53948",{"$f":"IF(J197=\"\",\"\",IF(VLOOKUP(J197,Lotti!B$6:B$596,1,FALSE)=J197,\"\",1))","v":""},null,"",null,{"$f":"IF(J197=\"\",\"\",IF(VLOOKUP(F197,Tabelle_Fisse!$B$33:$C$34,2,FALSE)=\"ok\",\"\",1))","v":""},{"$f":"IF(J197=\"\",\"\",IF(VLOOKUP(CONCATENATE(J197,\" SI\"),W$7:W$1196,1,FALSE)=CONCATENATE(J197,\" SI\"),\"\",1))","v":""},null,{"$f":"IF(OR(J197=\"\",G197=\"\"),\"\",IF(VLOOKUP(H197,Tabelle_Fisse!$B$25:$C$29,2,FALSE)=\"ok\",\"\",1))","v":""},{"$nulls":4},"Z3E0C53948 NO"]
[null,"Z3E0C53948","Milano La Previdente","00957670151",null,"SI",5,"02-MANDATARIA",null,"Z3E0C53948",{"$f":"IF(J198=\"\",\"\",IF(VLOOKUP(J198,Lotti!B$6:B$596,1,FALSE)=J198,\"\",1))","v":""},null,"",null,{"$f":"IF(J198=\"\",\"\",IF(VLOOKUP(F198,Tabelle_Fisse!$B$33:$C$34,2,FALSE)=\"ok\",\"\",1))","v":""},{"$f":"IF(J198=\"\",\"\",IF(VLOOKUP(CONCATENATE(J198,\" SI\"),W$7:W$1196,1,FALSE)=CONCATENATE(J198,\" SI\"),\"\",1))","v":""},null,{"$f":"IF(OR(J198=\"\",G198=\"\"),\"\",IF(VLOOKUP(H198,Tabelle_Fisse!$B$25:$C$29,2,FALSE)=\"ok\",\"\",1))","v":""},{"$nulls":4},"Z3E0C53948 SI"]
[null,"Z020C53AC2","Società Nord BroKer srl","02538210986",null,"SI",6,"01-MANDANTE",null,"Z020C53AC2",{"$f":"IF(J199=\"\",\"\",IF(VLOOKUP(J199,Lotti!B$6:B$596,1,FALSE)=J199,\"\",1))","v":""},null,"",null,{"$f":"IF(J199=\"\",\"\",IF(VLOOKUP(F199,Tabelle_Fisse!$B$33:$C$34,2,FALSE)=\"ok\",\"\",1))","v":""},{"$f":"IF(J199=\"\",\"\",IF(VLOOKUP(CONCATENATE(J199,\" SI\"),W$7:W$1196,1,FALSE)=CONCATENATE(J199,\" SI\"),\"\",1))","v":""},null,{"$f":"IF(OR(J199=\"\",G199=\"\"),\"\",IF(VLOOKUP(H199,Tabelle_Fisse!$B$25:$C$29,2,FALSE)=\"ok\",\"\",1))","v":""},{"$nulls":4},"Z020C53AC2 SI"]
[null,"Z020C53AC2","Reale Mutua Assicurazioni","03909600169",null,"NO",6,"02-MANDATARIA",null,{"$f":"TRIM(B200)","v":"Z020C53AC2"},{"$f":"IF(J200=\"\",\"\",IF(VLOOKUP(J200,Lotti!B$6:B$596,1,FALSE)=J200,\"\",1))","v":""},null,{"$f":"IF(J200=\"\",\"\",IF(OR(AND(E200=\"\",LEN(D200)<>11,LEN(D200)<>16),AND(D200=\"\",E200=\"\"),AND(D200<>\"\",E200<>\"\")),1,\"\"))","v":""},null,{"$f":"IF(J200=\"\",\"\",IF(VLOOKUP(F200,Tabelle_Fisse!$B$33:$C$34,2,FALSE)=\"ok\",\"\",1))","v":""},{"$f":"IF(J200=\"\",\"\",IF(VLOOKUP(CONCATENATE(J200,\" SI\"),W$7:W$1196,1,FALSE)=CONCATENATE(J200,\" SI\"),\"\",1))","v":""},null,{"$f":"IF(OR(J200=\"\",G200=\"\"),\"\",IF(VLOOKUP(H200,Tabelle_Fisse!$B$25:$C$29,2,FALSE)=\"ok\",\"\",1))","v":""},{"$nulls":4},{"$f":"IF(J200=\"\",\"\",CONCATENATE(J200,\" \",F200))","v":"Z020C53AC2 NO"}]
[null,"Z020C53AC2","Milano La Previdente","00957670151",null,"SI",6,"02-MANDATARIA",null,"Z020C53AC2",{"$f":"IF(J201=\"\",\"\",IF(VLOOKUP(J201,Lotti!B$6:B$596,1,FALSE)=J201,\"\",1))","v":""},null,"",null,{"$f":"IF(J201=\"\",\"\",IF(VLOOKUP(F201,Tabelle_Fisse!$B$33:$C$34,2,FALSE)=\"ok\",\"\",1))","v":""},{"$f":"IF(J201=\"\",\"\",IF(VLOOKUP(CONCATENATE(J201,\" SI\"),W$7:W$1196,1,FALSE)=CONCATENATE(J201,\" SI\"),\"\",1))","v":""},null,{"$f":"IF(OR(J201=\"\",G201=\"\"),\"\",IF(VLOOKUP(H201,Tabelle_Fisse!$B$25:$C$29,2,FALSE)=\"ok\",\"\",1))","v":""},{"$nulls":4},"Z020C53AC2 SI"]
[null,"Z020C53AC2","INA Assitalia","00409920584",null,"NO",6,"02-MANDATARIA",null,"Z020C53AC2",{"$f":"IF(J202=\"\",\"\",IF(VLOOKUP(J202,Lotti!B$6:B$596,1,FALSE)=J202,\"\",1))","v":""},null,"",null,{"$f":"IF(J202=\"\",\"\",IF(VLOOKUP(F202,Tabelle_Fisse!$B$33:$C$34,2,FALSE)=\"ok\",\"\",1))","v":""},{"$f":"IF(J202=\"\",\"\",IF(VLOOKUP(CONCATENATE(J202,\" SI\"),W$7:W$1196,1,FALSE)=CONCATENATE(J202,\" SI\"),\"\",1))","v":""},null,{"$f":"IF(OR(J202=\"\",G202=\"\"),\"\",IF(VLOOKUP(H202,Tabelle_Fisse!$B$25:$C$29,2,FALSE)=\"ok\",\"\",1))","v":""},{"$nulls":4},"Z020C53AC2 NO"]
[null,"Z800C6608B","all’Associazione Sportiva Dilettantistica Circolo Ippico Wakinyan Ranch","90013520177",null,"SI",null,null,null,"Z800C6608B",{"$f":"IF(J203=\"\",\"\",IF(VLOOKUP(J203,Lotti!B$6:B$596,1,FALSE)=J203,\"\",1))","v":""},null,"",null,{"$f":"IF(J203=\"\",\"\",IF(VLOOKUP(F203,Tabelle_Fisse!$B$33:$C$34,2,FALSE)=\"ok\",\"\",1))","v":""},{"$f":"IF(J203=\"\",\"\",IF(VLOOKUP(CONCATENATE(J203,\" SI\"),W$7:W$1196,1,FALSE)=CONCATENATE(J203,\" SI\"),\"\",1))","v":""},null,{"$f":"IF(OR(J203=\"\",G203=\"\"),\"\",IF(VLOOKUP(H203,Tabelle_Fisse!$B$25:$C$29,2,FALSE)=\"ok\",\"\",1))","v":""},{"$nulls":4},"Z800C6608B SI"]
[null,"Z670C660AB","Cooperativa Sociale Nuovo Impegno","03271040176",null,"SI",null,null,null,"Z670C660AB",{"$f":"IF(J204=\"\",\"\",IF(VLOOKUP(J204,Lotti!B$6:B$596,1,FALSE)=J204,\"\",1))","v":""},null,"",null,{"$f":"IF(J204=\"\",\"\",IF(VLOOKUP(F204,Tabelle_Fisse!$B$33:$C$34,2,FALSE)=\"ok\",\"\",1))","v":""},{"$f":"IF(J204=\"\",\"\",IF(VLOOKUP(CONCATENATE(J204,\" SI\"),W$7:W$1196,1,FALSE)=CONCATENATE(J204,\" SI\"),\"\",1))","v":""},null,{"$f":"IF(OR(J204=\"\",G204=\"\"),\"\",IF(VLOOKUP(H204,Tabelle_Fisse!$B$25:$C$29,2,FALSE)=\"ok\",\"\",1))","v":""},{"$nulls":4},"Z670C660AB SI"]
[null,"Z090C660D3","Fattoria Didattica & Agriturismo Dosso Badino di Carola & Alessandra Morandi","02648710982",null,"SI",null,null,null,"Z090C660D3",{"$f":"IF(J205=\"\",\"\",IF(VLOOKUP(J205,Lotti!B$6:B$596,1,FALSE)=J205,\"\",1))","v":""},null,"",null,{"$f":"IF(J205=\"\",\"\",IF(VLOOKUP(F205,Tabelle_Fisse!$B$33:$C$34,2,FALSE)=\"ok\",\"\",1))","v":""},{"$f":"IF(J205=\"\",\"\",IF(VLOOKUP(CONCATENATE(J205,\" SI\"),W$7:W$1196,1,FALSE)=CONCATENATE(J205,\" SI\"),\"\",1))","v":""},null,{"$f":"IF(OR(J205=\"\",G205=\"\"),\"\",IF(VLOOKUP(H205,Tabelle_Fisse!$B$25:$C$29,2,FALSE)=\"ok\",\"\",1))","v":""},{"$nulls":4},"Z090C660D3 SI"]
[null,"Z1A0C714E9","Cooperativa Arca – Soc. Coop","01397680178",null,"SI",null,null,null,"Z1A0C714E9",{"$f":"IF(J206=\"\",\"\",IF(VLOOKUP(J206,Lotti!B$6:B$596,1,FALSE)=J206,\"\",1))","v":""},null,"",null,{"$f":"IF(J206=\"\",\"\",IF(VLOOKUP(F206,Tabelle_Fisse!$B$33:$C$34,2,FALSE)=\"ok\",\"\",1))","v":""},{"$f":"IF(J206=\"\",\"\",IF(VLOOKUP(CONCATENATE(J206,\" SI\"),W$7:W$1196,1,FALSE)=CONCATENATE(J206,\" SI\"),\"\",1))","v":""},null,{"$f":"IF(OR(J206=\"\",G206=\"\"),\"\",IF(VLOOKUP(H206,Tabelle_Fisse!$B$25:$C$29,2,FALSE)=\"ok\",\"\",1))","v":""},{"$nulls":4},"Z1A0C714E9 SI"]
[null,"Z140CD12B5","Cooperativa Sociale Dolce Società Cooperativa a r.l.","03772490375",null,"SI",null,null,null,"Z140CD12B5",{"$f":"IF(J207=\"\",\"\",IF(VLOOKUP(J207,Lotti!B$6:B$596,1,FALSE)=J207,\"\",1))","v":""},null,"",null,{"$f":"IF(J207=\"\",\"\",IF(VLOOKUP(F207,Tabelle_Fisse!$B$33:$C$34,2,FALSE)=\"ok\",\"\",1))","v":""},{"$f":"IF(J207=\"\",\"\",IF(VLOOKUP(CONCATENATE(J207,\" SI\"),W$7:W$1196,1,FALSE)=CONCATENATE(J207,\" SI\"),\"\",1))","v":""},null,{"$f":"IF(OR(J207=\"\",G207=\"\"),\"\",IF(VLOOKUP(H207,Tabelle_Fisse!$B$25:$C$29,2,FALSE)=\"ok\",\"\",1))","v":""},{"$nulls":4},"Z140CD12B5 SI"]
[null,"ZB50CD278D","Rami di Pietro Assolari & C.","00319030169",null,"SI",null,null,null,"ZB50CD278D",{"$f":"IF(J208=\"\",\"\",IF(VLOOKUP(J208,Lotti!B$6:B$596,1,FALSE)=J208,\"\",1))","v":""},null,"",null,{"$f":"IF(J208=\"\",\"\",IF(VLOOKUP(F208,Tabelle_Fisse!$B$33:$C$34,2,FALSE)=\"ok\",\"\",1))","v":""},{"$f":"IF(J208=\"\",\"\",IF(VLOOKUP(CONCATENATE(J208,\" SI\"),W$7:W$1196,1,FALSE)=CONCATENATE(J208,\" SI\"),\"\",1))","v":""},null,{"$f":"IF(OR(J208=\"\",G208=\"\"),\"\",IF(VLOOKUP(H208,Tabelle_Fisse!$B$25:$C$29,2,FALSE)=\"ok\",\"\",1))","v":""},{"$nulls":4},"ZB50CD278D SI"]
[null,"Z500CE18FA","Mediatech s.r.l.","03164980173",null,"SI",null,null,null,"Z500CE18FA",{"$f":"IF(J209=\"\",\"\",IF(VLOOKUP(J209,Lotti!B$6:B$596,1,FALSE)=J209,\"\",1))","v":""},null,"",null,{"$f":"IF(J209=\"\",\"\",IF(VLOOKUP(F209,Tabelle_Fisse!$B$33:$C$34,2,FALSE)=\"ok\",\"\",1))","v":""},{"$f":"IF(J209=\"\",\"\",IF(VLOOKUP(CONCATENATE(J209,\" SI\"),W$7:W$1196,1,FALSE)=CONCATENATE(J209,\" SI\"),\"\",1))","v":""},null,{"$f":"IF(OR(J209=\"\",G209=\"\"),\"\",IF(VLOOKUP(H209,Tabelle_Fisse!$B$25:$C$29,2,FALSE)=\"ok\",\"\",1))","v":""},{"$nulls":4},"Z500CE18FA SI"]
[null,"Z220D0BED4","EUROLAB di Schiavi G. Coppedè M.& C SNC","01679010460",null,"SI",null,null,null,"Z220D0BED4",{"$f":"IF(J210=\"\",\"\",IF(VLOOKUP(J210,Lotti!B$6:B$596,1,FALSE)=J210,\"\",1))","v":""},null,"",null,{"$f":"IF(J210=\"\",\"\",IF(VLOOKUP(F210,Tabelle_Fisse!$B$33:$C$34,2,FALSE)=\"ok\",\"\",1))","v":""},{"$f":"IF(J210=\"\",\"\",IF(VLOOKUP(CONCATENATE(J210,\" SI\"),W$7:W$1196,1,FALSE)=CONCATENATE(J210,\" SI\"),\"\",1))","v":""},null,{"$f":"IF(OR(J210=\"\",G210=\"\"),\"\",IF(VLOOKUP(H210,Tabelle_Fisse!$B$25:$C$29,2,FALSE)=\"ok\",\"\",1))","v":""},{"$nulls":4},"Z220D0BED4 SI"]
[null,"ZAC0D0E5FC","Società Nord BroKer srl","02538210986",null,"SI",null,null,null,"ZAC0D0E5FC",{"$f":"IF(J211=\"\",\"\",IF(VLOOKUP(J211,Lotti!B$6:B$596,1,FALSE)=J211,\"\",1))","v":""},null,"",null,{"$f":"IF(J211=\"\",\"\",IF(VLOOKUP(F211,Tabelle_Fisse!$B$33:$C$34,2,FALSE)=\"ok\",\"\",1))","v":""},{"$f":"IF(J211=\"\",\"\",IF(VLOOKUP(CONCATENATE(J211,\" SI\"),W$7:W$1196,1,FALSE)=CONCATENATE(J211,\" SI\"),\"\",1))","v":""},null,{"$f":"IF(OR(J211=\"\",G211=\"\"),\"\",IF(VLOOKUP(H211,Tabelle_Fisse!$B$25:$C$29,2,FALSE)=\"ok\",\"\",1))","v":""},{"$nulls":4},"ZAC0D0E5FC SI"]
[null,"Z7B0D18557","Cooperativa Sociale Dolce Società Cooperativa a r.l.","03772490375",null,"SI",null,null,null,"Z7B0D18557",{"$f":"IF(J212=\"\",\"\",IF(VLOOKUP(J212,Lotti!B$6:B$596,1,FALSE)=J212,\"\",1))","v":""},null,"",null,{"$f":"IF(J212=\"\",\"\",IF(VLOOKUP(F212,Tabelle_Fisse!$B$33:$C$34,2,FALSE)=\"ok\",\"\",1))","v":""},{"$f":"IF(J212=\"\",\"\",IF(VLOOKUP(CONCATENATE(J212,\" SI\"),W$7:W$1196,1,FALSE)=CONCATENATE(J212,\" SI\"),\"\",1))","v":""},null,{"$f":"IF(OR(J212=\"\",G212=\"\"),\"\",IF(VLOOKUP(H212,Tabelle_Fisse!$B$25:$C$29,2,FALSE)=\"ok\",\"\",1))","v":""},{"$nulls":4},"Z7B0D18557 SI"]
[null,"ZCF0D1856E","Cooperativa Sociale Dolce Società Cooperativa a r.l.,","03772490375",null,"SI",null,null,null,"ZCF0D1856E",{"$f":"IF(J213=\"\",\"\",IF(VLOOKUP(J213,Lotti!B$6:B$596,1,FALSE)=J213,\"\",1))","v":""},null,"",null,{"$f":"IF(J213=\"\",\"\",IF(VLOOKUP(F213,Tabelle_Fisse!$B$33:$C$34,2,FALSE)=\"ok\",\"\",1))","v":""},{"$f":"IF(J213=\"\",\"\",IF(VLOOKUP(CONCATENATE(J213,\" SI\"),W$7:W$1196,1,FALSE)=CONCATENATE(J213,\" SI\"),\"\",1))","v":""},null,{"$f":"IF(OR(J213=\"\",G213=\"\"),\"\",IF(VLOOKUP(H213,Tabelle_Fisse!$B$25:$C$29,2,FALSE)=\"ok\",\"\",1))","v":""},{"$nulls":4},"ZCF0D1856E SI"]
[null,"Z280D22A3D","Società Nord BroKer srl","02538210986",null,"SI",null,null,null,"Z280D22A3D",{"$f":"IF(J214=\"\",\"\",IF(VLOOKUP(J214,Lotti!B$6:B$596,1,FALSE)=J214,\"\",1))","v":""},null,"",null,{"$f":"IF(J214=\"\",\"\",IF(VLOOKUP(F214,Tabelle_Fisse!$B$33:$C$34,2,FALSE)=\"ok\",\"\",1))","v":""},{"$f":"IF(J214=\"\",\"\",IF(VLOOKUP(CONCATENATE(J214,\" SI\"),W$7:W$1196,1,FALSE)=CONCATENATE(J214,\" SI\"),\"\",1))","v":""},null,{"$f":"IF(OR(J214=\"\",G214=\"\"),\"\",IF(VLOOKUP(H214,Tabelle_Fisse!$B$25:$C$29,2,FALSE)=\"ok\",\"\",1))","v":""},{"$nulls":4},"Z280D22A3D SI"]
[null,"ZEA0D22A90","Società Nord BroKer srl","02538210986",null,"SI",null,null,null,"ZEA0D22A90",{"$f":"IF(J215=\"\",\"\",IF(VLOOKUP(J215,Lotti!B$6:B$596,1,FALSE)=J215,\"\",1))","v":""},null,"",null,{"$f":"IF(J215=\"\",\"\",IF(VLOOKUP(F215,Tabelle_Fisse!$B$33:$C$34,2,FALSE)=\"ok\",\"\",1))","v":""},{"$f":"IF(J215=\"\",\"\",IF(VLOOKUP(CONCATENATE(J215,\" SI\"),W$7:W$1196,1,FALSE)=CONCATENATE(J215,\" SI\"),\"\",1))","v":""},null,{"$f":"IF(OR(J215=\"\",G215=\"\"),\"\",IF(VLOOKUP(H215,Tabelle_Fisse!$B$25:$C$29,2,FALSE)=\"ok\",\"\",1))","v":""},{"$nulls":4},"ZEA0D22A90 SI"]
[null,"",{"$nulls":7},"",{"$f":"IF(J216=\"\",\"\",IF(VLOOKUP(J216,Lotti!B$6:B$596,1,FALSE)=J216,\"\",1))","v":""},null,"",null,{"$f":"IF(J216=\"\",\"\",IF(VLOOKUP(F216,Tabelle_Fisse!$B$33:$C$34,2,FALSE)=\"ok\",\"\",1))","v":""},{"$f":"IF(J216=\"\",\"\",IF(VLOOKUP(CONCATENATE(J216,\" SI\"),W$7:W$1196,1,FALSE)=CONCATENATE(J216,\" SI\"),\"\",1))","v":""},null,{"$f":"IF(OR(J216=\"\",G216=\"\"),\"\",IF(VLOOKUP(H216,Tabelle_Fisse!$B$25:$C$29,2,FALSE)=\"ok\",\"\",1))","v":""},{"$nulls":4},""]
[null,"",{"$nulls":7},"",{"$f":"IF(J217=\"\",\"\",IF(VLOOKUP(J217,Lotti!B$6:B$596,1,FALSE)=J217,\"\",1))","v":""},null,"",null,{"$f":"IF(J217=\"\",\"\",IF(VLOOKUP(F217,Tabelle_Fisse!$B$33:$C$34,2,FALSE)=\"ok\",\"\",1))","v":""},{"$f":"IF(J217=\"\",\"\",IF(VLOOKUP(CONCATENATE(J217,\" SI\"),W$7:W$1196,1,FALSE)=CONCATENATE(J217,\" SI\"),\"\",1))","v":""},null,{"$f":"IF(OR(J217=\"\",G217=\"\"),\"\",IF(VLOOKUP(H217,Tabelle_Fisse!$B$25:$C$29,2,FALSE)=\"ok\",\"\",1))","v":""},{"$nulls":4},""]
[null,"",{"$nulls":7},"",{"$f":"IF(J218=\"\",\"\",IF(VLOOKUP(J218,Lotti!B$6:B$596,1,FALSE)=J218,\"\",1))","v":""},null,"",null,{"$f":"IF(J218=\"\",\"\",IF(VLOOKUP(F218,Tabelle_Fisse!$B$33:$C$34,2,FALSE)=\"ok\",\"\",1))","v":""},{"$f":"IF(J218=\"\",\"\",IF(VLOOKUP(CONCATENATE(J218,\" SI\"),W$7:W$1196,1,FALSE)=CONCATENATE(J218,\" SI\"),\"\",1))","v":""},null,{"$f":"IF(OR(J218=\"\",G218=\"\"),\"\",IF(VLOOKUP(H218,Tabelle_Fisse!$B$25:$C$29,2,FALSE)=\"ok\",\"\",1))","v":""},{"$nulls":4},""]
[null,"",{"$nulls":7},"",{"$f":"IF(J219=\"\",\"\",IF(VLOOKUP(J219,Lotti!B$6:B$596,1,FALSE)=J219,\"\",1))","v":""},null,"",null,{"$f":"IF(J219=\"\",\"\",IF(VLOOKUP(F219,Tabelle_Fisse!$B$33:$C$34,2,FALSE)=\"ok\",\"\",1))","v":""},{"$f":"IF(J219=\"\",\"\",IF(VLOOKUP(CONCATENATE(J219,\" SI\"),W$7:W$1196,1,FALSE)=CONCATENATE(J219,\" SI\"),\"\",1))","v":""},null,{"$f":"IF(OR(J219=\"\",G219=\"\"),\"\",IF(VLOOKUP(H219,Tabelle_Fisse!$B$25:$C$29,2,FALSE)=\"ok\",\"\",1))","v":""},{"$nulls":4},""]
[null,"",{"$nulls":7},"",{"$f":"IF(J220=\"\",\"\",IF(VLOOKUP(J220,Lotti!B$6:B$596,1,FALSE)=J220,\"\",1))","v":""},null,"",null,{"$f":"IF(J220=\"\",\"\",IF(VLOOKUP(F220,Tabelle_Fisse!$B$33:$C$34,2,FALSE)=\"ok\",\"\",1))","v":""},{"$f":"IF(J220=\"\",\"\",IF(VLOOKUP(CONCATENATE(J220,\" SI\"),W$7:W$1196,1,FALSE)=CONCATENATE(J220,\" SI\"),\"\",1))","v":""},null,{"$f":"IF(OR(J220=\"\",G220=\"\"),\"\",IF(VLOOKUP(H220,Tabelle_Fisse!$B$25:$C$29,2,FALSE)=\"ok\",\"\",1))","v":""},{"$nulls":4},""]
[null,"",{"$nulls":7},"",{"$f":"IF(J221=\"\",\"\",IF(VLOOKUP(J221,Lotti!B$6:B$596,1,FALSE)=J221,\"\",1))","v":""},null,"",null,{"$f":"IF(J221=\"\",\"\",IF(VLOOKUP(F221,Tabelle_Fisse!$B$33:$C$34,2,FALSE)=\"ok\",\"\",1))","v":""},{"$f":"IF(J221=\"\",\"\",IF(VLOOKUP(CONCATENATE(J221,\" SI\"),W$7:W$1196,1,FALSE)=CONCATENATE(J221,\" SI\"),\"\",1))","v":""},null,{"$f":"IF(OR(J221=\"\",G221=\"\"),\"\",IF(VLOOKUP(H221,Tabelle_Fisse!$B$25:$C$29,2,FALSE)=\"ok\",\"\",1))","v":""},{"$nulls":4},""]
[null,"",{"$nulls":7},"",{"$f":"IF(J222=\"\",\"\",IF(VLOOKUP(J222,Lotti!B$6:B$596,1,FALSE)=J222,\"\",1))","v":""},null,"",null,{"$f":"IF(J222=\"\",\"\",IF(VLOOKUP(F222,Tabelle_Fisse!$B$33:$C$34,2,FALSE)=\"ok\",\"\",1))","v":""},{"$f":"IF(J222=\"\",\"\",IF(VLOOKUP(CONCATENATE(J222,\" SI\"),W$7:W$1196,1,FALSE)=CONCATENATE(J222,\" SI\"),\"\",1))","v":""},null,{"$f":"IF(OR(J222=\"\",G222=\"\"),\"\",IF(VLOOKUP(H222,Tabelle_Fisse!$B$25:$C$29,2,FALSE)=\"ok\",\"\",1))","v":""},{"$nulls":4},""]
[null,"",{"$nulls":7},"",{"$f":"IF(J223=\"\",\"\",IF(VLOOKUP(J223,Lotti!B$6:B$596,1,FALSE)=J223,\"\",1))","v":""},null,"",null,{"$f":"IF(J223=\"\",\"\",IF(VLOOKUP(F223,Tabelle_Fisse!$B$33:$C$34,2,FALSE)=\"ok\",\"\",1))","v":""},{"$f":"IF(J223=\"\",\"\",IF(VLOOKUP(CONCATENATE(J223,\" SI\"),W$7:W$1196,1,FALSE)=CONCATENATE(J223,\" SI\"),\"\",1))","v":""},null,{"$f":"IF(OR(J223=\"\",G223=\"\"),\"\",IF(VLOOKUP(H223,Tabelle_Fisse!$B$25:$C$29,2,FALSE)=\"ok\",\"\",1))","v":""},{"$nulls":4},""]
[{"$nulls":9},"",{"$f":"IF(J224=\"\",\"\",IF(VLOOKUP(J224,Lotti!B$6:B$596,1,FALSE)=J224,\"\",1))","v":""},null,"",null,{"$f":"IF(J224=\"\",\"\",IF(VLOOKUP(F224,Tabelle_Fisse!$B$33:$C$34,2,FALSE)=\"ok\",\"\",1))","v":""},{"$f":"IF(J224=\"\",\"\",IF(VLOOKUP(CONCATENATE(J224,\" SI\"),W$7:W$1196,1,FALSE)=CONCATENATE(J224,\" SI\"),\"\",1))","v":""},null,{"$f":"IF(OR(J224=\"\",G224=\"\"),\"\",IF(VLOOKUP(H224,Tabelle_Fisse!$B$25:$C$29,2,FALSE)=\"ok\",\"\",1))","v":""},{"$nulls":4},""]
[{"$nulls":9},"",{"$f":"IF(J225=\"\",\"\",IF(VLOOKUP(J225,Lotti!B$6:B$596,1,FALSE)=J225,\"\",1))","v":""},null,"",null,{"$f":"IF(J225=\"\",\"\",IF(VLOOKUP(F225,Tabelle_Fisse!$B$33:$C$34,2,FALSE)=\"ok\",\"\",1))","v":""},{"$f":"IF(J225=\"\",\"\",IF(VLOOKUP(CONCATENATE(J225,\" SI\"),W$7:W$1196,1,FALSE)=CONCATENATE(J225,\" SI\"),\"\",1))","v":""},null,{"$f":"IF(OR(J225=\"\",G225=\"\"),\"\",IF(VLOOKUP(H225,Tabelle_Fisse!$B$25:$C$29,2,FALSE)=\"ok\",\"\",1))","v":""},{"$nulls":4},""]
[{"$nulls":9},"",{"$f":"IF(J226=\"\",\"\",IF(VLOOKUP(J226,Lotti!B$6:B$596,1,FALSE)=J226,\"\",1))","v":""},null,"",null,{"$f":"IF(J226=\"\",\"\",IF(VLOOKUP(F226,Tabelle_Fisse!$B$33:$C$34,2,FALSE)=\"ok\",\"\",1))","v":""},{"$f":"IF(J226=\"\",\"\",IF(VLOOKUP(CONCATENATE(J226,\" SI\"),W$7:W$1196,1,FALSE)=CONCATENATE(J226,\" SI\"),\"\",1))","v":""},null,{"$f":"IF(OR(J226=\"\",G226=\"\"),\"\",IF(VLOOKUP(H226,Tabelle_Fisse!$B$25:$C$29,2,FALSE)=\"ok\",\"\",1))","v":""},{"$nulls":4},""]
[{"$nulls":9},"",{"$f":"IF(J227=\"\",\"\",IF(VLOOKUP(J227,Lotti!B$6:B$596,1,FALSE)=J227,\"\",1))","v":""},null,"",null,{"$f":"IF(J227=\"\",\"\",IF(VLOOKUP(F227,Tabelle_Fisse!$B$33:$C$34,2,FALSE)=\"ok\",\"\",1))","v":""},{"$f":"IF(J227=\"\",\"\",IF(VLOOKUP(CONCATENATE(J227,\" SI\"),W$7:W$1196,1,FALSE)=CONCATENATE(J227,\" SI\"),\"\",1))","v":""},null,{"$f":"IF(OR(J227=\"\",G227=\"\"),\"\",IF(VLOOKUP(H227,Tabelle_Fisse!$B$25:$C$29,2,FALSE)=\"ok\",\"\",1))","v":""},{"$nulls":4},""]
[{"$nulls":9},"",{"$f":"IF(J228=\"\",\"\",IF(VLOOKUP(J228,Lotti!B$6:B$596,1,FALSE)=J228,\"\",1))","v":""},null,"",null,{"$f":"IF(J228=\"\",\"\",IF(VLOOKUP(F228,Tabelle_Fisse!$B$33:$C$34,2,FALSE)=\"ok\",\"\",1))","v":""},{"$f":"IF(J228=\"\",\"\",IF(VLOOKUP(CONCATENATE(J228,\" SI\"),W$7:W$1196,1,FALSE)=CONCATENATE(J228,\" SI\"),\"\",1))","v":""},null,{"$f":"IF(OR(J228=\"\",G228=\"\"),\"\",IF(VLOOKUP(H228,Tabelle_Fisse!$B$25:$C$29,2,FALSE)=\"ok\",\"\",1))","v":""},{"$nulls":4},""]
[{"$nulls":9},"",{"$f":"IF(J229=\"\",\"\",IF(VLOOKUP(J229,Lotti!B$6:B$596,1,FALSE)=J229,\"\",1))","v":""},null,"",null,{"$f":"IF(J229=\"\",\"\",IF(VLOOKUP(F229,Tabelle_Fisse!$B$33:$C$34,2,FALSE)=\"ok\",\"\",1))","v":""},{"$f":"IF(J229=\"\",\"\",IF(VLOOKUP(CONCATENATE(J229,\" SI\"),W$7:W$1196,1,FALSE)=CONCATENATE(J229,\" SI\"),\"\",1))","v":""},null,{"$f":"IF(OR(J229=\"\",G229=\"\"),\"\",IF(VLOOKUP(H229,Tabelle_Fisse!$B$25:$C$29,2,FALSE)=\"ok\",\"\",1))","v":""},{"$nulls":4},""]
[{"$nulls":9},"",{"$f":"IF(J230=\"\",\"\",IF(VLOOKUP(J230,Lotti!B$6:B$596,1,FALSE)=J230,\"\",1))","v":""},null,"",null,{"$f":"IF(J230=\"\",\"\",IF(VLOOKUP(F230,Tabelle_Fisse!$B$33:$C$34,2,FALSE)=\"ok\",\"\",1))","v":""},{"$f":"IF(J230=\"\",\"\",IF(VLOOKUP(CONCATENATE(J230,\" SI\"),W$7:W$1196,1,FALSE)=CONCATENATE(J230,\" SI\"),\"\",1))","v":""},null,{"$f":"IF(OR(J230=\"\",G230=\"\"),\"\",IF(VLOOKUP(H230,Tabelle_Fisse!$B$25:$C$29,2,FALSE)=\"ok\",\"\",1))","v":""},{"$nulls":4},""]
[{"$nulls":9},"",{"$f":"IF(J231=\"\",\"\",IF(VLOOKUP(J231,Lotti!B$6:B$596,1,FALSE)=J231,\"\",1))","v":""},null,"",null,{"$f":"IF(J231=\"\",\"\",IF(VLOOKUP(F231,Tabelle_Fisse!$B$33:$C$34,2,FALSE)=\"ok\",\"\",1))","v":""},{"$f":"IF(J231=\"\",\"\",IF(VLOOKUP(CONCATENATE(J231,\" SI\"),W$7:W$1196,1,FALSE)=CONCATENATE(J231,\" SI\"),\"\",1))","v":""},null,{"$f":"IF(OR(J231=\"\",G231=\"\"),\"\",IF(VLOOKUP(H231,Tabelle_Fisse!$B$25:$C$29,2,FALSE)=\"ok\",\"\",1))","v":""},{"$nulls":4},""]
[{"$nulls":9},"",{"$f":"IF(J232=\"\",\"\",IF(VLOOKUP(J232,Lotti!B$6:B$596,1,FALSE)=J232,\"\",1))","v":""},null,"",null,{"$f":"IF(J232=\"\",\"\",IF(VLOOKUP(F232,Tabelle_Fisse!$B$33:$C$34,2,FALSE)=\"ok\",\"\",1))","v":""},{"$f":"IF(J232=\"\",\"\",IF(VLOOKUP(CONCATENATE(J232,\" SI\"),W$7:W$1196,1,FALSE)=CONCATENATE(J232,\" SI\"),\"\",1))","v":""},null,{"$f":"IF(OR(J232=\"\",G232=\"\"),\"\",IF(VLOOKUP(H232,Tabelle_Fisse!$B$25:$C$29,2,FALSE)=\"ok\",\"\",1))","v":""},{"$nulls":4},""]
[{"$nulls":9},"",{"$f":"IF(J233=\"\",\"\",IF(VLOOKUP(J233,Lotti!B$6:B$596,1,FALSE)=J233,\"\",1))","v":""},null,"",null,{"$f":"IF(J233=\"\",\"\",IF(VLOOKUP(F233,Tabelle_Fisse!$B$33:$C$34,2,FALSE)=\"ok\",\"\",1))","v":""},{"$f":"IF(J233=\"\",\"\",IF(VLOOKUP(CONCATENATE(J233,\" SI\"),W$7:W$1196,1,FALSE)=CONCATENATE(J233,\" SI\"),\"\",1))","v":""},null,{"$f":"IF(OR(J233=\"\",G233=\"\"),\"\",IF(VLOOKUP(H233,Tabelle_Fisse!$B$25:$C$29,2,FALSE)=\"ok\",\"\",1))","v":""},{"$nulls":4},""]
[{"$nulls":9},"",{"$f":"IF(J234=\"\",\"\",IF(VLOOKUP(J234,Lotti!B$6:B$596,1,FALSE)=J234,\"\",1))","v":""},null,"",null,{"$f":"IF(J234=\"\",\"\",IF(VLOOKUP(F234,Tabelle_Fisse!$B$33:$C$34,2,FALSE)=\"ok\",\"\",1))","v":""},{"$f":"IF(J234=\"\",\"\",IF(VLOOKUP(CONCATENATE(J234,\" SI\"),W$7:W$1196,1,FALSE)=CONCATENATE(J234,\" SI\"),\"\",1))","v":""},null,{"$f":"IF(OR(J234=\"\",G234=\"\"),\"\",IF(VLOOKUP(H234,Tabelle_Fisse!$B$25:$C$29,2,FALSE)=\"ok\",\"\",1))","v":""},{"$nulls":4},""]
[{"$nulls":9},"",{"$f":"IF(J235=\"\",\"\",IF(VLOOKUP(J235,Lotti!B$6:B$596,1,FALSE)=J235,\"\",1))","v":""},null,"",null,{"$f":"IF(J235=\"\",\"\",IF(VLOOKUP(F235,Tabelle_Fisse!$B$33:$C$34,2,FALSE)=\"ok\",\"\",1))","v":""},{"$f":"IF(J235=\"\",\"\",IF(VLOOKUP(CONCATENATE(J235,\" SI\"),W$7:W$1196,1,FALSE)=CONCATENATE(J235,\" SI\"),\"\",1))","v":""},null,{"$f":"IF(OR(J235=\"\",G235=\"\"),\"\",IF(VLOOKUP(H235,Tabelle_Fisse!$B$25:$C$29,2,FALSE)=\"ok\",\"\",1))","v":""},{"$nulls":4},""]
[{"$nulls":9},"",{"$f":"IF(J236=\"\",\"\",IF(VLOOKUP(J236,Lotti!B$6:B$596,1,FALSE)=J236,\"\",1))","v":""},null,"",null,{"$f":"IF(J236=\"\",\"\",IF(VLOOKUP(F236,Tabelle_Fisse!$B$33:$C$34,2,FALSE)=\"ok\",\"\",1))","v":""},{"$f":"IF(J236=\"\",\"\",IF(VLOOKUP(CONCATENATE(J236,\" SI\"),W$7:W$1196,1,FALSE)=CONCATENATE(J236,\" SI\"),\"\",1))","v":""},null,{"$f":"IF(OR(J236=\"\",G236=\"\"),\"\",IF(VLOOKUP(H236,Tabelle_Fisse!$B$25:$C$29,2,FALSE)=\"ok\",\"\",1))","v":""},{"$nulls":4},""]
[{"$nulls":9},"",{"$f":"IF(J237=\"\",\"\",IF(VLOOKUP(J237,Lotti!B$6:B$596,1,FALSE)=J237,\"\",1))","v":""},null,"",null,{"$f":"IF(J237=\"\",\"\",IF(VLOOKUP(F237,Tabelle_Fisse!$B$33:$C$34,2,FALSE)=\"ok\",\"\",1))","v":""},{"$f":"IF(J237=\"\",\"\",IF(VLOOKUP(CONCATENATE(J237,\" SI\"),W$7:W$1196,1,FALSE)=CONCATENATE(J237,\" SI\"),\"\",1))","v":""},null,{"$f":"IF(OR(J237=\"\",G237=\"\"),\"\",IF(VLOOKUP(H237,Tabelle_Fisse!$B$25:$C$29,2,FALSE)=\"ok\",\"\",1))","v":""},{"$nulls":4},""]
[{"$nulls":9},"",{"$f":"IF(J238=\"\",\"\",IF(VLOOKUP(J238,Lotti!B$6:B$596,1,FALSE)=J238,\"\",1))","v":""},null,"",null,{"$f":"IF(J238=\"\",\"\",IF(VLOOKUP(F238,Tabelle_Fisse!$B$33:$C$34,2,FALSE)=\"ok\",\"\",1))","v":""},{"$f":"IF(J238=\"\",\"\",IF(VLOOKUP(CONCATENATE(J238,\" SI\"),W$7:W$1196,1,FALSE)=CONCATENATE(J238,\" SI\"),\"\",1))","v":""},null,{"$f":"IF(OR(J238=\"\",G238=\"\"),\"\",IF(VLOOKUP(H238,Tabelle_Fisse!$B$25:$C$29,2,FALSE)=\"ok\",\"\",1))","v":""},{"$nulls":4},""]
[{"$nulls":9},"",{"$f":"IF(J239=\"\",\"\",IF(VLOOKUP(J239,Lotti!B$6:B$596,1,FALSE)=J239,\"\",1))","v":""},null,"",null,{"$f":"IF(J239=\"\",\"\",IF(VLOOKUP(F239,Tabelle_Fisse!$B$33:$C$34,2,FALSE)=\"ok\",\"\",1))","v":""},{"$f":"IF(J239=\"\",\"\",IF(VLOOKUP(CONCATENATE(J239,\" SI\"),W$7:W$1196,1,FALSE)=CONCATENATE(J239,\" SI\"),\"\",1))","v":""},null,{"$f":"IF(OR(J239=\"\",G239=\"\"),\"\",IF(VLOOKUP(H239,Tabelle_Fisse!$B$25:$C$29,2,FALSE)=\"ok\",\"\",1))","v":""},{"$nulls":4},""]
[{"$nulls":9},"",{"$f":"IF(J240=\"\",\"\",IF(VLOOKUP(J240,Lotti!B$6:B$596,1,FALSE)=J240,\"\",1))","v":""},null,"",null,{"$f":"IF(J240=\"\",\"\",IF(VLOOKUP(F240,Tabelle_Fisse!$B$33:$C$34,2,FALSE)=\"ok\",\"\",1))","v":""},{"$f":"IF(J240=\"\",\"\",IF(VLOOKUP(CONCATENATE(J240,\" SI\"),W$7:W$1196,1,FALSE)=CONCATENATE(J240,\" SI\"),\"\",1))","v":""},null,{"$f":"IF(OR(J240=\"\",G240=\"\"),\"\",IF(VLOOKUP(H240,Tabelle_Fisse!$B$25:$C$29,2,FALSE)=\"ok\",\"\",1))","v":""},{"$nulls":4},""]
[{"$nulls":9},"",{"$f":"IF(J241=\"\",\"\",IF(VLOOKUP(J241,Lotti!B$6:B$596,1,FALSE)=J241,\"\",1))","v":""},null,"",null,{"$f":"IF(J241=\"\",\"\",IF(VLOOKUP(F241,Tabelle_Fisse!$B$33:$C$34,2,FALSE)=\"ok\",\"\",1))","v":""},{"$f":"IF(J241=\"\",\"\",IF(VLOOKUP(CONCATENATE(J241,\" SI\"),W$7:W$1196,1,FALSE)=CONCATENATE(J241,\" SI\"),\"\",1))","v":""},null,{"$f":"IF(OR(J241=\"\",G241=\"\"),\"\",IF(VLOOKUP(H241,Tabelle_Fisse!$B$25:$C$29,2,FALSE)=\"ok\",\"\",1))","v":""},{"$nulls":4},""]
[{"$nulls":9},"",{"$f":"IF(J242=\"\",\"\",IF(VLOOKUP(J242,Lotti!B$6:B$596,1,FALSE)=J242,\"\",1))","v":""},null,"",null,{"$f":"IF(J242=\"\",\"\",IF(VLOOKUP(F242,Tabelle_Fisse!$B$33:$C$34,2,FALSE)=\"ok\",\"\",1))","v":""},{"$f":"IF(J242=\"\",\"\",IF(VLOOKUP(CONCATENATE(J242,\" SI\"),W$7:W$1196,1,FALSE)=CONCATENATE(J242,\" SI\"),\"\",1))","v":""},null,{"$f":"IF(OR(J242=\"\",G242=\"\"),\"\",IF(VLOOKUP(H242,Tabelle_Fisse!$B$25:$C$29,2,FALSE)=\"ok\",\"\",1))","v":""},{"$nulls":4},""]
[{"$nulls":9},"",{"$f":"IF(J243=\"\",\"\",IF(VLOOKUP(J243,Lotti!B$6:B$596,1,FALSE)=J243,\"\",1))","v":""},null,"",null,{"$f":"IF(J243=\"\",\"\",IF(VLOOKUP(F243,Tabelle_Fisse!$B$33:$C$34,2,FALSE)=\"ok\",\"\",1))","v":""},{"$f":"IF(J243=\"\",\"\",IF(VLOOKUP(CONCATENATE(J243,\" SI\"),W$7:W$1196,1,FALSE)=CONCATENATE(J243,\" SI\"),\"\",1))","v":""},null,{"$f":"IF(OR(J243=\"\",G243=\"\"),\"\",IF(VLOOKUP(H243,Tabelle_Fisse!$B$25:$C$29,2,FALSE)=\"ok\",\"\",1))","v":""},{"$nulls":4},""]
[{"$nulls":9},"",{"$f":"IF(J244=\"\",\"\",IF(VLOOKUP(J244,Lotti!B$6:B$596,1,FALSE)=J244,\"\",1))","v":""},null,"",null,{"$f":"IF(J244=\"\",\"\",IF(VLOOKUP(F244,Tabelle_Fisse!$B$33:$C$34,2,FALSE)=\"ok\",\"\",1))","v":""},{"$f":"IF(J244=\"\",\"\",IF(VLOOKUP(CONCATENATE(J244,\" SI\"),W$7:W$1196,1,FALSE)=CONCATENATE(J244,\" SI\"),\"\",1))","v":""},null,{"$f":"IF(OR(J244=\"\",G244=\"\"),\"\",IF(VLOOKUP(H244,Tabelle_Fisse!$B$25:$C$29,2,FALSE)=\"ok\",\"\",1))","v":""},{"$nulls":4},""]
[{"$nulls":9},"",{"$f":"IF(J245=\"\",\"\",IF(VLOOKUP(J245,Lotti!B$6:B$596,1,FALSE)=J245,\"\",1))","v":""},null,"",null,{"$f":"IF(J245=\"\",\"\",IF(VLOOKUP(F245,Tabelle_Fisse!$B$33:$C$34,2,FALSE)=\"ok\",\"\",1))","v":""},{"$f":"IF(J245=\"\",\"\",IF(VLOOKUP(CONCATENATE(J245,\" SI\"),W$7:W$1196,1,FALSE)=CONCATENATE(J245,\" SI\"),\"\",1))","v":""},null,{"$f":"IF(OR(J245=\"\",G245=\"\"),\"\",IF(VLOOKUP(H245,Tabelle_Fisse!$B$25:$C$29,2,FALSE)=\"ok\",\"\",1))","v":""},{"$nulls":4},""]
[{"$nulls":9},"",{"$f":"IF(J246=\"\",\"\",IF(VLOOKUP(J246,Lotti!B$6:B$596,1,FALSE)=J246,\"\",1))","v":""},null,"",null,{"$f":"IF(J246=\"\",\"\",IF(VLOOKUP(F246,Tabelle_Fisse!$B$33:$C$34,2,FALSE)=\"ok\",\"\",1))","v":""},{"$f":"IF(J246=\"\",\"\",IF(VLOOKUP(CONCATENATE(J246,\" SI\"),W$7:W$1196,1,FALSE)=CONCATENATE(J246,\" SI\"),\"\",1))","v":""},null,{"$f":"IF(OR(J246=\"\",G246=\"\"),\"\",IF(VLOOKUP(H246,Tabelle_Fisse!$B$25:$C$29,2,FALSE)=\"ok\",\"\",1))","v":""},{"$nulls":4},""]
[{"$nulls":9},"",{"$f":"IF(J247=\"\",\"\",IF(VLOOKUP(J247,Lotti!B$6:B$596,1,FALSE)=J247,\"\",1))","v":""},null,"",null,{"$f":"IF(J247=\"\",\"\",IF(VLOOKUP(F247,Tabelle_Fisse!$B$33:$C$34,2,FALSE)=\"ok\",\"\",1))","v":""},{"$f":"IF(J247=\"\",\"\",IF(VLOOKUP(CONCATENATE(J247,\" SI\"),W$7:W$1196,1,FALSE)=CONCATENATE(J247,\" SI\"),\"\",1))","v":""},null,{"$f":"IF(OR(J247=\"\",G247=\"\"),\"\",IF(VLOOKUP(H247,Tabelle_Fisse!$B$25:$C$29,2,FALSE)=\"ok\",\"\",1))","v":""},{"$nulls":4},""]
[{"$nulls":9},"",{"$f":"IF(J248=\"\",\"\",IF(VLOOKUP(J248,Lotti!B$6:B$596,1,FALSE)=J248,\"\",1))","v":""},null,"",null,{"$f":"IF(J248=\"\",\"\",IF(VLOOKUP(F248,Tabelle_Fisse!$B$33:$C$34,2,FALSE)=\"ok\",\"\",1))","v":""},{"$f":"IF(J248=\"\",\"\",IF(VLOOKUP(CONCATENATE(J248,\" SI\"),W$7:W$1196,1,FALSE)=CONCATENATE(J248,\" SI\"),\"\",1))","v":""},null,{"$f":"IF(OR(J248=\"\",G248=\"\"),\"\",IF(VLOOKUP(H248,Tabelle_Fisse!$B$25:$C$29,2,FALSE)=\"ok\",\"\",1))","v":""},{"$nulls":4},""]
[{"$nulls":9},"",{"$f":"IF(J249=\"\",\"\",IF(VLOOKUP(J249,Lotti!B$6:B$596,1,FALSE)=J249,\"\",1))","v":""},null,"",null,{"$f":"IF(J249=\"\",\"\",IF(VLOOKUP(F249,Tabelle_Fisse!$B$33:$C$34,2,FALSE)=\"ok\",\"\",1))","v":""},{"$f":"IF(J249=\"\",\"\",IF(VLOOKUP(CONCATENATE(J249,\" SI\"),W$7:W$1196,1,FALSE)=CONCATENATE(J249,\" SI\"),\"\",1))","v":""},null,{"$f":"IF(OR(J249=\"\",G249=\"\"),\"\",IF(VLOOKUP(H249,Tabelle_Fisse!$B$25:$C$29,2,FALSE)=\"ok\",\"\",1))","v":""},{"$nulls":4},""]
[{"$nulls":9},"",{"$f":"IF(J250=\"\",\"\",IF(VLOOKUP(J250,Lotti!B$6:B$596,1,FALSE)=J250,\"\",1))","v":""},null,"",null,{"$f":"IF(J250=\"\",\"\",IF(VLOOKUP(F250,Tabelle_Fisse!$B$33:$C$34,2,FALSE)=\"ok\",\"\",1))","v":""},{"$f":"IF(J250=\"\",\"\",IF(VLOOKUP(CONCATENATE(J250,\" SI\"),W$7:W$1196,1,FALSE)=CONCATENATE(J250,\" SI\"),\"\",1))","v":""},null,{"$f":"IF(OR(J250=\"\",G250=\"\"),\"\",IF(VLOOKUP(H250,Tabelle_Fisse!$B$25:$C$29,2,FALSE)=\"ok\",\"\",1))","v":""},{"$nulls":4},""]
[{"$nulls":9},"",{"$f":"IF(J251=\"\",\"\",IF(VLOOKUP(J251,Lotti!B$6:B$596,1,FALSE)=J251,\"\",1))","v":""},null,"",null,{"$f":"IF(J251=\"\",\"\",IF(VLOOKUP(F251,Tabelle_Fisse!$B$33:$C$34,2,FALSE)=\"ok\",\"\",1))","v":""},{"$f":"IF(J251=\"\",\"\",IF(VLOOKUP(CONCATENATE(J251,\" SI\"),W$7:W$1196,1,FALSE)=CONCATENATE(J251,\" SI\"),\"\",1))","v":""},null,{"$f":"IF(OR(J251=\"\",G251=\"\"),\"\",IF(VLOOKUP(H251,Tabelle_Fisse!$B$25:$C$29,2,FALSE)=\"ok\",\"\",1))","v":""},{"$nulls":4},""]
[{"$nulls":9},"",{"$f":"IF(J252=\"\",\"\",IF(VLOOKUP(J252,Lotti!B$6:B$596,1,FALSE)=J252,\"\",1))","v":""},null,"",null,{"$f":"IF(J252=\"\",\"\",IF(VLOOKUP(F252,Tabelle_Fisse!$B$33:$C$34,2,FALSE)=\"ok\",\"\",1))","v":""},{"$f":"IF(J252=\"\",\"\",IF(VLOOKUP(CONCATENATE(J252,\" SI\"),W$7:W$1196,1,FALSE)=CONCATENATE(J252,\" SI\"),\"\",1))","v":""},null,{"$f":"IF(OR(J252=\"\",G252=\"\"),\"\",IF(VLOOKUP(H252,Tabelle_Fisse!$B$25:$C$29,2,FALSE)=\"ok\",\"\",1))","v":""},{"$nulls":4},""]
[{"$nulls":9},"",{"$f":"IF(J253=\"\",\"\",IF(VLOOKUP(J253,Lotti!B$6:B$596,1,FALSE)=J253,\"\",1))","v":""},null,"",null,{"$f":"IF(J253=\"\",\"\",IF(VLOOKUP(F253,Tabelle_Fisse!$B$33:$C$34,2,FALSE)=\"ok\",\"\",1))","v":""},{"$f":"IF(J253=\"\",\"\",IF(VLOOKUP(CONCATENATE(J253,\" SI\"),W$7:W$1196,1,FALSE)=CONCATENATE(J253,\" SI\"),\"\",1))","v":""},null,{"$f":"IF(OR(J253=\"\",G253=\"\"),\"\",IF(VLOOKUP(H253,Tabelle_Fisse!$B$25:$C$29,2,FALSE)=\"ok\",\"\",1))","v":""},{"$nulls":4},""]
[{"$nulls":9},"",{"$f":"IF(J254=\"\",\"\",IF(VLOOKUP(J254,Lotti!B$6:B$596,1,FALSE)=J254,\"\",1))","v":""},null,"",null,{"$f":"IF(J254=\"\",\"\",IF(VLOOKUP(F254,Tabelle_Fisse!$B$33:$C$34,2,FALSE)=\"ok\",\"\",1))","v":""},{"$f":"IF(J254=\"\",\"\",IF(VLOOKUP(CONCATENATE(J254,\" SI\"),W$7:W$1196,1,FALSE)=CONCATENATE(J254,\" SI\"),\"\",1))","v":""},null,{"$f":"IF(OR(J254=\"\",G254=\"\"),\"\",IF(VLOOKUP(H254,Tabelle_Fisse!$B$25:$C$29,2,FALSE)=\"ok\",\"\",1))","v":""},{"$nulls":4},""]
[{"$nulls":9},"",{"$f":"IF(J255=\"\",\"\",IF(VLOOKUP(J255,Lotti!B$6:B$596,1,FALSE)=J255,\"\",1))","v":""},null,"",null,{"$f":"IF(J255=\"\",\"\",IF(VLOOKUP(F255,Tabelle_Fisse!$B$33:$C$34,2,FALSE)=\"ok\",\"\",1))","v":""},{"$f":"IF(J255=\"\",\"\",IF(VLOOKUP(CONCATENATE(J255,\" SI\"),W$7:W$1196,1,FALSE)=CONCATENATE(J255,\" SI\"),\"\",1))","v":""},null,{"$f":"IF(OR(J255=\"\",G255=\"\"),\"\",IF(VLOOKUP(H255,Tabelle_Fisse!$B$25:$C$29,2,FALSE)=\"ok\",\"\",1))","v":""},{"$nulls":4},""]
[{"$nulls":9},"",{"$f":"IF(J256=\"\",\"\",IF(VLOOKUP(J256,Lotti!B$6:B$596,1,FALSE)=J256,\"\",1))","v":""},null,"",null,{"$f":"IF(J256=\"\",\"\",IF(VLOOKUP(F256,Tabelle_Fisse!$B$33:$C$34,2,FALSE)=\"ok\",\"\",1))","v":""},{"$f":"IF(J256=\"\",\"\",IF(VLOOKUP(CONCATENATE(J256,\" SI\"),W$7:W$1196,1,FALSE)=CONCATENATE(J256,\" SI\"),\"\",1))","v":""},null,{"$f":"IF(OR(J256=\"\",G256=\"\"),\"\",IF(VLOOKUP(H256,Tabelle_Fisse!$B$25:$C$29,2,FALSE)=\"ok\",\"\",1))","v":""},{"$nulls":4},""]
[{"$nulls":9},"",{"$f":"IF(J257=\"\",\"\",IF(VLOOKUP(J257,Lotti!B$6:B$596,1,FALSE)=J257,\"\",1))","v":""},null,"",null,{"$f":"IF(J257=\"\",\"\",IF(VLOOKUP(F257,Tabelle_Fisse!$B$33:$C$34,2,FALSE)=\"ok\",\"\",1))","v":""},{"$f":"IF(J257=\"\",\"\",IF(VLOOKUP(CONCATENATE(J257,\" SI\"),W$7:W$1196,1,FALSE)=CONCATENATE(J257,\" SI\"),\"\",1))","v":""},null,{"$f":"IF(OR(J257=\"\",G257=\"\"),\"\",IF(VLOOKUP(H257,Tabelle_Fisse!$B$25:$C$29,2,FALSE)=\"ok\",\"\",1))","v":""},{"$nulls":4},""]
[{"$nulls":9},"",{"$f":"IF(J258=\"\",\"\",IF(VLOOKUP(J258,Lotti!B$6:B$596,1,FALSE)=J258,\"\",1))","v":""},null,"",null,{"$f":"IF(J258=\"\",\"\",IF(VLOOKUP(F258,Tabelle_Fisse!$B$33:$C$34,2,FALSE)=\"ok\",\"\",1))","v":""},{"$f":"IF(J258=\"\",\"\",IF(VLOOKUP(CONCATENATE(J258,\" SI\"),W$7:W$1196,1,FALSE)=CONCATENATE(J258,\" SI\"),\"\",1))","v":""},null,{"$f":"IF(OR(J258=\"\",G258=\"\"),\"\",IF(VLOOKUP(H258,Tabelle_Fisse!$B$25:$C$29,2,FALSE)=\"ok\",\"\",1))","v":""},{"$nulls":4},""]
[{"$nulls":9},"",{"$f":"IF(J259=\"\",\"\",IF(VLOOKUP(J259,Lotti!B$6:B$596,1,FALSE)=J259,\"\",1))","v":""},null,"",null,{"$f":"IF(J259=\"\",\"\",IF(VLOOKUP(F259,Tabelle_Fisse!$B$33:$C$34,2,FALSE)=\"ok\",\"\",1))","v":""},{"$f":"IF(J259=\"\",\"\",IF(VLOOKUP(CONCATENATE(J259,\" SI\"),W$7:W$1196,1,FALSE)=CONCATENATE(J259,\" SI\"),\"\",1))","v":""},null,{"$f":"IF(OR(J259=\"\",G259=\"\"),\"\",IF(VLOOKUP(H259,Tabelle_Fisse!$B$25:$C$29,2,FALSE)=\"ok\",\"\",1))","v":""},{"$nulls":4},""]
[{"$nulls":9},{"$f":"TRIM(B260)","v":""},{"$f":"IF(J260=\"\",\"\",IF(VLOOKUP(J260,Lotti!B$6:B$596,1,FALSE)=J260,\"\",1))","v":""},null,{"$f":"IF(J260=\"\",\"\",IF(OR(AND(E260=\"\",LEN(D260)<>11,LEN(D260)<>16),AND(D260=\"\",E260=\"\"),AND(D260<>\"\",E260<>\"\")),1,\"\"))","v":""},null,{"$f":"IF(J260=\"\",\"\",IF(VLOOKUP(F260,Tabelle_Fisse!$B$33:$C$34,2,FALSE)=\"ok\",\"\",1))","v":""},{"$f":"IF(J260=\"\",\"\",IF(VLOOKUP(CONCATENATE(J260,\" SI\"),W$7:W$1196,1,FALSE)=CONCATENATE(J260,\" SI\"),\"\",1))","v":""},null,{"$f":"IF(OR(J260=\"\",G260=\"\"),\"\",IF(VLOOKUP(H260,Tabelle_Fisse!$B$25:$C$29,2,FALSE)=\"ok\",\"\",1))","v":""},{"$nulls":4},{"$f":"IF(J260=\"\",\"\",CONCATENATE(J260,\" \",F260))","v":""}]
[{"$nulls":9},"",{"$f":"IF(J261=\"\",\"\",IF(VLOOKUP(J261,Lotti!B$6:B$596,1,FALSE)=J261,\"\",1))","v":""},null,"",null,{"$f":"IF(J261=\"\",\"\",IF(VLOOKUP(F261,Tabelle_Fisse!$B$33:$C$34,2,FALSE)=\"ok\",\"\",1))","v":""},{"$f":"IF(J261=\"\",\"\",IF(VLOOKUP(CONCATENATE(J261,\" SI\"),W$7:W$1196,1,FALSE)=CONCATENATE(J261,\" SI\"),\"\",1))","v":""},null,{"$f":"IF(OR(J261=\"\",G261=\"\"),\"\",IF(VLOOKUP(H261,Tabelle_Fisse!$B$25:$C$29,2,FALSE)=\"ok\",\"\",1))","v":""},{"$nulls":4},""]
[{"$nulls":9},"",{"$f":"IF(J262=\"\",\"\",IF(VLOOKUP(J262,Lotti!B$6:B$596,1,FALSE)=J262,\"\",1))","v":""},null,"",null,{"$f":"IF(J262=\"\",\"\",IF(VLOOKUP(F262,Tabelle_Fisse!$B$33:$C$34,2,FALSE)=\"ok\",\"\",1))","v":""},{"$f":"IF(J262=\"\",\"\",IF(VLOOKUP(CONCATENATE(J262,\" SI\"),W$7:W$1196,1,FALSE)=CONCATENATE(J262,\" SI\"),\"\",1))","v":""},null,{"$f":"IF(OR(J262=\"\",G262=\"\"),\"\",IF(VLOOKUP(H262,Tabelle_Fisse!$B$25:$C$29,2,FALSE)=\"ok\",\"\",1))","v":""},{"$nulls":4},""]
[{"$nulls":9},"",{"$f":"IF(J263=\"\",\"\",IF(VLOOKUP(J263,Lotti!B$6:B$596,1,FALSE)=J263,\"\",1))","v":""},null,"",null,{"$f":"IF(J263=\"\",\"\",IF(VLOOKUP(F263,Tabelle_Fisse!$B$33:$C$34,2,FALSE)=\"ok\",\"\",1))","v":""},{"$f":"IF(J263=\"\",\"\",IF(VLOOKUP(CONCATENATE(J263,\" SI\"),W$7:W$1196,1,FALSE)=CONCATENATE(J263,\" SI\"),\"\",1))","v":""},null,{"$f":"IF(OR(J263=\"\",G263=\"\"),\"\",IF(VLOOKUP(H263,Tabelle_Fisse!$B$25:$C$29,2,FALSE)=\"ok\",\"\",1))","v":""},{"$nulls":4},""]
[{"$nulls":9},"",{"$f":"IF(J264=\"\",\"\",IF(VLOOKUP(J264,Lotti!B$6:B$596,1,FALSE)=J264,\"\",1))","v":""},null,"",null,{"$f":"IF(J264=\"\",\"\",IF(VLOOKUP(F264,Tabelle_Fisse!$B$33:$C$34,2,FALSE)=\"ok\",\"\",1))","v":""},{"$f":"IF(J264=\"\",\"\",IF(VLOOKUP(CONCATENATE(J264,\" SI\"),W$7:W$1196,1,FALSE)=CONCATENATE(J264,\" SI\"),\"\",1))","v":""},null,{"$f":"IF(OR(J264=\"\",G264=\"\"),\"\",IF(VLOOKUP(H264,Tabelle_Fisse!$B$25:$C$29,2,FALSE)=\"ok\",\"\",1))","v":""},{"$nulls":4},""]
[{"$nulls":9},"",{"$f":"IF(J265=\"\",\"\",IF(VLOOKUP(J265,Lotti!B$6:B$596,1,FALSE)=J265,\"\",1))","v":""},null,"",null,{"$f":"IF(J265=\"\",\"\",IF(VLOOKUP(F265,Tabelle_Fisse!$B$33:$C$34,2,FALSE)=\"ok\",\"\",1))","v":""},{"$f":"IF(J265=\"\",\"\",IF(VLOOKUP(CONCATENATE(J265,\" SI\"),W$7:W$1196,1,FALSE)=CONCATENATE(J265,\" SI\"),\"\",1))","v":""},null,{"$f":"IF(OR(J265=\"\",G265=\"\"),\"\",IF(VLOOKUP(H265,Tabelle_Fisse!$B$25:$C$29,2,FALSE)=\"ok\",\"\",1))","v":""},{"$nulls":4},""]
[{"$nulls":9},"",{"$f":"IF(J266=\"\",\"\",IF(VLOOKUP(J266,Lotti!B$6:B$596,1,FALSE)=J266,\"\",1))","v":""},null,"",null,{"$f":"IF(J266=\"\",\"\",IF(VLOOKUP(F266,Tabelle_Fisse!$B$33:$C$34,2,FALSE)=\"ok\",\"\",1))","v":""},{"$f":"IF(J266=\"\",\"\",IF(VLOOKUP(CONCATENATE(J266,\" SI\"),W$7:W$1196,1,FALSE)=CONCATENATE(J266,\" SI\"),\"\",1))","v":""},null,{"$f":"IF(OR(J266=\"\",G266=\"\"),\"\",IF(VLOOKUP(H266,Tabelle_Fisse!$B$25:$C$29,2,FALSE)=\"ok\",\"\",1))","v":""},{"$nulls":4},""]
[{"$nulls":9},"",{"$f":"IF(J267=\"\",\"\",IF(VLOOKUP(J267,Lotti!B$6:B$596,1,FALSE)=J267,\"\",1))","v":""},null,"",null,{"$f":"IF(J267=\"\",\"\",IF(VLOOKUP(F267,Tabelle_Fisse!$B$33:$C$34,2,FALSE)=\"ok\",\"\",1))","v":""},{"$f":"IF(J267=\"\",\"\",IF(VLOOKUP(CONCATENATE(J267,\" SI\"),W$7:W$1196,1,FALSE)=CONCATENATE(J267,\" SI\"),\"\",1))","v":""},null,{"$f":"IF(OR(J267=\"\",G267=\"\"),\"\",IF(VLOOKUP(H267,Tabelle_Fisse!$B$25:$C$29,2,FALSE)=\"ok\",\"\",1))","v":""},{"$nulls":4},""]
[{"$nulls":9},"",{"$f":"IF(J268=\"\",\"\",IF(VLOOKUP(J268,Lotti!B$6:B$596,1,FALSE)=J268,\"\",1))","v":""},null,"",null,{"$f":"IF(J268=\"\",\"\",IF(VLOOKUP(F268,Tabelle_Fisse!$B$33:$C$34,2,FALSE)=\"ok\",\"\",1))","v":""},{"$f":"IF(J268=\"\",\"\",IF(VLOOKUP(CONCATENATE(J268,\" SI\"),W$7:W$1196,1,FALSE)=CONCATENATE(J268,\" SI\"),\"\",1))","v":""},null,{"$f":"IF(OR(J268=\"\",G268=\"\"),\"\",IF(VLOOKUP(H268,Tabelle_Fisse!$B$25:$C$29,2,FALSE)=\"ok\",\"\",1))","v":""},{"$nulls":4},""]
[{"$nulls":9},"",{"$f":"IF(J269=\"\",\"\",IF(VLOOKUP(J269,Lotti!B$6:B$596,1,FALSE)=J269,\"\",1))","v":""},null,"",null,{"$f":"IF(J269=\"\",\"\",IF(VLOOKUP(F269,Tabelle_Fisse!$B$33:$C$34,2,FALSE)=\"ok\",\"\",1))","v":""},{"$f":"IF(J269=\"\",\"\",IF(VLOOKUP(CONCATENATE(J269,\" SI\"),W$7:W$1196,1,FALSE)=CONCATENATE(J269,\" SI\"),\"\",1))","v":""},null,{"$f":"IF(OR(J269=\"\",G269=\"\"),\"\",IF(VLOOKUP(H269,Tabelle_Fisse!$B$25:$C$29,2,FALSE)=\"ok\",\"\",1))","v":""},{"$nulls":4},""]
[{"$nulls":9},"",{"$f":"IF(J270=\"\",\"\",IF(VLOOKUP(J270,Lotti!B$6:B$596,1,FALSE)=J270,\"\",1))","v":""},null,"",null,{"$f":"IF(J270=\"\",\"\",IF(VLOOKUP(F270,Tabelle_Fisse!$B$33:$C$34,2,FALSE)=\"ok\",\"\",1))","v":""},{"$f":"IF(J270=\"\",\"\",IF(VLOOKUP(CONCATENATE(J270,\" SI\"),W$7:W$1196,1,FALSE)=CONCATENATE(J270,\" SI\"),\"\",1))","v":""},null,{"$f":"IF(OR(J270=\"\",G270=\"\"),\"\",IF(VLOOKUP(H270,Tabelle_Fisse!$B$25:$C$29,2,FALSE)=\"ok\",\"\",1))","v":""},{"$nulls":4},""]
[{"$nulls":9},"",{"$f":"IF(J271=\"\",\"\",IF(VLOOKUP(J271,Lotti!B$6:B$596,1,FALSE)=J271,\"\",1))","v":""},null,"",null,{"$f":"IF(J271=\"\",\"\",IF(VLOOKUP(F271,Tabelle_Fisse!$B$33:$C$34,2,FALSE)=\"ok\",\"\",1))","v":""},{"$f":"IF(J271=\"\",\"\",IF(VLOOKUP(CONCATENATE(J271,\" SI\"),W$7:W$1196,1,FALSE)=CONCATENATE(J271,\" SI\"),\"\",1))","v":""},null,{"$f":"IF(OR(J271=\"\",G271=\"\"),\"\",IF(VLOOKUP(H271,Tabelle_Fisse!$B$25:$C$29,2,FALSE)=\"ok\",\"\",1))","v":""},{"$nulls":4},""]
[{"$nulls":9},"",{"$f":"IF(J272=\"\",\"\",IF(VLOOKUP(J272,Lotti!B$6:B$596,1,FALSE)=J272,\"\",1))","v":""},null,"",null,{"$f":"IF(J272=\"\",\"\",IF(VLOOKUP(F272,Tabelle_Fisse!$B$33:$C$34,2,FALSE)=\"ok\",\"\",1))","v":""},{"$f":"IF(J272=\"\",\"\",IF(VLOOKUP(CONCATENATE(J272,\" SI\"),W$7:W$1196,1,FALSE)=CONCATENATE(J272,\" SI\"),\"\",1))","v":""},null,{"$f":"IF(OR(J272=\"\",G272=\"\"),\"\",IF(VLOOKUP(H272,Tabelle_Fisse!$B$25:$C$29,2,FALSE)=\"ok\",\"\",1))","v":""},{"$nulls":4},""]
[{"$nulls":9},"",{"$f":"IF(J273=\"\",\"\",IF(VLOOKUP(J273,Lotti!B$6:B$596,1,FALSE)=J273,\"\",1))","v":""},null,"",null,{"$f":"IF(J273=\"\",\"\",IF(VLOOKUP(F273,Tabelle_Fisse!$B$33:$C$34,2,FALSE)=\"ok\",\"\",1))","v":""},{"$f":"IF(J273=\"\",\"\",IF(VLOOKUP(CONCATENATE(J273,\" SI\"),W$7:W$1196,1,FALSE)=CONCATENATE(J273,\" SI\"),\"\",1))","v":""},null,{"$f":"IF(OR(J273=\"\",G273=\"\"),\"\",IF(VLOOKUP(H273,Tabelle_Fisse!$B$25:$C$29,2,FALSE)=\"ok\",\"\",1))","v":""},{"$nulls":4},""]
[{"$nulls":9},"",{"$f":"IF(J274=\"\",\"\",IF(VLOOKUP(J274,Lotti!B$6:B$596,1,FALSE)=J274,\"\",1))","v":""},null,"",null,{"$f":"IF(J274=\"\",\"\",IF(VLOOKUP(F274,Tabelle_Fisse!$B$33:$C$34,2,FALSE)=\"ok\",\"\",1))","v":""},{"$f":"IF(J274=\"\",\"\",IF(VLOOKUP(CONCATENATE(J274,\" SI\"),W$7:W$1196,1,FALSE)=CONCATENATE(J274,\" SI\"),\"\",1))","v":""},null,{"$f":"IF(OR(J274=\"\",G274=\"\"),\"\",IF(VLOOKUP(H274,Tabelle_Fisse!$B$25:$C$29,2,FALSE)=\"ok\",\"\",1))","v":""},{"$nulls":4},""]
[{"$nulls":9},"",{"$f":"IF(J275=\"\",\"\",IF(VLOOKUP(J275,Lotti!B$6:B$596,1,FALSE)=J275,\"\",1))","v":""},null,"",null,{"$f":"IF(J275=\"\",\"\",IF(VLOOKUP(F275,Tabelle_Fisse!$B$33:$C$34,2,FALSE)=\"ok\",\"\",1))","v":""},{"$f":"IF(J275=\"\",\"\",IF(VLOOKUP(CONCATENATE(J275,\" SI\"),W$7:W$1196,1,FALSE)=CONCATENATE(J275,\" SI\"),\"\",1))","v":""},null,{"$f":"IF(OR(J275=\"\",G275=\"\"),\"\",IF(VLOOKUP(H275,Tabelle_Fisse!$B$25:$C$29,2,FALSE)=\"ok\",\"\",1))","v":""},{"$nulls":4},""]
[{"$nulls":9},"",{"$f":"IF(J276=\"\",\"\",IF(VLOOKUP(J276,Lotti!B$6:B$596,1,FALSE)=J276,\"\",1))","v":""},null,"",null,{"$f":"IF(J276=\"\",\"\",IF(VLOOKUP(F276,Tabelle_Fisse!$B$33:$C$34,2,FALSE)=\"ok\",\"\",1))","v":""},{"$f":"IF(J276=\"\",\"\",IF(VLOOKUP(CONCATENATE(J276,\" SI\"),W$7:W$1196,1,FALSE)=CONCATENATE(J276,\" SI\"),\"\",1))","v":""},null,{"$f":"IF(OR(J276=\"\",G276=\"\"),\"\",IF(VLOOKUP(H276,Tabelle_Fisse!$B$25:$C$29,2,FALSE)=\"ok\",\"\",1))","v":""},{"$nulls":4},""]
[{"$nulls":9},"",{"$f":"IF(J277=\"\",\"\",IF(VLOOKUP(J277,Lotti!B$6:B$596,1,FALSE)=J277,\"\",1))","v":""},null,"",null,{"$f":"IF(J277=\"\",\"\",IF(VLOOKUP(F277,Tabelle_Fisse!$B$33:$C$34,2,FALSE)=\"ok\",\"\",1))","v":""},{"$f":"IF(J277=\"\",\"\",IF(VLOOKUP(CONCATENATE(J277,\" SI\"),W$7:W$1196,1,FALSE)=CONCATENATE(J277,\" SI\"),\"\",1))","v":""},null,{"$f":"IF(OR(J277=\"\",G277=\"\"),\"\",IF(VLOOKUP(H277,Tabelle_Fisse!$B$25:$C$29,2,FALSE)=\"ok\",\"\",1))","v":""},{"$nulls":4},""]
[{"$nulls":9},"",{"$f":"IF(J278=\"\",\"\",IF(VLOOKUP(J278,Lotti!B$6:B$596,1,FALSE)=J278,\"\",1))","v":""},null,"",null,{"$f":"IF(J278=\"\",\"\",IF(VLOOKUP(F278,Tabelle_Fisse!$B$33:$C$34,2,FALSE)=\"ok\",\"\",1))","v":""},{"$f":"IF(J278=\"\",\"\",IF(VLOOKUP(CONCATENATE(J278,\" SI\"),W$7:W$1196,1,FALSE)=CONCATENATE(J278,\" SI\"),\"\",1))","v":""},null,{"$f":"IF(OR(J278=\"\",G278=\"\"),\"\",IF(VLOOKUP(H278,Tabelle_Fisse!$B$25:$C$29,2,FALSE)=\"ok\",\"\",1))","v":""},{"$nulls":4},""]
[{"$nulls":9},"",{"$f":"IF(J279=\"\",\"\",IF(VLOOKUP(J279,Lotti!B$6:B$596,1,FALSE)=J279,\"\",1))","v":""},null,"",null,{"$f":"IF(J279=\"\",\"\",IF(VLOOKUP(F279,Tabelle_Fisse!$B$33:$C$34,2,FALSE)=\"ok\",\"\",1))","v":""},{"$f":"IF(J279=\"\",\"\",IF(VLOOKUP(CONCATENATE(J279,\" SI\"),W$7:W$1196,1,FALSE)=CONCATENATE(J279,\" SI\"),\"\",1))","v":""},null,{"$f":"IF(OR(J279=\"\",G279=\"\"),\"\",IF(VLOOKUP(H279,Tabelle_Fisse!$B$25:$C$29,2,FALSE)=\"ok\",\"\",1))","v":""},{"$nulls":4},""]
[{"$nulls":9},"",{"$f":"IF(J280=\"\",\"\",IF(VLOOKUP(J280,Lotti!B$6:B$596,1,FALSE)=J280,\"\",1))","v":""},null,"",null,{"$f":"IF(J280=\"\",\"\",IF(VLOOKUP(F280,Tabelle_Fisse!$B$33:$C$34,2,FALSE)=\"ok\",\"\",1))","v":""},{"$f":"IF(J280=\"\",\"\",IF(VLOOKUP(CONCATENATE(J280,\" SI\"),W$7:W$1196,1,FALSE)=CONCATENATE(J280,\" SI\"),\"\",1))","v":""},null,{"$f":"IF(OR(J280=\"\",G280=\"\"),\"\",IF(VLOOKUP(H280,Tabelle_Fisse!$B$25:$C$29,2,FALSE)=\"ok\",\"\",1))","v":""},{"$nulls":4},""]
[{"$nulls":9},"",{"$f":"IF(J281=\"\",\"\",IF(VLOOKUP(J281,Lotti!B$6:B$596,1,FALSE)=J281,\"\",1))","v":""},null,"",null,{"$f":"IF(J281=\"\",\"\",IF(VLOOKUP(F281,Tabelle_Fisse!$B$33:$C$34,2,FALSE)=\"ok\",\"\",1))","v":""},{"$f":"IF(J281=\"\",\"\",IF(VLOOKUP(CONCATENATE(J281,\" SI\"),W$7:W$1196,1,FALSE)=CONCATENATE(J281,\" SI\"),\"\",1))","v":""},null,{"$f":"IF(OR(J281=\"\",G281=\"\"),\"\",IF(VLOOKUP(H281,Tabelle_Fisse!$B$25:$C$29,2,FALSE)=\"ok\",\"\",1))","v":""},{"$nulls":4},""]
[{"$nulls":9},"",{"$f":"IF(J282=\"\",\"\",IF(VLOOKUP(J282,Lotti!B$6:B$596,1,FALSE)=J282,\"\",1))","v":""},null,"",null,{"$f":"IF(J282=\"\",\"\",IF(VLOOKUP(F282,Tabelle_Fisse!$B$33:$C$34,2,FALSE)=\"ok\",\"\",1))","v":""},{"$f":"IF(J282=\"\",\"\",IF(VLOOKUP(CONCATENATE(J282,\" SI\"),W$7:W$1196,1,FALSE)=CONCATENATE(J282,\" SI\"),\"\",1))","v":""},null,{"$f":"IF(OR(J282=\"\",G282=\"\"),\"\",IF(VLOOKUP(H282,Tabelle_Fisse!$B$25:$C$29,2,FALSE)=\"ok\",\"\",1))","v":""},{"$nulls":4},""]
[{"$nulls":9},"",{"$f":"IF(J283=\"\",\"\",IF(VLOOKUP(J283,Lotti!B$6:B$596,1,FALSE)=J283,\"\",1))","v":""},null,"",null,{"$f":"IF(J283=\"\",\"\",IF(VLOOKUP(F283,Tabelle_Fisse!$B$33:$C$34,2,FALSE)=\"ok\",\"\",1))","v":""},{"$f":"IF(J283=\"\",\"\",IF(VLOOKUP(CONCATENATE(J283,\" SI\"),W$7:W$1196,1,FALSE)=CONCATENATE(J283,\" SI\"),\"\",1))","v":""},null,{"$f":"IF(OR(J283=\"\",G283=\"\"),\"\",IF(VLOOKUP(H283,Tabelle_Fisse!$B$25:$C$29,2,FALSE)=\"ok\",\"\",1))","v":""},{"$nulls":4},""]
[{"$nulls":9},"",{"$f":"IF(J284=\"\",\"\",IF(VLOOKUP(J284,Lotti!B$6:B$596,1,FALSE)=J284,\"\",1))","v":""},null,"",null,{"$f":"IF(J284=\"\",\"\",IF(VLOOKUP(F284,Tabelle_Fisse!$B$33:$C$34,2,FALSE)=\"ok\",\"\",1))","v":""},{"$f":"IF(J284=\"\",\"\",IF(VLOOKUP(CONCATENATE(J284,\" SI\"),W$7:W$1196,1,FALSE)=CONCATENATE(J284,\" SI\"),\"\",1))","v":""},null,{"$f":"IF(OR(J284=\"\",G284=\"\"),\"\",IF(VLOOKUP(H284,Tabelle_Fisse!$B$25:$C$29,2,FALSE)=\"ok\",\"\",1))","v":""},{"$nulls":4},""]
[{"$nulls":9},"",{"$f":"IF(J285=\"\",\"\",IF(VLOOKUP(J285,Lotti!B$6:B$596,1,FALSE)=J285,\"\",1))","v":""},null,"",null,{"$f":"IF(J285=\"\",\"\",IF(VLOOKUP(F285,Tabelle_Fisse!$B$33:$C$34,2,FALSE)=\"ok\",\"\",1))","v":""},{"$f":"IF(J285=\"\",\"\",IF(VLOOKUP(CONCATENATE(J285,\" SI\"),W$7:W$1196,1,FALSE)=CONCATENATE(J285,\" SI\"),\"\",1))","v":""},null,{"$f":"IF(OR(J285=\"\",G285=\"\"),\"\",IF(VLOOKUP(H285,Tabelle_Fisse!$B$25:$C$29,2,FALSE)=\"ok\",\"\",1))","v":""},{"$nulls":4},""]
[{"$nulls":9},"",{"$f":"IF(J286=\"\",\"\",IF(VLOOKUP(J286,Lotti!B$6:B$596,1,FALSE)=J286,\"\",1))","v":""},null,"",null,{"$f":"IF(J286=\"\",\"\",IF(VLOOKUP(F286,Tabelle_Fisse!$B$33:$C$34,2,FALSE)=\"ok\",\"\",1))","v":""},{"$f":"IF(J286=\"\",\"\",IF(VLOOKUP(CONCATENATE(J286,\" SI\"),W$7:W$1196,1,FALSE)=CONCATENATE(J286,\" SI\"),\"\",1))","v":""},null,{"$f":"IF(OR(J286=\"\",G286=\"\"),\"\",IF(VLOOKUP(H286,Tabelle_Fisse!$B$25:$C$29,2,FALSE)=\"ok\",\"\",1))","v":""},{"$nulls":4},""]
[{"$nulls":9},"",{"$f":"IF(J287=\"\",\"\",IF(VLOOKUP(J287,Lotti!B$6:B$596,1,FALSE)=J287,\"\",1))","v":""},null,"",null,{"$f":"IF(J287=\"\",\"\",IF(VLOOKUP(F287,Tabelle_Fisse!$B$33:$C$34,2,FALSE)=\"ok\",\"\",1))","v":""},{"$f":"IF(J287=\"\",\"\",IF(VLOOKUP(CONCATENATE(J287,\" SI\"),W$7:W$1196,1,FALSE)=CONCATENATE(J287,\" SI\"),\"\",1))","v":""},null,{"$f":"IF(OR(J287=\"\",G287=\"\"),\"\",IF(VLOOKUP(H287,Tabelle_Fisse!$B$25:$C$29,2,FALSE)=\"ok\",\"\",1))","v":""},{"$nulls":4},""]
[{"$nulls":9},"",{"$f":"IF(J288=\"\",\"\",IF(VLOOKUP(J288,Lotti!B$6:B$596,1,FALSE)=J288,\"\",1))","v":""},null,"",null,{"$f":"IF(J288=\"\",\"\",IF(VLOOKUP(F288,Tabelle_Fisse!$B$33:$C$34,2,FALSE)=\"ok\",\"\",1))","v":""},{"$f":"IF(J288=\"\",\"\",IF(VLOOKUP(CONCATENATE(J288,\" SI\"),W$7:W$1196,1,FALSE)=CONCATENATE(J288,\" SI\"),\"\",1))","v":""},null,{"$f":"IF(OR(J288=\"\",G288=\"\"),\"\",IF(VLOOKUP(H288,Tabelle_Fisse!$B$25:$C$29,2,FALSE)=\"ok\",\"\",1))","v":""},{"$nulls":4},""]
[{"$nulls":9},"",{"$f":"IF(J289=\"\",\"\",IF(VLOOKUP(J289,Lotti!B$6:B$596,1,FALSE)=J289,\"\",1))","v":""},null,"",null,{"$f":"IF(J289=\"\",\"\",IF(VLOOKUP(F289,Tabelle_Fisse!$B$33:$C$34,2,FALSE)=\"ok\",\"\",1))","v":""},{"$f":"IF(J289=\"\",\"\",IF(VLOOKUP(CONCATENATE(J289,\" SI\"),W$7:W$1196,1,FALSE)=CONCATENATE(J289,\" SI\"),\"\",1))","v":""},null,{"$f":"IF(OR(J289=\"\",G289=\"\"),\"\",IF(VLOOKUP(H289,Tabelle_Fisse!$B$25:$C$29,2,FALSE)=\"ok\",\"\",1))","v":""},{"$nulls":4},""]
[{"$nulls":9},"",{"$f":"IF(J290=\"\",\"\",IF(VLOOKUP(J290,Lotti!B$6:B$596,1,FALSE)=J290,\"\",1))","v":""},null,"",null,{"$f":"IF(J290=\"\",\"\",IF(VLOOKUP(F290,Tabelle_Fisse!$B$33:$C$34,2,FALSE)=\"ok\",\"\",1))","v":""},{"$f":"IF(J290=\"\",\"\",IF(VLOOKUP(CONCATENATE(J290,\" SI\"),W$7:W$1196,1,FALSE)=CONCATENATE(J290,\" SI\"),\"\",1))","v":""},null,{"$f":"IF(OR(J290=\"\",G290=\"\"),\"\",IF(VLOOKUP(H290,Tabelle_Fisse!$B$25:$C$29,2,FALSE)=\"ok\",\"\",1))","v":""},{"$nulls":4},""]
[{"$nulls":9},"",{"$f":"IF(J291=\"\",\"\",IF(VLOOKUP(J291,Lotti!B$6:B$596,1,FALSE)=J291,\"\",1))","v":""},null,"",null,{"$f":"IF(J291=\"\",\"\",IF(VLOOKUP(F291,Tabelle_Fisse!$B$33:$C$34,2,FALSE)=\"ok\",\"\",1))","v":""},{"$f":"IF(J291=\"\",\"\",IF(VLOOKUP(CONCATENATE(J291,\" SI\"),W$7:W$1196,1,FALSE)=CONCATENATE(J291,\" SI\"),\"\",1))","v":""},null,{"$f":"IF(OR(J291=\"\",G291=\"\"),\"\",IF(VLOOKUP(H291,Tabelle_Fisse!$B$25:$C$29,2,FALSE)=\"ok\",\"\",1))","v":""},{"$nulls":4},""]
[{"$nulls":9},"",{"$f":"IF(J292=\"\",\"\",IF(VLOOKUP(J292,Lotti!B$6:B$596,1,FALSE)=J292,\"\",1))","v":""},null,"",null,{"$f":"IF(J292=\"\",\"\",IF(VLOOKUP(F292,Tabelle_Fisse!$B$33:$C$34,2,FALSE)=\"ok\",\"\",1))","v":""},{"$f":"IF(J292=\"\",\"\",IF(VLOOKUP(CONCATENATE(J292,\" SI\"),W$7:W$1196,1,FALSE)=CONCATENATE(J292,\" SI\"),\"\",1))","v":""},null,{"$f":"IF(OR(J292=\"\",G292=\"\"),\"\",IF(VLOOKUP(H292,Tabelle_Fisse!$B$25:$C$29,2,FALSE)=\"ok\",\"\",1))","v":""},{"$nulls":4},""]
[{"$nulls":9},"",{"$f":"IF(J293=\"\",\"\",IF(VLOOKUP(J293,Lotti!B$6:B$596,1,FALSE)=J293,\"\",1))","v":""},null,"",null,{"$f":"IF(J293=\"\",\"\",IF(VLOOKUP(F293,Tabelle_Fisse!$B$33:$C$34,2,FALSE)=\"ok\",\"\",1))","v":""},{"$f":"IF(J293=\"\",\"\",IF(VLOOKUP(CONCATENATE(J293,\" SI\"),W$7:W$1196,1,FALSE)=CONCATENATE(J293,\" SI\"),\"\",1))","v":""},null,{"$f":"IF(OR(J293=\"\",G293=\"\"),\"\",IF(VLOOKUP(H293,Tabelle_Fisse!$B$25:$C$29,2,FALSE)=\"ok\",\"\",1))","v":""},{"$nulls":4},""]
[{"$nulls":9},"",{"$f":"IF(J294=\"\",\"\",IF(VLOOKUP(J294,Lotti!B$6:B$596,1,FALSE)=J294,\"\",1))","v":""},null,"",null,{"$f":"IF(J294=\"\",\"\",IF(VLOOKUP(F294,Tabelle_Fisse!$B$33:$C$34,2,FALSE)=\"ok\",\"\",1))","v":""},{"$f":"IF(J294=\"\",\"\",IF(VLOOKUP(CONCATENATE(J294,\" SI\"),W$7:W$1196,1,FALSE)=CONCATENATE(J294,\" SI\"),\"\",1))","v":""},null,{"$f":"IF(OR(J294=\"\",G294=\"\"),\"\",IF(VLOOKUP(H294,Tabelle_Fisse!$B$25:$C$29,2,FALSE)=\"ok\",\"\",1))","v":""},{"$nulls":4},""]
[{"$nulls":9},"",{"$f":"IF(J295=\"\",\"\",IF(VLOOKUP(J295,Lotti!B$6:B$596,1,FALSE)=J295,\"\",1))","v":""},null,"",null,{"$f":"IF(J295=\"\",\"\",IF(VLOOKUP(F295,Tabelle_Fisse!$B$33:$C$34,2,FALSE)=\"ok\",\"\",1))","v":""},{"$f":"IF(J295=\"\",\"\",IF(VLOOKUP(CONCATENATE(J295,\" SI\"),W$7:W$1196,1,FALSE)=CONCATENATE(J295,\" SI\"),\"\",1))","v":""},null,{"$f":"IF(OR(J295=\"\",G295=\"\"),\"\",IF(VLOOKUP(H295,Tabelle_Fisse!$B$25:$C$29,2,FALSE)=\"ok\",\"\",1))","v":""},{"$nulls":4},""]
[{"$nulls":9},"",{"$f":"IF(J296=\"\",\"\",IF(VLOOKUP(J296,Lotti!B$6:B$596,1,FALSE)=J296,\"\",1))","v":""},null,"",null,{"$f":"IF(J296=\"\",\"\",IF(VLOOKUP(F296,Tabelle_Fisse!$B$33:$C$34,2,FALSE)=\"ok\",\"\",1))","v":""},{"$f":"IF(J296=\"\",\"\",IF(VLOOKUP(CONCATENATE(J296,\" SI\"),W$7:W$1196,1,FALSE)=CONCATENATE(J296,\" SI\"),\"\",1))","v":""},null,{"$f":"IF(OR(J296=\"\",G296=\"\"),\"\",IF(VLOOKUP(H296,Tabelle_Fisse!$B$25:$C$29,2,FALSE)=\"ok\",\"\",1))","v":""},{"$nulls":4},""]
[{"$nulls":9},"",{"$f":"IF(J297=\"\",\"\",IF(VLOOKUP(J297,Lotti!B$6:B$596,1,FALSE)=J297,\"\",1))","v":""},null,"",null,{"$f":"IF(J297=\"\",\"\",IF(VLOOKUP(F297,Tabelle_Fisse!$B$33:$C$34,2,FALSE)=\"ok\",\"\",1))","v":""},{"$f":"IF(J297=\"\",\"\",IF(VLOOKUP(CONCATENATE(J297,\" SI\"),W$7:W$1196,1,FALSE)=CONCATENATE(J297,\" SI\"),\"\",1))","v":""},null,{"$f":"IF(OR(J297=\"\",G297=\"\"),\"\",IF(VLOOKUP(H297,Tabelle_Fisse!$B$25:$C$29,2,FALSE)=\"ok\",\"\",1))","v":""},{"$nulls":4},""]
[{"$nulls":9},"",{"$f":"IF(J298=\"\",\"\",IF(VLOOKUP(J298,Lotti!B$6:B$596,1,FALSE)=J298,\"\",1))","v":""},null,"",null,{"$f":"IF(J298=\"\",\"\",IF(VLOOKUP(F298,Tabelle_Fisse!$B$33:$C$34,2,FALSE)=\"ok\",\"\",1))","v":""},{"$f":"IF(J298=\"\",\"\",IF(VLOOKUP(CONCATENATE(J298,\" SI\"),W$7:W$1196,1,FALSE)=CONCATENATE(J298,\" SI\"),\"\",1))","v":""},null,{"$f":"IF(OR(J298=\"\",G298=\"\"),\"\",IF(VLOOKUP(H298,Tabelle_Fisse!$B$25:$C$29,2,FALSE)=\"ok\",\"\",1))","v":""},{"$nulls":4},""]
[{"$nulls":9},"",{"$f":"IF(J299=\"\",\"\",IF(VLOOKUP(J299,Lotti!B$6:B$596,1,FALSE)=J299,\"\",1))","v":""},null,"",null,{"$f":"IF(J299=\"\",\"\",IF(VLOOKUP(F299,Tabelle_Fisse!$B$33:$C$34,2,FALSE)=\"ok\",\"\",1))","v":""},{"$f":"IF(J299=\"\",\"\",IF(VLOOKUP(CONCATENATE(J299,\" SI\"),W$7:W$1196,1,FALSE)=CONCATENATE(J299,\" SI\"),\"\",1))","v":""},null,{"$f":"IF(OR(J299=\"\",G299=\"\"),\"\",IF(VLOOKUP(H299,Tabelle_Fisse!$B$25:$C$29,2,FALSE)=\"ok\",\"\",1))","v":""},{"$nulls":4},""]
[{"$nulls":9},"",{"$f":"IF(J300=\"\",\"\",IF(VLOOKUP(J300,Lotti!B$6:B$596,1,FALSE)=J300,\"\",1))","v":""},null,"",null,{"$f":"IF(J300=\"\",\"\",IF(VLOOKUP(F300,Tabelle_Fisse!$B$33:$C$34,2,FALSE)=\"ok\",\"\",1))","v":""},{"$f":"IF(J300=\"\",\"\",IF(VLOOKUP(CONCATENATE(J300,\" SI\"),W$7:W$1196,1,FALSE)=CONCATENATE(J300,\" SI\"),\"\",1))","v":""},null,{"$f":"IF(OR(J300=\"\",G300=\"\"),\"\",IF(VLOOKUP(H300,Tabelle_Fisse!$B$25:$C$29,2,FALSE)=\"ok\",\"\",1))","v":""},{"$nulls":4},""]
[{"$nulls":9},"",{"$f":"IF(J301=\"\",\"\",IF(VLOOKUP(J301,Lotti!B$6:B$596,1,FALSE)=J301,\"\",1))","v":""},null,"",null,{"$f":"IF(J301=\"\",\"\",IF(VLOOKUP(F301,Tabelle_Fisse!$B$33:$C$34,2,FALSE)=\"ok\",\"\",1))","v":""},{"$f":"IF(J301=\"\",\"\",IF(VLOOKUP(CONCATENATE(J301,\" SI\"),W$7:W$1196,1,FALSE)=CONCATENATE(J301,\" SI\"),\"\",1))","v":""},null,{"$f":"IF(OR(J301=\"\",G301=\"\"),\"\",IF(VLOOKUP(H301,Tabelle_Fisse!$B$25:$C$29,2,FALSE)=\"ok\",\"\",1))","v":""},{"$nulls":4},""]
[{"$nulls":9},"",{"$f":"IF(J302=\"\",\"\",IF(VLOOKUP(J302,Lotti!B$6:B$596,1,FALSE)=J302,\"\",1))","v":""},null,"",null,{"$f":"IF(J302=\"\",\"\",IF(VLOOKUP(F302,Tabelle_Fisse!$B$33:$C$34,2,FALSE)=\"ok\",\"\",1))","v":""},{"$f":"IF(J302=\"\",\"\",IF(VLOOKUP(CONCATENATE(J302,\" SI\"),W$7:W$1196,1,FALSE)=CONCATENATE(J302,\" SI\"),\"\",1))","v":""},null,{"$f":"IF(OR(J302=\"\",G302=\"\"),\"\",IF(VLOOKUP(H302,Tabelle_Fisse!$B$25:$C$29,2,FALSE)=\"ok\",\"\",1))","v":""},{"$nulls":4},""]
[{"$nulls":9},"",{"$f":"IF(J303=\"\",\"\",IF(VLOOKUP(J303,Lotti!B$6:B$596,1,FALSE)=J303,\"\",1))","v":""},null,"",null,{"$f":"IF(J303=\"\",\"\",IF(VLOOKUP(F303,Tabelle_Fisse!$B$33:$C$34,2,FALSE)=\"ok\",\"\",1))","v":""},{"$f":"IF(J303=\"\",\"\",IF(VLOOKUP(CONCATENATE(J303,\" SI\"),W$7:W$1196,1,FALSE)=CONCATENATE(J303,\" SI\"),\"\",1))","v":""},null,{"$f":"IF(OR(J303=\"\",G303=\"\"),\"\",IF(VLOOKUP(H303,Tabelle_Fisse!$B$25:$C$29,2,FALSE)=\"ok\",\"\",1))","v":""},{"$nulls":4},""]
[{"$nulls":9},"",{"$f":"IF(J304=\"\",\"\",IF(VLOOKUP(J304,Lotti!B$6:B$596,1,FALSE)=J304,\"\",1))","v":""},null,"",null,{"$f":"IF(J304=\"\",\"\",IF(VLOOKUP(F304,Tabelle_Fisse!$B$33:$C$34,2,FALSE)=\"ok\",\"\",1))","v":""},{"$f":"IF(J304=\"\",\"\",IF(VLOOKUP(CONCATENATE(J304,\" SI\"),W$7:W$1196,1,FALSE)=CONCATENATE(J304,\" SI\"),\"\",1))","v":""},null,{"$f":"IF(OR(J304=\"\",G304=\"\"),\"\",IF(VLOOKUP(H304,Tabelle_Fisse!$B$25:$C$29,2,FALSE)=\"ok\",\"\",1))","v":""},{"$nulls":4},""]
[{"$nulls":9},"",{"$f":"IF(J305=\"\",\"\",IF(VLOOKUP(J305,Lotti!B$6:B$596,1,FALSE)=J305,\"\",1))","v":""},null,"",null,{"$f":"IF(J305=\"\",\"\",IF(VLOOKUP(F305,Tabelle_Fisse!$B$33:$C$34,2,FALSE)=\"ok\",\"\",1))","v":""},{"$f":"IF(J305=\"\",\"\",IF(VLOOKUP(CONCATENATE(J305,\" SI\"),W$7:W$1196,1,FALSE)=CONCATENATE(J305,\" SI\"),\"\",1))","v":""},null,{"$f":"IF(OR(J305=\"\",G305=\"\"),\"\",IF(VLOOKUP(H305,Tabelle_Fisse!$B$25:$C$29,2,FALSE)=\"ok\",\"\",1))","v":""},{"$nulls":4},""]
[{"$nulls":9},"",{"$f":"IF(J306=\"\",\"\",IF(VLOOKUP(J306,Lotti!B$6:B$596,1,FALSE)=J306,\"\",1))","v":""},null,"",null,{"$f":"IF(J306=\"\",\"\",IF(VLOOKUP(F306,Tabelle_Fisse!$B$33:$C$34,2,FALSE)=\"ok\",\"\",1))","v":""},{"$f":"IF(J306=\"\",\"\",IF(VLOOKUP(CONCATENATE(J306,\" SI\"),W$7:W$1196,1,FALSE)=CONCATENATE(J306,\" SI\"),\"\",1))","v":""},null,{"$f":"IF(OR(J306=\"\",G306=\"\"),\"\",IF(VLOOKUP(H306,Tabelle_Fisse!$B$25:$C$29,2,FALSE)=\"ok\",\"\",1))","v":""},{"$nulls":4},""]
[{"$nulls":9},"",{"$f":"IF(J307=\"\",\"\",IF(VLOOKUP(J307,Lotti!B$6:B$596,1,FALSE)=J307,\"\",1))","v":""},null,"",null,{"$f":"IF(J307=\"\",\"\",IF(VLOOKUP(F307,Tabelle_Fisse!$B$33:$C$34,2,FALSE)=\"ok\",\"\",1))","v":""},{"$f":"IF(J307=\"\",\"\",IF(VLOOKUP(CONCATENATE(J307,\" SI\"),W$7:W$1196,1,FALSE)=CONCATENATE(J307,\" SI\"),\"\",1))","v":""},null,{"$f":"IF(OR(J307=\"\",G307=\"\"),\"\",IF(VLOOKUP(H307,Tabelle_Fisse!$B$25:$C$29,2,FALSE)=\"ok\",\"\",1))","v":""},{"$nulls":4},""]
[{"$nulls":9},"",{"$f":"IF(J308=\"\",\"\",IF(VLOOKUP(J308,Lotti!B$6:B$596,1,FALSE)=J308,\"\",1))","v":""},null,"",null,{"$f":"IF(J308=\"\",\"\",IF(VLOOKUP(F308,Tabelle_Fisse!$B$33:$C$34,2,FALSE)=\"ok\",\"\",1))","v":""},{"$f":"IF(J308=\"\",\"\",IF(VLOOKUP(CONCATENATE(J308,\" SI\"),W$7:W$1196,1,FALSE)=CONCATENATE(J308,\" SI\"),\"\",1))","v":""},null,{"$f":"IF(OR(J308=\"\",G308=\"\"),\"\",IF(VLOOKUP(H308,Tabelle_Fisse!$B$25:$C$29,2,FALSE)=\"ok\",\"\",1))","v":""},{"$nulls":4},""]
[{"$nulls":9},"",{"$f":"IF(J309=\"\",\"\",IF(VLOOKUP(J309,Lotti!B$6:B$596,1,FALSE)=J309,\"\",1))","v":""},null,"",null,{"$f":"IF(J309=\"\",\"\",IF(VLOOKUP(F309,Tabelle_Fisse!$B$33:$C$34,2,FALSE)=\"ok\",\"\",1))","v":""},{"$f":"IF(J309=\"\",\"\",IF(VLOOKUP(CONCATENATE(J309,\" SI\"),W$7:W$1196,1,FALSE)=CONCATENATE(J309,\" SI\"),\"\",1))","v":""},null,{"$f":"IF(OR(J309=\"\",G309=\"\"),\"\",IF(VLOOKUP(H309,Tabelle_Fisse!$B$25:$C$29,2,FALSE)=\"ok\",\"\",1))","v":""},{"$nulls":4},""]
[{"$nulls":9},"",{"$f":"IF(J310=\"\",\"\",IF(VLOOKUP(J310,Lotti!B$6:B$596,1,FALSE)=J310,\"\",1))","v":""},null,"",null,{"$f":"IF(J310=\"\",\"\",IF(VLOOKUP(F310,Tabelle_Fisse!$B$33:$C$34,2,FALSE)=\"ok\",\"\",1))","v":""},{"$f":"IF(J310=\"\",\"\",IF(VLOOKUP(CONCATENATE(J310,\" SI\"),W$7:W$1196,1,FALSE)=CONCATENATE(J310,\" SI\"),\"\",1))","v":""},null,{"$f":"IF(OR(J310=\"\",G310=\"\"),\"\",IF(VLOOKUP(H310,Tabelle_Fisse!$B$25:$C$29,2,FALSE)=\"ok\",\"\",1))","v":""},{"$nulls":4},""]
[{"$nulls":9},"",{"$f":"IF(J311=\"\",\"\",IF(VLOOKUP(J311,Lotti!B$6:B$596,1,FALSE)=J311,\"\",1))","v":""},null,"",null,{"$f":"IF(J311=\"\",\"\",IF(VLOOKUP(F311,Tabelle_Fisse!$B$33:$C$34,2,FALSE)=\"ok\",\"\",1))","v":""},{"$f":"IF(J311=\"\",\"\",IF(VLOOKUP(CONCATENATE(J311,\" SI\"),W$7:W$1196,1,FALSE)=CONCATENATE(J311,\" SI\"),\"\",1))","v":""},null,{"$f":"IF(OR(J311=\"\",G311=\"\"),\"\",IF(VLOOKUP(H311,Tabelle_Fisse!$B$25:$C$29,2,FALSE)=\"ok\",\"\",1))","v":""},{"$nulls":4},""]
[{"$nulls":9},"",{"$f":"IF(J312=\"\",\"\",IF(VLOOKUP(J312,Lotti!B$6:B$596,1,FALSE)=J312,\"\",1))","v":""},null,"",null,{"$f":"IF(J312=\"\",\"\",IF(VLOOKUP(F312,Tabelle_Fisse!$B$33:$C$34,2,FALSE)=\"ok\",\"\",1))","v":""},{"$f":"IF(J312=\"\",\"\",IF(VLOOKUP(CONCATENATE(J312,\" SI\"),W$7:W$1196,1,FALSE)=CONCATENATE(J312,\" SI\"),\"\",1))","v":""},null,{"$f":"IF(OR(J312=\"\",G312=\"\"),\"\",IF(VLOOKUP(H312,Tabelle_Fisse!$B$25:$C$29,2,FALSE)=\"ok\",\"\",1))","v":""},{"$nulls":4},""]
[{"$nulls":9},"",{"$f":"IF(J313=\"\",\"\",IF(VLOOKUP(J313,Lotti!B$6:B$596,1,FALSE)=J313,\"\",1))","v":""},null,"",null,{"$f":"IF(J313=\"\",\"\",IF(VLOOKUP(F313,Tabelle_Fisse!$B$33:$C$34,2,FALSE)=\"ok\",\"\",1))","v":""},{"$f":"IF(J313=\"\",\"\",IF(VLOOKUP(CONCATENATE(J313,\" SI\"),W$7:W$1196,1,FALSE)=CONCATENATE(J313,\" SI\"),\"\",1))","v":""},null,{"$f":"IF(OR(J313=\"\",G313=\"\"),\"\",IF(VLOOKUP(H313,Tabelle_Fisse!$B$25:$C$29,2,FALSE)=\"ok\",\"\",1))","v":""},{"$nulls":4},""]
[{"$nulls":9},"",{"$f":"IF(J314=\"\",\"\",IF(VLOOKUP(J314,Lotti!B$6:B$596,1,FALSE)=J314,\"\",1))","v":""},null,"",null,{"$f":"IF(J314=\"\",\"\",IF(VLOOKUP(F314,Tabelle_Fisse!$B$33:$C$34,2,FALSE)=\"ok\",\"\",1))","v":""},{"$f":"IF(J314=\"\",\"\",IF(VLOOKUP(CONCATENATE(J314,\" SI\"),W$7:W$1196,1,FALSE)=CONCATENATE(J314,\" SI\"),\"\",1))","v":""},null,{"$f":"IF(OR(J314=\"\",G314=\"\"),\"\",IF(VLOOKUP(H314,Tabelle_Fisse!$B$25:$C$29,2,FALSE)=\"ok\",\"\",1))","v":""},{"$nulls":4},""]
[{"$nulls":9},"",{"$f":"IF(J315=\"\",\"\",IF(VLOOKUP(J315,Lotti!B$6:B$596,1,FALSE)=J315,\"\",1))","v":""},null,"",null,{"$f":"IF(J315=\"\",\"\",IF(VLOOKUP(F315,Tabelle_Fisse!$B$33:$C$34,2,FALSE)=\"ok\",\"\",1))","v":""},{"$f":"IF(J315=\"\",\"\",IF(VLOOKUP(CONCATENATE(J315,\" SI\"),W$7:W$1196,1,FALSE)=CONCATENATE(J315,\" SI\"),\"\",1))","v":""},null,{"$f":"IF(OR(J315=\"\",G315=\"\"),\"\",IF(VLOOKUP(H315,Tabelle_Fisse!$B$25:$C$29,2,FALSE)=\"ok\",\"\",1))","v":""},{"$nulls":4},""]
[{"$nulls":9},"",{"$f":"IF(J316=\"\",\"\",IF(VLOOKUP(J316,Lotti!B$6:B$596,1,FALSE)=J316,\"\",1))","v":""},null,"",null,{"$f":"IF(J316=\"\",\"\",IF(VLOOKUP(F316,Tabelle_Fisse!$B$33:$C$34,2,FALSE)=\"ok\",\"\",1))","v":""},{"$f":"IF(J316=\"\",\"\",IF(VLOOKUP(CONCATENATE(J316,\" SI\"),W$7:W$1196,1,FALSE)=CONCATENATE(J316,\" SI\"),\"\",1))","v":""},null,{"$f":"IF(OR(J316=\"\",G316=\"\"),\"\",IF(VLOOKUP(H316,Tabelle_Fisse!$B$25:$C$29,2,FALSE)=\"ok\",\"\",1))","v":""},{"$nulls":4},""]
[{"$nulls":9},"",{"$f":"IF(J317=\"\",\"\",IF(VLOOKUP(J317,Lotti!B$6:B$596,1,FALSE)=J317,\"\",1))","v":""},null,"",null,{"$f":"IF(J317=\"\",\"\",IF(VLOOKUP(F317,Tabelle_Fisse!$B$33:$C$34,2,FALSE)=\"ok\",\"\",1))","v":""},{"$f":"IF(J317=\"\",\"\",IF(VLOOKUP(CONCATENATE(J317,\" SI\"),W$7:W$1196,1,FALSE)=CONCATENATE(J317,\" SI\"),\"\",1))","v":""},null,{"$f":"IF(OR(J317=\"\",G317=\"\"),\"\",IF(VLOOKUP(H317,Tabelle_Fisse!$B$25:$C$29,2,FALSE)=\"ok\",\"\",1))","v":""},{"$nulls":4},""]
[{"$nulls":9},"",{"$f":"IF(J318=\"\",\"\",IF(VLOOKUP(J318,Lotti!B$6:B$596,1,FALSE)=J318,\"\",1))","v":""},null,"",null,{"$f":"IF(J318=\"\",\"\",IF(VLOOKUP(F318,Tabelle_Fisse!$B$33:$C$34,2,FALSE)=\"ok\",\"\",1))","v":""},{"$f":"IF(J318=\"\",\"\",IF(VLOOKUP(CONCATENATE(J318,\" SI\"),W$7:W$1196,1,FALSE)=CONCATENATE(J318,\" SI\"),\"\",1))","v":""},null,{"$f":"IF(OR(J318=\"\",G318=\"\"),\"\",IF(VLOOKUP(H318,Tabelle_Fisse!$B$25:$C$29,2,FALSE)=\"ok\",\"\",1))","v":""},{"$nulls":4},""]
[{"$nulls":9},"",{"$f":"IF(J319=\"\",\"\",IF(VLOOKUP(J319,Lotti!B$6:B$596,1,FALSE)=J319,\"\",1))","v":""},null,"",null,{"$f":"IF(J319=\"\",\"\",IF(VLOOKUP(F319,Tabelle_Fisse!$B$33:$C$34,2,FALSE)=\"ok\",\"\",1))","v":""},{"$f":"IF(J319=\"\",\"\",IF(VLOOKUP(CONCATENATE(J319,\" SI\"),W$7:W$1196,1,FALSE)=CONCATENATE(J319,\" SI\"),\"\",1))","v":""},null,{"$f":"IF(OR(J319=\"\",G319=\"\"),\"\",IF(VLOOKUP(H319,Tabelle_Fisse!$B$25:$C$29,2,FALSE)=\"ok\",\"\",1))","v":""},{"$nulls":4},""]
[{"$nulls":9},"",{"$f":"IF(J320=\"\",\"\",IF(VLOOKUP(J320,Lotti!B$6:B$596,1,FALSE)=J320,\"\",1))","v":""},null,"",null,{"$f":"IF(J320=\"\",\"\",IF(VLOOKUP(F320,Tabelle_Fisse!$B$33:$C$34,2,FALSE)=\"ok\",\"\",1))","v":""},{"$f":"IF(J320=\"\",\"\",IF(VLOOKUP(CONCATENATE(J320,\" SI\"),W$7:W$1196,1,FALSE)=CONCATENATE(J320,\" SI\"),\"\",1))","v":""},null,{"$f":"IF(OR(J320=\"\",G320=\"\"),\"\",IF(VLOOKUP(H320,Tabelle_Fisse!$B$25:$C$29,2,FALSE)=\"ok\",\"\",1))","v":""},{"$nulls":4},""]
[{"$nulls":9},"",{"$f":"IF(J321=\"\",\"\",IF(VLOOKUP(J321,Lotti!B$6:B$596,1,FALSE)=J321,\"\",1))","v":""},null,"",null,{"$f":"IF(J321=\"\",\"\",IF(VLOOKUP(F321,Tabelle_Fisse!$B$33:$C$34,2,FALSE)=\"ok\",\"\",1))","v":""},{"$f":"IF(J321=\"\",\"\",IF(VLOOKUP(CONCATENATE(J321,\" SI\"),W$7:W$1196,1,FALSE)=CONCATENATE(J321,\" SI\"),\"\",1))","v":""},null,{"$f":"IF(OR(J321=\"\",G321=\"\"),\"\",IF(VLOOKUP(H321,Tabelle_Fisse!$B$25:$C$29,2,FALSE)=\"ok\",\"\",1))","v":""},{"$nulls":4},""]
[{"$nulls":9},"",{"$f":"IF(J322=\"\",\"\",IF(VLOOKUP(J322,Lotti!B$6:B$596,1,FALSE)=J322,\"\",1))","v":""},null,"",null,{"$f":"IF(J322=\"\",\"\",IF(VLOOKUP(F322,Tabelle_Fisse!$B$33:$C$34,2,FALSE)=\"ok\",\"\",1))","v":""},{"$f":"IF(J322=\"\",\"\",IF(VLOOKUP(CONCATENATE(J322,\" SI\"),W$7:W$1196,1,FALSE)=CONCATENATE(J322,\" SI\"),\"\",1))","v":""},null,{"$f":"IF(OR(J322=\"\",G322=\"\"),\"\",IF(VLOOKUP(H322,Tabelle_Fisse!$B$25:$C$29,2,FALSE)=\"ok\",\"\",1))","v":""},{"$nulls":4},""]
[{"$nulls":9},"",{"$f":"IF(J323=\"\",\"\",IF(VLOOKUP(J323,Lotti!B$6:B$596,1,FALSE)=J323,\"\",1))","v":""},null,"",null,{"$f":"IF(J323=\"\",\"\",IF(VLOOKUP(F323,Tabelle_Fisse!$B$33:$C$34,2,FALSE)=\"ok\",\"\",1))","v":""},{"$f":"IF(J323=\"\",\"\",IF(VLOOKUP(CONCATENATE(J323,\" SI\"),W$7:W$1196,1,FALSE)=CONCATENATE(J323,\" SI\"),\"\",1))","v":""},null,{"$f":"IF(OR(J323=\"\",G323=\"\"),\"\",IF(VLOOKUP(H323,Tabelle_Fisse!$B$25:$C$29,2,FALSE)=\"ok\",\"\",1))","v":""},{"$nulls":4},""]
[{"$nulls":9},{"$f":"TRIM(B324)","v":""},{"$f":"IF(J324=\"\",\"\",IF(VLOOKUP(J324,Lotti!B$6:B$596,1,FALSE)=J324,\"\",1))","v":""},null,{"$f":"IF(J324=\"\",\"\",IF(OR(AND(E324=\"\",LEN(D324)<>11,LEN(D324)<>16),AND(D324=\"\",E324=\"\"),AND(D324<>\"\",E324<>\"\")),1,\"\"))","v":""},null,{"$f":"IF(J324=\"\",\"\",IF(VLOOKUP(F324,Tabelle_Fisse!$B$33:$C$34,2,FALSE)=\"ok\",\"\",1))","v":""},{"$f":"IF(J324=\"\",\"\",IF(VLOOKUP(CONCATENATE(J324,\" SI\"),W$7:W$1196,1,FALSE)=CONCATENATE(J324,\" SI\"),\"\",1))","v":""},null,{"$f":"IF(OR(J324=\"\",G324=\"\"),\"\",IF(VLOOKUP(H324,Tabelle_Fisse!$B$25:$C$29,2,FALSE)=\"ok\",\"\",1))","v":""},{"$nulls":4},{"$f":"IF(J324=\"\",\"\",CONCATENATE(J324,\" \",F324))","v":""}]
[{"$nulls":9},"",{"$f":"IF(J325=\"\",\"\",IF(VLOOKUP(J325,Lotti!B$6:B$596,1,FALSE)=J325,\"\",1))","v":""},null,"",null,{"$f":"IF(J325=\"\",\"\",IF(VLOOKUP(F325,Tabelle_Fisse!$B$33:$C$34,2,FALSE)=\"ok\",\"\",1))","v":""},{"$f":"IF(J325=\"\",\"\",IF(VLOOKUP(CONCATENATE(J325,\" SI\"),W$7:W$1196,1,FALSE)=CONCATENATE(J325,\" SI\"),\"\",1))","v":""},null,{"$f":"IF(OR(J325=\"\",G325=\"\"),\"\",IF(VLOOKUP(H325,Tabelle_Fisse!$B$25:$C$29,2,FALSE)=\"ok\",\"\",1))","v":""},{"$nulls":4},""]
[{"$nulls":9},"",{"$f":"IF(J326=\"\",\"\",IF(VLOOKUP(J326,Lotti!B$6:B$596,1,FALSE)=J326,\"\",1))","v":""},null,"",null,{"$f":"IF(J326=\"\",\"\",IF(VLOOKUP(F326,Tabelle_Fisse!$B$33:$C$34,2,FALSE)=\"ok\",\"\",1))","v":""},{"$f":"IF(J326=\"\",\"\",IF(VLOOKUP(CONCATENATE(J326,\" SI\"),W$7:W$1196,1,FALSE)=CONCATENATE(J326,\" SI\"),\"\",1))","v":""},null,{"$f":"IF(OR(J326=\"\",G326=\"\"),\"\",IF(VLOOKUP(H326,Tabelle_Fisse!$B$25:$C$29,2,FALSE)=\"ok\",\"\",1))","v":""},{"$nulls":4},""]
[{"$nulls":9},"",{"$f":"IF(J327=\"\",\"\",IF(VLOOKUP(J327,Lotti!B$6:B$596,1,FALSE)=J327,\"\",1))","v":""},null,"",null,{"$f":"IF(J327=\"\",\"\",IF(VLOOKUP(F327,Tabelle_Fisse!$B$33:$C$34,2,FALSE)=\"ok\",\"\",1))","v":""},{"$f":"IF(J327=\"\",\"\",IF(VLOOKUP(CONCATENATE(J327,\" SI\"),W$7:W$1196,1,FALSE)=CONCATENATE(J327,\" SI\"),\"\",1))","v":""},null,{"$f":"IF(OR(J327=\"\",G327=\"\"),\"\",IF(VLOOKUP(H327,Tabelle_Fisse!$B$25:$C$29,2,FALSE)=\"ok\",\"\",1))","v":""},{"$nulls":4},""]
[{"$nulls":9},"",{"$f":"IF(J328=\"\",\"\",IF(VLOOKUP(J328,Lotti!B$6:B$596,1,FALSE)=J328,\"\",1))","v":""},null,"",null,{"$f":"IF(J328=\"\",\"\",IF(VLOOKUP(F328,Tabelle_Fisse!$B$33:$C$34,2,FALSE)=\"ok\",\"\",1))","v":""},{"$f":"IF(J328=\"\",\"\",IF(VLOOKUP(CONCATENATE(J328,\" SI\"),W$7:W$1196,1,FALSE)=CONCATENATE(J328,\" SI\"),\"\",1))","v":""},null,{"$f":"IF(OR(J328=\"\",G328=\"\"),\"\",IF(VLOOKUP(H328,Tabelle_Fisse!$B$25:$C$29,2,FALSE)=\"ok\",\"\",1))","v":""},{"$nulls":4},""]
[{"$nulls":9},"",{"$f":"IF(J329=\"\",\"\",IF(VLOOKUP(J329,Lotti!B$6:B$596,1,FALSE)=J329,\"\",1))","v":""},null,"",null,{"$f":"IF(J329=\"\",\"\",IF(VLOOKUP(F329,Tabelle_Fisse!$B$33:$C$34,2,FALSE)=\"ok\",\"\",1))","v":""},{"$f":"IF(J329=\"\",\"\",IF(VLOOKUP(CONCATENATE(J329,\" SI\"),W$7:W$1196,1,FALSE)=CONCATENATE(J329,\" SI\"),\"\",1))","v":""},null,{"$f":"IF(OR(J329=\"\",G329=\"\"),\"\",IF(VLOOKUP(H329,Tabelle_Fisse!$B$25:$C$29,2,FALSE)=\"ok\",\"\",1))","v":""},{"$nulls":4},""]
[{"$nulls":9},"",{"$f":"IF(J330=\"\",\"\",IF(VLOOKUP(J330,Lotti!B$6:B$596,1,FALSE)=J330,\"\",1))","v":""},null,"",null,{"$f":"IF(J330=\"\",\"\",IF(VLOOKUP(F330,Tabelle_Fisse!$B$33:$C$34,2,FALSE)=\"ok\",\"\",1))","v":""},{"$f":"IF(J330=\"\",\"\",IF(VLOOKUP(CONCATENATE(J330,\" SI\"),W$7:W$1196,1,FALSE)=CONCATENATE(J330,\" SI\"),\"\",1))","v":""},null,{"$f":"IF(OR(J330=\"\",G330=\"\"),\"\",IF(VLOOKUP(H330,Tabelle_Fisse!$B$25:$C$29,2,FALSE)=\"ok\",\"\",1))","v":""},{"$nulls":4},""]
[{"$nulls":9},"",{"$f":"IF(J331=\"\",\"\",IF(VLOOKUP(J331,Lotti!B$6:B$596,1,FALSE)=J331,\"\",1))","v":""},null,"",null,{"$f":"IF(J331=\"\",\"\",IF(VLOOKUP(F331,Tabelle_Fisse!$B$33:$C$34,2,FALSE)=\"ok\",\"\",1))","v":""},{"$f":"IF(J331=\"\",\"\",IF(VLOOKUP(CONCATENATE(J331,\" SI\"),W$7:W$1196,1,FALSE)=CONCATENATE(J331,\" SI\"),\"\",1))","v":""},null,{"$f":"IF(OR(J331=\"\",G331=\"\"),\"\",IF(VLOOKUP(H331,Tabelle_Fisse!$B$25:$C$29,2,FALSE)=\"ok\",\"\",1))","v":""},{"$nulls":4},""]
[{"$nulls":9},"",{"$f":"IF(J332=\"\",\"\",IF(VLOOKUP(J332,Lotti!B$6:B$596,1,FALSE)=J332,\"\",1))","v":""},null,"",null,{"$f":"IF(J332=\"\",\"\",IF(VLOOKUP(F332,Tabelle_Fisse!$B$33:$C$34,2,FALSE)=\"ok\",\"\",1))","v":""},{"$f":"IF(J332=\"\",\"\",IF(VLOOKUP(CONCATENATE(J332,\" SI\"),W$7:W$1196,1,FALSE)=CONCATENATE(J332,\" SI\"),\"\",1))","v":""},null,{"$f":"IF(OR(J332=\"\",G332=\"\"),\"\",IF(VLOOKUP(H332,Tabelle_Fisse!$B$25:$C$29,2,FALSE)=\"ok\",\"\",1))","v":""},{"$nulls":4},""]
[{"$nulls":9},"",{"$f":"IF(J333=\"\",\"\",IF(VLOOKUP(J333,Lotti!B$6:B$596,1,FALSE)=J333,\"\",1))","v":""},null,"",null,{"$f":"IF(J333=\"\",\"\",IF(VLOOKUP(F333,Tabelle_Fisse!$B$33:$C$34,2,FALSE)=\"ok\",\"\",1))","v":""},{"$f":"IF(J333=\"\",\"\",IF(VLOOKUP(CONCATENATE(J333,\" SI\"),W$7:W$1196,1,FALSE)=CONCATENATE(J333,\" SI\"),\"\",1))","v":""},null,{"$f":"IF(OR(J333=\"\",G333=\"\"),\"\",IF(VLOOKUP(H333,Tabelle_Fisse!$B$25:$C$29,2,FALSE)=\"ok\",\"\",1))","v":""},{"$nulls":4},""]
[{"$nulls":9},"",{"$f":"IF(J334=\"\",\"\",IF(VLOOKUP(J334,Lotti!B$6:B$596,1,FALSE)=J334,\"\",1))","v":""},null,"",null,{"$f":"IF(J334=\"\",\"\",IF(VLOOKUP(F334,Tabelle_Fisse!$B$33:$C$34,2,FALSE)=\"ok\",\"\",1))","v":""},{"$f":"IF(J334=\"\",\"\",IF(VLOOKUP(CONCATENATE(J334,\" SI\"),W$7:W$1196,1,FALSE)=CONCATENATE(J334,\" SI\"),\"\",1))","v":""},null,{"$f":"IF(OR(J334=\"\",G334=\"\"),\"\",IF(VLOOKUP(H334,Tabelle_Fisse!$B$25:$C$29,2,FALSE)=\"ok\",\"\",1))","v":""},{"$nulls":4},""]
[{"$nulls":9},"",{"$f":"IF(J335=\"\",\"\",IF(VLOOKUP(J335,Lotti!B$6:B$596,1,FALSE)=J335,\"\",1))","v":""},null,"",null,{"$f":"IF(J335=\"\",\"\",IF(VLOOKUP(F335,Tabelle_Fisse!$B$33:$C$34,2,FALSE)=\"ok\",\"\",1))","v":""},{"$f":"IF(J335=\"\",\"\",IF(VLOOKUP(CONCATENATE(J335,\" SI\"),W$7:W$1196,1,FALSE)=CONCATENATE(J335,\" SI\"),\"\",1))","v":""},null,{"$f":"IF(OR(J335=\"\",G335=\"\"),\"\",IF(VLOOKUP(H335,Tabelle_Fisse!$B$25:$C$29,2,FALSE)=\"ok\",\"\",1))","v":""},{"$nulls":4},""]
[{"$nulls":9},"",{"$f":"IF(J336=\"\",\"\",IF(VLOOKUP(J336,Lotti!B$6:B$596,1,FALSE)=J336,\"\",1))","v":""},null,"",null,{"$f":"IF(J336=\"\",\"\",IF(VLOOKUP(F336,Tabelle_Fisse!$B$33:$C$34,2,FALSE)=\"ok\",\"\",1))","v":""},{"$f":"IF(J336=\"\",\"\",IF(VLOOKUP(CONCATENATE(J336,\" SI\"),W$7:W$1196,1,FALSE)=CONCATENATE(J336,\" SI\"),\"\",1))","v":""},null,{"$f":"IF(OR(J336=\"\",G336=\"\"),\"\",IF(VLOOKUP(H336,Tabelle_Fisse!$B$25:$C$29,2,FALSE)=\"ok\",\"\",1))","v":""},{"$nulls":4},""]
[{"$nulls":9},"",{"$f":"IF(J337=\"\",\"\",IF(VLOOKUP(J337,Lotti!B$6:B$596,1,FALSE)=J337,\"\",1))","v":""},null,"",null,{"$f":"IF(J337=\"\",\"\",IF(VLOOKUP(F337,Tabelle_Fisse!$B$33:$C$34,2,FALSE)=\"ok\",\"\",1))","v":""},{"$f":"IF(J337=\"\",\"\",IF(VLOOKUP(CONCATENATE(J337,\" SI\"),W$7:W$1196,1,FALSE)=CONCATENATE(J337,\" SI\"),\"\",1))","v":""},null,{"$f":"IF(OR(J337=\"\",G337=\"\"),\"\",IF(VLOOKUP(H337,Tabelle_Fisse!$B$25:$C$29,2,FALSE)=\"ok\",\"\",1))","v":""},{"$nulls":4},""]
[{"$nulls":9},"",{"$f":"IF(J338=\"\",\"\",IF(VLOOKUP(J338,Lotti!B$6:B$596,1,FALSE)=J338,\"\",1))","v":""},null,"",null,{"$f":"IF(J338=\"\",\"\",IF(VLOOKUP(F338,Tabelle_Fisse!$B$33:$C$34,2,FALSE)=\"ok\",\"\",1))","v":""},{"$f":"IF(J338=\"\",\"\",IF(VLOOKUP(CONCATENATE(J338,\" SI\"),W$7:W$1196,1,FALSE)=CONCATENATE(J338,\" SI\"),\"\",1))","v":""},null,{"$f":"IF(OR(J338=\"\",G338=\"\"),\"\",IF(VLOOKUP(H338,Tabelle_Fisse!$B$25:$C$29,2,FALSE)=\"ok\",\"\",1))","v":""},{"$nulls":4},""]
[{"$nulls":9},"",{"$f":"IF(J339=\"\",\"\",IF(VLOOKUP(J339,Lotti!B$6:B$596,1,FALSE)=J339,\"\",1))","v":""},null,"",null,{"$f":"IF(J339=\"\",\"\",IF(VLOOKUP(F339,Tabelle_Fisse!$B$33:$C$34,2,FALSE)=\"ok\",\"\",1))","v":""},{"$f":"IF(J339=\"\",\"\",IF(VLOOKUP(CONCATENATE(J339,\" SI\"),W$7:W$1196,1,FALSE)=CONCATENATE(J339,\" SI\"),\"\",1))","v":""},null,{"$f":"IF(OR(J339=\"\",G339=\"\"),\"\",IF(VLOOKUP(H339,Tabelle_Fisse!$B$25:$C$29,2,FALSE)=\"ok\",\"\",1))","v":""},{"$nulls":4},""]
[{"$nulls":9},"",{"$f":"IF(J340=\"\",\"\",IF(VLOOKUP(J340,Lotti!B$6:B$596,1,FALSE)=J340,\"\",1))","v":""},null,"",null,{"$f":"IF(J340=\"\",\"\",IF(VLOOKUP(F340,Tabelle_Fisse!$B$33:$C$34,2,FALSE)=\"ok\",\"\",1))","v":""},{"$f":"IF(J340=\"\",\"\",IF(VLOOKUP(CONCATENATE(J340,\" SI\"),W$7:W$1196,1,FALSE)=CONCATENATE(J340,\" SI\"),\"\",1))","v":""},null,{"$f":"IF(OR(J340=\"\",G340=\"\"),\"\",IF(VLOOKUP(H340,Tabelle_Fisse!$B$25:$C$29,2,FALSE)=\"ok\",\"\",1))","v":""},{"$nulls":4},""]
[{"$nulls":9},"",{"$f":"IF(J341=\"\",\"\",IF(VLOOKUP(J341,Lotti!B$6:B$596,1,FALSE)=J341,\"\",1))","v":""},null,"",null,{"$f":"IF(J341=\"\",\"\",IF(VLOOKUP(F341,Tabelle_Fisse!$B$33:$C$34,2,FALSE)=\"ok\",\"\",1))","v":""},{"$f":"IF(J341=\"\",\"\",IF(VLOOKUP(CONCATENATE(J341,\" SI\"),W$7:W$1196,1,FALSE)=CONCATENATE(J341,\" SI\"),\"\",1))","v":""},null,{"$f":"IF(OR(J341=\"\",G341=\"\"),\"\",IF(VLOOKUP(H341,Tabelle_Fisse!$B$25:$C$29,2,FALSE)=\"ok\",\"\",1))","v":""},{"$nulls":4},""]
[{"$nulls":9},"",{"$f":"IF(J342=\"\",\"\",IF(VLOOKUP(J342,Lotti!B$6:B$596,1,FALSE)=J342,\"\",1))","v":""},null,"",null,{"$f":"IF(J342=\"\",\"\",IF(VLOOKUP(F342,Tabelle_Fisse!$B$33:$C$34,2,FALSE)=\"ok\",\"\",1))","v":""},{"$f":"IF(J342=\"\",\"\",IF(VLOOKUP(CONCATENATE(J342,\" SI\"),W$7:W$1196,1,FALSE)=CONCATENATE(J342,\" SI\"),\"\",1))","v":""},null,{"$f":"IF(OR(J342=\"\",G342=\"\"),\"\",IF(VLOOKUP(H342,Tabelle_Fisse!$B$25:$C$29,2,FALSE)=\"ok\",\"\",1))","v":""},{"$nulls":4},""]
[{"$nulls":9},"",{"$f":"IF(J343=\"\",\"\",IF(VLOOKUP(J343,Lotti!B$6:B$596,1,FALSE)=J343,\"\",1))","v":""},null,"",null,{"$f":"IF(J343=\"\",\"\",IF(VLOOKUP(F343,Tabelle_Fisse!$B$33:$C$34,2,FALSE)=\"ok\",\"\",1))","v":""},{"$f":"IF(J343=\"\",\"\",IF(VLOOKUP(CONCATENATE(J343,\" SI\"),W$7:W$1196,1,FALSE)=CONCATENATE(J343,\" SI\"),\"\",1))","v":""},null,{"$f":"IF(OR(J343=\"\",G343=\"\"),\"\",IF(VLOOKUP(H343,Tabelle_Fisse!$B$25:$C$29,2,FALSE)=\"ok\",\"\",1))","v":""},{"$nulls":4},""]
[{"$nulls":9},"",{"$f":"IF(J344=\"\",\"\",IF(VLOOKUP(J344,Lotti!B$6:B$596,1,FALSE)=J344,\"\",1))","v":""},null,"",null,{"$f":"IF(J344=\"\",\"\",IF(VLOOKUP(F344,Tabelle_Fisse!$B$33:$C$34,2,FALSE)=\"ok\",\"\",1))","v":""},{"$f":"IF(J344=\"\",\"\",IF(VLOOKUP(CONCATENATE(J344,\" SI\"),W$7:W$1196,1,FALSE)=CONCATENATE(J344,\" SI\"),\"\",1))","v":""},null,{"$f":"IF(OR(J344=\"\",G344=\"\"),\"\",IF(VLOOKUP(H344,Tabelle_Fisse!$B$25:$C$29,2,FALSE)=\"ok\",\"\",1))","v":""},{"$nulls":4},""]
[{"$nulls":9},"",{"$f":"IF(J345=\"\",\"\",IF(VLOOKUP(J345,Lotti!B$6:B$596,1,FALSE)=J345,\"\",1))","v":""},null,"",null,{"$f":"IF(J345=\"\",\"\",IF(VLOOKUP(F345,Tabelle_Fisse!$B$33:$C$34,2,FALSE)=\"ok\",\"\",1))","v":""},{"$f":"IF(J345=\"\",\"\",IF(VLOOKUP(CONCATENATE(J345,\" SI\"),W$7:W$1196,1,FALSE)=CONCATENATE(J345,\" SI\"),\"\",1))","v":""},null,{"$f":"IF(OR(J345=\"\",G345=\"\"),\"\",IF(VLOOKUP(H345,Tabelle_Fisse!$B$25:$C$29,2,FALSE)=\"ok\",\"\",1))","v":""},{"$nulls":4},""]
[{"$nulls":9},"",{"$f":"IF(J346=\"\",\"\",IF(VLOOKUP(J346,Lotti!B$6:B$596,1,FALSE)=J346,\"\",1))","v":""},null,"",null,{"$f":"IF(J346=\"\",\"\",IF(VLOOKUP(F346,Tabelle_Fisse!$B$33:$C$34,2,FALSE)=\"ok\",\"\",1))","v":""},{"$f":"IF(J346=\"\",\"\",IF(VLOOKUP(CONCATENATE(J346,\" SI\"),W$7:W$1196,1,FALSE)=CONCATENATE(J346,\" SI\"),\"\",1))","v":""},null,{"$f":"IF(OR(J346=\"\",G346=\"\"),\"\",IF(VLOOKUP(H346,Tabelle_Fisse!$B$25:$C$29,2,FALSE)=\"ok\",\"\",1))","v":""},{"$nulls":4},""]
[{"$nulls":9},"",{"$f":"IF(J347=\"\",\"\",IF(VLOOKUP(J347,Lotti!B$6:B$596,1,FALSE)=J347,\"\",1))","v":""},null,"",null,{"$f":"IF(J347=\"\",\"\",IF(VLOOKUP(F347,Tabelle_Fisse!$B$33:$C$34,2,FALSE)=\"ok\",\"\",1))","v":""},{"$f":"IF(J347=\"\",\"\",IF(VLOOKUP(CONCATENATE(J347,\" SI\"),W$7:W$1196,1,FALSE)=CONCATENATE(J347,\" SI\"),\"\",1))","v":""},null,{"$f":"IF(OR(J347=\"\",G347=\"\"),\"\",IF(VLOOKUP(H347,Tabelle_Fisse!$B$25:$C$29,2,FALSE)=\"ok\",\"\",1))","v":""},{"$nulls":4},""]
[{"$nulls":9},"",{"$f":"IF(J348=\"\",\"\",IF(VLOOKUP(J348,Lotti!B$6:B$596,1,FALSE)=J348,\"\",1))","v":""},null,"",null,{"$f":"IF(J348=\"\",\"\",IF(VLOOKUP(F348,Tabelle_Fisse!$B$33:$C$34,2,FALSE)=\"ok\",\"\",1))","v":""},{"$f":"IF(J348=\"\",\"\",IF(VLOOKUP(CONCATENATE(J348,\" SI\"),W$7:W$1196,1,FALSE)=CONCATENATE(J348,\" SI\"),\"\",1))","v":""},null,{"$f":"IF(OR(J348=\"\",G348=\"\"),\"\",IF(VLOOKUP(H348,Tabelle_Fisse!$B$25:$C$29,2,FALSE)=\"ok\",\"\",1))","v":""},{"$nulls":4},""]
[{"$nulls":9},"",{"$f":"IF(J349=\"\",\"\",IF(VLOOKUP(J349,Lotti!B$6:B$596,1,FALSE)=J349,\"\",1))","v":""},null,"",null,{"$f":"IF(J349=\"\",\"\",IF(VLOOKUP(F349,Tabelle_Fisse!$B$33:$C$34,2,FALSE)=\"ok\",\"\",1))","v":""},{"$f":"IF(J349=\"\",\"\",IF(VLOOKUP(CONCATENATE(J349,\" SI\"),W$7:W$1196,1,FALSE)=CONCATENATE(J349,\" SI\"),\"\",1))","v":""},null,{"$f":"IF(OR(J349=\"\",G349=\"\"),\"\",IF(VLOOKUP(H349,Tabelle_Fisse!$B$25:$C$29,2,FALSE)=\"ok\",\"\",1))","v":""},{"$nulls":4},""]
[{"$nulls":9},"",{"$f":"IF(J350=\"\",\"\",IF(VLOOKUP(J350,Lotti!B$6:B$596,1,FALSE)=J350,\"\",1))","v":""},null,"",null,{"$f":"IF(J350=\"\",\"\",IF(VLOOKUP(F350,Tabelle_Fisse!$B$33:$C$34,2,FALSE)=\"ok\",\"\",1))","v":""},{"$f":"IF(J350=\"\",\"\",IF(VLOOKUP(CONCATENATE(J350,\" SI\"),W$7:W$1196,1,FALSE)=CONCATENATE(J350,\" SI\"),\"\",1))","v":""},null,{"$f":"IF(OR(J350=\"\",G350=\"\"),\"\",IF(VLOOKUP(H350,Tabelle_Fisse!$B$25:$C$29,2,FALSE)=\"ok\",\"\",1))","v":""},{"$nulls":4},""]
[{"$nulls":9},"",{"$f":"IF(J351=\"\",\"\",IF(VLOOKUP(J351,Lotti!B$6:B$596,1,FALSE)=J351,\"\",1))","v":""},null,"",null,{"$f":"IF(J351=\"\",\"\",IF(VLOOKUP(F351,Tabelle_Fisse!$B$33:$C$34,2,FALSE)=\"ok\",\"\",1))","v":""},{"$f":"IF(J351=\"\",\"\",IF(VLOOKUP(CONCATENATE(J351,\" SI\"),W$7:W$1196,1,FALSE)=CONCATENATE(J351,\" SI\"),\"\",1))","v":""},null,{"$f":"IF(OR(J351=\"\",G351=\"\"),\"\",IF(VLOOKUP(H351,Tabelle_Fisse!$B$25:$C$29,2,FALSE)=\"ok\",\"\",1))","v":""},{"$nulls":4},""]
[{"$nulls":9},"",{"$f":"IF(J352=\"\",\"\",IF(VLOOKUP(J352,Lotti!B$6:B$596,1,FALSE)=J352,\"\",1))","v":""},null,"",null,{"$f":"IF(J352=\"\",\"\",IF(VLOOKUP(F352,Tabelle_Fisse!$B$33:$C$34,2,FALSE)=\"ok\",\"\",1))","v":""},{"$f":"IF(J352=\"\",\"\",IF(VLOOKUP(CONCATENATE(J352,\" SI\"),W$7:W$1196,1,FALSE)=CONCATENATE(J352,\" SI\"),\"\",1))","v":""},null,{"$f":"IF(OR(J352=\"\",G352=\"\"),\"\",IF(VLOOKUP(H352,Tabelle_Fisse!$B$25:$C$29,2,FALSE)=\"ok\",\"\",1))","v":""},{"$nulls":4},""]
[{"$nulls":9},"",{"$f":"IF(J353=\"\",\"\",IF(VLOOKUP(J353,Lotti!B$6:B$596,1,FALSE)=J353,\"\",1))","v":""},null,"",null,{"$f":"IF(J353=\"\",\"\",IF(VLOOKUP(F353,Tabelle_Fisse!$B$33:$C$34,2,FALSE)=\"ok\",\"\",1))","v":""},{"$f":"IF(J353=\"\",\"\",IF(VLOOKUP(CONCATENATE(J353,\" SI\"),W$7:W$1196,1,FALSE)=CONCATENATE(J353,\" SI\"),\"\",1))","v":""},null,{"$f":"IF(OR(J353=\"\",G353=\"\"),\"\",IF(VLOOKUP(H353,Tabelle_Fisse!$B$25:$C$29,2,FALSE)=\"ok\",\"\",1))","v":""},{"$nulls":4},""]
[{"$nulls":9},"",{"$f":"IF(J354=\"\",\"\",IF(VLOOKUP(J354,Lotti!B$6:B$596,1,FALSE)=J354,\"\",1))","v":""},null,"",null,{"$f":"IF(J354=\"\",\"\",IF(VLOOKUP(F354,Tabelle_Fisse!$B$33:$C$34,2,FALSE)=\"ok\",\"\",1))","v":""},{"$f":"IF(J354=\"\",\"\",IF(VLOOKUP(CONCATENATE(J354,\" SI\"),W$7:W$1196,1,FALSE)=CONCATENATE(J354,\" SI\"),\"\",1))","v":""},null,{"$f":"IF(OR(J354=\"\",G354=\"\"),\"\",IF(VLOOKUP(H354,Tabelle_Fisse!$B$25:$C$29,2,FALSE)=\"ok\",\"\",1))","v":""},{"$nulls":4},""]
[{"$nulls":9},"",{"$f":"IF(J355=\"\",\"\",IF(VLOOKUP(J355,Lotti!B$6:B$596,1,FALSE)=J355,\"\",1))","v":""},null,"",null,{"$f":"IF(J355=\"\",\"\",IF(VLOOKUP(F355,Tabelle_Fisse!$B$33:$C$34,2,FALSE)=\"ok\",\"\",1))","v":""},{"$f":"IF(J355=\"\",\"\",IF(VLOOKUP(CONCATENATE(J355,\" SI\"),W$7:W$1196,1,FALSE)=CONCATENATE(J355,\" SI\"),\"\",1))","v":""},null,{"$f":"IF(OR(J355=\"\",G355=\"\"),\"\",IF(VLOOKUP(H355,Tabelle_Fisse!$B$25:$C$29,2,FALSE)=\"ok\",\"\",1))","v":""},{"$nulls":4},""]
[{"$nulls":9},"",{"$f":"IF(J356=\"\",\"\",IF(VLOOKUP(J356,Lotti!B$6:B$596,1,FALSE)=J356,\"\",1))","v":""},null,"",null,{"$f":"IF(J356=\"\",\"\",IF(VLOOKUP(F356,Tabelle_Fisse!$B$33:$C$34,2,FALSE)=\"ok\",\"\",1))","v":""},{"$f":"IF(J356=\"\",\"\",IF(VLOOKUP(CONCATENATE(J356,\" SI\"),W$7:W$1196,1,FALSE)=CONCATENATE(J356,\" SI\"),\"\",1))","v":""},null,{"$f":"IF(OR(J356=\"\",G356=\"\"),\"\",IF(VLOOKUP(H356,Tabelle_Fisse!$B$25:$C$29,2,FALSE)=\"ok\",\"\",1))","v":""},{"$nulls":4},""]
[{"$nulls":9},"",{"$f":"IF(J357=\"\",\"\",IF(VLOOKUP(J357,Lotti!B$6:B$596,1,FALSE)=J357,\"\",1))","v":""},null,"",null,{"$f":"IF(J357=\"\",\"\",IF(VLOOKUP(F357,Tabelle_Fisse!$B$33:$C$34,2,FALSE)=\"ok\",\"\",1))","v":""},{"$f":"IF(J357=\"\",\"\",IF(VLOOKUP(CONCATENATE(J357,\" SI\"),W$7:W$1196,1,FALSE)=CONCATENATE(J357,\" SI\"),\"\",1))","v":""},null,{"$f":"IF(OR(J357=\"\",G357=\"\"),\"\",IF(VLOOKUP(H357,Tabelle_Fisse!$B$25:$C$29,2,FALSE)=\"ok\",\"\",1))","v":""},{"$nulls":4},""]
[{"$nulls":9},"",{"$f":"IF(J358=\"\",\"\",IF(VLOOKUP(J358,Lotti!B$6:B$596,1,FALSE)=J358,\"\",1))","v":""},null,"",null,{"$f":"IF(J358=\"\",\"\",IF(VLOOKUP(F358,Tabelle_Fisse!$B$33:$C$34,2,FALSE)=\"ok\",\"\",1))","v":""},{"$f":"IF(J358=\"\",\"\",IF(VLOOKUP(CONCATENATE(J358,\" SI\"),W$7:W$1196,1,FALSE)=CONCATENATE(J358,\" SI\"),\"\",1))","v":""},null,{"$f":"IF(OR(J358=\"\",G358=\"\"),\"\",IF(VLOOKUP(H358,Tabelle_Fisse!$B$25:$C$29,2,FALSE)=\"ok\",\"\",1))","v":""},{"$nulls":4},""]
[{"$nulls":9},"",{"$f":"IF(J359=\"\",\"\",IF(VLOOKUP(J359,Lotti!B$6:B$596,1,FALSE)=J359,\"\",1))","v":""},null,"",null,{"$f":"IF(J359=\"\",\"\",IF(VLOOKUP(F359,Tabelle_Fisse!$B$33:$C$34,2,FALSE)=\"ok\",\"\",1))","v":""},{"$f":"IF(J359=\"\",\"\",IF(VLOOKUP(CONCATENATE(J359,\" SI\"),W$7:W$1196,1,FALSE)=CONCATENATE(J359,\" SI\"),\"\",1))","v":""},null,{"$f":"IF(OR(J359=\"\",G359=\"\"),\"\",IF(VLOOKUP(H359,Tabelle_Fisse!$B$25:$C$29,2,FALSE)=\"ok\",\"\",1))","v":""},{"$nulls":4},""]
[{"$nulls":9},"",{"$f":"IF(J360=\"\",\"\",IF(VLOOKUP(J360,Lotti!B$6:B$596,1,FALSE)=J360,\"\",1))","v":""},null,"",null,{"$f":"IF(J360=\"\",\"\",IF(VLOOKUP(F360,Tabelle_Fisse!$B$33:$C$34,2,FALSE)=\"ok\",\"\",1))","v":""},{"$f":"IF(J360=\"\",\"\",IF(VLOOKUP(CONCATENATE(J360,\" SI\"),W$7:W$1196,1,FALSE)=CONCATENATE(J360,\" SI\"),\"\",1))","v":""},null,{"$f":"IF(OR(J360=\"\",G360=\"\"),\"\",IF(VLOOKUP(H360,Tabelle_Fisse!$B$25:$C$29,2,FALSE)=\"ok\",\"\",1))","v":""},{"$nulls":4},""]
[{"$nulls":9},"",{"$f":"IF(J361=\"\",\"\",IF(VLOOKUP(J361,Lotti!B$6:B$596,1,FALSE)=J361,\"\",1))","v":""},null,"",null,{"$f":"IF(J361=\"\",\"\",IF(VLOOKUP(F361,Tabelle_Fisse!$B$33:$C$34,2,FALSE)=\"ok\",\"\",1))","v":""},{"$f":"IF(J361=\"\",\"\",IF(VLOOKUP(CONCATENATE(J361,\" SI\"),W$7:W$1196,1,FALSE)=CONCATENATE(J361,\" SI\"),\"\",1))","v":""},null,{"$f":"IF(OR(J361=\"\",G361=\"\"),\"\",IF(VLOOKUP(H361,Tabelle_Fisse!$B$25:$C$29,2,FALSE)=\"ok\",\"\",1))","v":""},{"$nulls":4},""]
[{"$nulls":9},"",{"$f":"IF(J362=\"\",\"\",IF(VLOOKUP(J362,Lotti!B$6:B$596,1,FALSE)=J362,\"\",1))","v":""},null,"",null,{"$f":"IF(J362=\"\",\"\",IF(VLOOKUP(F362,Tabelle_Fisse!$B$33:$C$34,2,FALSE)=\"ok\",\"\",1))","v":""},{"$f":"IF(J362=\"\",\"\",IF(VLOOKUP(CONCATENATE(J362,\" SI\"),W$7:W$1196,1,FALSE)=CONCATENATE(J362,\" SI\"),\"\",1))","v":""},null,{"$f":"IF(OR(J362=\"\",G362=\"\"),\"\",IF(VLOOKUP(H362,Tabelle_Fisse!$B$25:$C$29,2,FALSE)=\"ok\",\"\",1))","v":""},{"$nulls":4},""]
[{"$nulls":9},"",{"$f":"IF(J363=\"\",\"\",IF(VLOOKUP(J363,Lotti!B$6:B$596,1,FALSE)=J363,\"\",1))","v":""},null,"",null,{"$f":"IF(J363=\"\",\"\",IF(VLOOKUP(F363,Tabelle_Fisse!$B$33:$C$34,2,FALSE)=\"ok\",\"\",1))","v":""},{"$f":"IF(J363=\"\",\"\",IF(VLOOKUP(CONCATENATE(J363,\" SI\"),W$7:W$1196,1,FALSE)=CONCATENATE(J363,\" SI\"),\"\",1))","v":""},null,{"$f":"IF(OR(J363=\"\",G363=\"\"),\"\",IF(VLOOKUP(H363,Tabelle_Fisse!$B$25:$C$29,2,FALSE)=\"ok\",\"\",1))","v":""},{"$nulls":4},""]
[{"$nulls":9},"",{"$f":"IF(J364=\"\",\"\",IF(VLOOKUP(J364,Lotti!B$6:B$596,1,FALSE)=J364,\"\",1))","v":""},null,"",null,{"$f":"IF(J364=\"\",\"\",IF(VLOOKUP(F364,Tabelle_Fisse!$B$33:$C$34,2,FALSE)=\"ok\",\"\",1))","v":""},{"$f":"IF(J364=\"\",\"\",IF(VLOOKUP(CONCATENATE(J364,\" SI\"),W$7:W$1196,1,FALSE)=CONCATENATE(J364,\" SI\"),\"\",1))","v":""},null,{"$f":"IF(OR(J364=\"\",G364=\"\"),\"\",IF(VLOOKUP(H364,Tabelle_Fisse!$B$25:$C$29,2,FALSE)=\"ok\",\"\",1))","v":""},{"$nulls":4},""]
[{"$nulls":9},"",{"$f":"IF(J365=\"\",\"\",IF(VLOOKUP(J365,Lotti!B$6:B$596,1,FALSE)=J365,\"\",1))","v":""},null,"",null,{"$f":"IF(J365=\"\",\"\",IF(VLOOKUP(F365,Tabelle_Fisse!$B$33:$C$34,2,FALSE)=\"ok\",\"\",1))","v":""},{"$f":"IF(J365=\"\",\"\",IF(VLOOKUP(CONCATENATE(J365,\" SI\"),W$7:W$1196,1,FALSE)=CONCATENATE(J365,\" SI\"),\"\",1))","v":""},null,{"$f":"IF(OR(J365=\"\",G365=\"\"),\"\",IF(VLOOKUP(H365,Tabelle_Fisse!$B$25:$C$29,2,FALSE)=\"ok\",\"\",1))","v":""},{"$nulls":4},""]
[{"$nulls":9},"",{"$f":"IF(J366=\"\",\"\",IF(VLOOKUP(J366,Lotti!B$6:B$596,1,FALSE)=J366,\"\",1))","v":""},null,"",null,{"$f":"IF(J366=\"\",\"\",IF(VLOOKUP(F366,Tabelle_Fisse!$B$33:$C$34,2,FALSE)=\"ok\",\"\",1))","v":""},{"$f":"IF(J366=\"\",\"\",IF(VLOOKUP(CONCATENATE(J366,\" SI\"),W$7:W$1196,1,FALSE)=CONCATENATE(J366,\" SI\"),\"\",1))","v":""},null,{"$f":"IF(OR(J366=\"\",G366=\"\"),\"\",IF(VLOOKUP(H366,Tabelle_Fisse!$B$25:$C$29,2,FALSE)=\"ok\",\"\",1))","v":""},{"$nulls":4},""]
[{"$nulls":9},"",{"$f":"IF(J367=\"\",\"\",IF(VLOOKUP(J367,Lotti!B$6:B$596,1,FALSE)=J367,\"\",1))","v":""},null,"",null,{"$f":"IF(J367=\"\",\"\",IF(VLOOKUP(F367,Tabelle_Fisse!$B$33:$C$34,2,FALSE)=\"ok\",\"\",1))","v":""},{"$f":"IF(J367=\"\",\"\",IF(VLOOKUP(CONCATENATE(J367,\" SI\"),W$7:W$1196,1,FALSE)=CONCATENATE(J367,\" SI\"),\"\",1))","v":""},null,{"$f":"IF(OR(J367=\"\",G367=\"\"),\"\",IF(VLOOKUP(H367,Tabelle_Fisse!$B$25:$C$29,2,FALSE)=\"ok\",\"\",1))","v":""},{"$nulls":4},""]
[{"$nulls":9},"",{"$f":"IF(J368=\"\",\"\",IF(VLOOKUP(J368,Lotti!B$6:B$596,1,FALSE)=J368,\"\",1))","v":""},null,"",null,{"$f":"IF(J368=\"\",\"\",IF(VLOOKUP(F368,Tabelle_Fisse!$B$33:$C$34,2,FALSE)=\"ok\",\"\",1))","v":""},{"$f":"IF(J368=\"\",\"\",IF(VLOOKUP(CONCATENATE(J368,\" SI\"),W$7:W$1196,1,FALSE)=CONCATENATE(J368,\" SI\"),\"\",1))","v":""},null,{"$f":"IF(OR(J368=\"\",G368=\"\"),\"\",IF(VLOOKUP(H368,Tabelle_Fisse!$B$25:$C$29,2,FALSE)=\"ok\",\"\",1))","v":""},{"$nulls":4},""]
[{"$nulls":9},"",{"$f":"IF(J369=\"\",\"\",IF(VLOOKUP(J369,Lotti!B$6:B$596,1,FALSE)=J369,\"\",1))","v":""},null,"",null,{"$f":"IF(J369=\"\",\"\",IF(VLOOKUP(F369,Tabelle_Fisse!$B$33:$C$34,2,FALSE)=\"ok\",\"\",1))","v":""},{"$f":"IF(J369=\"\",\"\",IF(VLOOKUP(CONCATENATE(J369,\" SI\"),W$7:W$1196,1,FALSE)=CONCATENATE(J369,\" SI\"),\"\",1))","v":""},null,{"$f":"IF(OR(J369=\"\",G369=\"\"),\"\",IF(VLOOKUP(H369,Tabelle_Fisse!$B$25:$C$29,2,FALSE)=\"ok\",\"\",1))","v":""},{"$nulls":4},""]
[{"$nulls":9},"",{"$f":"IF(J370=\"\",\"\",IF(VLOOKUP(J370,Lotti!B$6:B$596,1,FALSE)=J370,\"\",1))","v":""},null,"",null,{"$f":"IF(J370=\"\",\"\",IF(VLOOKUP(F370,Tabelle_Fisse!$B$33:$C$34,2,FALSE)=\"ok\",\"\",1))","v":""},{"$f":"IF(J370=\"\",\"\",IF(VLOOKUP(CONCATENATE(J370,\" SI\"),W$7:W$1196,1,FALSE)=CONCATENATE(J370,\" SI\"),\"\",1))","v":""},null,{"$f":"IF(OR(J370=\"\",G370=\"\"),\"\",IF(VLOOKUP(H370,Tabelle_Fisse!$B$25:$C$29,2,FALSE)=\"ok\",\"\",1))","v":""},{"$nulls":4},""]
[{"$nulls":9},"",{"$f":"IF(J371=\"\",\"\",IF(VLOOKUP(J371,Lotti!B$6:B$596,1,FALSE)=J371,\"\",1))","v":""},null,"",null,{"$f":"IF(J371=\"\",\"\",IF(VLOOKUP(F371,Tabelle_Fisse!$B$33:$C$34,2,FALSE)=\"ok\",\"\",1))","v":""},{"$f":"IF(J371=\"\",\"\",IF(VLOOKUP(CONCATENATE(J371,\" SI\"),W$7:W$1196,1,FALSE)=CONCATENATE(J371,\" SI\"),\"\",1))","v":""},null,{"$f":"IF(OR(J371=\"\",G371=\"\"),\"\",IF(VLOOKUP(H371,Tabelle_Fisse!$B$25:$C$29,2,FALSE)=\"ok\",\"\",1))","v":""},{"$nulls":4},""]
[{"$nulls":9},"",{"$f":"IF(J372=\"\",\"\",IF(VLOOKUP(J372,Lotti!B$6:B$596,1,FALSE)=J372,\"\",1))","v":""},null,"",null,{"$f":"IF(J372=\"\",\"\",IF(VLOOKUP(F372,Tabelle_Fisse!$B$33:$C$34,2,FALSE)=\"ok\",\"\",1))","v":""},{"$f":"IF(J372=\"\",\"\",IF(VLOOKUP(CONCATENATE(J372,\" SI\"),W$7:W$1196,1,FALSE)=CONCATENATE(J372,\" SI\"),\"\",1))","v":""},null,{"$f":"IF(OR(J372=\"\",G372=\"\"),\"\",IF(VLOOKUP(H372,Tabelle_Fisse!$B$25:$C$29,2,FALSE)=\"ok\",\"\",1))","v":""},{"$nulls":4},""]
[{"$nulls":9},"",{"$f":"IF(J373=\"\",\"\",IF(VLOOKUP(J373,Lotti!B$6:B$596,1,FALSE)=J373,\"\",1))","v":""},null,"",null,{"$f":"IF(J373=\"\",\"\",IF(VLOOKUP(F373,Tabelle_Fisse!$B$33:$C$34,2,FALSE)=\"ok\",\"\",1))","v":""},{"$f":"IF(J373=\"\",\"\",IF(VLOOKUP(CONCATENATE(J373,\" SI\"),W$7:W$1196,1,FALSE)=CONCATENATE(J373,\" SI\"),\"\",1))","v":""},null,{"$f":"IF(OR(J373=\"\",G373=\"\"),\"\",IF(VLOOKUP(H373,Tabelle_Fisse!$B$25:$C$29,2,FALSE)=\"ok\",\"\",1))","v":""},{"$nulls":4},""]
[{"$nulls":9},"",{"$f":"IF(J374=\"\",\"\",IF(VLOOKUP(J374,Lotti!B$6:B$596,1,FALSE)=J374,\"\",1))","v":""},null,"",null,{"$f":"IF(J374=\"\",\"\",IF(VLOOKUP(F374,Tabelle_Fisse!$B$33:$C$34,2,FALSE)=\"ok\",\"\",1))","v":""},{"$f":"IF(J374=\"\",\"\",IF(VLOOKUP(CONCATENATE(J374,\" SI\"),W$7:W$1196,1,FALSE)=CONCATENATE(J374,\" SI\"),\"\",1))","v":""},null,{"$f":"IF(OR(J374=\"\",G374=\"\"),\"\",IF(VLOOKUP(H374,Tabelle_Fisse!$B$25:$C$29,2,FALSE)=\"ok\",\"\",1))","v":""},{"$nulls":4},""]
[{"$nulls":9},"",{"$f":"IF(J375=\"\",\"\",IF(VLOOKUP(J375,Lotti!B$6:B$596,1,FALSE)=J375,\"\",1))","v":""},null,"",null,{"$f":"IF(J375=\"\",\"\",IF(VLOOKUP(F375,Tabelle_Fisse!$B$33:$C$34,2,FALSE)=\"ok\",\"\",1))","v":""},{"$f":"IF(J375=\"\",\"\",IF(VLOOKUP(CONCATENATE(J375,\" SI\"),W$7:W$1196,1,FALSE)=CONCATENATE(J375,\" SI\"),\"\",1))","v":""},null,{"$f":"IF(OR(J375=\"\",G375=\"\"),\"\",IF(VLOOKUP(H375,Tabelle_Fisse!$B$25:$C$29,2,FALSE)=\"ok\",\"\",1))","v":""},{"$nulls":4},""]
[{"$nulls":9},"",{"$f":"IF(J376=\"\",\"\",IF(VLOOKUP(J376,Lotti!B$6:B$596,1,FALSE)=J376,\"\",1))","v":""},null,"",null,{"$f":"IF(J376=\"\",\"\",IF(VLOOKUP(F376,Tabelle_Fisse!$B$33:$C$34,2,FALSE)=\"ok\",\"\",1))","v":""},{"$f":"IF(J376=\"\",\"\",IF(VLOOKUP(CONCATENATE(J376,\" SI\"),W$7:W$1196,1,FALSE)=CONCATENATE(J376,\" SI\"),\"\",1))","v":""},null,{"$f":"IF(OR(J376=\"\",G376=\"\"),\"\",IF(VLOOKUP(H376,Tabelle_Fisse!$B$25:$C$29,2,FALSE)=\"ok\",\"\",1))","v":""},{"$nulls":4},""]
[{"$nulls":9},"",{"$f":"IF(J377=\"\",\"\",IF(VLOOKUP(J377,Lotti!B$6:B$596,1,FALSE)=J377,\"\",1))","v":""},null,"",null,{"$f":"IF(J377=\"\",\"\",IF(VLOOKUP(F377,Tabelle_Fisse!$B$33:$C$34,2,FALSE)=\"ok\",\"\",1))","v":""},{"$f":"IF(J377=\"\",\"\",IF(VLOOKUP(CONCATENATE(J377,\" SI\"),W$7:W$1196,1,FALSE)=CONCATENATE(J377,\" SI\"),\"\",1))","v":""},null,{"$f":"IF(OR(J377=\"\",G377=\"\"),\"\",IF(VLOOKUP(H377,Tabelle_Fisse!$B$25:$C$29,2,FALSE)=\"ok\",\"\",1))","v":""},{"$nulls":4},""]
[{"$nulls":9},"",{"$f":"IF(J378=\"\",\"\",IF(VLOOKUP(J378,Lotti!B$6:B$596,1,FALSE)=J378,\"\",1))","v":""},null,"",null,{"$f":"IF(J378=\"\",\"\",IF(VLOOKUP(F378,Tabelle_Fisse!$B$33:$C$34,2,FALSE)=\"ok\",\"\",1))","v":""},{"$f":"IF(J378=\"\",\"\",IF(VLOOKUP(CONCATENATE(J378,\" SI\"),W$7:W$1196,1,FALSE)=CONCATENATE(J378,\" SI\"),\"\",1))","v":""},null,{"$f":"IF(OR(J378=\"\",G378=\"\"),\"\",IF(VLOOKUP(H378,Tabelle_Fisse!$B$25:$C$29,2,FALSE)=\"ok\",\"\",1))","v":""},{"$nulls":4},""]
[{"$nulls":9},"",{"$f":"IF(J379=\"\",\"\",IF(VLOOKUP(J379,Lotti!B$6:B$596,1,FALSE)=J379,\"\",1))","v":""},null,"",null,{"$f":"IF(J379=\"\",\"\",IF(VLOOKUP(F379,Tabelle_Fisse!$B$33:$C$34,2,FALSE)=\"ok\",\"\",1))","v":""},{"$f":"IF(J379=\"\",\"\",IF(VLOOKUP(CONCATENATE(J379,\" SI\"),W$7:W$1196,1,FALSE)=CONCATENATE(J379,\" SI\"),\"\",1))","v":""},null,{"$f":"IF(OR(J379=\"\",G379=\"\"),\"\",IF(VLOOKUP(H379,Tabelle_Fisse!$B$25:$C$29,2,FALSE)=\"ok\",\"\",1))","v":""},{"$nulls":4},""]
[{"$nulls":9},"",{"$f":"IF(J380=\"\",\"\",IF(VLOOKUP(J380,Lotti!B$6:B$596,1,FALSE)=J380,\"\",1))","v":""},null,"",null,{"$f":"IF(J380=\"\",\"\",IF(VLOOKUP(F380,Tabelle_Fisse!$B$33:$C$34,2,FALSE)=\"ok\",\"\",1))","v":""},{"$f":"IF(J380=\"\",\"\",IF(VLOOKUP(CONCATENATE(J380,\" SI\"),W$7:W$1196,1,FALSE)=CONCATENATE(J380,\" SI\"),\"\",1))","v":""},null,{"$f":"IF(OR(J380=\"\",G380=\"\"),\"\",IF(VLOOKUP(H380,Tabelle_Fisse!$B$25:$C$29,2,FALSE)=\"ok\",\"\",1))","v":""},{"$nulls":4},""]
[{"$nulls":9},"",{"$f":"IF(J381=\"\",\"\",IF(VLOOKUP(J381,Lotti!B$6:B$596,1,FALSE)=J381,\"\",1))","v":""},null,"",null,{"$f":"IF(J381=\"\",\"\",IF(VLOOKUP(F381,Tabelle_Fisse!$B$33:$C$34,2,FALSE)=\"ok\",\"\",1))","v":""},{"$f":"IF(J381=\"\",\"\",IF(VLOOKUP(CONCATENATE(J381,\" SI\"),W$7:W$1196,1,FALSE)=CONCATENATE(J381,\" SI\"),\"\",1))","v":""},null,{"$f":"IF(OR(J381=\"\",G381=\"\"),\"\",IF(VLOOKUP(H381,Tabelle_Fisse!$B$25:$C$29,2,FALSE)=\"ok\",\"\",1))","v":""},{"$nulls":4},""]
[{"$nulls":9},"",{"$f":"IF(J382=\"\",\"\",IF(VLOOKUP(J382,Lotti!B$6:B$596,1,FALSE)=J382,\"\",1))","v":""},null,"",null,{"$f":"IF(J382=\"\",\"\",IF(VLOOKUP(F382,Tabelle_Fisse!$B$33:$C$34,2,FALSE)=\"ok\",\"\",1))","v":""},{"$f":"IF(J382=\"\",\"\",IF(VLOOKUP(CONCATENATE(J382,\" SI\"),W$7:W$1196,1,FALSE)=CONCATENATE(J382,\" SI\"),\"\",1))","v":""},null,{"$f":"IF(OR(J382=\"\",G382=\"\"),\"\",IF(VLOOKUP(H382,Tabelle_Fisse!$B$25:$C$29,2,FALSE)=\"ok\",\"\",1))","v":""},{"$nulls":4},""]
[{"$nulls":9},"",{"$f":"IF(J383=\"\",\"\",IF(VLOOKUP(J383,Lotti!B$6:B$596,1,FALSE)=J383,\"\",1))","v":""},null,"",null,{"$f":"IF(J383=\"\",\"\",IF(VLOOKUP(F383,Tabelle_Fisse!$B$33:$C$34,2,FALSE)=\"ok\",\"\",1))","v":""},{"$f":"IF(J383=\"\",\"\",IF(VLOOKUP(CONCATENATE(J383,\" SI\"),W$7:W$1196,1,FALSE)=CONCATENATE(J383,\" SI\"),\"\",1))","v":""},null,{"$f":"IF(OR(J383=\"\",G383=\"\"),\"\",IF(VLOOKUP(H383,Tabelle_Fisse!$B$25:$C$29,2,FALSE)=\"ok\",\"\",1))","v":""},{"$nulls":4},""]
[{"$nulls":9},"",{"$f":"IF(J384=\"\",\"\",IF(VLOOKUP(J384,Lotti!B$6:B$596,1,FALSE)=J384,\"\",1))","v":""},null,"",null,{"$f":"IF(J384=\"\",\"\",IF(VLOOKUP(F384,Tabelle_Fisse!$B$33:$C$34,2,FALSE)=\"ok\",\"\",1))","v":""},{"$f":"IF(J384=\"\",\"\",IF(VLOOKUP(CONCATENATE(J384,\" SI\"),W$7:W$1196,1,FALSE)=CONCATENATE(J384,\" SI\"),\"\",1))","v":""},null,{"$f":"IF(OR(J384=\"\",G384=\"\"),\"\",IF(VLOOKUP(H384,Tabelle_Fisse!$B$25:$C$29,2,FALSE)=\"ok\",\"\",1))","v":""},{"$nulls":4},""]
[{"$nulls":9},"",{"$f":"IF(J385=\"\",\"\",IF(VLOOKUP(J385,Lotti!B$6:B$596,1,FALSE)=J385,\"\",1))","v":""},null,"",null,{"$f":"IF(J385=\"\",\"\",IF(VLOOKUP(F385,Tabelle_Fisse!$B$33:$C$34,2,FALSE)=\"ok\",\"\",1))","v":""},{"$f":"IF(J385=\"\",\"\",IF(VLOOKUP(CONCATENATE(J385,\" SI\"),W$7:W$1196,1,FALSE)=CONCATENATE(J385,\" SI\"),\"\",1))","v":""},null,{"$f":"IF(OR(J385=\"\",G385=\"\"),\"\",IF(VLOOKUP(H385,Tabelle_Fisse!$B$25:$C$29,2,FALSE)=\"ok\",\"\",1))","v":""},{"$nulls":4},""]
[{"$nulls":9},"",{"$f":"IF(J386=\"\",\"\",IF(VLOOKUP(J386,Lotti!B$6:B$596,1,FALSE)=J386,\"\",1))","v":""},null,"",null,{"$f":"IF(J386=\"\",\"\",IF(VLOOKUP(F386,Tabelle_Fisse!$B$33:$C$34,2,FALSE)=\"ok\",\"\",1))","v":""},{"$f":"IF(J386=\"\",\"\",IF(VLOOKUP(CONCATENATE(J386,\" SI\"),W$7:W$1196,1,FALSE)=CONCATENATE(J386,\" SI\"),\"\",1))","v":""},null,{"$f":"IF(OR(J386=\"\",G386=\"\"),\"\",IF(VLOOKUP(H386,Tabelle_Fisse!$B$25:$C$29,2,FALSE)=\"ok\",\"\",1))","v":""},{"$nulls":4},""]
[{"$nulls":9},"",{"$f":"IF(J387=\"\",\"\",IF(VLOOKUP(J387,Lotti!B$6:B$596,1,FALSE)=J387,\"\",1))","v":""},null,"",null,{"$f":"IF(J387=\"\",\"\",IF(VLOOKUP(F387,Tabelle_Fisse!$B$33:$C$34,2,FALSE)=\"ok\",\"\",1))","v":""},{"$f":"IF(J387=\"\",\"\",IF(VLOOKUP(CONCATENATE(J387,\" SI\"),W$7:W$1196,1,FALSE)=CONCATENATE(J387,\" SI\"),\"\",1))","v":""},null,{"$f":"IF(OR(J387=\"\",G387=\"\"),\"\",IF(VLOOKUP(H387,Tabelle_Fisse!$B$25:$C$29,2,FALSE)=\"ok\",\"\",1))","v":""},{"$nulls":4},""]
[{"$nulls":9},{"$f":"TRIM(B388)","v":""},{"$f":"IF(J388=\"\",\"\",IF(VLOOKUP(J388,Lotti!B$6:B$596,1,FALSE)=J388,\"\",1))","v":""},null,{"$f":"IF(J388=\"\",\"\",IF(OR(AND(E388=\"\",LEN(D388)<>11,LEN(D388)<>16),AND(D388=\"\",E388=\"\"),AND(D388<>\"\",E388<>\"\")),1,\"\"))","v":""},null,{"$f":"IF(J388=\"\",\"\",IF(VLOOKUP(F388,Tabelle_Fisse!$B$33:$C$34,2,FALSE)=\"ok\",\"\",1))","v":""},{"$f":"IF(J388=\"\",\"\",IF(VLOOKUP(CONCATENATE(J388,\" SI\"),W$7:W$1196,1,FALSE)=CONCATENATE(J388,\" SI\"),\"\",1))","v":""},null,{"$f":"IF(OR(J388=\"\",G388=\"\"),\"\",IF(VLOOKUP(H388,Tabelle_Fisse!$B$25:$C$29,2,FALSE)=\"ok\",\"\",1))","v":""},{"$nulls":4},{"$f":"IF(J388=\"\",\"\",CONCATENATE(J388,\" \",F388))","v":""}]
[{"$nulls":9},"",{"$f":"IF(J389=\"\",\"\",IF(VLOOKUP(J389,Lotti!B$6:B$596,1,FALSE)=J389,\"\",1))","v":""},null,"",null,{"$f":"IF(J389=\"\",\"\",IF(VLOOKUP(F389,Tabelle_Fisse!$B$33:$C$34,2,FALSE)=\"ok\",\"\",1))","v":""},{"$f":"IF(J389=\"\",\"\",IF(VLOOKUP(CONCATENATE(J389,\" SI\"),W$7:W$1196,1,FALSE)=CONCATENATE(J389,\" SI\"),\"\",1))","v":""},null,{"$f":"IF(OR(J389=\"\",G389=\"\"),\"\",IF(VLOOKUP(H389,Tabelle_Fisse!$B$25:$C$29,2,FALSE)=\"ok\",\"\",1))","v":""},{"$nulls":4},""]
[{"$nulls":9},"",{"$f":"IF(J390=\"\",\"\",IF(VLOOKUP(J390,Lotti!B$6:B$596,1,FALSE)=J390,\"\",1))","v":""},null,"",null,{"$f":"IF(J390=\"\",\"\",IF(VLOOKUP(F390,Tabelle_Fisse!$B$33:$C$34,2,FALSE)=\"ok\",\"\",1))","v":""},{"$f":"IF(J390=\"\",\"\",IF(VLOOKUP(CONCATENATE(J390,\" SI\"),W$7:W$1196,1,FALSE)=CONCATENATE(J390,\" SI\"),\"\",1))","v":""},null,{"$f":"IF(OR(J390=\"\",G390=\"\"),\"\",IF(VLOOKUP(H390,Tabelle_Fisse!$B$25:$C$29,2,FALSE)=\"ok\",\"\",1))","v":""},{"$nulls":4},""]
[{"$nulls":9},"",{"$f":"IF(J391=\"\",\"\",IF(VLOOKUP(J391,Lotti!B$6:B$596,1,FALSE)=J391,\"\",1))","v":""},null,"",null,{"$f":"IF(J391=\"\",\"\",IF(VLOOKUP(F391,Tabelle_Fisse!$B$33:$C$34,2,FALSE)=\"ok\",\"\",1))","v":""},{"$f":"IF(J391=\"\",\"\",IF(VLOOKUP(CONCATENATE(J391,\" SI\"),W$7:W$1196,1,FALSE)=CONCATENATE(J391,\" SI\"),\"\",1))","v":""},null,{"$f":"IF(OR(J391=\"\",G391=\"\"),\"\",IF(VLOOKUP(H391,Tabelle_Fisse!$B$25:$C$29,2,FALSE)=\"ok\",\"\",1))","v":""},{"$nulls":4},""]
[{"$nulls":9},"",{"$f":"IF(J392=\"\",\"\",IF(VLOOKUP(J392,Lotti!B$6:B$596,1,FALSE)=J392,\"\",1))","v":""},null,"",null,{"$f":"IF(J392=\"\",\"\",IF(VLOOKUP(F392,Tabelle_Fisse!$B$33:$C$34,2,FALSE)=\"ok\",\"\",1))","v":""},{"$f":"IF(J392=\"\",\"\",IF(VLOOKUP(CONCATENATE(J392,\" SI\"),W$7:W$1196,1,FALSE)=CONCATENATE(J392,\" SI\"),\"\",1))","v":""},null,{"$f":"IF(OR(J392=\"\",G392=\"\"),\"\",IF(VLOOKUP(H392,Tabelle_Fisse!$B$25:$C$29,2,FALSE)=\"ok\",\"\",1))","v":""},{"$nulls":4},""]
[{"$nulls":9},"",{"$f":"IF(J393=\"\",\"\",IF(VLOOKUP(J393,Lotti!B$6:B$596,1,FALSE)=J393,\"\",1))","v":""},null,"",null,{"$f":"IF(J393=\"\",\"\",IF(VLOOKUP(F393,Tabelle_Fisse!$B$33:$C$34,2,FALSE)=\"ok\",\"\",1))","v":""},{"$f":"IF(J393=\"\",\"\",IF(VLOOKUP(CONCATENATE(J393,\" SI\"),W$7:W$1196,1,FALSE)=CONCATENATE(J393,\" SI\"),\"\",1))","v":""},null,{"$f":"IF(OR(J393=\"\",G393=\"\"),\"\",IF(VLOOKUP(H393,Tabelle_Fisse!$B$25:$C$29,2,FALSE)=\"ok\",\"\",1))","v":""},{"$nulls":4},""]
[{"$nulls":9},"",{"$f":"IF(J394=\"\",\"\",IF(VLOOKUP(J394,Lotti!B$6:B$596,1,FALSE)=J394,\"\",1))","v":""},null,"",null,{"$f":"IF(J394=\"\",\"\",IF(VLOOKUP(F394,Tabelle_Fisse!$B$33:$C$34,2,FALSE)=\"ok\",\"\",1))","v":""},{"$f":"IF(J394=\"\",\"\",IF(VLOOKUP(CONCATENATE(J394,\" SI\"),W$7:W$1196,1,FALSE)=CONCATENATE(J394,\" SI\"),\"\",1))","v":""},null,{"$f":"IF(OR(J394=\"\",G394=\"\"),\"\",IF(VLOOKUP(H394,Tabelle_Fisse!$B$25:$C$29,2,FALSE)=\"ok\",\"\",1))","v":""},{"$nulls":4},""]
[{"$nulls":9},"",{"$f":"IF(J395=\"\",\"\",IF(VLOOKUP(J395,Lotti!B$6:B$596,1,FALSE)=J395,\"\",1))","v":""},null,"",null,{"$f":"IF(J395=\"\",\"\",IF(VLOOKUP(F395,Tabelle_Fisse!$B$33:$C$34,2,FALSE)=\"ok\",\"\",1))","v":""},{"$f":"IF(J395=\"\",\"\",IF(VLOOKUP(CONCATENATE(J395,\" SI\"),W$7:W$1196,1,FALSE)=CONCATENATE(J395,\" SI\"),\"\",1))","v":""},null,{"$f":"IF(OR(J395=\"\",G395=\"\"),\"\",IF(VLOOKUP(H395,Tabelle_Fisse!$B$25:$C$29,2,FALSE)=\"ok\",\"\",1))","v":""},{"$nulls":4},""]
[{"$nulls":9},"",{"$f":"IF(J396=\"\",\"\",IF(VLOOKUP(J396,Lotti!B$6:B$596,1,FALSE)=J396,\"\",1))","v":""},null,"",null,{"$f":"IF(J396=\"\",\"\",IF(VLOOKUP(F396,Tabelle_Fisse!$B$33:$C$34,2,FALSE)=\"ok\",\"\",1))","v":""},{"$f":"IF(J396=\"\",\"\",IF(VLOOKUP(CONCATENATE(J396,\" SI\"),W$7:W$1196,1,FALSE)=CONCATENATE(J396,\" SI\"),\"\",1))","v":""},null,{"$f":"IF(OR(J396=\"\",G396=\"\"),\"\",IF(VLOOKUP(H396,Tabelle_Fisse!$B$25:$C$29,2,FALSE)=\"ok\",\"\",1))","v":""},{"$nulls":4},""]
[{"$nulls":9},"",{"$f":"IF(J397=\"\",\"\",IF(VLOOKUP(J397,Lotti!B$6:B$596,1,FALSE)=J397,\"\",1))","v":""},null,"",null,{"$f":"IF(J397=\"\",\"\",IF(VLOOKUP(F397,Tabelle_Fisse!$B$33:$C$34,2,FALSE)=\"ok\",\"\",1))","v":""},{"$f":"IF(J397=\"\",\"\",IF(VLOOKUP(CONCATENATE(J397,\" SI\"),W$7:W$1196,1,FALSE)=CONCATENATE(J397,\" SI\"),\"\",1))","v":""},null,{"$f":"IF(OR(J397=\"\",G397=\"\"),\"\",IF(VLOOKUP(H397,Tabelle_Fisse!$B$25:$C$29,2,FALSE)=\"ok\",\"\",1))","v":""},{"$nulls":4},""]
[{"$nulls":9},"",{"$f":"IF(J398=\"\",\"\",IF(VLOOKUP(J398,Lotti!B$6:B$596,1,FALSE)=J398,\"\",1))","v":""},null,"",null,{"$f":"IF(J398=\"\",\"\",IF(VLOOKUP(F398,Tabelle_Fisse!$B$33:$C$34,2,FALSE)=\"ok\",\"\",1))","v":""},{"$f":"IF(J398=\"\",\"\",IF(VLOOKUP(CONCATENATE(J398,\" SI\"),W$7:W$1196,1,FALSE)=CONCATENATE(J398,\" SI\"),\"\",1))","v":""},null,{"$f":"IF(OR(J398=\"\",G398=\"\"),\"\",IF(VLOOKUP(H398,Tabelle_Fisse!$B$25:$C$29,2,FALSE)=\"ok\",\"\",1))","v":""},{"$nulls":4},""]
[{"$nulls":9},"",{"$f":"IF(J399=\"\",\"\",IF(VLOOKUP(J399,Lotti!B$6:B$596,1,FALSE)=J399,\"\",1))","v":""},null,"",null,{"$f":"IF(J399=\"\",\"\",IF(VLOOKUP(F399,Tabelle_Fisse!$B$33:$C$34,2,FALSE)=\"ok\",\"\",1))","v":""},{"$f":"IF(J399=\"\",\"\",IF(VLOOKUP(CONCATENATE(J399,\" SI\"),W$7:W$1196,1,FALSE)=CONCATENATE(J399,\" SI\"),\"\",1))","v":""},null,{"$f":"IF(OR(J399=\"\",G399=\"\"),\"\",IF(VLOOKUP(H399,Tabelle_Fisse!$B$25:$C$29,2,FALSE)=\"ok\",\"\",1))","v":""},{"$nulls":4},""]
[{"$nulls":9},"",{"$f":"IF(J400=\"\",\"\",IF(VLOOKUP(J400,Lotti!B$6:B$596,1,FALSE)=J400,\"\",1))","v":""},null,"",null,{"$f":"IF(J400=\"\",\"\",IF(VLOOKUP(F400,Tabelle_Fisse!$B$33:$C$34,2,FALSE)=\"ok\",\"\",1))","v":""},{"$f":"IF(J400=\"\",\"\",IF(VLOOKUP(CONCATENATE(J400,\" SI\"),W$7:W$1196,1,FALSE)=CONCATENATE(J400,\" SI\"),\"\",1))","v":""},null,{"$f":"IF(OR(J400=\"\",G400=\"\"),\"\",IF(VLOOKUP(H400,Tabelle_Fisse!$B$25:$C$29,2,FALSE)=\"ok\",\"\",1))","v":""},{"$nulls":4},""]
[{"$nulls":9},"",{"$f":"IF(J401=\"\",\"\",IF(VLOOKUP(J401,Lotti!B$6:B$596,1,FALSE)=J401,\"\",1))","v":""},null,"",null,{"$f":"IF(J401=\"\",\"\",IF(VLOOKUP(F401,Tabelle_Fisse!$B$33:$C$34,2,FALSE)=\"ok\",\"\",1))","v":""},{"$f":"IF(J401=\"\",\"\",IF(VLOOKUP(CONCATENATE(J401,\" SI\"),W$7:W$1196,1,FALSE)=CONCATENATE(J401,\" SI\"),\"\",1))","v":""},null,{"$f":"IF(OR(J401=\"\",G401=\"\"),\"\",IF(VLOOKUP(H401,Tabelle_Fisse!$B$25:$C$29,2,FALSE)=\"ok\",\"\",1))","v":""},{"$nulls":4},""]
[{"$nulls":9},"",{"$f":"IF(J402=\"\",\"\",IF(VLOOKUP(J402,Lotti!B$6:B$596,1,FALSE)=J402,\"\",1))","v":""},null,"",null,{"$f":"IF(J402=\"\",\"\",IF(VLOOKUP(F402,Tabelle_Fisse!$B$33:$C$34,2,FALSE)=\"ok\",\"\",1))","v":""},{"$f":"IF(J402=\"\",\"\",IF(VLOOKUP(CONCATENATE(J402,\" SI\"),W$7:W$1196,1,FALSE)=CONCATENATE(J402,\" SI\"),\"\",1))","v":""},null,{"$f":"IF(OR(J402=\"\",G402=\"\"),\"\",IF(VLOOKUP(H402,Tabelle_Fisse!$B$25:$C$29,2,FALSE)=\"ok\",\"\",1))","v":""},{"$nulls":4},""]
[{"$nulls":9},"",{"$f":"IF(J403=\"\",\"\",IF(VLOOKUP(J403,Lotti!B$6:B$596,1,FALSE)=J403,\"\",1))","v":""},null,"",null,{"$f":"IF(J403=\"\",\"\",IF(VLOOKUP(F403,Tabelle_Fisse!$B$33:$C$34,2,FALSE)=\"ok\",\"\",1))","v":""},{"$f":"IF(J403=\"\",\"\",IF(VLOOKUP(CONCATENATE(J403,\" SI\"),W$7:W$1196,1,FALSE)=CONCATENATE(J403,\" SI\"),\"\",1))","v":""},null,{"$f":"IF(OR(J403=\"\",G403=\"\"),\"\",IF(VLOOKUP(H403,Tabelle_Fisse!$B$25:$C$29,2,FALSE)=\"ok\",\"\",1))","v":""},{"$nulls":4},""]
[{"$nulls":9},"",{"$f":"IF(J404=\"\",\"\",IF(VLOOKUP(J404,Lotti!B$6:B$596,1,FALSE)=J404,\"\",1))","v":""},null,"",null,{"$f":"IF(J404=\"\",\"\",IF(VLOOKUP(F404,Tabelle_Fisse!$B$33:$C$34,2,FALSE)=\"ok\",\"\",1))","v":""},{"$f":"IF(J404=\"\",\"\",IF(VLOOKUP(CONCATENATE(J404,\" SI\"),W$7:W$1196,1,FALSE)=CONCATENATE(J404,\" SI\"),\"\",1))","v":""},null,{"$f":"IF(OR(J404=\"\",G404=\"\"),\"\",IF(VLOOKUP(H404,Tabelle_Fisse!$B$25:$C$29,2,FALSE)=\"ok\",\"\",1))","v":""},{"$nulls":4},""]
[{"$nulls":9},"",{"$f":"IF(J405=\"\",\"\",IF(VLOOKUP(J405,Lotti!B$6:B$596,1,FALSE)=J405,\"\",1))","v":""},null,"",null,{"$f":"IF(J405=\"\",\"\",IF(VLOOKUP(F405,Tabelle_Fisse!$B$33:$C$34,2,FALSE)=\"ok\",\"\",1))","v":""},{"$f":"IF(J405=\"\",\"\",IF(VLOOKUP(CONCATENATE(J405,\" SI\"),W$7:W$1196,1,FALSE)=CONCATENATE(J405,\" SI\"),\"\",1))","v":""},null,{"$f":"IF(OR(J405=\"\",G405=\"\"),\"\",IF(VLOOKUP(H405,Tabelle_Fisse!$B$25:$C$29,2,FALSE)=\"ok\",\"\",1))","v":""},{"$nulls":4},""]
[{"$nulls":9},"",{"$f":"IF(J406=\"\",\"\",IF(VLOOKUP(J406,Lotti!B$6:B$596,1,FALSE)=J406,\"\",1))","v":""},null,"",null,{"$f":"IF(J406=\"\",\"\",IF(VLOOKUP(F406,Tabelle_Fisse!$B$33:$C$34,2,FALSE)=\"ok\",\"\",1))","v":""},{"$f":"IF(J406=\"\",\"\",IF(VLOOKUP(CONCATENATE(J406,\" SI\"),W$7:W$1196,1,FALSE)=CONCATENATE(J406,\" SI\"),\"\",1))","v":""},null,{"$f":"IF(OR(J406=\"\",G406=\"\"),\"\",IF(VLOOKUP(H406,Tabelle_Fisse!$B$25:$C$29,2,FALSE)=\"ok\",\"\",1))","v":""},{"$nulls":4},""]
[{"$nulls":9},"",{"$f":"IF(J407=\"\",\"\",IF(VLOOKUP(J407,Lotti!B$6:B$596,1,FALSE)=J407,\"\",1))","v":""},null,"",null,{"$f":"IF(J407=\"\",\"\",IF(VLOOKUP(F407,Tabelle_Fisse!$B$33:$C$34,2,FALSE)=\"ok\",\"\",1))","v":""},{"$f":"IF(J407=\"\",\"\",IF(VLOOKUP(CONCATENATE(J407,\" SI\"),W$7:W$1196,1,FALSE)=CONCATENATE(J407,\" SI\"),\"\",1))","v":""},null,{"$f":"IF(OR(J407=\"\",G407=\"\"),\"\",IF(VLOOKUP(H407,Tabelle_Fisse!$B$25:$C$29,2,FALSE)=\"ok\",\"\",1))","v":""},{"$nulls":4},""]
[{"$nulls":9},"",{"$f":"IF(J408=\"\",\"\",IF(VLOOKUP(J408,Lotti!B$6:B$596,1,FALSE)=J408,\"\",1))","v":""},null,"",null,{"$f":"IF(J408=\"\",\"\",IF(VLOOKUP(F408,Tabelle_Fisse!$B$33:$C$34,2,FALSE)=\"ok\",\"\",1))","v":""},{"$f":"IF(J408=\"\",\"\",IF(VLOOKUP(CONCATENATE(J408,\" SI\"),W$7:W$1196,1,FALSE)=CONCATENATE(J408,\" SI\"),\"\",1))","v":""},null,{"$f":"IF(OR(J408=\"\",G408=\"\"),\"\",IF(VLOOKUP(H408,Tabelle_Fisse!$B$25:$C$29,2,FALSE)=\"ok\",\"\",1))","v":""},{"$nulls":4},""]
[{"$nulls":9},"",{"$f":"IF(J409=\"\",\"\",IF(VLOOKUP(J409,Lotti!B$6:B$596,1,FALSE)=J409,\"\",1))","v":""},null,"",null,{"$f":"IF(J409=\"\",\"\",IF(VLOOKUP(F409,Tabelle_Fisse!$B$33:$C$34,2,FALSE)=\"ok\",\"\",1))","v":""},{"$f":"IF(J409=\"\",\"\",IF(VLOOKUP(CONCATENATE(J409,\" SI\"),W$7:W$1196,1,FALSE)=CONCATENATE(J409,\" SI\"),\"\",1))","v":""},null,{"$f":"IF(OR(J409=\"\",G409=\"\"),\"\",IF(VLOOKUP(H409,Tabelle_Fisse!$B$25:$C$29,2,FALSE)=\"ok\",\"\",1))","v":""},{"$nulls":4},""]
[{"$nulls":9},"",{"$f":"IF(J410=\"\",\"\",IF(VLOOKUP(J410,Lotti!B$6:B$596,1,FALSE)=J410,\"\",1))","v":""},null,"",null,{"$f":"IF(J410=\"\",\"\",IF(VLOOKUP(F410,Tabelle_Fisse!$B$33:$C$34,2,FALSE)=\"ok\",\"\",1))","v":""},{"$f":"IF(J410=\"\",\"\",IF(VLOOKUP(CONCATENATE(J410,\" SI\"),W$7:W$1196,1,FALSE)=CONCATENATE(J410,\" SI\"),\"\",1))","v":""},null,{"$f":"IF(OR(J410=\"\",G410=\"\"),\"\",IF(VLOOKUP(H410,Tabelle_Fisse!$B$25:$C$29,2,FALSE)=\"ok\",\"\",1))","v":""},{"$nulls":4},""]
[{"$nulls":9},"",{"$f":"IF(J411=\"\",\"\",IF(VLOOKUP(J411,Lotti!B$6:B$596,1,FALSE)=J411,\"\",1))","v":""},null,"",null,{"$f":"IF(J411=\"\",\"\",IF(VLOOKUP(F411,Tabelle_Fisse!$B$33:$C$34,2,FALSE)=\"ok\",\"\",1))","v":""},{"$f":"IF(J411=\"\",\"\",IF(VLOOKUP(CONCATENATE(J411,\" SI\"),W$7:W$1196,1,FALSE)=CONCATENATE(J411,\" SI\"),\"\",1))","v":""},null,{"$f":"IF(OR(J411=\"\",G411=\"\"),\"\",IF(VLOOKUP(H411,Tabelle_Fisse!$B$25:$C$29,2,FALSE)=\"ok\",\"\",1))","v":""},{"$nulls":4},""]
[{"$nulls":9},"",{"$f":"IF(J412=\"\",\"\",IF(VLOOKUP(J412,Lotti!B$6:B$596,1,FALSE)=J412,\"\",1))","v":""},null,"",null,{"$f":"IF(J412=\"\",\"\",IF(VLOOKUP(F412,Tabelle_Fisse!$B$33:$C$34,2,FALSE)=\"ok\",\"\",1))","v":""},{"$f":"IF(J412=\"\",\"\",IF(VLOOKUP(CONCATENATE(J412,\" SI\"),W$7:W$1196,1,FALSE)=CONCATENATE(J412,\" SI\"),\"\",1))","v":""},null,{"$f":"IF(OR(J412=\"\",G412=\"\"),\"\",IF(VLOOKUP(H412,Tabelle_Fisse!$B$25:$C$29,2,FALSE)=\"ok\",\"\",1))","v":""},{"$nulls":4},""]
[{"$nulls":9},"",{"$f":"IF(J413=\"\",\"\",IF(VLOOKUP(J413,Lotti!B$6:B$596,1,FALSE)=J413,\"\",1))","v":""},null,"",null,{"$f":"IF(J413=\"\",\"\",IF(VLOOKUP(F413,Tabelle_Fisse!$B$33:$C$34,2,FALSE)=\"ok\",\"\",1))","v":""},{"$f":"IF(J413=\"\",\"\",IF(VLOOKUP(CONCATENATE(J413,\" SI\"),W$7:W$1196,1,FALSE)=CONCATENATE(J413,\" SI\"),\"\",1))","v":""},null,{"$f":"IF(OR(J413=\"\",G413=\"\"),\"\",IF(VLOOKUP(H413,Tabelle_Fisse!$B$25:$C$29,2,FALSE)=\"ok\",\"\",1))","v":""},{"$nulls":4},""]
[{"$nulls":9},"",{"$f":"IF(J414=\"\",\"\",IF(VLOOKUP(J414,Lotti!B$6:B$596,1,FALSE)=J414,\"\",1))","v":""},null,"",null,{"$f":"IF(J414=\"\",\"\",IF(VLOOKUP(F414,Tabelle_Fisse!$B$33:$C$34,2,FALSE)=\"ok\",\"\",1))","v":""},{"$f":"IF(J414=\"\",\"\",IF(VLOOKUP(CONCATENATE(J414,\" SI\"),W$7:W$1196,1,FALSE)=CONCATENATE(J414,\" SI\"),\"\",1))","v":""},null,{"$f":"IF(OR(J414=\"\",G414=\"\"),\"\",IF(VLOOKUP(H414,Tabelle_Fisse!$B$25:$C$29,2,FALSE)=\"ok\",\"\",1))","v":""},{"$nulls":4},""]
[{"$nulls":9},"",{"$f":"IF(J415=\"\",\"\",IF(VLOOKUP(J415,Lotti!B$6:B$596,1,FALSE)=J415,\"\",1))","v":""},null,"",null,{"$f":"IF(J415=\"\",\"\",IF(VLOOKUP(F415,Tabelle_Fisse!$B$33:$C$34,2,FALSE)=\"ok\",\"\",1))","v":""},{"$f":"IF(J415=\"\",\"\",IF(VLOOKUP(CONCATENATE(J415,\" SI\"),W$7:W$1196,1,FALSE)=CONCATENATE(J415,\" SI\"),\"\",1))","v":""},null,{"$f":"IF(OR(J415=\"\",G415=\"\"),\"\",IF(VLOOKUP(H415,Tabelle_Fisse!$B$25:$C$29,2,FALSE)=\"ok\",\"\",1))","v":""},{"$nulls":4},""]
[{"$nulls":9},"",{"$f":"IF(J416=\"\",\"\",IF(VLOOKUP(J416,Lotti!B$6:B$596,1,FALSE)=J416,\"\",1))","v":""},null,"",null,{"$f":"IF(J416=\"\",\"\",IF(VLOOKUP(F416,Tabelle_Fisse!$B$33:$C$34,2,FALSE)=\"ok\",\"\",1))","v":""},{"$f":"IF(J416=\"\",\"\",IF(VLOOKUP(CONCATENATE(J416,\" SI\"),W$7:W$1196,1,FALSE)=CONCATENATE(J416,\" SI\"),\"\",1))","v":""},null,{"$f":"IF(OR(J416=\"\",G416=\"\"),\"\",IF(VLOOKUP(H416,Tabelle_Fisse!$B$25:$C$29,2,FALSE)=\"ok\",\"\",1))","v":""},{"$nulls":4},""]
[{"$nulls":9},"",{"$f":"IF(J417=\"\",\"\",IF(VLOOKUP(J417,Lotti!B$6:B$596,1,FALSE)=J417,\"\",1))","v":""},null,"",null,{"$f":"IF(J417=\"\",\"\",IF(VLOOKUP(F417,Tabelle_Fisse!$B$33:$C$34,2,FALSE)=\"ok\",\"\",1))","v":""},{"$f":"IF(J417=\"\",\"\",IF(VLOOKUP(CONCATENATE(J417,\" SI\"),W$7:W$1196,1,FALSE)=CONCATENATE(J417,\" SI\"),\"\",1))","v":""},null,{"$f":"IF(OR(J417=\"\",G417=\"\"),\"\",IF(VLOOKUP(H417,Tabelle_Fisse!$B$25:$C$29,2,FALSE)=\"ok\",\"\",1))","v":""},{"$nulls":4},""]
[{"$nulls":9},"",{"$f":"IF(J418=\"\",\"\",IF(VLOOKUP(J418,Lotti!B$6:B$596,1,FALSE)=J418,\"\",1))","v":""},null,"",null,{"$f":"IF(J418=\"\",\"\",IF(VLOOKUP(F418,Tabelle_Fisse!$B$33:$C$34,2,FALSE)=\"ok\",\"\",1))","v":""},{"$f":"IF(J418=\"\",\"\",IF(VLOOKUP(CONCATENATE(J418,\" SI\"),W$7:W$1196,1,FALSE)=CONCATENATE(J418,\" SI\"),\"\",1))","v":""},null,{"$f":"IF(OR(J418=\"\",G418=\"\"),\"\",IF(VLOOKUP(H418,Tabelle_Fisse!$B$25:$C$29,2,FALSE)=\"ok\",\"\",1))","v":""},{"$nulls":4},""]
[{"$nulls":9},"",{"$f":"IF(J419=\"\",\"\",IF(VLOOKUP(J419,Lotti!B$6:B$596,1,FALSE)=J419,\"\",1))","v":""},null,"",null,{"$f":"IF(J419=\"\",\"\",IF(VLOOKUP(F419,Tabelle_Fisse!$B$33:$C$34,2,FALSE)=\"ok\",\"\",1))","v":""},{"$f":"IF(J419=\"\",\"\",IF(VLOOKUP(CONCATENATE(J419,\" SI\"),W$7:W$1196,1,FALSE)=CONCATENATE(J419,\" SI\"),\"\",1))","v":""},null,{"$f":"IF(OR(J419=\"\",G419=\"\"),\"\",IF(VLOOKUP(H419,Tabelle_Fisse!$B$25:$C$29,2,FALSE)=\"ok\",\"\",1))","v":""},{"$nulls":4},""]
[{"$nulls":9},"",{"$f":"IF(J420=\"\",\"\",IF(VLOOKUP(J420,Lotti!B$6:B$596,1,FALSE)=J420,\"\",1))","v":""},null,"",null,{"$f":"IF(J420=\"\",\"\",IF(VLOOKUP(F420,Tabelle_Fisse!$B$33:$C$34,2,FALSE)=\"ok\",\"\",1))","v":""},{"$f":"IF(J420=\"\",\"\",IF(VLOOKUP(CONCATENATE(J420,\" SI\"),W$7:W$1196,1,FALSE)=CONCATENATE(J420,\" SI\"),\"\",1))","v":""},null,{"$f":"IF(OR(J420=\"\",G420=\"\"),\"\",IF(VLOOKUP(H420,Tabelle_Fisse!$B$25:$C$29,2,FALSE)=\"ok\",\"\",1))","v":""},{"$nulls":4},""]
[{"$nulls":9},"",{"$f":"IF(J421=\"\",\"\",IF(VLOOKUP(J421,Lotti!B$6:B$596,1,FALSE)=J421,\"\",1))","v":""},null,"",null,{"$f":"IF(J421=\"\",\"\",IF(VLOOKUP(F421,Tabelle_Fisse!$B$33:$C$34,2,FALSE)=\"ok\",\"\",1))","v":""},{"$f":"IF(J421=\"\",\"\",IF(VLOOKUP(CONCATENATE(J421,\" SI\"),W$7:W$1196,1,FALSE)=CONCATENATE(J421,\" SI\"),\"\",1))","v":""},null,{"$f":"IF(OR(J421=\"\",G421=\"\"),\"\",IF(VLOOKUP(H421,Tabelle_Fisse!$B$25:$C$29,2,FALSE)=\"ok\",\"\",1))","v":""},{"$nulls":4},""]
[{"$nulls":9},"",{"$f":"IF(J422=\"\",\"\",IF(VLOOKUP(J422,Lotti!B$6:B$596,1,FALSE)=J422,\"\",1))","v":""},null,"",null,{"$f":"IF(J422=\"\",\"\",IF(VLOOKUP(F422,Tabelle_Fisse!$B$33:$C$34,2,FALSE)=\"ok\",\"\",1))","v":""},{"$f":"IF(J422=\"\",\"\",IF(VLOOKUP(CONCATENATE(J422,\" SI\"),W$7:W$1196,1,FALSE)=CONCATENATE(J422,\" SI\"),\"\",1))","v":""},null,{"$f":"IF(OR(J422=\"\",G422=\"\"),\"\",IF(VLOOKUP(H422,Tabelle_Fisse!$B$25:$C$29,2,FALSE)=\"ok\",\"\",1))","v":""},{"$nulls":4},""]
[{"$nulls":9},"",{"$f":"IF(J423=\"\",\"\",IF(VLOOKUP(J423,Lotti!B$6:B$596,1,FALSE)=J423,\"\",1))","v":""},null,"",null,{"$f":"IF(J423=\"\",\"\",IF(VLOOKUP(F423,Tabelle_Fisse!$B$33:$C$34,2,FALSE)=\"ok\",\"\",1))","v":""},{"$f":"IF(J423=\"\",\"\",IF(VLOOKUP(CONCATENATE(J423,\" SI\"),W$7:W$1196,1,FALSE)=CONCATENATE(J423,\" SI\"),\"\",1))","v":""},null,{"$f":"IF(OR(J423=\"\",G423=\"\"),\"\",IF(VLOOKUP(H423,Tabelle_Fisse!$B$25:$C$29,2,FALSE)=\"ok\",\"\",1))","v":""},{"$nulls":4},""]
[{"$nulls":9},"",{"$f":"IF(J424=\"\",\"\",IF(VLOOKUP(J424,Lotti!B$6:B$596,1,FALSE)=J424,\"\",1))","v":""},null,"",null,{"$f":"IF(J424=\"\",\"\",IF(VLOOKUP(F424,Tabelle_Fisse!$B$33:$C$34,2,FALSE)=\"ok\",\"\",1))","v":""},{"$f":"IF(J424=\"\",\"\",IF(VLOOKUP(CONCATENATE(J424,\" SI\"),W$7:W$1196,1,FALSE)=CONCATENATE(J424,\" SI\"),\"\",1))","v":""},null,{"$f":"IF(OR(J424=\"\",G424=\"\"),\"\",IF(VLOOKUP(H424,Tabelle_Fisse!$B$25:$C$29,2,FALSE)=\"ok\",\"\",1))","v":""},{"$nulls":4},""]
[{"$nulls":9},"",{"$f":"IF(J425=\"\",\"\",IF(VLOOKUP(J425,Lotti!B$6:B$596,1,FALSE)=J425,\"\",1))","v":""},null,"",null,{"$f":"IF(J425=\"\",\"\",IF(VLOOKUP(F425,Tabelle_Fisse!$B$33:$C$34,2,FALSE)=\"ok\",\"\",1))","v":""},{"$f":"IF(J425=\"\",\"\",IF(VLOOKUP(CONCATENATE(J425,\" SI\"),W$7:W$1196,1,FALSE)=CONCATENATE(J425,\" SI\"),\"\",1))","v":""},null,{"$f":"IF(OR(J425=\"\",G425=\"\"),\"\",IF(VLOOKUP(H425,Tabelle_Fisse!$B$25:$C$29,2,FALSE)=\"ok\",\"\",1))","v":""},{"$nulls":4},""]
[{"$nulls":9},"",{"$f":"IF(J426=\"\",\"\",IF(VLOOKUP(J426,Lotti!B$6:B$596,1,FALSE)=J426,\"\",1))","v":""},null,"",null,{"$f":"IF(J426=\"\",\"\",IF(VLOOKUP(F426,Tabelle_Fisse!$B$33:$C$34,2,FALSE)=\"ok\",\"\",1))","v":""},{"$f":"IF(J426=\"\",\"\",IF(VLOOKUP(CONCATENATE(J426,\" SI\"),W$7:W$1196,1,FALSE)=CONCATENATE(J426,\" SI\"),\"\",1))","v":""},null,{"$f":"IF(OR(J426=\"\",G426=\"\"),\"\",IF(VLOOKUP(H426,Tabelle_Fisse!$B$25:$C$29,2,FALSE)=\"ok\",\"\",1))","v":""},{"$nulls":4},""]
[{"$nulls":9},"",{"$f":"IF(J427=\"\",\"\",IF(VLOOKUP(J427,Lotti!B$6:B$596,1,FALSE)=J427,\"\",1))","v":""},null,"",null,{"$f":"IF(J427=\"\",\"\",IF(VLOOKUP(F427,Tabelle_Fisse!$B$33:$C$34,2,FALSE)=\"ok\",\"\",1))","v":""},{"$f":"IF(J427=\"\",\"\",IF(VLOOKUP(CONCATENATE(J427,\" SI\"),W$7:W$1196,1,FALSE)=CONCATENATE(J427,\" SI\"),\"\",1))","v":""},null,{"$f":"IF(OR(J427=\"\",G427=\"\"),\"\",IF(VLOOKUP(H427,Tabelle_Fisse!$B$25:$C$29,2,FALSE)=\"ok\",\"\",1))","v":""},{"$nulls":4},""]
[{"$nulls":9},"",{"$f":"IF(J428=\"\",\"\",IF(VLOOKUP(J428,Lotti!B$6:B$596,1,FALSE)=J428,\"\",1))","v":""},null,"",null,{"$f":"IF(J428=\"\",\"\",IF(VLOOKUP(F428,Tabelle_Fisse!$B$33:$C$34,2,FALSE)=\"ok\",\"\",1))","v":""},{"$f":"IF(J428=\"\",\"\",IF(VLOOKUP(CONCATENATE(J428,\" SI\"),W$7:W$1196,1,FALSE)=CONCATENATE(J428,\" SI\"),\"\",1))","v":""},null,{"$f":"IF(OR(J428=\"\",G428=\"\"),\"\",IF(VLOOKUP(H428,Tabelle_Fisse!$B$25:$C$29,2,FALSE)=\"ok\",\"\",1))","v":""},{"$nulls":4},""]
[{"$nulls":9},"",{"$f":"IF(J429=\"\",\"\",IF(VLOOKUP(J429,Lotti!B$6:B$596,1,FALSE)=J429,\"\",1))","v":""},null,"",null,{"$f":"IF(J429=\"\",\"\",IF(VLOOKUP(F429,Tabelle_Fisse!$B$33:$C$34,2,FALSE)=\"ok\",\"\",1))","v":""},{"$f":"IF(J429=\"\",\"\",IF(VLOOKUP(CONCATENATE(J429,\" SI\"),W$7:W$1196,1,FALSE)=CONCATENATE(J429,\" SI\"),\"\",1))","v":""},null,{"$f":"IF(OR(J429=\"\",G429=\"\"),\"\",IF(VLOOKUP(H429,Tabelle_Fisse!$B$25:$C$29,2,FALSE)=\"ok\",\"\",1))","v":""},{"$nulls":4},""]
[{"$nulls":9},"",{"$f":"IF(J430=\"\",\"\",IF(VLOOKUP(J430,Lotti!B$6:B$596,1,FALSE)=J430,\"\",1))","v":""},null,"",null,{"$f":"IF(J430=\"\",\"\",IF(VLOOKUP(F430,Tabelle_Fisse!$B$33:$C$34,2,FALSE)=\"ok\",\"\",1))","v":""},{"$f":"IF(J430=\"\",\"\",IF(VLOOKUP(CONCATENATE(J430,\" SI\"),W$7:W$1196,1,FALSE)=CONCATENATE(J430,\" SI\"),\"\",1))","v":""},null,{"$f":"IF(OR(J430=\"\",G430=\"\"),\"\",IF(VLOOKUP(H430,Tabelle_Fisse!$B$25:$C$29,2,FALSE)=\"ok\",\"\",1))","v":""},{"$nulls":4},""]
[{"$nulls":9},"",{"$f":"IF(J431=\"\",\"\",IF(VLOOKUP(J431,Lotti!B$6:B$596,1,FALSE)=J431,\"\",1))","v":""},null,"",null,{"$f":"IF(J431=\"\",\"\",IF(VLOOKUP(F431,Tabelle_Fisse!$B$33:$C$34,2,FALSE)=\"ok\",\"\",1))","v":""},{"$f":"IF(J431=\"\",\"\",IF(VLOOKUP(CONCATENATE(J431,\" SI\"),W$7:W$1196,1,FALSE)=CONCATENATE(J431,\" SI\"),\"\",1))","v":""},null,{"$f":"IF(OR(J431=\"\",G431=\"\"),\"\",IF(VLOOKUP(H431,Tabelle_Fisse!$B$25:$C$29,2,FALSE)=\"ok\",\"\",1))","v":""},{"$nulls":4},""]
[{"$nulls":9},"",{"$f":"IF(J432=\"\",\"\",IF(VLOOKUP(J432,Lotti!B$6:B$596,1,FALSE)=J432,\"\",1))","v":""},null,"",null,{"$f":"IF(J432=\"\",\"\",IF(VLOOKUP(F432,Tabelle_Fisse!$B$33:$C$34,2,FALSE)=\"ok\",\"\",1))","v":""},{"$f":"IF(J432=\"\",\"\",IF(VLOOKUP(CONCATENATE(J432,\" SI\"),W$7:W$1196,1,FALSE)=CONCATENATE(J432,\" SI\"),\"\",1))","v":""},null,{"$f":"IF(OR(J432=\"\",G432=\"\"),\"\",IF(VLOOKUP(H432,Tabelle_Fisse!$B$25:$C$29,2,FALSE)=\"ok\",\"\",1))","v":""},{"$nulls":4},""]
[{"$nulls":9},"",{"$f":"IF(J433=\"\",\"\",IF(VLOOKUP(J433,Lotti!B$6:B$596,1,FALSE)=J433,\"\",1))","v":""},null,"",null,{"$f":"IF(J433=\"\",\"\",IF(VLOOKUP(F433,Tabelle_Fisse!$B$33:$C$34,2,FALSE)=\"ok\",\"\",1))","v":""},{"$f":"IF(J433=\"\",\"\",IF(VLOOKUP(CONCATENATE(J433,\" SI\"),W$7:W$1196,1,FALSE)=CONCATENATE(J433,\" SI\"),\"\",1))","v":""},null,{"$f":"IF(OR(J433=\"\",G433=\"\"),\"\",IF(VLOOKUP(H433,Tabelle_Fisse!$B$25:$C$29,2,FALSE)=\"ok\",\"\",1))","v":""},{"$nulls":4},""]
[{"$nulls":9},"",{"$f":"IF(J434=\"\",\"\",IF(VLOOKUP(J434,Lotti!B$6:B$596,1,FALSE)=J434,\"\",1))","v":""},null,"",null,{"$f":"IF(J434=\"\",\"\",IF(VLOOKUP(F434,Tabelle_Fisse!$B$33:$C$34,2,FALSE)=\"ok\",\"\",1))","v":""},{"$f":"IF(J434=\"\",\"\",IF(VLOOKUP(CONCATENATE(J434,\" SI\"),W$7:W$1196,1,FALSE)=CONCATENATE(J434,\" SI\"),\"\",1))","v":""},null,{"$f":"IF(OR(J434=\"\",G434=\"\"),\"\",IF(VLOOKUP(H434,Tabelle_Fisse!$B$25:$C$29,2,FALSE)=\"ok\",\"\",1))","v":""},{"$nulls":4},""]
[{"$nulls":9},"",{"$f":"IF(J435=\"\",\"\",IF(VLOOKUP(J435,Lotti!B$6:B$596,1,FALSE)=J435,\"\",1))","v":""},null,"",null,{"$f":"IF(J435=\"\",\"\",IF(VLOOKUP(F435,Tabelle_Fisse!$B$33:$C$34,2,FALSE)=\"ok\",\"\",1))","v":""},{"$f":"IF(J435=\"\",\"\",IF(VLOOKUP(CONCATENATE(J435,\" SI\"),W$7:W$1196,1,FALSE)=CONCATENATE(J435,\" SI\"),\"\",1))","v":""},null,{"$f":"IF(OR(J435=\"\",G435=\"\"),\"\",IF(VLOOKUP(H435,Tabelle_Fisse!$B$25:$C$29,2,FALSE)=\"ok\",\"\",1))","v":""},{"$nulls":4},""]
[{"$nulls":9},"",{"$f":"IF(J436=\"\",\"\",IF(VLOOKUP(J436,Lotti!B$6:B$596,1,FALSE)=J436,\"\",1))","v":""},null,"",null,{"$f":"IF(J436=\"\",\"\",IF(VLOOKUP(F436,Tabelle_Fisse!$B$33:$C$34,2,FALSE)=\"ok\",\"\",1))","v":""},{"$f":"IF(J436=\"\",\"\",IF(VLOOKUP(CONCATENATE(J436,\" SI\"),W$7:W$1196,1,FALSE)=CONCATENATE(J436,\" SI\"),\"\",1))","v":""},null,{"$f":"IF(OR(J436=\"\",G436=\"\"),\"\",IF(VLOOKUP(H436,Tabelle_Fisse!$B$25:$C$29,2,FALSE)=\"ok\",\"\",1))","v":""},{"$nulls":4},""]
[{"$nulls":9},"",{"$f":"IF(J437=\"\",\"\",IF(VLOOKUP(J437,Lotti!B$6:B$596,1,FALSE)=J437,\"\",1))","v":""},null,"",null,{"$f":"IF(J437=\"\",\"\",IF(VLOOKUP(F437,Tabelle_Fisse!$B$33:$C$34,2,FALSE)=\"ok\",\"\",1))","v":""},{"$f":"IF(J437=\"\",\"\",IF(VLOOKUP(CONCATENATE(J437,\" SI\"),W$7:W$1196,1,FALSE)=CONCATENATE(J437,\" SI\"),\"\",1))","v":""},null,{"$f":"IF(OR(J437=\"\",G437=\"\"),\"\",IF(VLOOKUP(H437,Tabelle_Fisse!$B$25:$C$29,2,FALSE)=\"ok\",\"\",1))","v":""},{"$nulls":4},""]
[{"$nulls":9},"",{"$f":"IF(J438=\"\",\"\",IF(VLOOKUP(J438,Lotti!B$6:B$596,1,FALSE)=J438,\"\",1))","v":""},null,"",null,{"$f":"IF(J438=\"\",\"\",IF(VLOOKUP(F438,Tabelle_Fisse!$B$33:$C$34,2,FALSE)=\"ok\",\"\",1))","v":""},{"$f":"IF(J438=\"\",\"\",IF(VLOOKUP(CONCATENATE(J438,\" SI\"),W$7:W$1196,1,FALSE)=CONCATENATE(J438,\" SI\"),\"\",1))","v":""},null,{"$f":"IF(OR(J438=\"\",G438=\"\"),\"\",IF(VLOOKUP(H438,Tabelle_Fisse!$B$25:$C$29,2,FALSE)=\"ok\",\"\",1))","v":""},{"$nulls":4},""]
[{"$nulls":9},"",{"$f":"IF(J439=\"\",\"\",IF(VLOOKUP(J439,Lotti!B$6:B$596,1,FALSE)=J439,\"\",1))","v":""},null,"",null,{"$f":"IF(J439=\"\",\"\",IF(VLOOKUP(F439,Tabelle_Fisse!$B$33:$C$34,2,FALSE)=\"ok\",\"\",1))","v":""},{"$f":"IF(J439=\"\",\"\",IF(VLOOKUP(CONCATENATE(J439,\" SI\"),W$7:W$1196,1,FALSE)=CONCATENATE(J439,\" SI\"),\"\",1))","v":""},null,{"$f":"IF(OR(J439=\"\",G439=\"\"),\"\",IF(VLOOKUP(H439,Tabelle_Fisse!$B$25:$C$29,2,FALSE)=\"ok\",\"\",1))","v":""},{"$nulls":4},""]
[{"$nulls":9},"",{"$f":"IF(J440=\"\",\"\",IF(VLOOKUP(J440,Lotti!B$6:B$596,1,FALSE)=J440,\"\",1))","v":""},null,"",null,{"$f":"IF(J440=\"\",\"\",IF(VLOOKUP(F440,Tabelle_Fisse!$B$33:$C$34,2,FALSE)=\"ok\",\"\",1))","v":""},{"$f":"IF(J440=\"\",\"\",IF(VLOOKUP(CONCATENATE(J440,\" SI\"),W$7:W$1196,1,FALSE)=CONCATENATE(J440,\" SI\"),\"\",1))","v":""},null,{"$f":"IF(OR(J440=\"\",G440=\"\"),\"\",IF(VLOOKUP(H440,Tabelle_Fisse!$B$25:$C$29,2,FALSE)=\"ok\",\"\",1))","v":""},{"$nulls":4},""]
[{"$nulls":9},"",{"$f":"IF(J441=\"\",\"\",IF(VLOOKUP(J441,Lotti!B$6:B$596,1,FALSE)=J441,\"\",1))","v":""},null,"",null,{"$f":"IF(J441=\"\",\"\",IF(VLOOKUP(F441,Tabelle_Fisse!$B$33:$C$34,2,FALSE)=\"ok\",\"\",1))","v":""},{"$f":"IF(J441=\"\",\"\",IF(VLOOKUP(CONCATENATE(J441,\" SI\"),W$7:W$1196,1,FALSE)=CONCATENATE(J441,\" SI\"),\"\",1))","v":""},null,{"$f":"IF(OR(J441=\"\",G441=\"\"),\"\",IF(VLOOKUP(H441,Tabelle_Fisse!$B$25:$C$29,2,FALSE)=\"ok\",\"\",1))","v":""},{"$nulls":4},""]
[{"$nulls":9},"",{"$f":"IF(J442=\"\",\"\",IF(VLOOKUP(J442,Lotti!B$6:B$596,1,FALSE)=J442,\"\",1))","v":""},null,"",null,{"$f":"IF(J442=\"\",\"\",IF(VLOOKUP(F442,Tabelle_Fisse!$B$33:$C$34,2,FALSE)=\"ok\",\"\",1))","v":""},{"$f":"IF(J442=\"\",\"\",IF(VLOOKUP(CONCATENATE(J442,\" SI\"),W$7:W$1196,1,FALSE)=CONCATENATE(J442,\" SI\"),\"\",1))","v":""},null,{"$f":"IF(OR(J442=\"\",G442=\"\"),\"\",IF(VLOOKUP(H442,Tabelle_Fisse!$B$25:$C$29,2,FALSE)=\"ok\",\"\",1))","v":""},{"$nulls":4},""]
[{"$nulls":9},"",{"$f":"IF(J443=\"\",\"\",IF(VLOOKUP(J443,Lotti!B$6:B$596,1,FALSE)=J443,\"\",1))","v":""},null,"",null,{"$f":"IF(J443=\"\",\"\",IF(VLOOKUP(F443,Tabelle_Fisse!$B$33:$C$34,2,FALSE)=\"ok\",\"\",1))","v":""},{"$f":"IF(J443=\"\",\"\",IF(VLOOKUP(CONCATENATE(J443,\" SI\"),W$7:W$1196,1,FALSE)=CONCATENATE(J443,\" SI\"),\"\",1))","v":""},null,{"$f":"IF(OR(J443=\"\",G443=\"\"),\"\",IF(VLOOKUP(H443,Tabelle_Fisse!$B$25:$C$29,2,FALSE)=\"ok\",\"\",1))","v":""},{"$nulls":4},""]
[{"$nulls":9},"",{"$f":"IF(J444=\"\",\"\",IF(VLOOKUP(J444,Lotti!B$6:B$596,1,FALSE)=J444,\"\",1))","v":""},null,"",null,{"$f":"IF(J444=\"\",\"\",IF(VLOOKUP(F444,Tabelle_Fisse!$B$33:$C$34,2,FALSE)=\"ok\",\"\",1))","v":""},{"$f":"IF(J444=\"\",\"\",IF(VLOOKUP(CONCATENATE(J444,\" SI\"),W$7:W$1196,1,FALSE)=CONCATENATE(J444,\" SI\"),\"\",1))","v":""},null,{"$f":"IF(OR(J444=\"\",G444=\"\"),\"\",IF(VLOOKUP(H444,Tabelle_Fisse!$B$25:$C$29,2,FALSE)=\"ok\",\"\",1))","v":""},{"$nulls":4},""]
[{"$nulls":9},"",{"$f":"IF(J445=\"\",\"\",IF(VLOOKUP(J445,Lotti!B$6:B$596,1,FALSE)=J445,\"\",1))","v":""},null,"",null,{"$f":"IF(J445=\"\",\"\",IF(VLOOKUP(F445,Tabelle_Fisse!$B$33:$C$34,2,FALSE)=\"ok\",\"\",1))","v":""},{"$f":"IF(J445=\"\",\"\",IF(VLOOKUP(CONCATENATE(J445,\" SI\"),W$7:W$1196,1,FALSE)=CONCATENATE(J445,\" SI\"),\"\",1))","v":""},null,{"$f":"IF(OR(J445=\"\",G445=\"\"),\"\",IF(VLOOKUP(H445,Tabelle_Fisse!$B$25:$C$29,2,FALSE)=\"ok\",\"\",1))","v":""},{"$nulls":4},""]
[{"$nulls":9},"",{"$f":"IF(J446=\"\",\"\",IF(VLOOKUP(J446,Lotti!B$6:B$596,1,FALSE)=J446,\"\",1))","v":""},null,"",null,{"$f":"IF(J446=\"\",\"\",IF(VLOOKUP(F446,Tabelle_Fisse!$B$33:$C$34,2,FALSE)=\"ok\",\"\",1))","v":""},{"$f":"IF(J446=\"\",\"\",IF(VLOOKUP(CONCATENATE(J446,\" SI\"),W$7:W$1196,1,FALSE)=CONCATENATE(J446,\" SI\"),\"\",1))","v":""},null,{"$f":"IF(OR(J446=\"\",G446=\"\"),\"\",IF(VLOOKUP(H446,Tabelle_Fisse!$B$25:$C$29,2,FALSE)=\"ok\",\"\",1))","v":""},{"$nulls":4},""]
[{"$nulls":9},"",{"$f":"IF(J447=\"\",\"\",IF(VLOOKUP(J447,Lotti!B$6:B$596,1,FALSE)=J447,\"\",1))","v":""},null,"",null,{"$f":"IF(J447=\"\",\"\",IF(VLOOKUP(F447,Tabelle_Fisse!$B$33:$C$34,2,FALSE)=\"ok\",\"\",1))","v":""},{"$f":"IF(J447=\"\",\"\",IF(VLOOKUP(CONCATENATE(J447,\" SI\"),W$7:W$1196,1,FALSE)=CONCATENATE(J447,\" SI\"),\"\",1))","v":""},null,{"$f":"IF(OR(J447=\"\",G447=\"\"),\"\",IF(VLOOKUP(H447,Tabelle_Fisse!$B$25:$C$29,2,FALSE)=\"ok\",\"\",1))","v":""},{"$nulls":4},""]
[{"$nulls":9},"",{"$f":"IF(J448=\"\",\"\",IF(VLOOKUP(J448,Lotti!B$6:B$596,1,FALSE)=J448,\"\",1))","v":""},null,"",null,{"$f":"IF(J448=\"\",\"\",IF(VLOOKUP(F448,Tabelle_Fisse!$B$33:$C$34,2,FALSE)=\"ok\",\"\",1))","v":""},{"$f":"IF(J448=\"\",\"\",IF(VLOOKUP(CONCATENATE(J448,\" SI\"),W$7:W$1196,1,FALSE)=CONCATENATE(J448,\" SI\"),\"\",1))","v":""},null,{"$f":"IF(OR(J448=\"\",G448=\"\"),\"\",IF(VLOOKUP(H448,Tabelle_Fisse!$B$25:$C$29,2,FALSE)=\"ok\",\"\",1))","v":""},{"$nulls":4},""]
[{"$nulls":9},"",{"$f":"IF(J449=\"\",\"\",IF(VLOOKUP(J449,Lotti!B$6:B$596,1,FALSE)=J449,\"\",1))","v":""},null,"",null,{"$f":"IF(J449=\"\",\"\",IF(VLOOKUP(F449,Tabelle_Fisse!$B$33:$C$34,2,FALSE)=\"ok\",\"\",1))","v":""},{"$f":"IF(J449=\"\",\"\",IF(VLOOKUP(CONCATENATE(J449,\" SI\"),W$7:W$1196,1,FALSE)=CONCATENATE(J449,\" SI\"),\"\",1))","v":""},null,{"$f":"IF(OR(J449=\"\",G449=\"\"),\"\",IF(VLOOKUP(H449,Tabelle_Fisse!$B$25:$C$29,2,FALSE)=\"ok\",\"\",1))","v":""},{"$nulls":4},""]
[{"$nulls":9},"",{"$f":"IF(J450=\"\",\"\",IF(VLOOKUP(J450,Lotti!B$6:B$596,1,FALSE)=J450,\"\",1))","v":""},null,"",null,{"$f":"IF(J450=\"\",\"\",IF(VLOOKUP(F450,Tabelle_Fisse!$B$33:$C$34,2,FALSE)=\"ok\",\"\",1))","v":""},{"$f":"IF(J450=\"\",\"\",IF(VLOOKUP(CONCATENATE(J450,\" SI\"),W$7:W$1196,1,FALSE)=CONCATENATE(J450,\" SI\"),\"\",1))","v":""},null,{"$f":"IF(OR(J450=\"\",G450=\"\"),\"\",IF(VLOOKUP(H450,Tabelle_Fisse!$B$25:$C$29,2,FALSE)=\"ok\",\"\",1))","v":""},{"$nulls":4},""]
[{"$nulls":9},"",{"$f":"IF(J451=\"\",\"\",IF(VLOOKUP(J451,Lotti!B$6:B$596,1,FALSE)=J451,\"\",1))","v":""},null,"",null,{"$f":"IF(J451=\"\",\"\",IF(VLOOKUP(F451,Tabelle_Fisse!$B$33:$C$34,2,FALSE)=\"ok\",\"\",1))","v":""},{"$f":"IF(J451=\"\",\"\",IF(VLOOKUP(CONCATENATE(J451,\" SI\"),W$7:W$1196,1,FALSE)=CONCATENATE(J451,\" SI\"),\"\",1))","v":""},null,{"$f":"IF(OR(J451=\"\",G451=\"\"),\"\",IF(VLOOKUP(H451,Tabelle_Fisse!$B$25:$C$29,2,FALSE)=\"ok\",\"\",1))","v":""},{"$nulls":4},""]
[{"$nulls":9},{"$f":"TRIM(B452)","v":""},{"$f":"IF(J452=\"\",\"\",IF(VLOOKUP(J452,Lotti!B$6:B$596,1,FALSE)=J452,\"\",1))","v":""},null,{"$f":"IF(J452=\"\",\"\",IF(OR(AND(E452=\"\",LEN(D452)<>11,LEN(D452)<>16),AND(D452=\"\",E452=\"\"),AND(D452<>\"\",E452<>\"\")),1,\"\"))","v":""},null,{"$f":"IF(J452=\"\",\"\",IF(VLOOKUP(F452,Tabelle_Fisse!$B$33:$C$34,2,FALSE)=\"ok\",\"\",1))","v":""},{"$f":"IF(J452=\"\",\"\",IF(VLOOKUP(CONCATENATE(J452,\" SI\"),W$7:W$1196,1,FALSE)=CONCATENATE(J452,\" SI\"),\"\",1))","v":""},null,{"$f":"IF(OR(J452=\"\",G452=\"\"),\"\",IF(VLOOKUP(H452,Tabelle_Fisse!$B$25:$C$29,2,FALSE)=\"ok\",\"\",1))","v":""},{"$nulls":4},{"$f":"IF(J452=\"\",\"\",CONCATENATE(J452,\" \",F452))","v":""}]
[{"$nulls":9},"",{"$f":"IF(J453=\"\",\"\",IF(VLOOKUP(J453,Lotti!B$6:B$596,1,FALSE)=J453,\"\",1))","v":""},null,"",null,{"$f":"IF(J453=\"\",\"\",IF(VLOOKUP(F453,Tabelle_Fisse!$B$33:$C$34,2,FALSE)=\"ok\",\"\",1))","v":""},{"$f":"IF(J453=\"\",\"\",IF(VLOOKUP(CONCATENATE(J453,\" SI\"),W$7:W$1196,1,FALSE)=CONCATENATE(J453,\" SI\"),\"\",1))","v":""},null,{"$f":"IF(OR(J453=\"\",G453=\"\"),\"\",IF(VLOOKUP(H453,Tabelle_Fisse!$B$25:$C$29,2,FALSE)=\"ok\",\"\",1))","v":""},{"$nulls":4},""]
[{"$nulls":9},"",{"$f":"IF(J454=\"\",\"\",IF(VLOOKUP(J454,Lotti!B$6:B$596,1,FALSE)=J454,\"\",1))","v":""},null,"",null,{"$f":"IF(J454=\"\",\"\",IF(VLOOKUP(F454,Tabelle_Fisse!$B$33:$C$34,2,FALSE)=\"ok\",\"\",1))","v":""},{"$f":"IF(J454=\"\",\"\",IF(VLOOKUP(CONCATENATE(J454,\" SI\"),W$7:W$1196,1,FALSE)=CONCATENATE(J454,\" SI\"),\"\",1))","v":""},null,{"$f":"IF(OR(J454=\"\",G454=\"\"),\"\",IF(VLOOKUP(H454,Tabelle_Fisse!$B$25:$C$29,2,FALSE)=\"ok\",\"\",1))","v":""},{"$nulls":4},""]
[{"$nulls":9},"",{"$f":"IF(J455=\"\",\"\",IF(VLOOKUP(J455,Lotti!B$6:B$596,1,FALSE)=J455,\"\",1))","v":""},null,"",null,{"$f":"IF(J455=\"\",\"\",IF(VLOOKUP(F455,Tabelle_Fisse!$B$33:$C$34,2,FALSE)=\"ok\",\"\",1))","v":""},{"$f":"IF(J455=\"\",\"\",IF(VLOOKUP(CONCATENATE(J455,\" SI\"),W$7:W$1196,1,FALSE)=CONCATENATE(J455,\" SI\"),\"\",1))","v":""},null,{"$f":"IF(OR(J455=\"\",G455=\"\"),\"\",IF(VLOOKUP(H455,Tabelle_Fisse!$B$25:$C$29,2,FALSE)=\"ok\",\"\",1))","v":""},{"$nulls":4},""]
[{"$nulls":9},"",{"$f":"IF(J456=\"\",\"\",IF(VLOOKUP(J456,Lotti!B$6:B$596,1,FALSE)=J456,\"\",1))","v":""},null,"",null,{"$f":"IF(J456=\"\",\"\",IF(VLOOKUP(F456,Tabelle_Fisse!$B$33:$C$34,2,FALSE)=\"ok\",\"\",1))","v":""},{"$f":"IF(J456=\"\",\"\",IF(VLOOKUP(CONCATENATE(J456,\" SI\"),W$7:W$1196,1,FALSE)=CONCATENATE(J456,\" SI\"),\"\",1))","v":""},null,{"$f":"IF(OR(J456=\"\",G456=\"\"),\"\",IF(VLOOKUP(H456,Tabelle_Fisse!$B$25:$C$29,2,FALSE)=\"ok\",\"\",1))","v":""},{"$nulls":4},""]
[{"$nulls":9},"",{"$f":"IF(J457=\"\",\"\",IF(VLOOKUP(J457,Lotti!B$6:B$596,1,FALSE)=J457,\"\",1))","v":""},null,"",null,{"$f":"IF(J457=\"\",\"\",IF(VLOOKUP(F457,Tabelle_Fisse!$B$33:$C$34,2,FALSE)=\"ok\",\"\",1))","v":""},{"$f":"IF(J457=\"\",\"\",IF(VLOOKUP(CONCATENATE(J457,\" SI\"),W$7:W$1196,1,FALSE)=CONCATENATE(J457,\" SI\"),\"\",1))","v":""},null,{"$f":"IF(OR(J457=\"\",G457=\"\"),\"\",IF(VLOOKUP(H457,Tabelle_Fisse!$B$25:$C$29,2,FALSE)=\"ok\",\"\",1))","v":""},{"$nulls":4},""]
[{"$nulls":9},"",{"$f":"IF(J458=\"\",\"\",IF(VLOOKUP(J458,Lotti!B$6:B$596,1,FALSE)=J458,\"\",1))","v":""},null,"",null,{"$f":"IF(J458=\"\",\"\",IF(VLOOKUP(F458,Tabelle_Fisse!$B$33:$C$34,2,FALSE)=\"ok\",\"\",1))","v":""},{"$f":"IF(J458=\"\",\"\",IF(VLOOKUP(CONCATENATE(J458,\" SI\"),W$7:W$1196,1,FALSE)=CONCATENATE(J458,\" SI\"),\"\",1))","v":""},null,{"$f":"IF(OR(J458=\"\",G458=\"\"),\"\",IF(VLOOKUP(H458,Tabelle_Fisse!$B$25:$C$29,2,FALSE)=\"ok\",\"\",1))","v":""},{"$nulls":4},""]
[{"$nulls":9},"",{"$f":"IF(J459=\"\",\"\",IF(VLOOKUP(J459,Lotti!B$6:B$596,1,FALSE)=J459,\"\",1))","v":""},null,"",null,{"$f":"IF(J459=\"\",\"\",IF(VLOOKUP(F459,Tabelle_Fisse!$B$33:$C$34,2,FALSE)=\"ok\",\"\",1))","v":""},{"$f":"IF(J459=\"\",\"\",IF(VLOOKUP(CONCATENATE(J459,\" SI\"),W$7:W$1196,1,FALSE)=CONCATENATE(J459,\" SI\"),\"\",1))","v":""},null,{"$f":"IF(OR(J459=\"\",G459=\"\"),\"\",IF(VLOOKUP(H459,Tabelle_Fisse!$B$25:$C$29,2,FALSE)=\"ok\",\"\",1))","v":""},{"$nulls":4},""]
[{"$nulls":9},"",{"$f":"IF(J460=\"\",\"\",IF(VLOOKUP(J460,Lotti!B$6:B$596,1,FALSE)=J460,\"\",1))","v":""},null,"",null,{"$f":"IF(J460=\"\",\"\",IF(VLOOKUP(F460,Tabelle_Fisse!$B$33:$C$34,2,FALSE)=\"ok\",\"\",1))","v":""},{"$f":"IF(J460=\"\",\"\",IF(VLOOKUP(CONCATENATE(J460,\" SI\"),W$7:W$1196,1,FALSE)=CONCATENATE(J460,\" SI\"),\"\",1))","v":""},null,{"$f":"IF(OR(J460=\"\",G460=\"\"),\"\",IF(VLOOKUP(H460,Tabelle_Fisse!$B$25:$C$29,2,FALSE)=\"ok\",\"\",1))","v":""},{"$nulls":4},""]
[{"$nulls":9},"",{"$f":"IF(J461=\"\",\"\",IF(VLOOKUP(J461,Lotti!B$6:B$596,1,FALSE)=J461,\"\",1))","v":""},null,"",null,{"$f":"IF(J461=\"\",\"\",IF(VLOOKUP(F461,Tabelle_Fisse!$B$33:$C$34,2,FALSE)=\"ok\",\"\",1))","v":""},{"$f":"IF(J461=\"\",\"\",IF(VLOOKUP(CONCATENATE(J461,\" SI\"),W$7:W$1196,1,FALSE)=CONCATENATE(J461,\" SI\"),\"\",1))","v":""},null,{"$f":"IF(OR(J461=\"\",G461=\"\"),\"\",IF(VLOOKUP(H461,Tabelle_Fisse!$B$25:$C$29,2,FALSE)=\"ok\",\"\",1))","v":""},{"$nulls":4},""]
[{"$nulls":9},"",{"$f":"IF(J462=\"\",\"\",IF(VLOOKUP(J462,Lotti!B$6:B$596,1,FALSE)=J462,\"\",1))","v":""},null,"",null,{"$f":"IF(J462=\"\",\"\",IF(VLOOKUP(F462,Tabelle_Fisse!$B$33:$C$34,2,FALSE)=\"ok\",\"\",1))","v":""},{"$f":"IF(J462=\"\",\"\",IF(VLOOKUP(CONCATENATE(J462,\" SI\"),W$7:W$1196,1,FALSE)=CONCATENATE(J462,\" SI\"),\"\",1))","v":""},null,{"$f":"IF(OR(J462=\"\",G462=\"\"),\"\",IF(VLOOKUP(H462,Tabelle_Fisse!$B$25:$C$29,2,FALSE)=\"ok\",\"\",1))","v":""},{"$nulls":4},""]
[{"$nulls":9},"",{"$f":"IF(J463=\"\",\"\",IF(VLOOKUP(J463,Lotti!B$6:B$596,1,FALSE)=J463,\"\",1))","v":""},null,"",null,{"$f":"IF(J463=\"\",\"\",IF(VLOOKUP(F463,Tabelle_Fisse!$B$33:$C$34,2,FALSE)=\"ok\",\"\",1))","v":""},{"$f":"IF(J463=\"\",\"\",IF(VLOOKUP(CONCATENATE(J463,\" SI\"),W$7:W$1196,1,FALSE)=CONCATENATE(J463,\" SI\"),\"\",1))","v":""},null,{"$f":"IF(OR(J463=\"\",G463=\"\"),\"\",IF(VLOOKUP(H463,Tabelle_Fisse!$B$25:$C$29,2,FALSE)=\"ok\",\"\",1))","v":""},{"$nulls":4},""]
[{"$nulls":9},"",{"$f":"IF(J464=\"\",\"\",IF(VLOOKUP(J464,Lotti!B$6:B$596,1,FALSE)=J464,\"\",1))","v":""},null,"",null,{"$f":"IF(J464=\"\",\"\",IF(VLOOKUP(F464,Tabelle_Fisse!$B$33:$C$34,2,FALSE)=\"ok\",\"\",1))","v":""},{"$f":"IF(J464=\"\",\"\",IF(VLOOKUP(CONCATENATE(J464,\" SI\"),W$7:W$1196,1,FALSE)=CONCATENATE(J464,\" SI\"),\"\",1))","v":""},null,{"$f":"IF(OR(J464=\"\",G464=\"\"),\"\",IF(VLOOKUP(H464,Tabelle_Fisse!$B$25:$C$29,2,FALSE)=\"ok\",\"\",1))","v":""},{"$nulls":4},""]
[{"$nulls":9},"",{"$f":"IF(J465=\"\",\"\",IF(VLOOKUP(J465,Lotti!B$6:B$596,1,FALSE)=J465,\"\",1))","v":""},null,"",null,{"$f":"IF(J465=\"\",\"\",IF(VLOOKUP(F465,Tabelle_Fisse!$B$33:$C$34,2,FALSE)=\"ok\",\"\",1))","v":""},{"$f":"IF(J465=\"\",\"\",IF(VLOOKUP(CONCATENATE(J465,\" SI\"),W$7:W$1196,1,FALSE)=CONCATENATE(J465,\" SI\"),\"\",1))","v":""},null,{"$f":"IF(OR(J465=\"\",G465=\"\"),\"\",IF(VLOOKUP(H465,Tabelle_Fisse!$B$25:$C$29,2,FALSE)=\"ok\",\"\",1))","v":""},{"$nulls":4},""]
[{"$nulls":9},"",{"$f":"IF(J466=\"\",\"\",IF(VLOOKUP(J466,Lotti!B$6:B$596,1,FALSE)=J466,\"\",1))","v":""},null,"",null,{"$f":"IF(J466=\"\",\"\",IF(VLOOKUP(F466,Tabelle_Fisse!$B$33:$C$34,2,FALSE)=\"ok\",\"\",1))","v":""},{"$f":"IF(J466=\"\",\"\",IF(VLOOKUP(CONCATENATE(J466,\" SI\"),W$7:W$1196,1,FALSE)=CONCATENATE(J466,\" SI\"),\"\",1))","v":""},null,{"$f":"IF(OR(J466=\"\",G466=\"\"),\"\",IF(VLOOKUP(H466,Tabelle_Fisse!$B$25:$C$29,2,FALSE)=\"ok\",\"\",1))","v":""},{"$nulls":4},""]
[{"$nulls":9},"",{"$f":"IF(J467=\"\",\"\",IF(VLOOKUP(J467,Lotti!B$6:B$596,1,FALSE)=J467,\"\",1))","v":""},null,"",null,{"$f":"IF(J467=\"\",\"\",IF(VLOOKUP(F467,Tabelle_Fisse!$B$33:$C$34,2,FALSE)=\"ok\",\"\",1))","v":""},{"$f":"IF(J467=\"\",\"\",IF(VLOOKUP(CONCATENATE(J467,\" SI\"),W$7:W$1196,1,FALSE)=CONCATENATE(J467,\" SI\"),\"\",1))","v":""},null,{"$f":"IF(OR(J467=\"\",G467=\"\"),\"\",IF(VLOOKUP(H467,Tabelle_Fisse!$B$25:$C$29,2,FALSE)=\"ok\",\"\",1))","v":""},{"$nulls":4},""]
[{"$nulls":9},"",{"$f":"IF(J468=\"\",\"\",IF(VLOOKUP(J468,Lotti!B$6:B$596,1,FALSE)=J468,\"\",1))","v":""},null,"",null,{"$f":"IF(J468=\"\",\"\",IF(VLOOKUP(F468,Tabelle_Fisse!$B$33:$C$34,2,FALSE)=\"ok\",\"\",1))","v":""},{"$f":"IF(J468=\"\",\"\",IF(VLOOKUP(CONCATENATE(J468,\" SI\"),W$7:W$1196,1,FALSE)=CONCATENATE(J468,\" SI\"),\"\",1))","v":""},null,{"$f":"IF(OR(J468=\"\",G468=\"\"),\"\",IF(VLOOKUP(H468,Tabelle_Fisse!$B$25:$C$29,2,FALSE)=\"ok\",\"\",1))","v":""},{"$nulls":4},""]
[{"$nulls":9},"",{"$f":"IF(J469=\"\",\"\",IF(VLOOKUP(J469,Lotti!B$6:B$596,1,FALSE)=J469,\"\",1))","v":""},null,"",null,{"$f":"IF(J469=\"\",\"\",IF(VLOOKUP(F469,Tabelle_Fisse!$B$33:$C$34,2,FALSE)=\"ok\",\"\",1))","v":""},{"$f":"IF(J469=\"\",\"\",IF(VLOOKUP(CONCATENATE(J469,\" SI\"),W$7:W$1196,1,FALSE)=CONCATENATE(J469,\" SI\"),\"\",1))","v":""},null,{"$f":"IF(OR(J469=\"\",G469=\"\"),\"\",IF(VLOOKUP(H469,Tabelle_Fisse!$B$25:$C$29,2,FALSE)=\"ok\",\"\",1))","v":""},{"$nulls":4},""]
[{"$nulls":9},"",{"$f":"IF(J470=\"\",\"\",IF(VLOOKUP(J470,Lotti!B$6:B$596,1,FALSE)=J470,\"\",1))","v":""},null,"",null,{"$f":"IF(J470=\"\",\"\",IF(VLOOKUP(F470,Tabelle_Fisse!$B$33:$C$34,2,FALSE)=\"ok\",\"\",1))","v":""},{"$f":"IF(J470=\"\",\"\",IF(VLOOKUP(CONCATENATE(J470,\" SI\"),W$7:W$1196,1,FALSE)=CONCATENATE(J470,\" SI\"),\"\",1))","v":""},null,{"$f":"IF(OR(J470=\"\",G470=\"\"),\"\",IF(VLOOKUP(H470,Tabelle_Fisse!$B$25:$C$29,2,FALSE)=\"ok\",\"\",1))","v":""},{"$nulls":4},""]
[{"$nulls":9},"",{"$f":"IF(J471=\"\",\"\",IF(VLOOKUP(J471,Lotti!B$6:B$596,1,FALSE)=J471,\"\",1))","v":""},null,"",null,{"$f":"IF(J471=\"\",\"\",IF(VLOOKUP(F471,Tabelle_Fisse!$B$33:$C$34,2,FALSE)=\"ok\",\"\",1))","v":""},{"$f":"IF(J471=\"\",\"\",IF(VLOOKUP(CONCATENATE(J471,\" SI\"),W$7:W$1196,1,FALSE)=CONCATENATE(J471,\" SI\"),\"\",1))","v":""},null,{"$f":"IF(OR(J471=\"\",G471=\"\"),\"\",IF(VLOOKUP(H471,Tabelle_Fisse!$B$25:$C$29,2,FALSE)=\"ok\",\"\",1))","v":""},{"$nulls":4},""]
[{"$nulls":9},"",{"$f":"IF(J472=\"\",\"\",IF(VLOOKUP(J472,Lotti!B$6:B$596,1,FALSE)=J472,\"\",1))","v":""},null,"",null,{"$f":"IF(J472=\"\",\"\",IF(VLOOKUP(F472,Tabelle_Fisse!$B$33:$C$34,2,FALSE)=\"ok\",\"\",1))","v":""},{"$f":"IF(J472=\"\",\"\",IF(VLOOKUP(CONCATENATE(J472,\" SI\"),W$7:W$1196,1,FALSE)=CONCATENATE(J472,\" SI\"),\"\",1))","v":""},null,{"$f":"IF(OR(J472=\"\",G472=\"\"),\"\",IF(VLOOKUP(H472,Tabelle_Fisse!$B$25:$C$29,2,FALSE)=\"ok\",\"\",1))","v":""},{"$nulls":4},""]
[{"$nulls":9},"",{"$f":"IF(J473=\"\",\"\",IF(VLOOKUP(J473,Lotti!B$6:B$596,1,FALSE)=J473,\"\",1))","v":""},null,"",null,{"$f":"IF(J473=\"\",\"\",IF(VLOOKUP(F473,Tabelle_Fisse!$B$33:$C$34,2,FALSE)=\"ok\",\"\",1))","v":""},{"$f":"IF(J473=\"\",\"\",IF(VLOOKUP(CONCATENATE(J473,\" SI\"),W$7:W$1196,1,FALSE)=CONCATENATE(J473,\" SI\"),\"\",1))","v":""},null,{"$f":"IF(OR(J473=\"\",G473=\"\"),\"\",IF(VLOOKUP(H473,Tabelle_Fisse!$B$25:$C$29,2,FALSE)=\"ok\",\"\",1))","v":""},{"$nulls":4},""]
[{"$nulls":9},"",{"$f":"IF(J474=\"\",\"\",IF(VLOOKUP(J474,Lotti!B$6:B$596,1,FALSE)=J474,\"\",1))","v":""},null,"",null,{"$f":"IF(J474=\"\",\"\",IF(VLOOKUP(F474,Tabelle_Fisse!$B$33:$C$34,2,FALSE)=\"ok\",\"\",1))","v":""},{"$f":"IF(J474=\"\",\"\",IF(VLOOKUP(CONCATENATE(J474,\" SI\"),W$7:W$1196,1,FALSE)=CONCATENATE(J474,\" SI\"),\"\",1))","v":""},null,{"$f":"IF(OR(J474=\"\",G474=\"\"),\"\",IF(VLOOKUP(H474,Tabelle_Fisse!$B$25:$C$29,2,FALSE)=\"ok\",\"\",1))","v":""},{"$nulls":4},""]
[{"$nulls":9},"",{"$f":"IF(J475=\"\",\"\",IF(VLOOKUP(J475,Lotti!B$6:B$596,1,FALSE)=J475,\"\",1))","v":""},null,"",null,{"$f":"IF(J475=\"\",\"\",IF(VLOOKUP(F475,Tabelle_Fisse!$B$33:$C$34,2,FALSE)=\"ok\",\"\",1))","v":""},{"$f":"IF(J475=\"\",\"\",IF(VLOOKUP(CONCATENATE(J475,\" SI\"),W$7:W$1196,1,FALSE)=CONCATENATE(J475,\" SI\"),\"\",1))","v":""},null,{"$f":"IF(OR(J475=\"\",G475=\"\"),\"\",IF(VLOOKUP(H475,Tabelle_Fisse!$B$25:$C$29,2,FALSE)=\"ok\",\"\",1))","v":""},{"$nulls":4},""]
[{"$nulls":9},"",{"$f":"IF(J476=\"\",\"\",IF(VLOOKUP(J476,Lotti!B$6:B$596,1,FALSE)=J476,\"\",1))","v":""},null,"",null,{"$f":"IF(J476=\"\",\"\",IF(VLOOKUP(F476,Tabelle_Fisse!$B$33:$C$34,2,FALSE)=\"ok\",\"\",1))","v":""},{"$f":"IF(J476=\"\",\"\",IF(VLOOKUP(CONCATENATE(J476,\" SI\"),W$7:W$1196,1,FALSE)=CONCATENATE(J476,\" SI\"),\"\",1))","v":""},null,{"$f":"IF(OR(J476=\"\",G476=\"\"),\"\",IF(VLOOKUP(H476,Tabelle_Fisse!$B$25:$C$29,2,FALSE)=\"ok\",\"\",1))","v":""},{"$nulls":4},""]
[{"$nulls":9},"",{"$f":"IF(J477=\"\",\"\",IF(VLOOKUP(J477,Lotti!B$6:B$596,1,FALSE)=J477,\"\",1))","v":""},null,"",null,{"$f":"IF(J477=\"\",\"\",IF(VLOOKUP(F477,Tabelle_Fisse!$B$33:$C$34,2,FALSE)=\"ok\",\"\",1))","v":""},{"$f":"IF(J477=\"\",\"\",IF(VLOOKUP(CONCATENATE(J477,\" SI\"),W$7:W$1196,1,FALSE)=CONCATENATE(J477,\" SI\"),\"\",1))","v":""},null,{"$f":"IF(OR(J477=\"\",G477=\"\"),\"\",IF(VLOOKUP(H477,Tabelle_Fisse!$B$25:$C$29,2,FALSE)=\"ok\",\"\",1))","v":""},{"$nulls":4},""]
[{"$nulls":9},"",{"$f":"IF(J478=\"\",\"\",IF(VLOOKUP(J478,Lotti!B$6:B$596,1,FALSE)=J478,\"\",1))","v":""},null,"",null,{"$f":"IF(J478=\"\",\"\",IF(VLOOKUP(F478,Tabelle_Fisse!$B$33:$C$34,2,FALSE)=\"ok\",\"\",1))","v":""},{"$f":"IF(J478=\"\",\"\",IF(VLOOKUP(CONCATENATE(J478,\" SI\"),W$7:W$1196,1,FALSE)=CONCATENATE(J478,\" SI\"),\"\",1))","v":""},null,{"$f":"IF(OR(J478=\"\",G478=\"\"),\"\",IF(VLOOKUP(H478,Tabelle_Fisse!$B$25:$C$29,2,FALSE)=\"ok\",\"\",1))","v":""},{"$nulls":4},""]
[{"$nulls":9},"",{"$f":"IF(J479=\"\",\"\",IF(VLOOKUP(J479,Lotti!B$6:B$596,1,FALSE)=J479,\"\",1))","v":""},null,"",null,{"$f":"IF(J479=\"\",\"\",IF(VLOOKUP(F479,Tabelle_Fisse!$B$33:$C$34,2,FALSE)=\"ok\",\"\",1))","v":""},{"$f":"IF(J479=\"\",\"\",IF(VLOOKUP(CONCATENATE(J479,\" SI\"),W$7:W$1196,1,FALSE)=CONCATENATE(J479,\" SI\"),\"\",1))","v":""},null,{"$f":"IF(OR(J479=\"\",G479=\"\"),\"\",IF(VLOOKUP(H479,Tabelle_Fisse!$B$25:$C$29,2,FALSE)=\"ok\",\"\",1))","v":""},{"$nulls":4},""]
[{"$nulls":9},"",{"$f":"IF(J480=\"\",\"\",IF(VLOOKUP(J480,Lotti!B$6:B$596,1,FALSE)=J480,\"\",1))","v":""},null,"",null,{"$f":"IF(J480=\"\",\"\",IF(VLOOKUP(F480,Tabelle_Fisse!$B$33:$C$34,2,FALSE)=\"ok\",\"\",1))","v":""},{"$f":"IF(J480=\"\",\"\",IF(VLOOKUP(CONCATENATE(J480,\" SI\"),W$7:W$1196,1,FALSE)=CONCATENATE(J480,\" SI\"),\"\",1))","v":""},null,{"$f":"IF(OR(J480=\"\",G480=\"\"),\"\",IF(VLOOKUP(H480,Tabelle_Fisse!$B$25:$C$29,2,FALSE)=\"ok\",\"\",1))","v":""},{"$nulls":4},""]
[{"$nulls":9},"",{"$f":"IF(J481=\"\",\"\",IF(VLOOKUP(J481,Lotti!B$6:B$596,1,FALSE)=J481,\"\",1))","v":""},null,"",null,{"$f":"IF(J481=\"\",\"\",IF(VLOOKUP(F481,Tabelle_Fisse!$B$33:$C$34,2,FALSE)=\"ok\",\"\",1))","v":""},{"$f":"IF(J481=\"\",\"\",IF(VLOOKUP(CONCATENATE(J481,\" SI\"),W$7:W$1196,1,FALSE)=CONCATENATE(J481,\" SI\"),\"\",1))","v":""},null,{"$f":"IF(OR(J481=\"\",G481=\"\"),\"\",IF(VLOOKUP(H481,Tabelle_Fisse!$B$25:$C$29,2,FALSE)=\"ok\",\"\",1))","v":""},{"$nulls":4},""]
[{"$nulls":9},"",{"$f":"IF(J482=\"\",\"\",IF(VLOOKUP(J482,Lotti!B$6:B$596,1,FALSE)=J482,\"\",1))","v":""},null,"",null,{"$f":"IF(J482=\"\",\"\",IF(VLOOKUP(F482,Tabelle_Fisse!$B$33:$C$34,2,FALSE)=\"ok\",\"\",1))","v":""},{"$f":"IF(J482=\"\",\"\",IF(VLOOKUP(CONCATENATE(J482,\" SI\"),W$7:W$1196,1,FALSE)=CONCATENATE(J482,\" SI\"),\"\",1))","v":""},null,{"$f":"IF(OR(J482=\"\",G482=\"\"),\"\",IF(VLOOKUP(H482,Tabelle_Fisse!$B$25:$C$29,2,FALSE)=\"ok\",\"\",1))","v":""},{"$nulls":4},""]
[{"$nulls":9},"",{"$f":"IF(J483=\"\",\"\",IF(VLOOKUP(J483,Lotti!B$6:B$596,1,FALSE)=J483,\"\",1))","v":""},null,"",null,{"$f":"IF(J483=\"\",\"\",IF(VLOOKUP(F483,Tabelle_Fisse!$B$33:$C$34,2,FALSE)=\"ok\",\"\",1))","v":""},{"$f":"IF(J483=\"\",\"\",IF(VLOOKUP(CONCATENATE(J483,\" SI\"),W$7:W$1196,1,FALSE)=CONCATENATE(J483,\" SI\"),\"\",1))","v":""},null,{"$f":"IF(OR(J483=\"\",G483=\"\"),\"\",IF(VLOOKUP(H483,Tabelle_Fisse!$B$25:$C$29,2,FALSE)=\"ok\",\"\",1))","v":""},{"$nulls":4},""]
[{"$nulls":9},"",{"$f":"IF(J484=\"\",\"\",IF(VLOOKUP(J484,Lotti!B$6:B$596,1,FALSE)=J484,\"\",1))","v":""},null,"",null,{"$f":"IF(J484=\"\",\"\",IF(VLOOKUP(F484,Tabelle_Fisse!$B$33:$C$34,2,FALSE)=\"ok\",\"\",1))","v":""},{"$f":"IF(J484=\"\",\"\",IF(VLOOKUP(CONCATENATE(J484,\" SI\"),W$7:W$1196,1,FALSE)=CONCATENATE(J484,\" SI\"),\"\",1))","v":""},null,{"$f":"IF(OR(J484=\"\",G484=\"\"),\"\",IF(VLOOKUP(H484,Tabelle_Fisse!$B$25:$C$29,2,FALSE)=\"ok\",\"\",1))","v":""},{"$nulls":4},""]
[{"$nulls":9},"",{"$f":"IF(J485=\"\",\"\",IF(VLOOKUP(J485,Lotti!B$6:B$596,1,FALSE)=J485,\"\",1))","v":""},null,"",null,{"$f":"IF(J485=\"\",\"\",IF(VLOOKUP(F485,Tabelle_Fisse!$B$33:$C$34,2,FALSE)=\"ok\",\"\",1))","v":""},{"$f":"IF(J485=\"\",\"\",IF(VLOOKUP(CONCATENATE(J485,\" SI\"),W$7:W$1196,1,FALSE)=CONCATENATE(J485,\" SI\"),\"\",1))","v":""},null,{"$f":"IF(OR(J485=\"\",G485=\"\"),\"\",IF(VLOOKUP(H485,Tabelle_Fisse!$B$25:$C$29,2,FALSE)=\"ok\",\"\",1))","v":""},{"$nulls":4},""]
[{"$nulls":9},"",{"$f":"IF(J486=\"\",\"\",IF(VLOOKUP(J486,Lotti!B$6:B$596,1,FALSE)=J486,\"\",1))","v":""},null,"",null,{"$f":"IF(J486=\"\",\"\",IF(VLOOKUP(F486,Tabelle_Fisse!$B$33:$C$34,2,FALSE)=\"ok\",\"\",1))","v":""},{"$f":"IF(J486=\"\",\"\",IF(VLOOKUP(CONCATENATE(J486,\" SI\"),W$7:W$1196,1,FALSE)=CONCATENATE(J486,\" SI\"),\"\",1))","v":""},null,{"$f":"IF(OR(J486=\"\",G486=\"\"),\"\",IF(VLOOKUP(H486,Tabelle_Fisse!$B$25:$C$29,2,FALSE)=\"ok\",\"\",1))","v":""},{"$nulls":4},""]
[{"$nulls":9},"",{"$f":"IF(J487=\"\",\"\",IF(VLOOKUP(J487,Lotti!B$6:B$596,1,FALSE)=J487,\"\",1))","v":""},null,"",null,{"$f":"IF(J487=\"\",\"\",IF(VLOOKUP(F487,Tabelle_Fisse!$B$33:$C$34,2,FALSE)=\"ok\",\"\",1))","v":""},{"$f":"IF(J487=\"\",\"\",IF(VLOOKUP(CONCATENATE(J487,\" SI\"),W$7:W$1196,1,FALSE)=CONCATENATE(J487,\" SI\"),\"\",1))","v":""},null,{"$f":"IF(OR(J487=\"\",G487=\"\"),\"\",IF(VLOOKUP(H487,Tabelle_Fisse!$B$25:$C$29,2,FALSE)=\"ok\",\"\",1))","v":""},{"$nulls":4},""]
[{"$nulls":9},"",{"$f":"IF(J488=\"\",\"\",IF(VLOOKUP(J488,Lotti!B$6:B$596,1,FALSE)=J488,\"\",1))","v":""},null,"",null,{"$f":"IF(J488=\"\",\"\",IF(VLOOKUP(F488,Tabelle_Fisse!$B$33:$C$34,2,FALSE)=\"ok\",\"\",1))","v":""},{"$f":"IF(J488=\"\",\"\",IF(VLOOKUP(CONCATENATE(J488,\" SI\"),W$7:W$1196,1,FALSE)=CONCATENATE(J488,\" SI\"),\"\",1))","v":""},null,{"$f":"IF(OR(J488=\"\",G488=\"\"),\"\",IF(VLOOKUP(H488,Tabelle_Fisse!$B$25:$C$29,2,FALSE)=\"ok\",\"\",1))","v":""},{"$nulls":4},""]
[{"$nulls":9},"",{"$f":"IF(J489=\"\",\"\",IF(VLOOKUP(J489,Lotti!B$6:B$596,1,FALSE)=J489,\"\",1))","v":""},null,"",null,{"$f":"IF(J489=\"\",\"\",IF(VLOOKUP(F489,Tabelle_Fisse!$B$33:$C$34,2,FALSE)=\"ok\",\"\",1))","v":""},{"$f":"IF(J489=\"\",\"\",IF(VLOOKUP(CONCATENATE(J489,\" SI\"),W$7:W$1196,1,FALSE)=CONCATENATE(J489,\" SI\"),\"\",1))","v":""},null,{"$f":"IF(OR(J489=\"\",G489=\"\"),\"\",IF(VLOOKUP(H489,Tabelle_Fisse!$B$25:$C$29,2,FALSE)=\"ok\",\"\",1))","v":""},{"$nulls":4},""]
[{"$nulls":9},"",{"$f":"IF(J490=\"\",\"\",IF(VLOOKUP(J490,Lotti!B$6:B$596,1,FALSE)=J490,\"\",1))","v":""},null,"",null,{"$f":"IF(J490=\"\",\"\",IF(VLOOKUP(F490,Tabelle_Fisse!$B$33:$C$34,2,FALSE)=\"ok\",\"\",1))","v":""},{"$f":"IF(J490=\"\",\"\",IF(VLOOKUP(CONCATENATE(J490,\" SI\"),W$7:W$1196,1,FALSE)=CONCATENATE(J490,\" SI\"),\"\",1))","v":""},null,{"$f":"IF(OR(J490=\"\",G490=\"\"),\"\",IF(VLOOKUP(H490,Tabelle_Fisse!$B$25:$C$29,2,FALSE)=\"ok\",\"\",1))","v":""},{"$nulls":4},""]
[{"$nulls":9},"",{"$f":"IF(J491=\"\",\"\",IF(VLOOKUP(J491,Lotti!B$6:B$596,1,FALSE)=J491,\"\",1))","v":""},null,"",null,{"$f":"IF(J491=\"\",\"\",IF(VLOOKUP(F491,Tabelle_Fisse!$B$33:$C$34,2,FALSE)=\"ok\",\"\",1))","v":""},{"$f":"IF(J491=\"\",\"\",IF(VLOOKUP(CONCATENATE(J491,\" SI\"),W$7:W$1196,1,FALSE)=CONCATENATE(J491,\" SI\"),\"\",1))","v":""},null,{"$f":"IF(OR(J491=\"\",G491=\"\"),\"\",IF(VLOOKUP(H491,Tabelle_Fisse!$B$25:$C$29,2,FALSE)=\"ok\",\"\",1))","v":""},{"$nulls":4},""]
[{"$nulls":9},"",{"$f":"IF(J492=\"\",\"\",IF(VLOOKUP(J492,Lotti!B$6:B$596,1,FALSE)=J492,\"\",1))","v":""},null,"",null,{"$f":"IF(J492=\"\",\"\",IF(VLOOKUP(F492,Tabelle_Fisse!$B$33:$C$34,2,FALSE)=\"ok\",\"\",1))","v":""},{"$f":"IF(J492=\"\",\"\",IF(VLOOKUP(CONCATENATE(J492,\" SI\"),W$7:W$1196,1,FALSE)=CONCATENATE(J492,\" SI\"),\"\",1))","v":""},null,{"$f":"IF(OR(J492=\"\",G492=\"\"),\"\",IF(VLOOKUP(H492,Tabelle_Fisse!$B$25:$C$29,2,FALSE)=\"ok\",\"\",1))","v":""},{"$nulls":4},""]
[{"$nulls":9},"",{"$f":"IF(J493=\"\",\"\",IF(VLOOKUP(J493,Lotti!B$6:B$596,1,FALSE)=J493,\"\",1))","v":""},null,"",null,{"$f":"IF(J493=\"\",\"\",IF(VLOOKUP(F493,Tabelle_Fisse!$B$33:$C$34,2,FALSE)=\"ok\",\"\",1))","v":""},{"$f":"IF(J493=\"\",\"\",IF(VLOOKUP(CONCATENATE(J493,\" SI\"),W$7:W$1196,1,FALSE)=CONCATENATE(J493,\" SI\"),\"\",1))","v":""},null,{"$f":"IF(OR(J493=\"\",G493=\"\"),\"\",IF(VLOOKUP(H493,Tabelle_Fisse!$B$25:$C$29,2,FALSE)=\"ok\",\"\",1))","v":""},{"$nulls":4},""]
[{"$nulls":9},"",{"$f":"IF(J494=\"\",\"\",IF(VLOOKUP(J494,Lotti!B$6:B$596,1,FALSE)=J494,\"\",1))","v":""},null,"",null,{"$f":"IF(J494=\"\",\"\",IF(VLOOKUP(F494,Tabelle_Fisse!$B$33:$C$34,2,FALSE)=\"ok\",\"\",1))","v":""},{"$f":"IF(J494=\"\",\"\",IF(VLOOKUP(CONCATENATE(J494,\" SI\"),W$7:W$1196,1,FALSE)=CONCATENATE(J494,\" SI\"),\"\",1))","v":""},null,{"$f":"IF(OR(J494=\"\",G494=\"\"),\"\",IF(VLOOKUP(H494,Tabelle_Fisse!$B$25:$C$29,2,FALSE)=\"ok\",\"\",1))","v":""},{"$nulls":4},""]
[{"$nulls":9},"",{"$f":"IF(J495=\"\",\"\",IF(VLOOKUP(J495,Lotti!B$6:B$596,1,FALSE)=J495,\"\",1))","v":""},null,"",null,{"$f":"IF(J495=\"\",\"\",IF(VLOOKUP(F495,Tabelle_Fisse!$B$33:$C$34,2,FALSE)=\"ok\",\"\",1))","v":""},{"$f":"IF(J495=\"\",\"\",IF(VLOOKUP(CONCATENATE(J495,\" SI\"),W$7:W$1196,1,FALSE)=CONCATENATE(J495,\" SI\"),\"\",1))","v":""},null,{"$f":"IF(OR(J495=\"\",G495=\"\"),\"\",IF(VLOOKUP(H495,Tabelle_Fisse!$B$25:$C$29,2,FALSE)=\"ok\",\"\",1))","v":""},{"$nulls":4},""]
[{"$nulls":9},"",{"$f":"IF(J496=\"\",\"\",IF(VLOOKUP(J496,Lotti!B$6:B$596,1,FALSE)=J496,\"\",1))","v":""},null,"",null,{"$f":"IF(J496=\"\",\"\",IF(VLOOKUP(F496,Tabelle_Fisse!$B$33:$C$34,2,FALSE)=\"ok\",\"\",1))","v":""},{"$f":"IF(J496=\"\",\"\",IF(VLOOKUP(CONCATENATE(J496,\" SI\"),W$7:W$1196,1,FALSE)=CONCATENATE(J496,\" SI\"),\"\",1))","v":""},null,{"$f":"IF(OR(J496=\"\",G496=\"\"),\"\",IF(VLOOKUP(H496,Tabelle_Fisse!$B$25:$C$29,2,FALSE)=\"ok\",\"\",1))","v":""},{"$nulls":4},""]
[{"$nulls":9},"",{"$f":"IF(J497=\"\",\"\",IF(VLOOKUP(J497,Lotti!B$6:B$596,1,FALSE)=J497,\"\",1))","v":""},null,"",null,{"$f":"IF(J497=\"\",\"\",IF(VLOOKUP(F497,Tabelle_Fisse!$B$33:$C$34,2,FALSE)=\"ok\",\"\",1))","v":""},{"$f":"IF(J497=\"\",\"\",IF(VLOOKUP(CONCATENATE(J497,\" SI\"),W$7:W$1196,1,FALSE)=CONCATENATE(J497,\" SI\"),\"\",1))","v":""},null,{"$f":"IF(OR(J497=\"\",G497=\"\"),\"\",IF(VLOOKUP(H497,Tabelle_Fisse!$B$25:$C$29,2,FALSE)=\"ok\",\"\",1))","v":""},{"$nulls":4},""]
[{"$nulls":9},"",{"$f":"IF(J498=\"\",\"\",IF(VLOOKUP(J498,Lotti!B$6:B$596,1,FALSE)=J498,\"\",1))","v":""},null,"",null,{"$f":"IF(J498=\"\",\"\",IF(VLOOKUP(F498,Tabelle_Fisse!$B$33:$C$34,2,FALSE)=\"ok\",\"\",1))","v":""},{"$f":"IF(J498=\"\",\"\",IF(VLOOKUP(CONCATENATE(J498,\" SI\"),W$7:W$1196,1,FALSE)=CONCATENATE(J498,\" SI\"),\"\",1))","v":""},null,{"$f":"IF(OR(J498=\"\",G498=\"\"),\"\",IF(VLOOKUP(H498,Tabelle_Fisse!$B$25:$C$29,2,FALSE)=\"ok\",\"\",1))","v":""},{"$nulls":4},""]
[{"$nulls":9},"",{"$f":"IF(J499=\"\",\"\",IF(VLOOKUP(J499,Lotti!B$6:B$596,1,FALSE)=J499,\"\",1))","v":""},null,"",null,{"$f":"IF(J499=\"\",\"\",IF(VLOOKUP(F499,Tabelle_Fisse!$B$33:$C$34,2,FALSE)=\"ok\",\"\",1))","v":""},{"$f":"IF(J499=\"\",\"\",IF(VLOOKUP(CONCATENATE(J499,\" SI\"),W$7:W$1196,1,FALSE)=CONCATENATE(J499,\" SI\"),\"\",1))","v":""},null,{"$f":"IF(OR(J499=\"\",G499=\"\"),\"\",IF(VLOOKUP(H499,Tabelle_Fisse!$B$25:$C$29,2,FALSE)=\"ok\",\"\",1))","v":""},{"$nulls":4},""]
[{"$nulls":9},"",{"$f":"IF(J500=\"\",\"\",IF(VLOOKUP(J500,Lotti!B$6:B$596,1,FALSE)=J500,\"\",1))","v":""},null,"",null,{"$f":"IF(J500=\"\",\"\",IF(VLOOKUP(F500,Tabelle_Fisse!$B$33:$C$34,2,FALSE)=\"ok\",\"\",1))","v":""},{"$f":"IF(J500=\"\",\"\",IF(VLOOKUP(CONCATENATE(J500,\" SI\"),W$7:W$1196,1,FALSE)=CONCATENATE(J500,\" SI\"),\"\",1))","v":""},null,{"$f":"IF(OR(J500=\"\",G500=\"\"),\"\",IF(VLOOKUP(H500,Tabelle_Fisse!$B$25:$C$29,2,FALSE)=\"ok\",\"\",1))","v":""},{"$nulls":4},""]
[{"$nulls":9},"",{"$f":"IF(J501=\"\",\"\",IF(VLOOKUP(J501,Lotti!B$6:B$596,1,FALSE)=J501,\"\",1))","v":""},null,"",null,{"$f":"IF(J501=\"\",\"\",IF(VLOOKUP(F501,Tabelle_Fisse!$B$33:$C$34,2,FALSE)=\"ok\",\"\",1))","v":""},{"$f":"IF(J501=\"\",\"\",IF(VLOOKUP(CONCATENATE(J501,\" SI\"),W$7:W$1196,1,FALSE)=CONCATENATE(J501,\" SI\"),\"\",1))","v":""},null,{"$f":"IF(OR(J501=\"\",G501=\"\"),\"\",IF(VLOOKUP(H501,Tabelle_Fisse!$B$25:$C$29,2,FALSE)=\"ok\",\"\",1))","v":""},{"$nulls":4},""]
[{"$nulls":9},"",{"$f":"IF(J502=\"\",\"\",IF(VLOOKUP(J502,Lotti!B$6:B$596,1,FALSE)=J502,\"\",1))","v":""},null,"",null,{"$f":"IF(J502=\"\",\"\",IF(VLOOKUP(F502,Tabelle_Fisse!$B$33:$C$34,2,FALSE)=\"ok\",\"\",1))","v":""},{"$f":"IF(J502=\"\",\"\",IF(VLOOKUP(CONCATENATE(J502,\" SI\"),W$7:W$1196,1,FALSE)=CONCATENATE(J502,\" SI\"),\"\",1))","v":""},null,{"$f":"IF(OR(J502=\"\",G502=\"\"),\"\",IF(VLOOKUP(H502,Tabelle_Fisse!$B$25:$C$29,2,FALSE)=\"ok\",\"\",1))","v":""},{"$nulls":4},""]
[{"$nulls":9},"",{"$f":"IF(J503=\"\",\"\",IF(VLOOKUP(J503,Lotti!B$6:B$596,1,FALSE)=J503,\"\",1))","v":""},null,"",null,{"$f":"IF(J503=\"\",\"\",IF(VLOOKUP(F503,Tabelle_Fisse!$B$33:$C$34,2,FALSE)=\"ok\",\"\",1))","v":""},{"$f":"IF(J503=\"\",\"\",IF(VLOOKUP(CONCATENATE(J503,\" SI\"),W$7:W$1196,1,FALSE)=CONCATENATE(J503,\" SI\"),\"\",1))","v":""},null,{"$f":"IF(OR(J503=\"\",G503=\"\"),\"\",IF(VLOOKUP(H503,Tabelle_Fisse!$B$25:$C$29,2,FALSE)=\"ok\",\"\",1))","v":""},{"$nulls":4},""]
[{"$nulls":9},"",{"$f":"IF(J504=\"\",\"\",IF(VLOOKUP(J504,Lotti!B$6:B$596,1,FALSE)=J504,\"\",1))","v":""},null,"",null,{"$f":"IF(J504=\"\",\"\",IF(VLOOKUP(F504,Tabelle_Fisse!$B$33:$C$34,2,FALSE)=\"ok\",\"\",1))","v":""},{"$f":"IF(J504=\"\",\"\",IF(VLOOKUP(CONCATENATE(J504,\" SI\"),W$7:W$1196,1,FALSE)=CONCATENATE(J504,\" SI\"),\"\",1))","v":""},null,{"$f":"IF(OR(J504=\"\",G504=\"\"),\"\",IF(VLOOKUP(H504,Tabelle_Fisse!$B$25:$C$29,2,FALSE)=\"ok\",\"\",1))","v":""},{"$nulls":4},""]
[{"$nulls":9},"",{"$f":"IF(J505=\"\",\"\",IF(VLOOKUP(J505,Lotti!B$6:B$596,1,FALSE)=J505,\"\",1))","v":""},null,"",null,{"$f":"IF(J505=\"\",\"\",IF(VLOOKUP(F505,Tabelle_Fisse!$B$33:$C$34,2,FALSE)=\"ok\",\"\",1))","v":""},{"$f":"IF(J505=\"\",\"\",IF(VLOOKUP(CONCATENATE(J505,\" SI\"),W$7:W$1196,1,FALSE)=CONCATENATE(J505,\" SI\"),\"\",1))","v":""},null,{"$f":"IF(OR(J505=\"\",G505=\"\"),\"\",IF(VLOOKUP(H505,Tabelle_Fisse!$B$25:$C$29,2,FALSE)=\"ok\",\"\",1))","v":""},{"$nulls":4},""]
[{"$nulls":9},"",{"$f":"IF(J506=\"\",\"\",IF(VLOOKUP(J506,Lotti!B$6:B$596,1,FALSE)=J506,\"\",1))","v":""},null,"",null,{"$f":"IF(J506=\"\",\"\",IF(VLOOKUP(F506,Tabelle_Fisse!$B$33:$C$34,2,FALSE)=\"ok\",\"\",1))","v":""},{"$f":"IF(J506=\"\",\"\",IF(VLOOKUP(CONCATENATE(J506,\" SI\"),W$7:W$1196,1,FALSE)=CONCATENATE(J506,\" SI\"),\"\",1))","v":""},null,{"$f":"IF(OR(J506=\"\",G506=\"\"),\"\",IF(VLOOKUP(H506,Tabelle_Fisse!$B$25:$C$29,2,FALSE)=\"ok\",\"\",1))","v":""},{"$nulls":4},""]
[{"$nulls":9},"",{"$f":"IF(J507=\"\",\"\",IF(VLOOKUP(J507,Lotti!B$6:B$596,1,FALSE)=J507,\"\",1))","v":""},null,"",null,{"$f":"IF(J507=\"\",\"\",IF(VLOOKUP(F507,Tabelle_Fisse!$B$33:$C$34,2,FALSE)=\"ok\",\"\",1))","v":""},{"$f":"IF(J507=\"\",\"\",IF(VLOOKUP(CONCATENATE(J507,\" SI\"),W$7:W$1196,1,FALSE)=CONCATENATE(J507,\" SI\"),\"\",1))","v":""},null,{"$f":"IF(OR(J507=\"\",G507=\"\"),\"\",IF(VLOOKUP(H507,Tabelle_Fisse!$B$25:$C$29,2,FALSE)=\"ok\",\"\",1))","v":""},{"$nulls":4},""]
[{"$nulls":9},"",{"$f":"IF(J508=\"\",\"\",IF(VLOOKUP(J508,Lotti!B$6:B$596,1,FALSE)=J508,\"\",1))","v":""},null,"",null,{"$f":"IF(J508=\"\",\"\",IF(VLOOKUP(F508,Tabelle_Fisse!$B$33:$C$34,2,FALSE)=\"ok\",\"\",1))","v":""},{"$f":"IF(J508=\"\",\"\",IF(VLOOKUP(CONCATENATE(J508,\" SI\"),W$7:W$1196,1,FALSE)=CONCATENATE(J508,\" SI\"),\"\",1))","v":""},null,{"$f":"IF(OR(J508=\"\",G508=\"\"),\"\",IF(VLOOKUP(H508,Tabelle_Fisse!$B$25:$C$29,2,FALSE)=\"ok\",\"\",1))","v":""},{"$nulls":4},""]
[{"$nulls":9},"",{"$f":"IF(J509=\"\",\"\",IF(VLOOKUP(J509,Lotti!B$6:B$596,1,FALSE)=J509,\"\",1))","v":""},null,"",null,{"$f":"IF(J509=\"\",\"\",IF(VLOOKUP(F509,Tabelle_Fisse!$B$33:$C$34,2,FALSE)=\"ok\",\"\",1))","v":""},{"$f":"IF(J509=\"\",\"\",IF(VLOOKUP(CONCATENATE(J509,\" SI\"),W$7:W$1196,1,FALSE)=CONCATENATE(J509,\" SI\"),\"\",1))","v":""},null,{"$f":"IF(OR(J509=\"\",G509=\"\"),\"\",IF(VLOOKUP(H509,Tabelle_Fisse!$B$25:$C$29,2,FALSE)=\"ok\",\"\",1))","v":""},{"$nulls":4},""]
[{"$nulls":9},"",{"$f":"IF(J510=\"\",\"\",IF(VLOOKUP(J510,Lotti!B$6:B$596,1,FALSE)=J510,\"\",1))","v":""},null,"",null,{"$f":"IF(J510=\"\",\"\",IF(VLOOKUP(F510,Tabelle_Fisse!$B$33:$C$34,2,FALSE)=\"ok\",\"\",1))","v":""},{"$f":"IF(J510=\"\",\"\",IF(VLOOKUP(CONCATENATE(J510,\" SI\"),W$7:W$1196,1,FALSE)=CONCATENATE(J510,\" SI\"),\"\",1))","v":""},null,{"$f":"IF(OR(J510=\"\",G510=\"\"),\"\",IF(VLOOKUP(H510,Tabelle_Fisse!$B$25:$C$29,2,FALSE)=\"ok\",\"\",1))","v":""},{"$nulls":4},""]
[{"$nulls":9},"",{"$f":"IF(J511=\"\",\"\",IF(VLOOKUP(J511,Lotti!B$6:B$596,1,FALSE)=J511,\"\",1))","v":""},null,"",null,{"$f":"IF(J511=\"\",\"\",IF(VLOOKUP(F511,Tabelle_Fisse!$B$33:$C$34,2,FALSE)=\"ok\",\"\",1))","v":""},{"$f":"IF(J511=\"\",\"\",IF(VLOOKUP(CONCATENATE(J511,\" SI\"),W$7:W$1196,1,FALSE)=CONCATENATE(J511,\" SI\"),\"\",1))","v":""},null,{"$f":"IF(OR(J511=\"\",G511=\"\"),\"\",IF(VLOOKUP(H511,Tabelle_Fisse!$B$25:$C$29,2,FALSE)=\"ok\",\"\",1))","v":""},{"$nulls":4},""]
[{"$nulls":9},"",{"$f":"IF(J512=\"\",\"\",IF(VLOOKUP(J512,Lotti!B$6:B$596,1,FALSE)=J512,\"\",1))","v":""},null,"",null,{"$f":"IF(J512=\"\",\"\",IF(VLOOKUP(F512,Tabelle_Fisse!$B$33:$C$34,2,FALSE)=\"ok\",\"\",1))","v":""},{"$f":"IF(J512=\"\",\"\",IF(VLOOKUP(CONCATENATE(J512,\" SI\"),W$7:W$1196,1,FALSE)=CONCATENATE(J512,\" SI\"),\"\",1))","v":""},null,{"$f":"IF(OR(J512=\"\",G512=\"\"),\"\",IF(VLOOKUP(H512,Tabelle_Fisse!$B$25:$C$29,2,FALSE)=\"ok\",\"\",1))","v":""},{"$nulls":4},""]
[{"$nulls":9},"",{"$f":"IF(J513=\"\",\"\",IF(VLOOKUP(J513,Lotti!B$6:B$596,1,FALSE)=J513,\"\",1))","v":""},null,"",null,{"$f":"IF(J513=\"\",\"\",IF(VLOOKUP(F513,Tabelle_Fisse!$B$33:$C$34,2,FALSE)=\"ok\",\"\",1))","v":""},{"$f":"IF(J513=\"\",\"\",IF(VLOOKUP(CONCATENATE(J513,\" SI\"),W$7:W$1196,1,FALSE)=CONCATENATE(J513,\" SI\"),\"\",1))","v":""},null,{"$f":"IF(OR(J513=\"\",G513=\"\"),\"\",IF(VLOOKUP(H513,Tabelle_Fisse!$B$25:$C$29,2,FALSE)=\"ok\",\"\",1))","v":""},{"$nulls":4},""]
[{"$nulls":9},"",{"$f":"IF(J514=\"\",\"\",IF(VLOOKUP(J514,Lotti!B$6:B$596,1,FALSE)=J514,\"\",1))","v":""},null,"",null,{"$f":"IF(J514=\"\",\"\",IF(VLOOKUP(F514,Tabelle_Fisse!$B$33:$C$34,2,FALSE)=\"ok\",\"\",1))","v":""},{"$f":"IF(J514=\"\",\"\",IF(VLOOKUP(CONCATENATE(J514,\" SI\"),W$7:W$1196,1,FALSE)=CONCATENATE(J514,\" SI\"),\"\",1))","v":""},null,{"$f":"IF(OR(J514=\"\",G514=\"\"),\"\",IF(VLOOKUP(H514,Tabelle_Fisse!$B$25:$C$29,2,FALSE)=\"ok\",\"\",1))","v":""},{"$nulls":4},""]
[{"$nulls":9},"",{"$f":"IF(J515=\"\",\"\",IF(VLOOKUP(J515,Lotti!B$6:B$596,1,FALSE)=J515,\"\",1))","v":""},null,"",null,{"$f":"IF(J515=\"\",\"\",IF(VLOOKUP(F515,Tabelle_Fisse!$B$33:$C$34,2,FALSE)=\"ok\",\"\",1))","v":""},{"$f":"IF(J515=\"\",\"\",IF(VLOOKUP(CONCATENATE(J515,\" SI\"),W$7:W$1196,1,FALSE)=CONCATENATE(J515,\" SI\"),\"\",1))","v":""},null,{"$f":"IF(OR(J515=\"\",G515=\"\"),\"\",IF(VLOOKUP(H515,Tabelle_Fisse!$B$25:$C$29,2,FALSE)=\"ok\",\"\",1))","v":""},{"$nulls":4},""]
[{"$nulls":9},{"$f":"TRIM(B516)","v":""},{"$f":"IF(J516=\"\",\"\",IF(VLOOKUP(J516,Lotti!B$6:B$596,1,FALSE)=J516,\"\",1))","v":""},null,{"$f":"IF(J516=\"\",\"\",IF(OR(AND(E516=\"\",LEN(D516)<>11,LEN(D516)<>16),AND(D516=\"\",E516=\"\"),AND(D516<>\"\",E516<>\"\")),1,\"\"))","v":""},null,{"$f":"IF(J516=\"\",\"\",IF(VLOOKUP(F516,Tabelle_Fisse!$B$33:$C$34,2,FALSE)=\"ok\",\"\",1))","v":""},{"$f":"IF(J516=\"\",\"\",IF(VLOOKUP(CONCATENATE(J516,\" SI\"),W$7:W$1196,1,FALSE)=CONCATENATE(J516,\" SI\"),\"\",1))","v":""},null,{"$f":"IF(OR(J516=\"\",G516=\"\"),\"\",IF(VLOOKUP(H516,Tabelle_Fisse!$B$25:$C$29,2,FALSE)=\"ok\",\"\",1))","v":""},{"$nulls":4},{"$f":"IF(J516=\"\",\"\",CONCATENATE(J516,\" \",F516))","v":""}]
[{"$nulls":9},"",{"$f":"IF(J517=\"\",\"\",IF(VLOOKUP(J517,Lotti!B$6:B$596,1,FALSE)=J517,\"\",1))","v":""},null,"",null,{"$f":"IF(J517=\"\",\"\",IF(VLOOKUP(F517,Tabelle_Fisse!$B$33:$C$34,2,FALSE)=\"ok\",\"\",1))","v":""},{"$f":"IF(J517=\"\",\"\",IF(VLOOKUP(CONCATENATE(J517,\" SI\"),W$7:W$1196,1,FALSE)=CONCATENATE(J517,\" SI\"),\"\",1))","v":""},null,{"$f":"IF(OR(J517=\"\",G517=\"\"),\"\",IF(VLOOKUP(H517,Tabelle_Fisse!$B$25:$C$29,2,FALSE)=\"ok\",\"\",1))","v":""},{"$nulls":4},""]
[{"$nulls":9},"",{"$f":"IF(J518=\"\",\"\",IF(VLOOKUP(J518,Lotti!B$6:B$596,1,FALSE)=J518,\"\",1))","v":""},null,"",null,{"$f":"IF(J518=\"\",\"\",IF(VLOOKUP(F518,Tabelle_Fisse!$B$33:$C$34,2,FALSE)=\"ok\",\"\",1))","v":""},{"$f":"IF(J518=\"\",\"\",IF(VLOOKUP(CONCATENATE(J518,\" SI\"),W$7:W$1196,1,FALSE)=CONCATENATE(J518,\" SI\"),\"\",1))","v":""},null,{"$f":"IF(OR(J518=\"\",G518=\"\"),\"\",IF(VLOOKUP(H518,Tabelle_Fisse!$B$25:$C$29,2,FALSE)=\"ok\",\"\",1))","v":""},{"$nulls":4},""]
[{"$nulls":9},"",{"$f":"IF(J519=\"\",\"\",IF(VLOOKUP(J519,Lotti!B$6:B$596,1,FALSE)=J519,\"\",1))","v":""},null,"",null,{"$f":"IF(J519=\"\",\"\",IF(VLOOKUP(F519,Tabelle_Fisse!$B$33:$C$34,2,FALSE)=\"ok\",\"\",1))","v":""},{"$f":"IF(J519=\"\",\"\",IF(VLOOKUP(CONCATENATE(J519,\" SI\"),W$7:W$1196,1,FALSE)=CONCATENATE(J519,\" SI\"),\"\",1))","v":""},null,{"$f":"IF(OR(J519=\"\",G519=\"\"),\"\",IF(VLOOKUP(H519,Tabelle_Fisse!$B$25:$C$29,2,FALSE)=\"ok\",\"\",1))","v":""},{"$nulls":4},""]
[{"$nulls":9},"",{"$f":"IF(J520=\"\",\"\",IF(VLOOKUP(J520,Lotti!B$6:B$596,1,FALSE)=J520,\"\",1))","v":""},null,"",null,{"$f":"IF(J520=\"\",\"\",IF(VLOOKUP(F520,Tabelle_Fisse!$B$33:$C$34,2,FALSE)=\"ok\",\"\",1))","v":""},{"$f":"IF(J520=\"\",\"\",IF(VLOOKUP(CONCATENATE(J520,\" SI\"),W$7:W$1196,1,FALSE)=CONCATENATE(J520,\" SI\"),\"\",1))","v":""},null,{"$f":"IF(OR(J520=\"\",G520=\"\"),\"\",IF(VLOOKUP(H520,Tabelle_Fisse!$B$25:$C$29,2,FALSE)=\"ok\",\"\",1))","v":""},{"$nulls":4},""]
[{"$nulls":9},"",{"$f":"IF(J521=\"\",\"\",IF(VLOOKUP(J521,Lotti!B$6:B$596,1,FALSE)=J521,\"\",1))","v":""},null,"",null,{"$f":"IF(J521=\"\",\"\",IF(VLOOKUP(F521,Tabelle_Fisse!$B$33:$C$34,2,FALSE)=\"ok\",\"\",1))","v":""},{"$f":"IF(J521=\"\",\"\",IF(VLOOKUP(CONCATENATE(J521,\" SI\"),W$7:W$1196,1,FALSE)=CONCATENATE(J521,\" SI\"),\"\",1))","v":""},null,{"$f":"IF(OR(J521=\"\",G521=\"\"),\"\",IF(VLOOKUP(H521,Tabelle_Fisse!$B$25:$C$29,2,FALSE)=\"ok\",\"\",1))","v":""},{"$nulls":4},""]
[{"$nulls":9},"",{"$f":"IF(J522=\"\",\"\",IF(VLOOKUP(J522,Lotti!B$6:B$596,1,FALSE)=J522,\"\",1))","v":""},null,"",null,{"$f":"IF(J522=\"\",\"\",IF(VLOOKUP(F522,Tabelle_Fisse!$B$33:$C$34,2,FALSE)=\"ok\",\"\",1))","v":""},{"$f":"IF(J522=\"\",\"\",IF(VLOOKUP(CONCATENATE(J522,\" SI\"),W$7:W$1196,1,FALSE)=CONCATENATE(J522,\" SI\"),\"\",1))","v":""},null,{"$f":"IF(OR(J522=\"\",G522=\"\"),\"\",IF(VLOOKUP(H522,Tabelle_Fisse!$B$25:$C$29,2,FALSE)=\"ok\",\"\",1))","v":""},{"$nulls":4},""]
[{"$nulls":9},"",{"$f":"IF(J523=\"\",\"\",IF(VLOOKUP(J523,Lotti!B$6:B$596,1,FALSE)=J523,\"\",1))","v":""},null,"",null,{"$f":"IF(J523=\"\",\"\",IF(VLOOKUP(F523,Tabelle_Fisse!$B$33:$C$34,2,FALSE)=\"ok\",\"\",1))","v":""},{"$f":"IF(J523=\"\",\"\",IF(VLOOKUP(CONCATENATE(J523,\" SI\"),W$7:W$1196,1,FALSE)=CONCATENATE(J523,\" SI\"),\"\",1))","v":""},null,{"$f":"IF(OR(J523=\"\",G523=\"\"),\"\",IF(VLOOKUP(H523,Tabelle_Fisse!$B$25:$C$29,2,FALSE)=\"ok\",\"\",1))","v":""},{"$nulls":4},""]
[{"$nulls":9},"",{"$f":"IF(J524=\"\",\"\",IF(VLOOKUP(J524,Lotti!B$6:B$596,1,FALSE)=J524,\"\",1))","v":""},null,"",null,{"$f":"IF(J524=\"\",\"\",IF(VLOOKUP(F524,Tabelle_Fisse!$B$33:$C$34,2,FALSE)=\"ok\",\"\",1))","v":""},{"$f":"IF(J524=\"\",\"\",IF(VLOOKUP(CONCATENATE(J524,\" SI\"),W$7:W$1196,1,FALSE)=CONCATENATE(J524,\" SI\"),\"\",1))","v":""},null,{"$f":"IF(OR(J524=\"\",G524=\"\"),\"\",IF(VLOOKUP(H524,Tabelle_Fisse!$B$25:$C$29,2,FALSE)=\"ok\",\"\",1))","v":""},{"$nulls":4},""]
[{"$nulls":9},"",{"$f":"IF(J525=\"\",\"\",IF(VLOOKUP(J525,Lotti!B$6:B$596,1,FALSE)=J525,\"\",1))","v":""},null,"",null,{"$f":"IF(J525=\"\",\"\",IF(VLOOKUP(F525,Tabelle_Fisse!$B$33:$C$34,2,FALSE)=\"ok\",\"\",1))","v":""},{"$f":"IF(J525=\"\",\"\",IF(VLOOKUP(CONCATENATE(J525,\" SI\"),W$7:W$1196,1,FALSE)=CONCATENATE(J525,\" SI\"),\"\",1))","v":""},null,{"$f":"IF(OR(J525=\"\",G525=\"\"),\"\",IF(VLOOKUP(H525,Tabelle_Fisse!$B$25:$C$29,2,FALSE)=\"ok\",\"\",1))","v":""},{"$nulls":4},""]
[{"$nulls":9},"",{"$f":"IF(J526=\"\",\"\",IF(VLOOKUP(J526,Lotti!B$6:B$596,1,FALSE)=J526,\"\",1))","v":""},null,"",null,{"$f":"IF(J526=\"\",\"\",IF(VLOOKUP(F526,Tabelle_Fisse!$B$33:$C$34,2,FALSE)=\"ok\",\"\",1))","v":""},{"$f":"IF(J526=\"\",\"\",IF(VLOOKUP(CONCATENATE(J526,\" SI\"),W$7:W$1196,1,FALSE)=CONCATENATE(J526,\" SI\"),\"\",1))","v":""},null,{"$f":"IF(OR(J526=\"\",G526=\"\"),\"\",IF(VLOOKUP(H526,Tabelle_Fisse!$B$25:$C$29,2,FALSE)=\"ok\",\"\",1))","v":""},{"$nulls":4},""]
[{"$nulls":9},"",{"$f":"IF(J527=\"\",\"\",IF(VLOOKUP(J527,Lotti!B$6:B$596,1,FALSE)=J527,\"\",1))","v":""},null,"",null,{"$f":"IF(J527=\"\",\"\",IF(VLOOKUP(F527,Tabelle_Fisse!$B$33:$C$34,2,FALSE)=\"ok\",\"\",1))","v":""},{"$f":"IF(J527=\"\",\"\",IF(VLOOKUP(CONCATENATE(J527,\" SI\"),W$7:W$1196,1,FALSE)=CONCATENATE(J527,\" SI\"),\"\",1))","v":""},null,{"$f":"IF(OR(J527=\"\",G527=\"\"),\"\",IF(VLOOKUP(H527,Tabelle_Fisse!$B$25:$C$29,2,FALSE)=\"ok\",\"\",1))","v":""},{"$nulls":4},""]
[{"$nulls":9},"",{"$f":"IF(J528=\"\",\"\",IF(VLOOKUP(J528,Lotti!B$6:B$596,1,FALSE)=J528,\"\",1))","v":""},null,"",null,{"$f":"IF(J528=\"\",\"\",IF(VLOOKUP(F528,Tabelle_Fisse!$B$33:$C$34,2,FALSE)=\"ok\",\"\",1))","v":""},{"$f":"IF(J528=\"\",\"\",IF(VLOOKUP(CONCATENATE(J528,\" SI\"),W$7:W$1196,1,FALSE)=CONCATENATE(J528,\" SI\"),\"\",1))","v":""},null,{"$f":"IF(OR(J528=\"\",G528=\"\"),\"\",IF(VLOOKUP(H528,Tabelle_Fisse!$B$25:$C$29,2,FALSE)=\"ok\",\"\",1))","v":""},{"$nulls":4},""]
[{"$nulls":9},"",{"$f":"IF(J529=\"\",\"\",IF(VLOOKUP(J529,Lotti!B$6:B$596,1,FALSE)=J529,\"\",1))","v":""},null,"",null,{"$f":"IF(J529=\"\",\"\",IF(VLOOKUP(F529,Tabelle_Fisse!$B$33:$C$34,2,FALSE)=\"ok\",\"\",1))","v":""},{"$f":"IF(J529=\"\",\"\",IF(VLOOKUP(CONCATENATE(J529,\" SI\"),W$7:W$1196,1,FALSE)=CONCATENATE(J529,\" SI\"),\"\",1))","v":""},null,{"$f":"IF(OR(J529=\"\",G529=\"\"),\"\",IF(VLOOKUP(H529,Tabelle_Fisse!$B$25:$C$29,2,FALSE)=\"ok\",\"\",1))","v":""},{"$nulls":4},""]
[{"$nulls":9},"",{"$f":"IF(J530=\"\",\"\",IF(VLOOKUP(J530,Lotti!B$6:B$596,1,FALSE)=J530,\"\",1))","v":""},null,"",null,{"$f":"IF(J530=\"\",\"\",IF(VLOOKUP(F530,Tabelle_Fisse!$B$33:$C$34,2,FALSE)=\"ok\",\"\",1))","v":""},{"$f":"IF(J530=\"\",\"\",IF(VLOOKUP(CONCATENATE(J530,\" SI\"),W$7:W$1196,1,FALSE)=CONCATENATE(J530,\" SI\"),\"\",1))","v":""},null,{"$f":"IF(OR(J530=\"\",G530=\"\"),\"\",IF(VLOOKUP(H530,Tabelle_Fisse!$B$25:$C$29,2,FALSE)=\"ok\",\"\",1))","v":""},{"$nulls":4},""]
[{"$nulls":9},"",{"$f":"IF(J531=\"\",\"\",IF(VLOOKUP(J531,Lotti!B$6:B$596,1,FALSE)=J531,\"\",1))","v":""},null,"",null,{"$f":"IF(J531=\"\",\"\",IF(VLOOKUP(F531,Tabelle_Fisse!$B$33:$C$34,2,FALSE)=\"ok\",\"\",1))","v":""},{"$f":"IF(J531=\"\",\"\",IF(VLOOKUP(CONCATENATE(J531,\" SI\"),W$7:W$1196,1,FALSE)=CONCATENATE(J531,\" SI\"),\"\",1))","v":""},null,{"$f":"IF(OR(J531=\"\",G531=\"\"),\"\",IF(VLOOKUP(H531,Tabelle_Fisse!$B$25:$C$29,2,FALSE)=\"ok\",\"\",1))","v":""},{"$nulls":4},""]
[{"$nulls":9},"",{"$f":"IF(J532=\"\",\"\",IF(VLOOKUP(J532,Lotti!B$6:B$596,1,FALSE)=J532,\"\",1))","v":""},null,"",null,{"$f":"IF(J532=\"\",\"\",IF(VLOOKUP(F532,Tabelle_Fisse!$B$33:$C$34,2,FALSE)=\"ok\",\"\",1))","v":""},{"$f":"IF(J532=\"\",\"\",IF(VLOOKUP(CONCATENATE(J532,\" SI\"),W$7:W$1196,1,FALSE)=CONCATENATE(J532,\" SI\"),\"\",1))","v":""},null,{"$f":"IF(OR(J532=\"\",G532=\"\"),\"\",IF(VLOOKUP(H532,Tabelle_Fisse!$B$25:$C$29,2,FALSE)=\"ok\",\"\",1))","v":""},{"$nulls":4},""]
[{"$nulls":9},"",{"$f":"IF(J533=\"\",\"\",IF(VLOOKUP(J533,Lotti!B$6:B$596,1,FALSE)=J533,\"\",1))","v":""},null,"",null,{"$f":"IF(J533=\"\",\"\",IF(VLOOKUP(F533,Tabelle_Fisse!$B$33:$C$34,2,FALSE)=\"ok\",\"\",1))","v":""},{"$f":"IF(J533=\"\",\"\",IF(VLOOKUP(CONCATENATE(J533,\" SI\"),W$7:W$1196,1,FALSE)=CONCATENATE(J533,\" SI\"),\"\",1))","v":""},null,{"$f":"IF(OR(J533=\"\",G533=\"\"),\"\",IF(VLOOKUP(H533,Tabelle_Fisse!$B$25:$C$29,2,FALSE)=\"ok\",\"\",1))","v":""},{"$nulls":4},""]
[{"$nulls":9},"",{"$f":"IF(J534=\"\",\"\",IF(VLOOKUP(J534,Lotti!B$6:B$596,1,FALSE)=J534,\"\",1))","v":""},null,"",null,{"$f":"IF(J534=\"\",\"\",IF(VLOOKUP(F534,Tabelle_Fisse!$B$33:$C$34,2,FALSE)=\"ok\",\"\",1))","v":""},{"$f":"IF(J534=\"\",\"\",IF(VLOOKUP(CONCATENATE(J534,\" SI\"),W$7:W$1196,1,FALSE)=CONCATENATE(J534,\" SI\"),\"\",1))","v":""},null,{"$f":"IF(OR(J534=\"\",G534=\"\"),\"\",IF(VLOOKUP(H534,Tabelle_Fisse!$B$25:$C$29,2,FALSE)=\"ok\",\"\",1))","v":""},{"$nulls":4},""]
[{"$nulls":9},"",{"$f":"IF(J535=\"\",\"\",IF(VLOOKUP(J535,Lotti!B$6:B$596,1,FALSE)=J535,\"\",1))","v":""},null,"",null,{"$f":"IF(J535=\"\",\"\",IF(VLOOKUP(F535,Tabelle_Fisse!$B$33:$C$34,2,FALSE)=\"ok\",\"\",1))","v":""},{"$f":"IF(J535=\"\",\"\",IF(VLOOKUP(CONCATENATE(J535,\" SI\"),W$7:W$1196,1,FALSE)=CONCATENATE(J535,\" SI\"),\"\",1))","v":""},null,{"$f":"IF(OR(J535=\"\",G535=\"\"),\"\",IF(VLOOKUP(H535,Tabelle_Fisse!$B$25:$C$29,2,FALSE)=\"ok\",\"\",1))","v":""},{"$nulls":4},""]
[{"$nulls":9},"",{"$f":"IF(J536=\"\",\"\",IF(VLOOKUP(J536,Lotti!B$6:B$596,1,FALSE)=J536,\"\",1))","v":""},null,"",null,{"$f":"IF(J536=\"\",\"\",IF(VLOOKUP(F536,Tabelle_Fisse!$B$33:$C$34,2,FALSE)=\"ok\",\"\",1))","v":""},{"$f":"IF(J536=\"\",\"\",IF(VLOOKUP(CONCATENATE(J536,\" SI\"),W$7:W$1196,1,FALSE)=CONCATENATE(J536,\" SI\"),\"\",1))","v":""},null,{"$f":"IF(OR(J536=\"\",G536=\"\"),\"\",IF(VLOOKUP(H536,Tabelle_Fisse!$B$25:$C$29,2,FALSE)=\"ok\",\"\",1))","v":""},{"$nulls":4},""]
[{"$nulls":9},"",{"$f":"IF(J537=\"\",\"\",IF(VLOOKUP(J537,Lotti!B$6:B$596,1,FALSE)=J537,\"\",1))","v":""},null,"",null,{"$f":"IF(J537=\"\",\"\",IF(VLOOKUP(F537,Tabelle_Fisse!$B$33:$C$34,2,FALSE)=\"ok\",\"\",1))","v":""},{"$f":"IF(J537=\"\",\"\",IF(VLOOKUP(CONCATENATE(J537,\" SI\"),W$7:W$1196,1,FALSE)=CONCATENATE(J537,\" SI\"),\"\",1))","v":""},null,{"$f":"IF(OR(J537=\"\",G537=\"\"),\"\",IF(VLOOKUP(H537,Tabelle_Fisse!$B$25:$C$29,2,FALSE)=\"ok\",\"\",1))","v":""},{"$nulls":4},""]
[{"$nulls":9},"",{"$f":"IF(J538=\"\",\"\",IF(VLOOKUP(J538,Lotti!B$6:B$596,1,FALSE)=J538,\"\",1))","v":""},null,"",null,{"$f":"IF(J538=\"\",\"\",IF(VLOOKUP(F538,Tabelle_Fisse!$B$33:$C$34,2,FALSE)=\"ok\",\"\",1))","v":""},{"$f":"IF(J538=\"\",\"\",IF(VLOOKUP(CONCATENATE(J538,\" SI\"),W$7:W$1196,1,FALSE)=CONCATENATE(J538,\" SI\"),\"\",1))","v":""},null,{"$f":"IF(OR(J538=\"\",G538=\"\"),\"\",IF(VLOOKUP(H538,Tabelle_Fisse!$B$25:$C$29,2,FALSE)=\"ok\",\"\",1))","v":""},{"$nulls":4},""]
[{"$nulls":9},"",{"$f":"IF(J539=\"\",\"\",IF(VLOOKUP(J539,Lotti!B$6:B$596,1,FALSE)=J539,\"\",1))","v":""},null,"",null,{"$f":"IF(J539=\"\",\"\",IF(VLOOKUP(F539,Tabelle_Fisse!$B$33:$C$34,2,FALSE)=\"ok\",\"\",1))","v":""},{"$f":"IF(J539=\"\",\"\",IF(VLOOKUP(CONCATENATE(J539,\" SI\"),W$7:W$1196,1,FALSE)=CONCATENATE(J539,\" SI\"),\"\",1))","v":""},null,{"$f":"IF(OR(J539=\"\",G539=\"\"),\"\",IF(VLOOKUP(H539,Tabelle_Fisse!$B$25:$C$29,2,FALSE)=\"ok\",\"\",1))","v":""},{"$nulls":4},""]
[{"$nulls":9},"",{"$f":"IF(J540=\"\",\"\",IF(VLOOKUP(J540,Lotti!B$6:B$596,1,FALSE)=J540,\"\",1))","v":""},null,"",null,{"$f":"IF(J540=\"\",\"\",IF(VLOOKUP(F540,Tabelle_Fisse!$B$33:$C$34,2,FALSE)=\"ok\",\"\",1))","v":""},{"$f":"IF(J540=\"\",\"\",IF(VLOOKUP(CONCATENATE(J540,\" SI\"),W$7:W$1196,1,FALSE)=CONCATENATE(J540,\" SI\"),\"\",1))","v":""},null,{"$f":"IF(OR(J540=\"\",G540=\"\"),\"\",IF(VLOOKUP(H540,Tabelle_Fisse!$B$25:$C$29,2,FALSE)=\"ok\",\"\",1))","v":""},{"$nulls":4},""]
[{"$nulls":9},"",{"$f":"IF(J541=\"\",\"\",IF(VLOOKUP(J541,Lotti!B$6:B$596,1,FALSE)=J541,\"\",1))","v":""},null,"",null,{"$f":"IF(J541=\"\",\"\",IF(VLOOKUP(F541,Tabelle_Fisse!$B$33:$C$34,2,FALSE)=\"ok\",\"\",1))","v":""},{"$f":"IF(J541=\"\",\"\",IF(VLOOKUP(CONCATENATE(J541,\" SI\"),W$7:W$1196,1,FALSE)=CONCATENATE(J541,\" SI\"),\"\",1))","v":""},null,{"$f":"IF(OR(J541=\"\",G541=\"\"),\"\",IF(VLOOKUP(H541,Tabelle_Fisse!$B$25:$C$29,2,FALSE)=\"ok\",\"\",1))","v":""},{"$nulls":4},""]
[{"$nulls":9},"",{"$f":"IF(J542=\"\",\"\",IF(VLOOKUP(J542,Lotti!B$6:B$596,1,FALSE)=J542,\"\",1))","v":""},null,"",null,{"$f":"IF(J542=\"\",\"\",IF(VLOOKUP(F542,Tabelle_Fisse!$B$33:$C$34,2,FALSE)=\"ok\",\"\",1))","v":""},{"$f":"IF(J542=\"\",\"\",IF(VLOOKUP(CONCATENATE(J542,\" SI\"),W$7:W$1196,1,FALSE)=CONCATENATE(J542,\" SI\"),\"\",1))","v":""},null,{"$f":"IF(OR(J542=\"\",G542=\"\"),\"\",IF(VLOOKUP(H542,Tabelle_Fisse!$B$25:$C$29,2,FALSE)=\"ok\",\"\",1))","v":""},{"$nulls":4},""]
[{"$nulls":9},"",{"$f":"IF(J543=\"\",\"\",IF(VLOOKUP(J543,Lotti!B$6:B$596,1,FALSE)=J543,\"\",1))","v":""},null,"",null,{"$f":"IF(J543=\"\",\"\",IF(VLOOKUP(F543,Tabelle_Fisse!$B$33:$C$34,2,FALSE)=\"ok\",\"\",1))","v":""},{"$f":"IF(J543=\"\",\"\",IF(VLOOKUP(CONCATENATE(J543,\" SI\"),W$7:W$1196,1,FALSE)=CONCATENATE(J543,\" SI\"),\"\",1))","v":""},null,{"$f":"IF(OR(J543=\"\",G543=\"\"),\"\",IF(VLOOKUP(H543,Tabelle_Fisse!$B$25:$C$29,2,FALSE)=\"ok\",\"\",1))","v":""},{"$nulls":4},""]
[{"$nulls":9},"",{"$f":"IF(J544=\"\",\"\",IF(VLOOKUP(J544,Lotti!B$6:B$596,1,FALSE)=J544,\"\",1))","v":""},null,"",null,{"$f":"IF(J544=\"\",\"\",IF(VLOOKUP(F544,Tabelle_Fisse!$B$33:$C$34,2,FALSE)=\"ok\",\"\",1))","v":""},{"$f":"IF(J544=\"\",\"\",IF(VLOOKUP(CONCATENATE(J544,\" SI\"),W$7:W$1196,1,FALSE)=CONCATENATE(J544,\" SI\"),\"\",1))","v":""},null,{"$f":"IF(OR(J544=\"\",G544=\"\"),\"\",IF(VLOOKUP(H544,Tabelle_Fisse!$B$25:$C$29,2,FALSE)=\"ok\",\"\",1))","v":""},{"$nulls":4},""]
[{"$nulls":9},"",{"$f":"IF(J545=\"\",\"\",IF(VLOOKUP(J545,Lotti!B$6:B$596,1,FALSE)=J545,\"\",1))","v":""},null,"",null,{"$f":"IF(J545=\"\",\"\",IF(VLOOKUP(F545,Tabelle_Fisse!$B$33:$C$34,2,FALSE)=\"ok\",\"\",1))","v":""},{"$f":"IF(J545=\"\",\"\",IF(VLOOKUP(CONCATENATE(J545,\" SI\"),W$7:W$1196,1,FALSE)=CONCATENATE(J545,\" SI\"),\"\",1))","v":""},null,{"$f":"IF(OR(J545=\"\",G545=\"\"),\"\",IF(VLOOKUP(H545,Tabelle_Fisse!$B$25:$C$29,2,FALSE)=\"ok\",\"\",1))","v":""},{"$nulls":4},""]
[{"$nulls":9},"",{"$f":"IF(J546=\"\",\"\",IF(VLOOKUP(J546,Lotti!B$6:B$596,1,FALSE)=J546,\"\",1))","v":""},null,"",null,{"$f":"IF(J546=\"\",\"\",IF(VLOOKUP(F546,Tabelle_Fisse!$B$33:$C$34,2,FALSE)=\"ok\",\"\",1))","v":""},{"$f":"IF(J546=\"\",\"\",IF(VLOOKUP(CONCATENATE(J546,\" SI\"),W$7:W$1196,1,FALSE)=CONCATENATE(J546,\" SI\"),\"\",1))","v":""},null,{"$f":"IF(OR(J546=\"\",G546=\"\"),\"\",IF(VLOOKUP(H546,Tabelle_Fisse!$B$25:$C$29,2,FALSE)=\"ok\",\"\",1))","v":""},{"$nulls":4},""]
[{"$nulls":9},"",{"$f":"IF(J547=\"\",\"\",IF(VLOOKUP(J547,Lotti!B$6:B$596,1,FALSE)=J547,\"\",1))","v":""},null,"",null,{"$f":"IF(J547=\"\",\"\",IF(VLOOKUP(F547,Tabelle_Fisse!$B$33:$C$34,2,FALSE)=\"ok\",\"\",1))","v":""},{"$f":"IF(J547=\"\",\"\",IF(VLOOKUP(CONCATENATE(J547,\" SI\"),W$7:W$1196,1,FALSE)=CONCATENATE(J547,\" SI\"),\"\",1))","v":""},null,{"$f":"IF(OR(J547=\"\",G547=\"\"),\"\",IF(VLOOKUP(H547,Tabelle_Fisse!$B$25:$C$29,2,FALSE)=\"ok\",\"\",1))","v":""},{"$nulls":4},""]
[{"$nulls":9},"",{"$f":"IF(J548=\"\",\"\",IF(VLOOKUP(J548,Lotti!B$6:B$596,1,FALSE)=J548,\"\",1))","v":""},null,"",null,{"$f":"IF(J548=\"\",\"\",IF(VLOOKUP(F548,Tabelle_Fisse!$B$33:$C$34,2,FALSE)=\"ok\",\"\",1))","v":""},{"$f":"IF(J548=\"\",\"\",IF(VLOOKUP(CONCATENATE(J548,\" SI\"),W$7:W$1196,1,FALSE)=CONCATENATE(J548,\" SI\"),\"\",1))","v":""},null,{"$f":"IF(OR(J548=\"\",G548=\"\"),\"\",IF(VLOOKUP(H548,Tabelle_Fisse!$B$25:$C$29,2,FALSE)=\"ok\",\"\",1))","v":""},{"$nulls":4},""]
[{"$nulls":9},"",{"$f":"IF(J549=\"\",\"\",IF(VLOOKUP(J549,Lotti!B$6:B$596,1,FALSE)=J549,\"\",1))","v":""},null,"",null,{"$f":"IF(J549=\"\",\"\",IF(VLOOKUP(F549,Tabelle_Fisse!$B$33:$C$34,2,FALSE)=\"ok\",\"\",1))","v":""},{"$f":"IF(J549=\"\",\"\",IF(VLOOKUP(CONCATENATE(J549,\" SI\"),W$7:W$1196,1,FALSE)=CONCATENATE(J549,\" SI\"),\"\",1))","v":""},null,{"$f":"IF(OR(J549=\"\",G549=\"\"),\"\",IF(VLOOKUP(H549,Tabelle_Fisse!$B$25:$C$29,2,FALSE)=\"ok\",\"\",1))","v":""},{"$nulls":4},""]
[{"$nulls":9},"",{"$f":"IF(J550=\"\",\"\",IF(VLOOKUP(J550,Lotti!B$6:B$596,1,FALSE)=J550,\"\",1))","v":""},null,"",null,{"$f":"IF(J550=\"\",\"\",IF(VLOOKUP(F550,Tabelle_Fisse!$B$33:$C$34,2,FALSE)=\"ok\",\"\",1))","v":""},{"$f":"IF(J550=\"\",\"\",IF(VLOOKUP(CONCATENATE(J550,\" SI\"),W$7:W$1196,1,FALSE)=CONCATENATE(J550,\" SI\"),\"\",1))","v":""},null,{"$f":"IF(OR(J550=\"\",G550=\"\"),\"\",IF(VLOOKUP(H550,Tabelle_Fisse!$B$25:$C$29,2,FALSE)=\"ok\",\"\",1))","v":""},{"$nulls":4},""]
[{"$nulls":9},"",{"$f":"IF(J551=\"\",\"\",IF(VLOOKUP(J551,Lotti!B$6:B$596,1,FALSE)=J551,\"\",1))","v":""},null,"",null,{"$f":"IF(J551=\"\",\"\",IF(VLOOKUP(F551,Tabelle_Fisse!$B$33:$C$34,2,FALSE)=\"ok\",\"\",1))","v":""},{"$f":"IF(J551=\"\",\"\",IF(VLOOKUP(CONCATENATE(J551,\" SI\"),W$7:W$1196,1,FALSE)=CONCATENATE(J551,\" SI\"),\"\",1))","v":""},null,{"$f":"IF(OR(J551=\"\",G551=\"\"),\"\",IF(VLOOKUP(H551,Tabelle_Fisse!$B$25:$C$29,2,FALSE)=\"ok\",\"\",1))","v":""},{"$nulls":4},""]
[{"$nulls":9},"",{"$f":"IF(J552=\"\",\"\",IF(VLOOKUP(J552,Lotti!B$6:B$596,1,FALSE)=J552,\"\",1))","v":""},null,"",null,{"$f":"IF(J552=\"\",\"\",IF(VLOOKUP(F552,Tabelle_Fisse!$B$33:$C$34,2,FALSE)=\"ok\",\"\",1))","v":""},{"$f":"IF(J552=\"\",\"\",IF(VLOOKUP(CONCATENATE(J552,\" SI\"),W$7:W$1196,1,FALSE)=CONCATENATE(J552,\" SI\"),\"\",1))","v":""},null,{"$f":"IF(OR(J552=\"\",G552=\"\"),\"\",IF(VLOOKUP(H552,Tabelle_Fisse!$B$25:$C$29,2,FALSE)=\"ok\",\"\",1))","v":""},{"$nulls":4},""]
[{"$nulls":9},"",{"$f":"IF(J553=\"\",\"\",IF(VLOOKUP(J553,Lotti!B$6:B$596,1,FALSE)=J553,\"\",1))","v":""},null,"",null,{"$f":"IF(J553=\"\",\"\",IF(VLOOKUP(F553,Tabelle_Fisse!$B$33:$C$34,2,FALSE)=\"ok\",\"\",1))","v":""},{"$f":"IF(J553=\"\",\"\",IF(VLOOKUP(CONCATENATE(J553,\" SI\"),W$7:W$1196,1,FALSE)=CONCATENATE(J553,\" SI\"),\"\",1))","v":""},null,{"$f":"IF(OR(J553=\"\",G553=\"\"),\"\",IF(VLOOKUP(H553,Tabelle_Fisse!$B$25:$C$29,2,FALSE)=\"ok\",\"\",1))","v":""},{"$nulls":4},""]
[{"$nulls":9},"",{"$f":"IF(J554=\"\",\"\",IF(VLOOKUP(J554,Lotti!B$6:B$596,1,FALSE)=J554,\"\",1))","v":""},null,"",null,{"$f":"IF(J554=\"\",\"\",IF(VLOOKUP(F554,Tabelle_Fisse!$B$33:$C$34,2,FALSE)=\"ok\",\"\",1))","v":""},{"$f":"IF(J554=\"\",\"\",IF(VLOOKUP(CONCATENATE(J554,\" SI\"),W$7:W$1196,1,FALSE)=CONCATENATE(J554,\" SI\"),\"\",1))","v":""},null,{"$f":"IF(OR(J554=\"\",G554=\"\"),\"\",IF(VLOOKUP(H554,Tabelle_Fisse!$B$25:$C$29,2,FALSE)=\"ok\",\"\",1))","v":""},{"$nulls":4},""]
[{"$nulls":9},"",{"$f":"IF(J555=\"\",\"\",IF(VLOOKUP(J555,Lotti!B$6:B$596,1,FALSE)=J555,\"\",1))","v":""},null,"",null,{"$f":"IF(J555=\"\",\"\",IF(VLOOKUP(F555,Tabelle_Fisse!$B$33:$C$34,2,FALSE)=\"ok\",\"\",1))","v":""},{"$f":"IF(J555=\"\",\"\",IF(VLOOKUP(CONCATENATE(J555,\" SI\"),W$7:W$1196,1,FALSE)=CONCATENATE(J555,\" SI\"),\"\",1))","v":""},null,{"$f":"IF(OR(J555=\"\",G555=\"\"),\"\",IF(VLOOKUP(H555,Tabelle_Fisse!$B$25:$C$29,2,FALSE)=\"ok\",\"\",1))","v":""},{"$nulls":4},""]
[{"$nulls":9},"",{"$f":"IF(J556=\"\",\"\",IF(VLOOKUP(J556,Lotti!B$6:B$596,1,FALSE)=J556,\"\",1))","v":""},null,"",null,{"$f":"IF(J556=\"\",\"\",IF(VLOOKUP(F556,Tabelle_Fisse!$B$33:$C$34,2,FALSE)=\"ok\",\"\",1))","v":""},{"$f":"IF(J556=\"\",\"\",IF(VLOOKUP(CONCATENATE(J556,\" SI\"),W$7:W$1196,1,FALSE)=CONCATENATE(J556,\" SI\"),\"\",1))","v":""},null,{"$f":"IF(OR(J556=\"\",G556=\"\"),\"\",IF(VLOOKUP(H556,Tabelle_Fisse!$B$25:$C$29,2,FALSE)=\"ok\",\"\",1))","v":""},{"$nulls":4},""]
[{"$nulls":9},"",{"$f":"IF(J557=\"\",\"\",IF(VLOOKUP(J557,Lotti!B$6:B$596,1,FALSE)=J557,\"\",1))","v":""},null,"",null,{"$f":"IF(J557=\"\",\"\",IF(VLOOKUP(F557,Tabelle_Fisse!$B$33:$C$34,2,FALSE)=\"ok\",\"\",1))","v":""},{"$f":"IF(J557=\"\",\"\",IF(VLOOKUP(CONCATENATE(J557,\" SI\"),W$7:W$1196,1,FALSE)=CONCATENATE(J557,\" SI\"),\"\",1))","v":""},null,{"$f":"IF(OR(J557=\"\",G557=\"\"),\"\",IF(VLOOKUP(H557,Tabelle_Fisse!$B$25:$C$29,2,FALSE)=\"ok\",\"\",1))","v":""},{"$nulls":4},""]
[{"$nulls":9},"",{"$f":"IF(J558=\"\",\"\",IF(VLOOKUP(J558,Lotti!B$6:B$596,1,FALSE)=J558,\"\",1))","v":""},null,"",null,{"$f":"IF(J558=\"\",\"\",IF(VLOOKUP(F558,Tabelle_Fisse!$B$33:$C$34,2,FALSE)=\"ok\",\"\",1))","v":""},{"$f":"IF(J558=\"\",\"\",IF(VLOOKUP(CONCATENATE(J558,\" SI\"),W$7:W$1196,1,FALSE)=CONCATENATE(J558,\" SI\"),\"\",1))","v":""},null,{"$f":"IF(OR(J558=\"\",G558=\"\"),\"\",IF(VLOOKUP(H558,Tabelle_Fisse!$B$25:$C$29,2,FALSE)=\"ok\",\"\",1))","v":""},{"$nulls":4},""]
[{"$nulls":9},"",{"$f":"IF(J559=\"\",\"\",IF(VLOOKUP(J559,Lotti!B$6:B$596,1,FALSE)=J559,\"\",1))","v":""},null,"",null,{"$f":"IF(J559=\"\",\"\",IF(VLOOKUP(F559,Tabelle_Fisse!$B$33:$C$34,2,FALSE)=\"ok\",\"\",1))","v":""},{"$f":"IF(J559=\"\",\"\",IF(VLOOKUP(CONCATENATE(J559,\" SI\"),W$7:W$1196,1,FALSE)=CONCATENATE(J559,\" SI\"),\"\",1))","v":""},null,{"$f":"IF(OR(J559=\"\",G559=\"\"),\"\",IF(VLOOKUP(H559,Tabelle_Fisse!$B$25:$C$29,2,FALSE)=\"ok\",\"\",1))","v":""},{"$nulls":4},""]
[{"$nulls":9},"",{"$f":"IF(J560=\"\",\"\",IF(VLOOKUP(J560,Lotti!B$6:B$596,1,FALSE)=J560,\"\",1))","v":""},null,"",null,{"$f":"IF(J560=\"\",\"\",IF(VLOOKUP(F560,Tabelle_Fisse!$B$33:$C$34,2,FALSE)=\"ok\",\"\",1))","v":""},{"$f":"IF(J560=\"\",\"\",IF(VLOOKUP(CONCATENATE(J560,\" SI\"),W$7:W$1196,1,FALSE)=CONCATENATE(J560,\" SI\"),\"\",1))","v":""},null,{"$f":"IF(OR(J560=\"\",G560=\"\"),\"\",IF(VLOOKUP(H560,Tabelle_Fisse!$B$25:$C$29,2,FALSE)=\"ok\",\"\",1))","v":""},{"$nulls":4},""]
[{"$nulls":9},"",{"$f":"IF(J561=\"\",\"\",IF(VLOOKUP(J561,Lotti!B$6:B$596,1,FALSE)=J561,\"\",1))","v":""},null,"",null,{"$f":"IF(J561=\"\",\"\",IF(VLOOKUP(F561,Tabelle_Fisse!$B$33:$C$34,2,FALSE)=\"ok\",\"\",1))","v":""},{"$f":"IF(J561=\"\",\"\",IF(VLOOKUP(CONCATENATE(J561,\" SI\"),W$7:W$1196,1,FALSE)=CONCATENATE(J561,\" SI\"),\"\",1))","v":""},null,{"$f":"IF(OR(J561=\"\",G561=\"\"),\"\",IF(VLOOKUP(H561,Tabelle_Fisse!$B$25:$C$29,2,FALSE)=\"ok\",\"\",1))","v":""},{"$nulls":4},""]
[{"$nulls":9},"",{"$f":"IF(J562=\"\",\"\",IF(VLOOKUP(J562,Lotti!B$6:B$596,1,FALSE)=J562,\"\",1))","v":""},null,"",null,{"$f":"IF(J562=\"\",\"\",IF(VLOOKUP(F562,Tabelle_Fisse!$B$33:$C$34,2,FALSE)=\"ok\",\"\",1))","v":""},{"$f":"IF(J562=\"\",\"\",IF(VLOOKUP(CONCATENATE(J562,\" SI\"),W$7:W$1196,1,FALSE)=CONCATENATE(J562,\" SI\"),\"\",1))","v":""},null,{"$f":"IF(OR(J562=\"\",G562=\"\"),\"\",IF(VLOOKUP(H562,Tabelle_Fisse!$B$25:$C$29,2,FALSE)=\"ok\",\"\",1))","v":""},{"$nulls":4},""]
[{"$nulls":9},"",{"$f":"IF(J563=\"\",\"\",IF(VLOOKUP(J563,Lotti!B$6:B$596,1,FALSE)=J563,\"\",1))","v":""},null,"",null,{"$f":"IF(J563=\"\",\"\",IF(VLOOKUP(F563,Tabelle_Fisse!$B$33:$C$34,2,FALSE)=\"ok\",\"\",1))","v":""},{"$f":"IF(J563=\"\",\"\",IF(VLOOKUP(CONCATENATE(J563,\" SI\"),W$7:W$1196,1,FALSE)=CONCATENATE(J563,\" SI\"),\"\",1))","v":""},null,{"$f":"IF(OR(J563=\"\",G563=\"\"),\"\",IF(VLOOKUP(H563,Tabelle_Fisse!$B$25:$C$29,2,FALSE)=\"ok\",\"\",1))","v":""},{"$nulls":4},""]
[{"$nulls":9},"",{"$f":"IF(J564=\"\",\"\",IF(VLOOKUP(J564,Lotti!B$6:B$596,1,FALSE)=J564,\"\",1))","v":""},null,"",null,{"$f":"IF(J564=\"\",\"\",IF(VLOOKUP(F564,Tabelle_Fisse!$B$33:$C$34,2,FALSE)=\"ok\",\"\",1))","v":""},{"$f":"IF(J564=\"\",\"\",IF(VLOOKUP(CONCATENATE(J564,\" SI\"),W$7:W$1196,1,FALSE)=CONCATENATE(J564,\" SI\"),\"\",1))","v":""},null,{"$f":"IF(OR(J564=\"\",G564=\"\"),\"\",IF(VLOOKUP(H564,Tabelle_Fisse!$B$25:$C$29,2,FALSE)=\"ok\",\"\",1))","v":""},{"$nulls":4},""]
[{"$nulls":9},"",{"$f":"IF(J565=\"\",\"\",IF(VLOOKUP(J565,Lotti!B$6:B$596,1,FALSE)=J565,\"\",1))","v":""},null,"",null,{"$f":"IF(J565=\"\",\"\",IF(VLOOKUP(F565,Tabelle_Fisse!$B$33:$C$34,2,FALSE)=\"ok\",\"\",1))","v":""},{"$f":"IF(J565=\"\",\"\",IF(VLOOKUP(CONCATENATE(J565,\" SI\"),W$7:W$1196,1,FALSE)=CONCATENATE(J565,\" SI\"),\"\",1))","v":""},null,{"$f":"IF(OR(J565=\"\",G565=\"\"),\"\",IF(VLOOKUP(H565,Tabelle_Fisse!$B$25:$C$29,2,FALSE)=\"ok\",\"\",1))","v":""},{"$nulls":4},""]
[{"$nulls":9},"",{"$f":"IF(J566=\"\",\"\",IF(VLOOKUP(J566,Lotti!B$6:B$596,1,FALSE)=J566,\"\",1))","v":""},null,"",null,{"$f":"IF(J566=\"\",\"\",IF(VLOOKUP(F566,Tabelle_Fisse!$B$33:$C$34,2,FALSE)=\"ok\",\"\",1))","v":""},{"$f":"IF(J566=\"\",\"\",IF(VLOOKUP(CONCATENATE(J566,\" SI\"),W$7:W$1196,1,FALSE)=CONCATENATE(J566,\" SI\"),\"\",1))","v":""},null,{"$f":"IF(OR(J566=\"\",G566=\"\"),\"\",IF(VLOOKUP(H566,Tabelle_Fisse!$B$25:$C$29,2,FALSE)=\"ok\",\"\",1))","v":""},{"$nulls":4},""]
[{"$nulls":9},"",{"$f":"IF(J567=\"\",\"\",IF(VLOOKUP(J567,Lotti!B$6:B$596,1,FALSE)=J567,\"\",1))","v":""},null,"",null,{"$f":"IF(J567=\"\",\"\",IF(VLOOKUP(F567,Tabelle_Fisse!$B$33:$C$34,2,FALSE)=\"ok\",\"\",1))","v":""},{"$f":"IF(J567=\"\",\"\",IF(VLOOKUP(CONCATENATE(J567,\" SI\"),W$7:W$1196,1,FALSE)=CONCATENATE(J567,\" SI\"),\"\",1))","v":""},null,{"$f":"IF(OR(J567=\"\",G567=\"\"),\"\",IF(VLOOKUP(H567,Tabelle_Fisse!$B$25:$C$29,2,FALSE)=\"ok\",\"\",1))","v":""},{"$nulls":4},""]
[{"$nulls":9},"",{"$f":"IF(J568=\"\",\"\",IF(VLOOKUP(J568,Lotti!B$6:B$596,1,FALSE)=J568,\"\",1))","v":""},null,"",null,{"$f":"IF(J568=\"\",\"\",IF(VLOOKUP(F568,Tabelle_Fisse!$B$33:$C$34,2,FALSE)=\"ok\",\"\",1))","v":""},{"$f":"IF(J568=\"\",\"\",IF(VLOOKUP(CONCATENATE(J568,\" SI\"),W$7:W$1196,1,FALSE)=CONCATENATE(J568,\" SI\"),\"\",1))","v":""},null,{"$f":"IF(OR(J568=\"\",G568=\"\"),\"\",IF(VLOOKUP(H568,Tabelle_Fisse!$B$25:$C$29,2,FALSE)=\"ok\",\"\",1))","v":""},{"$nulls":4},""]
[{"$nulls":9},"",{"$f":"IF(J569=\"\",\"\",IF(VLOOKUP(J569,Lotti!B$6:B$596,1,FALSE)=J569,\"\",1))","v":""},null,"",null,{"$f":"IF(J569=\"\",\"\",IF(VLOOKUP(F569,Tabelle_Fisse!$B$33:$C$34,2,FALSE)=\"ok\",\"\",1))","v":""},{"$f":"IF(J569=\"\",\"\",IF(VLOOKUP(CONCATENATE(J569,\" SI\"),W$7:W$1196,1,FALSE)=CONCATENATE(J569,\" SI\"),\"\",1))","v":""},null,{"$f":"IF(OR(J569=\"\",G569=\"\"),\"\",IF(VLOOKUP(H569,Tabelle_Fisse!$B$25:$C$29,2,FALSE)=\"ok\",\"\",1))","v":""},{"$nulls":4},""]
[{"$nulls":9},"",{"$f":"IF(J570=\"\",\"\",IF(VLOOKUP(J570,Lotti!B$6:B$596,1,FALSE)=J570,\"\",1))","v":""},null,"",null,{"$f":"IF(J570=\"\",\"\",IF(VLOOKUP(F570,Tabelle_Fisse!$B$33:$C$34,2,FALSE)=\"ok\",\"\",1))","v":""},{"$f":"IF(J570=\"\",\"\",IF(VLOOKUP(CONCATENATE(J570,\" SI\"),W$7:W$1196,1,FALSE)=CONCATENATE(J570,\" SI\"),\"\",1))","v":""},null,{"$f":"IF(OR(J570=\"\",G570=\"\"),\"\",IF(VLOOKUP(H570,Tabelle_Fisse!$B$25:$C$29,2,FALSE)=\"ok\",\"\",1))","v":""},{"$nulls":4},""]
[{"$nulls":9},"",{"$f":"IF(J571=\"\",\"\",IF(VLOOKUP(J571,Lotti!B$6:B$596,1,FALSE)=J571,\"\",1))","v":""},null,"",null,{"$f":"IF(J571=\"\",\"\",IF(VLOOKUP(F571,Tabelle_Fisse!$B$33:$C$34,2,FALSE)=\"ok\",\"\",1))","v":""},{"$f":"IF(J571=\"\",\"\",IF(VLOOKUP(CONCATENATE(J571,\" SI\"),W$7:W$1196,1,FALSE)=CONCATENATE(J571,\" SI\"),\"\",1))","v":""},null,{"$f":"IF(OR(J571=\"\",G571=\"\"),\"\",IF(VLOOKUP(H571,Tabelle_Fisse!$B$25:$C$29,2,FALSE)=\"ok\",\"\",1))","v":""},{"$nulls":4},""]
[{"$nulls":9},"",{"$f":"IF(J572=\"\",\"\",IF(VLOOKUP(J572,Lotti!B$6:B$596,1,FALSE)=J572,\"\",1))","v":""},null,"",null,{"$f":"IF(J572=\"\",\"\",IF(VLOOKUP(F572,Tabelle_Fisse!$B$33:$C$34,2,FALSE)=\"ok\",\"\",1))","v":""},{"$f":"IF(J572=\"\",\"\",IF(VLOOKUP(CONCATENATE(J572,\" SI\"),W$7:W$1196,1,FALSE)=CONCATENATE(J572,\" SI\"),\"\",1))","v":""},null,{"$f":"IF(OR(J572=\"\",G572=\"\"),\"\",IF(VLOOKUP(H572,Tabelle_Fisse!$B$25:$C$29,2,FALSE)=\"ok\",\"\",1))","v":""},{"$nulls":4},""]
[{"$nulls":9},"",{"$f":"IF(J573=\"\",\"\",IF(VLOOKUP(J573,Lotti!B$6:B$596,1,FALSE)=J573,\"\",1))","v":""},null,"",null,{"$f":"IF(J573=\"\",\"\",IF(VLOOKUP(F573,Tabelle_Fisse!$B$33:$C$34,2,FALSE)=\"ok\",\"\",1))","v":""},{"$f":"IF(J573=\"\",\"\",IF(VLOOKUP(CONCATENATE(J573,\" SI\"),W$7:W$1196,1,FALSE)=CONCATENATE(J573,\" SI\"),\"\",1))","v":""},null,{"$f":"IF(OR(J573=\"\",G573=\"\"),\"\",IF(VLOOKUP(H573,Tabelle_Fisse!$B$25:$C$29,2,FALSE)=\"ok\",\"\",1))","v":""},{"$nulls":4},""]
[{"$nulls":9},"",{"$f":"IF(J574=\"\",\"\",IF(VLOOKUP(J574,Lotti!B$6:B$596,1,FALSE)=J574,\"\",1))","v":""},null,"",null,{"$f":"IF(J574=\"\",\"\",IF(VLOOKUP(F574,Tabelle_Fisse!$B$33:$C$34,2,FALSE)=\"ok\",\"\",1))","v":""},{"$f":"IF(J574=\"\",\"\",IF(VLOOKUP(CONCATENATE(J574,\" SI\"),W$7:W$1196,1,FALSE)=CONCATENATE(J574,\" SI\"),\"\",1))","v":""},null,{"$f":"IF(OR(J574=\"\",G574=\"\"),\"\",IF(VLOOKUP(H574,Tabelle_Fisse!$B$25:$C$29,2,FALSE)=\"ok\",\"\",1))","v":""},{"$nulls":4},""]
[{"$nulls":9},"",{"$f":"IF(J575=\"\",\"\",IF(VLOOKUP(J575,Lotti!B$6:B$596,1,FALSE)=J575,\"\",1))","v":""},null,"",null,{"$f":"IF(J575=\"\",\"\",IF(VLOOKUP(F575,Tabelle_Fisse!$B$33:$C$34,2,FALSE)=\"ok\",\"\",1))","v":""},{"$f":"IF(J575=\"\",\"\",IF(VLOOKUP(CONCATENATE(J575,\" SI\"),W$7:W$1196,1,FALSE)=CONCATENATE(J575,\" SI\"),\"\",1))","v":""},null,{"$f":"IF(OR(J575=\"\",G575=\"\"),\"\",IF(VLOOKUP(H575,Tabelle_Fisse!$B$25:$C$29,2,FALSE)=\"ok\",\"\",1))","v":""},{"$nulls":4},""]
[{"$nulls":9},"",{"$f":"IF(J576=\"\",\"\",IF(VLOOKUP(J576,Lotti!B$6:B$596,1,FALSE)=J576,\"\",1))","v":""},null,"",null,{"$f":"IF(J576=\"\",\"\",IF(VLOOKUP(F576,Tabelle_Fisse!$B$33:$C$34,2,FALSE)=\"ok\",\"\",1))","v":""},{"$f":"IF(J576=\"\",\"\",IF(VLOOKUP(CONCATENATE(J576,\" SI\"),W$7:W$1196,1,FALSE)=CONCATENATE(J576,\" SI\"),\"\",1))","v":""},null,{"$f":"IF(OR(J576=\"\",G576=\"\"),\"\",IF(VLOOKUP(H576,Tabelle_Fisse!$B$25:$C$29,2,FALSE)=\"ok\",\"\",1))","v":""},{"$nulls":4},""]
[{"$nulls":9},"",{"$f":"IF(J577=\"\",\"\",IF(VLOOKUP(J577,Lotti!B$6:B$596,1,FALSE)=J577,\"\",1))","v":""},null,"",null,{"$f":"IF(J577=\"\",\"\",IF(VLOOKUP(F577,Tabelle_Fisse!$B$33:$C$34,2,FALSE)=\"ok\",\"\",1))","v":""},{"$f":"IF(J577=\"\",\"\",IF(VLOOKUP(CONCATENATE(J577,\" SI\"),W$7:W$1196,1,FALSE)=CONCATENATE(J577,\" SI\"),\"\",1))","v":""},null,{"$f":"IF(OR(J577=\"\",G577=\"\"),\"\",IF(VLOOKUP(H577,Tabelle_Fisse!$B$25:$C$29,2,FALSE)=\"ok\",\"\",1))","v":""},{"$nulls":4},""]
[{"$nulls":9},"",{"$f":"IF(J578=\"\",\"\",IF(VLOOKUP(J578,Lotti!B$6:B$596,1,FALSE)=J578,\"\",1))","v":""},null,"",null,{"$f":"IF(J578=\"\",\"\",IF(VLOOKUP(F578,Tabelle_Fisse!$B$33:$C$34,2,FALSE)=\"ok\",\"\",1))","v":""},{"$f":"IF(J578=\"\",\"\",IF(VLOOKUP(CONCATENATE(J578,\" SI\"),W$7:W$1196,1,FALSE)=CONCATENATE(J578,\" SI\"),\"\",1))","v":""},null,{"$f":"IF(OR(J578=\"\",G578=\"\"),\"\",IF(VLOOKUP(H578,Tabelle_Fisse!$B$25:$C$29,2,FALSE)=\"ok\",\"\",1))","v":""},{"$nulls":4},""]
[{"$nulls":9},"",{"$f":"IF(J579=\"\",\"\",IF(VLOOKUP(J579,Lotti!B$6:B$596,1,FALSE)=J579,\"\",1))","v":""},null,"",null,{"$f":"IF(J579=\"\",\"\",IF(VLOOKUP(F579,Tabelle_Fisse!$B$33:$C$34,2,FALSE)=\"ok\",\"\",1))","v":""},{"$f":"IF(J579=\"\",\"\",IF(VLOOKUP(CONCATENATE(J579,\" SI\"),W$7:W$1196,1,FALSE)=CONCATENATE(J579,\" SI\"),\"\",1))","v":""},null,{"$f":"IF(OR(J579=\"\",G579=\"\"),\"\",IF(VLOOKUP(H579,Tabelle_Fisse!$B$25:$C$29,2,FALSE)=\"ok\",\"\",1))","v":""},{"$nulls":4},""]
[{"$nulls":9},{"$f":"TRIM(B580)","v":""},{"$f":"IF(J580=\"\",\"\",IF(VLOOKUP(J580,Lotti!B$6:B$596,1,FALSE)=J580,\"\",1))","v":""},null,{"$f":"IF(J580=\"\",\"\",IF(OR(AND(E580=\"\",LEN(D580)<>11,LEN(D580)<>16),AND(D580=\"\",E580=\"\"),AND(D580<>\"\",E580<>\"\")),1,\"\"))","v":""},null,{"$f":"IF(J580=\"\",\"\",IF(VLOOKUP(F580,Tabelle_Fisse!$B$33:$C$34,2,FALSE)=\"ok\",\"\",1))","v":""},{"$f":"IF(J580=\"\",\"\",IF(VLOOKUP(CONCATENATE(J580,\" SI\"),W$7:W$1196,1,FALSE)=CONCATENATE(J580,\" SI\"),\"\",1))","v":""},null,{"$f":"IF(OR(J580=\"\",G580=\"\"),\"\",IF(VLOOKUP(H580,Tabelle_Fisse!$B$25:$C$29,2,FALSE)=\"ok\",\"\",1))","v":""},{"$nulls":4},{"$f":"IF(J580=\"\",\"\",CONCATENATE(J580,\" \",F580))","v":""}]
[{"$nulls":9},"",{"$f":"IF(J581=\"\",\"\",IF(VLOOKUP(J581,Lotti!B$6:B$596,1,FALSE)=J581,\"\",1))","v":""},null,"",null,{"$f":"IF(J581=\"\",\"\",IF(VLOOKUP(F581,Tabelle_Fisse!$B$33:$C$34,2,FALSE)=\"ok\",\"\",1))","v":""},{"$f":"IF(J581=\"\",\"\",IF(VLOOKUP(CONCATENATE(J581,\" SI\"),W$7:W$1196,1,FALSE)=CONCATENATE(J581,\" SI\"),\"\",1))","v":""},null,{"$f":"IF(OR(J581=\"\",G581=\"\"),\"\",IF(VLOOKUP(H581,Tabelle_Fisse!$B$25:$C$29,2,FALSE)=\"ok\",\"\",1))","v":""},{"$nulls":4},""]
[{"$nulls":9},"",{"$f":"IF(J582=\"\",\"\",IF(VLOOKUP(J582,Lotti!B$6:B$596,1,FALSE)=J582,\"\",1))","v":""},null,"",null,{"$f":"IF(J582=\"\",\"\",IF(VLOOKUP(F582,Tabelle_Fisse!$B$33:$C$34,2,FALSE)=\"ok\",\"\",1))","v":""},{"$f":"IF(J582=\"\",\"\",IF(VLOOKUP(CONCATENATE(J582,\" SI\"),W$7:W$1196,1,FALSE)=CONCATENATE(J582,\" SI\"),\"\",1))","v":""},null,{"$f":"IF(OR(J582=\"\",G582=\"\"),\"\",IF(VLOOKUP(H582,Tabelle_Fisse!$B$25:$C$29,2,FALSE)=\"ok\",\"\",1))","v":""},{"$nulls":4},""]
[{"$nulls":9},"",{"$f":"IF(J583=\"\",\"\",IF(VLOOKUP(J583,Lotti!B$6:B$596,1,FALSE)=J583,\"\",1))","v":""},null,"",null,{"$f":"IF(J583=\"\",\"\",IF(VLOOKUP(F583,Tabelle_Fisse!$B$33:$C$34,2,FALSE)=\"ok\",\"\",1))","v":""},{"$f":"IF(J583=\"\",\"\",IF(VLOOKUP(CONCATENATE(J583,\" SI\"),W$7:W$1196,1,FALSE)=CONCATENATE(J583,\" SI\"),\"\",1))","v":""},null,{"$f":"IF(OR(J583=\"\",G583=\"\"),\"\",IF(VLOOKUP(H583,Tabelle_Fisse!$B$25:$C$29,2,FALSE)=\"ok\",\"\",1))","v":""},{"$nulls":4},""]
[{"$nulls":9},"",{"$f":"IF(J584=\"\",\"\",IF(VLOOKUP(J584,Lotti!B$6:B$596,1,FALSE)=J584,\"\",1))","v":""},null,"",null,{"$f":"IF(J584=\"\",\"\",IF(VLOOKUP(F584,Tabelle_Fisse!$B$33:$C$34,2,FALSE)=\"ok\",\"\",1))","v":""},{"$f":"IF(J584=\"\",\"\",IF(VLOOKUP(CONCATENATE(J584,\" SI\"),W$7:W$1196,1,FALSE)=CONCATENATE(J584,\" SI\"),\"\",1))","v":""},null,{"$f":"IF(OR(J584=\"\",G584=\"\"),\"\",IF(VLOOKUP(H584,Tabelle_Fisse!$B$25:$C$29,2,FALSE)=\"ok\",\"\",1))","v":""},{"$nulls":4},""]
[{"$nulls":9},"",{"$f":"IF(J585=\"\",\"\",IF(VLOOKUP(J585,Lotti!B$6:B$596,1,FALSE)=J585,\"\",1))","v":""},null,"",null,{"$f":"IF(J585=\"\",\"\",IF(VLOOKUP(F585,Tabelle_Fisse!$B$33:$C$34,2,FALSE)=\"ok\",\"\",1))","v":""},{"$f":"IF(J585=\"\",\"\",IF(VLOOKUP(CONCATENATE(J585,\" SI\"),W$7:W$1196,1,FALSE)=CONCATENATE(J585,\" SI\"),\"\",1))","v":""},null,{"$f":"IF(OR(J585=\"\",G585=\"\"),\"\",IF(VLOOKUP(H585,Tabelle_Fisse!$B$25:$C$29,2,FALSE)=\"ok\",\"\",1))","v":""},{"$nulls":4},""]
[{"$nulls":9},"",{"$f":"IF(J586=\"\",\"\",IF(VLOOKUP(J586,Lotti!B$6:B$596,1,FALSE)=J586,\"\",1))","v":""},null,"",null,{"$f":"IF(J586=\"\",\"\",IF(VLOOKUP(F586,Tabelle_Fisse!$B$33:$C$34,2,FALSE)=\"ok\",\"\",1))","v":""},{"$f":"IF(J586=\"\",\"\",IF(VLOOKUP(CONCATENATE(J586,\" SI\"),W$7:W$1196,1,FALSE)=CONCATENATE(J586,\" SI\"),\"\",1))","v":""},null,{"$f":"IF(OR(J586=\"\",G586=\"\"),\"\",IF(VLOOKUP(H586,Tabelle_Fisse!$B$25:$C$29,2,FALSE)=\"ok\",\"\",1))","v":""},{"$nulls":4},""]
[{"$nulls":9},"",{"$f":"IF(J587=\"\",\"\",IF(VLOOKUP(J587,Lotti!B$6:B$596,1,FALSE)=J587,\"\",1))","v":""},null,"",null,{"$f":"IF(J587=\"\",\"\",IF(VLOOKUP(F587,Tabelle_Fisse!$B$33:$C$34,2,FALSE)=\"ok\",\"\",1))","v":""},{"$f":"IF(J587=\"\",\"\",IF(VLOOKUP(CONCATENATE(J587,\" SI\"),W$7:W$1196,1,FALSE)=CONCATENATE(J587,\" SI\"),\"\",1))","v":""},null,{"$f":"IF(OR(J587=\"\",G587=\"\"),\"\",IF(VLOOKUP(H587,Tabelle_Fisse!$B$25:$C$29,2,FALSE)=\"ok\",\"\",1))","v":""},{"$nulls":4},""]
[{"$nulls":9},"",{"$f":"IF(J588=\"\",\"\",IF(VLOOKUP(J588,Lotti!B$6:B$596,1,FALSE)=J588,\"\",1))","v":""},null,"",null,{"$f":"IF(J588=\"\",\"\",IF(VLOOKUP(F588,Tabelle_Fisse!$B$33:$C$34,2,FALSE)=\"ok\",\"\",1))","v":""},{"$f":"IF(J588=\"\",\"\",IF(VLOOKUP(CONCATENATE(J588,\" SI\"),W$7:W$1196,1,FALSE)=CONCATENATE(J588,\" SI\"),\"\",1))","v":""},null,{"$f":"IF(OR(J588=\"\",G588=\"\"),\"\",IF(VLOOKUP(H588,Tabelle_Fisse!$B$25:$C$29,2,FALSE)=\"ok\",\"\",1))","v":""},{"$nulls":4},""]
[{"$nulls":9},"",{"$f":"IF(J589=\"\",\"\",IF(VLOOKUP(J589,Lotti!B$6:B$596,1,FALSE)=J589,\"\",1))","v":""},null,"",null,{"$f":"IF(J589=\"\",\"\",IF(VLOOKUP(F589,Tabelle_Fisse!$B$33:$C$34,2,FALSE)=\"ok\",\"\",1))","v":""},{"$f":"IF(J589=\"\",\"\",IF(VLOOKUP(CONCATENATE(J589,\" SI\"),W$7:W$1196,1,FALSE)=CONCATENATE(J589,\" SI\"),\"\",1))","v":""},null,{"$f":"IF(OR(J589=\"\",G589=\"\"),\"\",IF(VLOOKUP(H589,Tabelle_Fisse!$B$25:$C$29,2,FALSE)=\"ok\",\"\",1))","v":""},{"$nulls":4},""]
[{"$nulls":9},"",{"$f":"IF(J590=\"\",\"\",IF(VLOOKUP(J590,Lotti!B$6:B$596,1,FALSE)=J590,\"\",1))","v":""},null,"",null,{"$f":"IF(J590=\"\",\"\",IF(VLOOKUP(F590,Tabelle_Fisse!$B$33:$C$34,2,FALSE)=\"ok\",\"\",1))","v":""},{"$f":"IF(J590=\"\",\"\",IF(VLOOKUP(CONCATENATE(J590,\" SI\"),W$7:W$1196,1,FALSE)=CONCATENATE(J590,\" SI\"),\"\",1))","v":""},null,{"$f":"IF(OR(J590=\"\",G590=\"\"),\"\",IF(VLOOKUP(H590,Tabelle_Fisse!$B$25:$C$29,2,FALSE)=\"ok\",\"\",1))","v":""},{"$nulls":4},""]
[{"$nulls":9},"",{"$f":"IF(J591=\"\",\"\",IF(VLOOKUP(J591,Lotti!B$6:B$596,1,FALSE)=J591,\"\",1))","v":""},null,"",null,{"$f":"IF(J591=\"\",\"\",IF(VLOOKUP(F591,Tabelle_Fisse!$B$33:$C$34,2,FALSE)=\"ok\",\"\",1))","v":""},{"$f":"IF(J591=\"\",\"\",IF(VLOOKUP(CONCATENATE(J591,\" SI\"),W$7:W$1196,1,FALSE)=CONCATENATE(J591,\" SI\"),\"\",1))","v":""},null,{"$f":"IF(OR(J591=\"\",G591=\"\"),\"\",IF(VLOOKUP(H591,Tabelle_Fisse!$B$25:$C$29,2,FALSE)=\"ok\",\"\",1))","v":""},{"$nulls":4},""]
[{"$nulls":9},"",{"$f":"IF(J592=\"\",\"\",IF(VLOOKUP(J592,Lotti!B$6:B$596,1,FALSE)=J592,\"\",1))","v":""},null,"",null,{"$f":"IF(J592=\"\",\"\",IF(VLOOKUP(F592,Tabelle_Fisse!$B$33:$C$34,2,FALSE)=\"ok\",\"\",1))","v":""},{"$f":"IF(J592=\"\",\"\",IF(VLOOKUP(CONCATENATE(J592,\" SI\"),W$7:W$1196,1,FALSE)=CONCATENATE(J592,\" SI\"),\"\",1))","v":""},null,{"$f":"IF(OR(J592=\"\",G592=\"\"),\"\",IF(VLOOKUP(H592,Tabelle_Fisse!$B$25:$C$29,2,FALSE)=\"ok\",\"\",1))","v":""},{"$nulls":4},""]
[{"$nulls":9},"",{"$f":"IF(J593=\"\",\"\",IF(VLOOKUP(J593,Lotti!B$6:B$596,1,FALSE)=J593,\"\",1))","v":""},null,"",null,{"$f":"IF(J593=\"\",\"\",IF(VLOOKUP(F593,Tabelle_Fisse!$B$33:$C$34,2,FALSE)=\"ok\",\"\",1))","v":""},{"$f":"IF(J593=\"\",\"\",IF(VLOOKUP(CONCATENATE(J593,\" SI\"),W$7:W$1196,1,FALSE)=CONCATENATE(J593,\" SI\"),\"\",1))","v":""},null,{"$f":"IF(OR(J593=\"\",G593=\"\"),\"\",IF(VLOOKUP(H593,Tabelle_Fisse!$B$25:$C$29,2,FALSE)=\"ok\",\"\",1))","v":""},{"$nulls":4},""]
[{"$nulls":9},"",{"$f":"IF(J594=\"\",\"\",IF(VLOOKUP(J594,Lotti!B$6:B$596,1,FALSE)=J594,\"\",1))","v":""},null,"",null,{"$f":"IF(J594=\"\",\"\",IF(VLOOKUP(F594,Tabelle_Fisse!$B$33:$C$34,2,FALSE)=\"ok\",\"\",1))","v":""},{"$f":"IF(J594=\"\",\"\",IF(VLOOKUP(CONCATENATE(J594,\" SI\"),W$7:W$1196,1,FALSE)=CONCATENATE(J594,\" SI\"),\"\",1))","v":""},null,{"$f":"IF(OR(J594=\"\",G594=\"\"),\"\",IF(VLOOKUP(H594,Tabelle_Fisse!$B$25:$C$29,2,FALSE)=\"ok\",\"\",1))","v":""},{"$nulls":4},""]
[{"$nulls":9},"",{"$f":"IF(J595=\"\",\"\",IF(VLOOKUP(J595,Lotti!B$6:B$596,1,FALSE)=J595,\"\",1))","v":""},null,"",null,{"$f":"IF(J595=\"\",\"\",IF(VLOOKUP(F595,Tabelle_Fisse!$B$33:$C$34,2,FALSE)=\"ok\",\"\",1))","v":""},{"$f":"IF(J595=\"\",\"\",IF(VLOOKUP(CONCATENATE(J595,\" SI\"),W$7:W$1196,1,FALSE)=CONCATENATE(J595,\" SI\"),\"\",1))","v":""},null,{"$f":"IF(OR(J595=\"\",G595=\"\"),\"\",IF(VLOOKUP(H595,Tabelle_Fisse!$B$25:$C$29,2,FALSE)=\"ok\",\"\",1))","v":""},{"$nulls":4},""]
[{"$nulls":9},"",{"$f":"IF(J596=\"\",\"\",IF(VLOOKUP(J596,Lotti!B$6:B$596,1,FALSE)=J596,\"\",1))","v":""},null,"",null,{"$f":"IF(J596=\"\",\"\",IF(VLOOKUP(F596,Tabelle_Fisse!$B$33:$C$34,2,FALSE)=\"ok\",\"\",1))","v":""},{"$f":"IF(J596=\"\",\"\",IF(VLOOKUP(CONCATENATE(J596,\" SI\"),W$7:W$1196,1,FALSE)=CONCATENATE(J596,\" SI\"),\"\",1))","v":""},null,{"$f":"IF(OR(J596=\"\",G596=\"\"),\"\",IF(VLOOKUP(H596,Tabelle_Fisse!$B$25:$C$29,2,FALSE)=\"ok\",\"\",1))","v":""},{"$nulls":4},""]
[{"$nulls":9},"",{"$f":"IF(J597=\"\",\"\",IF(VLOOKUP(J597,Lotti!B$6:B$596,1,FALSE)=J597,\"\",1))","v":""},null,"",null,{"$f":"IF(J597=\"\",\"\",IF(VLOOKUP(F597,Tabelle_Fisse!$B$33:$C$34,2,FALSE)=\"ok\",\"\",1))","v":""},{"$f":"IF(J597=\"\",\"\",IF(VLOOKUP(CONCATENATE(J597,\" SI\"),W$7:W$1196,1,FALSE)=CONCATENATE(J597,\" SI\"),\"\",1))","v":""},null,{"$f":"IF(OR(J597=\"\",G597=\"\"),\"\",IF(VLOOKUP(H597,Tabelle_Fisse!$B$25:$C$29,2,FALSE)=\"ok\",\"\",1))","v":""},{"$nulls":4},""]
[{"$nulls":9},"",{"$f":"IF(J598=\"\",\"\",IF(VLOOKUP(J598,Lotti!B$6:B$596,1,FALSE)=J598,\"\",1))","v":""},null,"",null,{"$f":"IF(J598=\"\",\"\",IF(VLOOKUP(F598,Tabelle_Fisse!$B$33:$C$34,2,FALSE)=\"ok\",\"\",1))","v":""},{"$f":"IF(J598=\"\",\"\",IF(VLOOKUP(CONCATENATE(J598,\" SI\"),W$7:W$1196,1,FALSE)=CONCATENATE(J598,\" SI\"),\"\",1))","v":""},null,{"$f":"IF(OR(J598=\"\",G598=\"\"),\"\",IF(VLOOKUP(H598,Tabelle_Fisse!$B$25:$C$29,2,FALSE)=\"ok\",\"\",1))","v":""},{"$nulls":4},""]
[{"$nulls":9},"",{"$f":"IF(J599=\"\",\"\",IF(VLOOKUP(J599,Lotti!B$6:B$596,1,FALSE)=J599,\"\",1))","v":""},null,"",null,{"$f":"IF(J599=\"\",\"\",IF(VLOOKUP(F599,Tabelle_Fisse!$B$33:$C$34,2,FALSE)=\"ok\",\"\",1))","v":""},{"$f":"IF(J599=\"\",\"\",IF(VLOOKUP(CONCATENATE(J599,\" SI\"),W$7:W$1196,1,FALSE)=CONCATENATE(J599,\" SI\"),\"\",1))","v":""},null,{"$f":"IF(OR(J599=\"\",G599=\"\"),\"\",IF(VLOOKUP(H599,Tabelle_Fisse!$B$25:$C$29,2,FALSE)=\"ok\",\"\",1))","v":""},{"$nulls":4},""]
[{"$nulls":9},"",{"$f":"IF(J600=\"\",\"\",IF(VLOOKUP(J600,Lotti!B$6:B$596,1,FALSE)=J600,\"\",1))","v":""},null,"",null,{"$f":"IF(J600=\"\",\"\",IF(VLOOKUP(F600,Tabelle_Fisse!$B$33:$C$34,2,FALSE)=\"ok\",\"\",1))","v":""},{"$f":"IF(J600=\"\",\"\",IF(VLOOKUP(CONCATENATE(J600,\" SI\"),W$7:W$1196,1,FALSE)=CONCATENATE(J600,\" SI\"),\"\",1))","v":""},null,{"$f":"IF(OR(J600=\"\",G600=\"\"),\"\",IF(VLOOKUP(H600,Tabelle_Fisse!$B$25:$C$29,2,FALSE)=\"ok\",\"\",1))","v":""},{"$nulls":4},""]
[{"$nulls":9},"",{"$f":"IF(J601=\"\",\"\",IF(VLOOKUP(J601,Lotti!B$6:B$596,1,FALSE)=J601,\"\",1))","v":""},null,"",null,{"$f":"IF(J601=\"\",\"\",IF(VLOOKUP(F601,Tabelle_Fisse!$B$33:$C$34,2,FALSE)=\"ok\",\"\",1))","v":""},{"$f":"IF(J601=\"\",\"\",IF(VLOOKUP(CONCATENATE(J601,\" SI\"),W$7:W$1196,1,FALSE)=CONCATENATE(J601,\" SI\"),\"\",1))","v":""},null,{"$f":"IF(OR(J601=\"\",G601=\"\"),\"\",IF(VLOOKUP(H601,Tabelle_Fisse!$B$25:$C$29,2,FALSE)=\"ok\",\"\",1))","v":""},{"$nulls":4},""]
[{"$nulls":9},"",{"$f":"IF(J602=\"\",\"\",IF(VLOOKUP(J602,Lotti!B$6:B$596,1,FALSE)=J602,\"\",1))","v":""},null,"",null,{"$f":"IF(J602=\"\",\"\",IF(VLOOKUP(F602,Tabelle_Fisse!$B$33:$C$34,2,FALSE)=\"ok\",\"\",1))","v":""},{"$f":"IF(J602=\"\",\"\",IF(VLOOKUP(CONCATENATE(J602,\" SI\"),W$7:W$1196,1,FALSE)=CONCATENATE(J602,\" SI\"),\"\",1))","v":""},null,{"$f":"IF(OR(J602=\"\",G602=\"\"),\"\",IF(VLOOKUP(H602,Tabelle_Fisse!$B$25:$C$29,2,FALSE)=\"ok\",\"\",1))","v":""},{"$nulls":4},""]
[{"$nulls":9},"",{"$f":"IF(J603=\"\",\"\",IF(VLOOKUP(J603,Lotti!B$6:B$596,1,FALSE)=J603,\"\",1))","v":""},null,"",null,{"$f":"IF(J603=\"\",\"\",IF(VLOOKUP(F603,Tabelle_Fisse!$B$33:$C$34,2,FALSE)=\"ok\",\"\",1))","v":""},{"$f":"IF(J603=\"\",\"\",IF(VLOOKUP(CONCATENATE(J603,\" SI\"),W$7:W$1196,1,FALSE)=CONCATENATE(J603,\" SI\"),\"\",1))","v":""},null,{"$f":"IF(OR(J603=\"\",G603=\"\"),\"\",IF(VLOOKUP(H603,Tabelle_Fisse!$B$25:$C$29,2,FALSE)=\"ok\",\"\",1))","v":""},{"$nulls":4},""]
[{"$nulls":9},"",{"$f":"IF(J604=\"\",\"\",IF(VLOOKUP(J604,Lotti!B$6:B$596,1,FALSE)=J604,\"\",1))","v":""},null,"",null,{"$f":"IF(J604=\"\",\"\",IF(VLOOKUP(F604,Tabelle_Fisse!$B$33:$C$34,2,FALSE)=\"ok\",\"\",1))","v":""},{"$f":"IF(J604=\"\",\"\",IF(VLOOKUP(CONCATENATE(J604,\" SI\"),W$7:W$1196,1,FALSE)=CONCATENATE(J604,\" SI\"),\"\",1))","v":""},null,{"$f":"IF(OR(J604=\"\",G604=\"\"),\"\",IF(VLOOKUP(H604,Tabelle_Fisse!$B$25:$C$29,2,FALSE)=\"ok\",\"\",1))","v":""},{"$nulls":4},""]
[{"$nulls":9},"",{"$f":"IF(J605=\"\",\"\",IF(VLOOKUP(J605,Lotti!B$6:B$596,1,FALSE)=J605,\"\",1))","v":""},null,"",null,{"$f":"IF(J605=\"\",\"\",IF(VLOOKUP(F605,Tabelle_Fisse!$B$33:$C$34,2,FALSE)=\"ok\",\"\",1))","v":""},{"$f":"IF(J605=\"\",\"\",IF(VLOOKUP(CONCATENATE(J605,\" SI\"),W$7:W$1196,1,FALSE)=CONCATENATE(J605,\" SI\"),\"\",1))","v":""},null,{"$f":"IF(OR(J605=\"\",G605=\"\"),\"\",IF(VLOOKUP(H605,Tabelle_Fisse!$B$25:$C$29,2,FALSE)=\"ok\",\"\",1))","v":""},{"$nulls":4},""]
[{"$nulls":9},"",{"$f":"IF(J606=\"\",\"\",IF(VLOOKUP(J606,Lotti!B$6:B$596,1,FALSE)=J606,\"\",1))","v":""},null,"",null,{"$f":"IF(J606=\"\",\"\",IF(VLOOKUP(F606,Tabelle_Fisse!$B$33:$C$34,2,FALSE)=\"ok\",\"\",1))","v":""},{"$f":"IF(J606=\"\",\"\",IF(VLOOKUP(CONCATENATE(J606,\" SI\"),W$7:W$1196,1,FALSE)=CONCATENATE(J606,\" SI\"),\"\",1))","v":""},null,{"$f":"IF(OR(J606=\"\",G606=\"\"),\"\",IF(VLOOKUP(H606,Tabelle_Fisse!$B$25:$C$29,2,FALSE)=\"ok\",\"\",1))","v":""},{"$nulls":4},""]
[{"$nulls":9},"",{"$f":"IF(J607=\"\",\"\",IF(VLOOKUP(J607,Lotti!B$6:B$596,1,FALSE)=J607,\"\",1))","v":""},null,"",null,{"$f":"IF(J607=\"\",\"\",IF(VLOOKUP(F607,Tabelle_Fisse!$B$33:$C$34,2,FALSE)=\"ok\",\"\",1))","v":""},{"$f":"IF(J607=\"\",\"\",IF(VLOOKUP(CONCATENATE(J607,\" SI\"),W$7:W$1196,1,FALSE)=CONCATENATE(J607,\" SI\"),\"\",1))","v":""},null,{"$f":"IF(OR(J607=\"\",G607=\"\"),\"\",IF(VLOOKUP(H607,Tabelle_Fisse!$B$25:$C$29,2,FALSE)=\"ok\",\"\",1))","v":""},{"$nulls":4},""]
[{"$nulls":9},"",{"$f":"IF(J608=\"\",\"\",IF(VLOOKUP(J608,Lotti!B$6:B$596,1,FALSE)=J608,\"\",1))","v":""},null,"",null,{"$f":"IF(J608=\"\",\"\",IF(VLOOKUP(F608,Tabelle_Fisse!$B$33:$C$34,2,FALSE)=\"ok\",\"\",1))","v":""},{"$f":"IF(J608=\"\",\"\",IF(VLOOKUP(CONCATENATE(J608,\" SI\"),W$7:W$1196,1,FALSE)=CONCATENATE(J608,\" SI\"),\"\",1))","v":""},null,{"$f":"IF(OR(J608=\"\",G608=\"\"),\"\",IF(VLOOKUP(H608,Tabelle_Fisse!$B$25:$C$29,2,FALSE)=\"ok\",\"\",1))","v":""},{"$nulls":4},""]
[{"$nulls":9},"",{"$f":"IF(J609=\"\",\"\",IF(VLOOKUP(J609,Lotti!B$6:B$596,1,FALSE)=J609,\"\",1))","v":""},null,"",null,{"$f":"IF(J609=\"\",\"\",IF(VLOOKUP(F609,Tabelle_Fisse!$B$33:$C$34,2,FALSE)=\"ok\",\"\",1))","v":""},{"$f":"IF(J609=\"\",\"\",IF(VLOOKUP(CONCATENATE(J609,\" SI\"),W$7:W$1196,1,FALSE)=CONCATENATE(J609,\" SI\"),\"\",1))","v":""},null,{"$f":"IF(OR(J609=\"\",G609=\"\"),\"\",IF(VLOOKUP(H609,Tabelle_Fisse!$B$25:$C$29,2,FALSE)=\"ok\",\"\",1))","v":""},{"$nulls":4},""]
[{"$nulls":9},"",{"$f":"IF(J610=\"\",\"\",IF(VLOOKUP(J610,Lotti!B$6:B$596,1,FALSE)=J610,\"\",1))","v":""},null,"",null,{"$f":"IF(J610=\"\",\"\",IF(VLOOKUP(F610,Tabelle_Fisse!$B$33:$C$34,2,FALSE)=\"ok\",\"\",1))","v":""},{"$f":"IF(J610=\"\",\"\",IF(VLOOKUP(CONCATENATE(J610,\" SI\"),W$7:W$1196,1,FALSE)=CONCATENATE(J610,\" SI\"),\"\",1))","v":""},null,{"$f":"IF(OR(J610=\"\",G610=\"\"),\"\",IF(VLOOKUP(H610,Tabelle_Fisse!$B$25:$C$29,2,FALSE)=\"ok\",\"\",1))","v":""},{"$nulls":4},""]
[{"$nulls":9},"",{"$f":"IF(J611=\"\",\"\",IF(VLOOKUP(J611,Lotti!B$6:B$596,1,FALSE)=J611,\"\",1))","v":""},null,"",null,{"$f":"IF(J611=\"\",\"\",IF(VLOOKUP(F611,Tabelle_Fisse!$B$33:$C$34,2,FALSE)=\"ok\",\"\",1))","v":""},{"$f":"IF(J611=\"\",\"\",IF(VLOOKUP(CONCATENATE(J611,\" SI\"),W$7:W$1196,1,FALSE)=CONCATENATE(J611,\" SI\"),\"\",1))","v":""},null,{"$f":"IF(OR(J611=\"\",G611=\"\"),\"\",IF(VLOOKUP(H611,Tabelle_Fisse!$B$25:$C$29,2,FALSE)=\"ok\",\"\",1))","v":""},{"$nulls":4},""]
[{"$nulls":9},"",{"$f":"IF(J612=\"\",\"\",IF(VLOOKUP(J612,Lotti!B$6:B$596,1,FALSE)=J612,\"\",1))","v":""},null,"",null,{"$f":"IF(J612=\"\",\"\",IF(VLOOKUP(F612,Tabelle_Fisse!$B$33:$C$34,2,FALSE)=\"ok\",\"\",1))","v":""},{"$f":"IF(J612=\"\",\"\",IF(VLOOKUP(CONCATENATE(J612,\" SI\"),W$7:W$1196,1,FALSE)=CONCATENATE(J612,\" SI\"),\"\",1))","v":""},null,{"$f":"IF(OR(J612=\"\",G612=\"\"),\"\",IF(VLOOKUP(H612,Tabelle_Fisse!$B$25:$C$29,2,FALSE)=\"ok\",\"\",1))","v":""},{"$nulls":4},""]
[{"$nulls":9},"",{"$f":"IF(J613=\"\",\"\",IF(VLOOKUP(J613,Lotti!B$6:B$596,1,FALSE)=J613,\"\",1))","v":""},null,"",null,{"$f":"IF(J613=\"\",\"\",IF(VLOOKUP(F613,Tabelle_Fisse!$B$33:$C$34,2,FALSE)=\"ok\",\"\",1))","v":""},{"$f":"IF(J613=\"\",\"\",IF(VLOOKUP(CONCATENATE(J613,\" SI\"),W$7:W$1196,1,FALSE)=CONCATENATE(J613,\" SI\"),\"\",1))","v":""},null,{"$f":"IF(OR(J613=\"\",G613=\"\"),\"\",IF(VLOOKUP(H613,Tabelle_Fisse!$B$25:$C$29,2,FALSE)=\"ok\",\"\",1))","v":""},{"$nulls":4},""]
[{"$nulls":9},"",{"$f":"IF(J614=\"\",\"\",IF(VLOOKUP(J614,Lotti!B$6:B$596,1,FALSE)=J614,\"\",1))","v":""},null,"",null,{"$f":"IF(J614=\"\",\"\",IF(VLOOKUP(F614,Tabelle_Fisse!$B$33:$C$34,2,FALSE)=\"ok\",\"\",1))","v":""},{"$f":"IF(J614=\"\",\"\",IF(VLOOKUP(CONCATENATE(J614,\" SI\"),W$7:W$1196,1,FALSE)=CONCATENATE(J614,\" SI\"),\"\",1))","v":""},null,{"$f":"IF(OR(J614=\"\",G614=\"\"),\"\",IF(VLOOKUP(H614,Tabelle_Fisse!$B$25:$C$29,2,FALSE)=\"ok\",\"\",1))","v":""},{"$nulls":4},""]
[{"$nulls":9},"",{"$f":"IF(J615=\"\",\"\",IF(VLOOKUP(J615,Lotti!B$6:B$596,1,FALSE)=J615,\"\",1))","v":""},null,"",null,{"$f":"IF(J615=\"\",\"\",IF(VLOOKUP(F615,Tabelle_Fisse!$B$33:$C$34,2,FALSE)=\"ok\",\"\",1))","v":""},{"$f":"IF(J615=\"\",\"\",IF(VLOOKUP(CONCATENATE(J615,\" SI\"),W$7:W$1196,1,FALSE)=CONCATENATE(J615,\" SI\"),\"\",1))","v":""},null,{"$f":"IF(OR(J615=\"\",G615=\"\"),\"\",IF(VLOOKUP(H615,Tabelle_Fisse!$B$25:$C$29,2,FALSE)=\"ok\",\"\",1))","v":""},{"$nulls":4},""]
[{"$nulls":9},"",{"$f":"IF(J616=\"\",\"\",IF(VLOOKUP(J616,Lotti!B$6:B$596,1,FALSE)=J616,\"\",1))","v":""},null,"",null,{"$f":"IF(J616=\"\",\"\",IF(VLOOKUP(F616,Tabelle_Fisse!$B$33:$C$34,2,FALSE)=\"ok\",\"\",1))","v":""},{"$f":"IF(J616=\"\",\"\",IF(VLOOKUP(CONCATENATE(J616,\" SI\"),W$7:W$1196,1,FALSE)=CONCATENATE(J616,\" SI\"),\"\",1))","v":""},null,{"$f":"IF(OR(J616=\"\",G616=\"\"),\"\",IF(VLOOKUP(H616,Tabelle_Fisse!$B$25:$C$29,2,FALSE)=\"ok\",\"\",1))","v":""},{"$nulls":4},""]
[{"$nulls":9},"",{"$f":"IF(J617=\"\",\"\",IF(VLOOKUP(J617,Lotti!B$6:B$596,1,FALSE)=J617,\"\",1))","v":""},null,"",null,{"$f":"IF(J617=\"\",\"\",IF(VLOOKUP(F617,Tabelle_Fisse!$B$33:$C$34,2,FALSE)=\"ok\",\"\",1))","v":""},{"$f":"IF(J617=\"\",\"\",IF(VLOOKUP(CONCATENATE(J617,\" SI\"),W$7:W$1196,1,FALSE)=CONCATENATE(J617,\" SI\"),\"\",1))","v":""},null,{"$f":"IF(OR(J617=\"\",G617=\"\"),\"\",IF(VLOOKUP(H617,Tabelle_Fisse!$B$25:$C$29,2,FALSE)=\"ok\",\"\",1))","v":""},{"$nulls":4},""]
[{"$nulls":9},"",{"$f":"IF(J618=\"\",\"\",IF(VLOOKUP(J618,Lotti!B$6:B$596,1,FALSE)=J618,\"\",1))","v":""},null,"",null,{"$f":"IF(J618=\"\",\"\",IF(VLOOKUP(F618,Tabelle_Fisse!$B$33:$C$34,2,FALSE)=\"ok\",\"\",1))","v":""},{"$f":"IF(J618=\"\",\"\",IF(VLOOKUP(CONCATENATE(J618,\" SI\"),W$7:W$1196,1,FALSE)=CONCATENATE(J618,\" SI\"),\"\",1))","v":""},null,{"$f":"IF(OR(J618=\"\",G618=\"\"),\"\",IF(VLOOKUP(H618,Tabelle_Fisse!$B$25:$C$29,2,FALSE)=\"ok\",\"\",1))","v":""},{"$nulls":4},""]
[{"$nulls":9},"",{"$f":"IF(J619=\"\",\"\",IF(VLOOKUP(J619,Lotti!B$6:B$596,1,FALSE)=J619,\"\",1))","v":""},null,"",null,{"$f":"IF(J619=\"\",\"\",IF(VLOOKUP(F619,Tabelle_Fisse!$B$33:$C$34,2,FALSE)=\"ok\",\"\",1))","v":""},{"$f":"IF(J619=\"\",\"\",IF(VLOOKUP(CONCATENATE(J619,\" SI\"),W$7:W$1196,1,FALSE)=CONCATENATE(J619,\" SI\"),\"\",1))","v":""},null,{"$f":"IF(OR(J619=\"\",G619=\"\"),\"\",IF(VLOOKUP(H619,Tabelle_Fisse!$B$25:$C$29,2,FALSE)=\"ok\",\"\",1))","v":""},{"$nulls":4},""]
[{"$nulls":9},"",{"$f":"IF(J620=\"\",\"\",IF(VLOOKUP(J620,Lotti!B$6:B$596,1,FALSE)=J620,\"\",1))","v":""},null,"",null,{"$f":"IF(J620=\"\",\"\",IF(VLOOKUP(F620,Tabelle_Fisse!$B$33:$C$34,2,FALSE)=\"ok\",\"\",1))","v":""},{"$f":"IF(J620=\"\",\"\",IF(VLOOKUP(CONCATENATE(J620,\" SI\"),W$7:W$1196,1,FALSE)=CONCATENATE(J620,\" SI\"),\"\",1))","v":""},null,{"$f":"IF(OR(J620=\"\",G620=\"\"),\"\",IF(VLOOKUP(H620,Tabelle_Fisse!$B$25:$C$29,2,FALSE)=\"ok\",\"\",1))","v":""},{"$nulls":4},""]
[{"$nulls":9},"",{"$f":"IF(J621=\"\",\"\",IF(VLOOKUP(J621,Lotti!B$6:B$596,1,FALSE)=J621,\"\",1))","v":""},null,"",null,{"$f":"IF(J621=\"\",\"\",IF(VLOOKUP(F621,Tabelle_Fisse!$B$33:$C$34,2,FALSE)=\"ok\",\"\",1))","v":""},{"$f":"IF(J621=\"\",\"\",IF(VLOOKUP(CONCATENATE(J621,\" SI\"),W$7:W$1196,1,FALSE)=CONCATENATE(J621,\" SI\"),\"\",1))","v":""},null,{"$f":"IF(OR(J621=\"\",G621=\"\"),\"\",IF(VLOOKUP(H621,Tabelle_Fisse!$B$25:$C$29,2,FALSE)=\"ok\",\"\",1))","v":""},{"$nulls":4},""]
[{"$nulls":9},"",{"$f":"IF(J622=\"\",\"\",IF(VLOOKUP(J622,Lotti!B$6:B$596,1,FALSE)=J622,\"\",1))","v":""},null,"",null,{"$f":"IF(J622=\"\",\"\",IF(VLOOKUP(F622,Tabelle_Fisse!$B$33:$C$34,2,FALSE)=\"ok\",\"\",1))","v":""},{"$f":"IF(J622=\"\",\"\",IF(VLOOKUP(CONCATENATE(J622,\" SI\"),W$7:W$1196,1,FALSE)=CONCATENATE(J622,\" SI\"),\"\",1))","v":""},null,{"$f":"IF(OR(J622=\"\",G622=\"\"),\"\",IF(VLOOKUP(H622,Tabelle_Fisse!$B$25:$C$29,2,FALSE)=\"ok\",\"\",1))","v":""},{"$nulls":4},""]
[{"$nulls":9},"",{"$f":"IF(J623=\"\",\"\",IF(VLOOKUP(J623,Lotti!B$6:B$596,1,FALSE)=J623,\"\",1))","v":""},null,"",null,{"$f":"IF(J623=\"\",\"\",IF(VLOOKUP(F623,Tabelle_Fisse!$B$33:$C$34,2,FALSE)=\"ok\",\"\",1))","v":""},{"$f":"IF(J623=\"\",\"\",IF(VLOOKUP(CONCATENATE(J623,\" SI\"),W$7:W$1196,1,FALSE)=CONCATENATE(J623,\" SI\"),\"\",1))","v":""},null,{"$f":"IF(OR(J623=\"\",G623=\"\"),\"\",IF(VLOOKUP(H623,Tabelle_Fisse!$B$25:$C$29,2,FALSE)=\"ok\",\"\",1))","v":""},{"$nulls":4},""]
[{"$nulls":9},"",{"$f":"IF(J624=\"\",\"\",IF(VLOOKUP(J624,Lotti!B$6:B$596,1,FALSE)=J624,\"\",1))","v":""},null,"",null,{"$f":"IF(J624=\"\",\"\",IF(VLOOKUP(F624,Tabelle_Fisse!$B$33:$C$34,2,FALSE)=\"ok\",\"\",1))","v":""},{"$f":"IF(J624=\"\",\"\",IF(VLOOKUP(CONCATENATE(J624,\" SI\"),W$7:W$1196,1,FALSE)=CONCATENATE(J624,\" SI\"),\"\",1))","v":""},null,{"$f":"IF(OR(J624=\"\",G624=\"\"),\"\",IF(VLOOKUP(H624,Tabelle_Fisse!$B$25:$C$29,2,FALSE)=\"ok\",\"\",1))","v":""},{"$nulls":4},""]
[{"$nulls":9},"",{"$f":"IF(J625=\"\",\"\",IF(VLOOKUP(J625,Lotti!B$6:B$596,1,FALSE)=J625,\"\",1))","v":""},null,"",null,{"$f":"IF(J625=\"\",\"\",IF(VLOOKUP(F625,Tabelle_Fisse!$B$33:$C$34,2,FALSE)=\"ok\",\"\",1))","v":""},{"$f":"IF(J625=\"\",\"\",IF(VLOOKUP(CONCATENATE(J625,\" SI\"),W$7:W$1196,1,FALSE)=CONCATENATE(J625,\" SI\"),\"\",1))","v":""},null,{"$f":"IF(OR(J625=\"\",G625=\"\"),\"\",IF(VLOOKUP(H625,Tabelle_Fisse!$B$25:$C$29,2,FALSE)=\"ok\",\"\",1))","v":""},{"$nulls":4},""]
[{"$nulls":9},"",{"$f":"IF(J626=\"\",\"\",IF(VLOOKUP(J626,Lotti!B$6:B$596,1,FALSE)=J626,\"\",1))","v":""},null,"",null,{"$f":"IF(J626=\"\",\"\",IF(VLOOKUP(F626,Tabelle_Fisse!$B$33:$C$34,2,FALSE)=\"ok\",\"\",1))","v":""},{"$f":"IF(J626=\"\",\"\",IF(VLOOKUP(CONCATENATE(J626,\" SI\"),W$7:W$1196,1,FALSE)=CONCATENATE(J626,\" SI\"),\"\",1))","v":""},null,{"$f":"IF(OR(J626=\"\",G626=\"\"),\"\",IF(VLOOKUP(H626,Tabelle_Fisse!$B$25:$C$29,2,FALSE)=\"ok\",\"\",1))","v":""},{"$nulls":4},""]
[{"$nulls":9},"",{"$f":"IF(J627=\"\",\"\",IF(VLOOKUP(J627,Lotti!B$6:B$596,1,FALSE)=J627,\"\",1))","v":""},null,"",null,{"$f":"IF(J627=\"\",\"\",IF(VLOOKUP(F627,Tabelle_Fisse!$B$33:$C$34,2,FALSE)=\"ok\",\"\",1))","v":""},{"$f":"IF(J627=\"\",\"\",IF(VLOOKUP(CONCATENATE(J627,\" SI\"),W$7:W$1196,1,FALSE)=CONCATENATE(J627,\" SI\"),\"\",1))","v":""},null,{"$f":"IF(OR(J627=\"\",G627=\"\"),\"\",IF(VLOOKUP(H627,Tabelle_Fisse!$B$25:$C$29,2,FALSE)=\"ok\",\"\",1))","v":""},{"$nulls":4},""]
[{"$nulls":9},"",{"$f":"IF(J628=\"\",\"\",IF(VLOOKUP(J628,Lotti!B$6:B$596,1,FALSE)=J628,\"\",1))","v":""},null,"",null,{"$f":"IF(J628=\"\",\"\",IF(VLOOKUP(F628,Tabelle_Fisse!$B$33:$C$34,2,FALSE)=\"ok\",\"\",1))","v":""},{"$f":"IF(J628=\"\",\"\",IF(VLOOKUP(CONCATENATE(J628,\" SI\"),W$7:W$1196,1,FALSE)=CONCATENATE(J628,\" SI\"),\"\",1))","v":""},null,{"$f":"IF(OR(J628=\"\",G628=\"\"),\"\",IF(VLOOKUP(H628,Tabelle_Fisse!$B$25:$C$29,2,FALSE)=\"ok\",\"\",1))","v":""},{"$nulls":4},""]
[{"$nulls":9},"",{"$f":"IF(J629=\"\",\"\",IF(VLOOKUP(J629,Lotti!B$6:B$596,1,FALSE)=J629,\"\",1))","v":""},null,"",null,{"$f":"IF(J629=\"\",\"\",IF(VLOOKUP(F629,Tabelle_Fisse!$B$33:$C$34,2,FALSE)=\"ok\",\"\",1))","v":""},{"$f":"IF(J629=\"\",\"\",IF(VLOOKUP(CONCATENATE(J629,\" SI\"),W$7:W$1196,1,FALSE)=CONCATENATE(J629,\" SI\"),\"\",1))","v":""},null,{"$f":"IF(OR(J629=\"\",G629=\"\"),\"\",IF(VLOOKUP(H629,Tabelle_Fisse!$B$25:$C$29,2,FALSE)=\"ok\",\"\",1))","v":""},{"$nulls":4},""]
[{"$nulls":9},"",{"$f":"IF(J630=\"\",\"\",IF(VLOOKUP(J630,Lotti!B$6:B$596,1,FALSE)=J630,\"\",1))","v":""},null,"",null,{"$f":"IF(J630=\"\",\"\",IF(VLOOKUP(F630,Tabelle_Fisse!$B$33:$C$34,2,FALSE)=\"ok\",\"\",1))","v":""},{"$f":"IF(J630=\"\",\"\",IF(VLOOKUP(CONCATENATE(J630,\" SI\"),W$7:W$1196,1,FALSE)=CONCATENATE(J630,\" SI\"),\"\",1))","v":""},null,{"$f":"IF(OR(J630=\"\",G630=\"\"),\"\",IF(VLOOKUP(H630,Tabelle_Fisse!$B$25:$C$29,2,FALSE)=\"ok\",\"\",1))","v":""},{"$nulls":4},""]
[{"$nulls":9},"",{"$f":"IF(J631=\"\",\"\",IF(VLOOKUP(J631,Lotti!B$6:B$596,1,FALSE)=J631,\"\",1))","v":""},null,"",null,{"$f":"IF(J631=\"\",\"\",IF(VLOOKUP(F631,Tabelle_Fisse!$B$33:$C$34,2,FALSE)=\"ok\",\"\",1))","v":""},{"$f":"IF(J631=\"\",\"\",IF(VLOOKUP(CONCATENATE(J631,\" SI\"),W$7:W$1196,1,FALSE)=CONCATENATE(J631,\" SI\"),\"\",1))","v":""},null,{"$f":"IF(OR(J631=\"\",G631=\"\"),\"\",IF(VLOOKUP(H631,Tabelle_Fisse!$B$25:$C$29,2,FALSE)=\"ok\",\"\",1))","v":""},{"$nulls":4},""]
[{"$nulls":9},"",{"$f":"IF(J632=\"\",\"\",IF(VLOOKUP(J632,Lotti!B$6:B$596,1,FALSE)=J632,\"\",1))","v":""},null,"",null,{"$f":"IF(J632=\"\",\"\",IF(VLOOKUP(F632,Tabelle_Fisse!$B$33:$C$34,2,FALSE)=\"ok\",\"\",1))","v":""},{"$f":"IF(J632=\"\",\"\",IF(VLOOKUP(CONCATENATE(J632,\" SI\"),W$7:W$1196,1,FALSE)=CONCATENATE(J632,\" SI\"),\"\",1))","v":""},null,{"$f":"IF(OR(J632=\"\",G632=\"\"),\"\",IF(VLOOKUP(H632,Tabelle_Fisse!$B$25:$C$29,2,FALSE)=\"ok\",\"\",1))","v":""},{"$nulls":4},""]
[{"$nulls":9},"",{"$f":"IF(J633=\"\",\"\",IF(VLOOKUP(J633,Lotti!B$6:B$596,1,FALSE)=J633,\"\",1))","v":""},null,"",null,{"$f":"IF(J633=\"\",\"\",IF(VLOOKUP(F633,Tabelle_Fisse!$B$33:$C$34,2,FALSE)=\"ok\",\"\",1))","v":""},{"$f":"IF(J633=\"\",\"\",IF(VLOOKUP(CONCATENATE(J633,\" SI\"),W$7:W$1196,1,FALSE)=CONCATENATE(J633,\" SI\"),\"\",1))","v":""},null,{"$f":"IF(OR(J633=\"\",G633=\"\"),\"\",IF(VLOOKUP(H633,Tabelle_Fisse!$B$25:$C$29,2,FALSE)=\"ok\",\"\",1))","v":""},{"$nulls":4},""]
[{"$nulls":9},"",{"$f":"IF(J634=\"\",\"\",IF(VLOOKUP(J634,Lotti!B$6:B$596,1,FALSE)=J634,\"\",1))","v":""},null,"",null,{"$f":"IF(J634=\"\",\"\",IF(VLOOKUP(F634,Tabelle_Fisse!$B$33:$C$34,2,FALSE)=\"ok\",\"\",1))","v":""},{"$f":"IF(J634=\"\",\"\",IF(VLOOKUP(CONCATENATE(J634,\" SI\"),W$7:W$1196,1,FALSE)=CONCATENATE(J634,\" SI\"),\"\",1))","v":""},null,{"$f":"IF(OR(J634=\"\",G634=\"\"),\"\",IF(VLOOKUP(H634,Tabelle_Fisse!$B$25:$C$29,2,FALSE)=\"ok\",\"\",1))","v":""},{"$nulls":4},""]
[{"$nulls":9},"",{"$f":"IF(J635=\"\",\"\",IF(VLOOKUP(J635,Lotti!B$6:B$596,1,FALSE)=J635,\"\",1))","v":""},null,"",null,{"$f":"IF(J635=\"\",\"\",IF(VLOOKUP(F635,Tabelle_Fisse!$B$33:$C$34,2,FALSE)=\"ok\",\"\",1))","v":""},{"$f":"IF(J635=\"\",\"\",IF(VLOOKUP(CONCATENATE(J635,\" SI\"),W$7:W$1196,1,FALSE)=CONCATENATE(J635,\" SI\"),\"\",1))","v":""},null,{"$f":"IF(OR(J635=\"\",G635=\"\"),\"\",IF(VLOOKUP(H635,Tabelle_Fisse!$B$25:$C$29,2,FALSE)=\"ok\",\"\",1))","v":""},{"$nulls":4},""]
[{"$nulls":9},"",{"$f":"IF(J636=\"\",\"\",IF(VLOOKUP(J636,Lotti!B$6:B$596,1,FALSE)=J636,\"\",1))","v":""},null,"",null,{"$f":"IF(J636=\"\",\"\",IF(VLOOKUP(F636,Tabelle_Fisse!$B$33:$C$34,2,FALSE)=\"ok\",\"\",1))","v":""},{"$f":"IF(J636=\"\",\"\",IF(VLOOKUP(CONCATENATE(J636,\" SI\"),W$7:W$1196,1,FALSE)=CONCATENATE(J636,\" SI\"),\"\",1))","v":""},null,{"$f":"IF(OR(J636=\"\",G636=\"\"),\"\",IF(VLOOKUP(H636,Tabelle_Fisse!$B$25:$C$29,2,FALSE)=\"ok\",\"\",1))","v":""},{"$nulls":4},""]
[{"$nulls":9},"",{"$f":"IF(J637=\"\",\"\",IF(VLOOKUP(J637,Lotti!B$6:B$596,1,FALSE)=J637,\"\",1))","v":""},null,"",null,{"$f":"IF(J637=\"\",\"\",IF(VLOOKUP(F637,Tabelle_Fisse!$B$33:$C$34,2,FALSE)=\"ok\",\"\",1))","v":""},{"$f":"IF(J637=\"\",\"\",IF(VLOOKUP(CONCATENATE(J637,\" SI\"),W$7:W$1196,1,FALSE)=CONCATENATE(J637,\" SI\"),\"\",1))","v":""},null,{"$f":"IF(OR(J637=\"\",G637=\"\"),\"\",IF(VLOOKUP(H637,Tabelle_Fisse!$B$25:$C$29,2,FALSE)=\"ok\",\"\",1))","v":""},{"$nulls":4},""]
[{"$nulls":9},"",{"$f":"IF(J638=\"\",\"\",IF(VLOOKUP(J638,Lotti!B$6:B$596,1,FALSE)=J638,\"\",1))","v":""},null,"",null,{"$f":"IF(J638=\"\",\"\",IF(VLOOKUP(F638,Tabelle_Fisse!$B$33:$C$34,2,FALSE)=\"ok\",\"\",1))","v":""},{"$f":"IF(J638=\"\",\"\",IF(VLOOKUP(CONCATENATE(J638,\" SI\"),W$7:W$1196,1,FALSE)=CONCATENATE(J638,\" SI\"),\"\",1))","v":""},null,{"$f":"IF(OR(J638=\"\",G638=\"\"),\"\",IF(VLOOKUP(H638,Tabelle_Fisse!$B$25:$C$29,2,FALSE)=\"ok\",\"\",1))","v":""},{"$nulls":4},""]
[{"$nulls":9},"",{"$f":"IF(J639=\"\",\"\",IF(VLOOKUP(J639,Lotti!B$6:B$596,1,FALSE)=J639,\"\",1))","v":""},null,"",null,{"$f":"IF(J639=\"\",\"\",IF(VLOOKUP(F639,Tabelle_Fisse!$B$33:$C$34,2,FALSE)=\"ok\",\"\",1))","v":""},{"$f":"IF(J639=\"\",\"\",IF(VLOOKUP(CONCATENATE(J639,\" SI\"),W$7:W$1196,1,FALSE)=CONCATENATE(J639,\" SI\"),\"\",1))","v":""},null,{"$f":"IF(OR(J639=\"\",G639=\"\"),\"\",IF(VLOOKUP(H639,Tabelle_Fisse!$B$25:$C$29,2,FALSE)=\"ok\",\"\",1))","v":""},{"$nulls":4},""]
[{"$nulls":9},"",{"$f":"IF(J640=\"\",\"\",IF(VLOOKUP(J640,Lotti!B$6:B$596,1,FALSE)=J640,\"\",1))","v":""},null,"",null,{"$f":"IF(J640=\"\",\"\",IF(VLOOKUP(F640,Tabelle_Fisse!$B$33:$C$34,2,FALSE)=\"ok\",\"\",1))","v":""},{"$f":"IF(J640=\"\",\"\",IF(VLOOKUP(CONCATENATE(J640,\" SI\"),W$7:W$1196,1,FALSE)=CONCATENATE(J640,\" SI\"),\"\",1))","v":""},null,{"$f":"IF(OR(J640=\"\",G640=\"\"),\"\",IF(VLOOKUP(H640,Tabelle_Fisse!$B$25:$C$29,2,FALSE)=\"ok\",\"\",1))","v":""},{"$nulls":4},""]
[{"$nulls":9},"",{"$f":"IF(J641=\"\",\"\",IF(VLOOKUP(J641,Lotti!B$6:B$596,1,FALSE)=J641,\"\",1))","v":""},null,"",null,{"$f":"IF(J641=\"\",\"\",IF(VLOOKUP(F641,Tabelle_Fisse!$B$33:$C$34,2,FALSE)=\"ok\",\"\",1))","v":""},{"$f":"IF(J641=\"\",\"\",IF(VLOOKUP(CONCATENATE(J641,\" SI\"),W$7:W$1196,1,FALSE)=CONCATENATE(J641,\" SI\"),\"\",1))","v":""},null,{"$f":"IF(OR(J641=\"\",G641=\"\"),\"\",IF(VLOOKUP(H641,Tabelle_Fisse!$B$25:$C$29,2,FALSE)=\"ok\",\"\",1))","v":""},{"$nulls":4},""]
[{"$nulls":9},"",{"$f":"IF(J642=\"\",\"\",IF(VLOOKUP(J642,Lotti!B$6:B$596,1,FALSE)=J642,\"\",1))","v":""},null,"",null,{"$f":"IF(J642=\"\",\"\",IF(VLOOKUP(F642,Tabelle_Fisse!$B$33:$C$34,2,FALSE)=\"ok\",\"\",1))","v":""},{"$f":"IF(J642=\"\",\"\",IF(VLOOKUP(CONCATENATE(J642,\" SI\"),W$7:W$1196,1,FALSE)=CONCATENATE(J642,\" SI\"),\"\",1))","v":""},null,{"$f":"IF(OR(J642=\"\",G642=\"\"),\"\",IF(VLOOKUP(H642,Tabelle_Fisse!$B$25:$C$29,2,FALSE)=\"ok\",\"\",1))","v":""},{"$nulls":4},""]
[{"$nulls":9},"",{"$f":"IF(J643=\"\",\"\",IF(VLOOKUP(J643,Lotti!B$6:B$596,1,FALSE)=J643,\"\",1))","v":""},null,"",null,{"$f":"IF(J643=\"\",\"\",IF(VLOOKUP(F643,Tabelle_Fisse!$B$33:$C$34,2,FALSE)=\"ok\",\"\",1))","v":""},{"$f":"IF(J643=\"\",\"\",IF(VLOOKUP(CONCATENATE(J643,\" SI\"),W$7:W$1196,1,FALSE)=CONCATENATE(J643,\" SI\"),\"\",1))","v":""},null,{"$f":"IF(OR(J643=\"\",G643=\"\"),\"\",IF(VLOOKUP(H643,Tabelle_Fisse!$B$25:$C$29,2,FALSE)=\"ok\",\"\",1))","v":""},{"$nulls":4},""]
[{"$nulls":9},{"$f":"TRIM(B644)","v":""},{"$f":"IF(J644=\"\",\"\",IF(VLOOKUP(J644,Lotti!B$6:B$596,1,FALSE)=J644,\"\",1))","v":""},null,{"$f":"IF(J644=\"\",\"\",IF(OR(AND(E644=\"\",LEN(D644)<>11,LEN(D644)<>16),AND(D644=\"\",E644=\"\"),AND(D644<>\"\",E644<>\"\")),1,\"\"))","v":""},null,{"$f":"IF(J644=\"\",\"\",IF(VLOOKUP(F644,Tabelle_Fisse!$B$33:$C$34,2,FALSE)=\"ok\",\"\",1))","v":""},{"$f":"IF(J644=\"\",\"\",IF(VLOOKUP(CONCATENATE(J644,\" SI\"),W$7:W$1196,1,FALSE)=CONCATENATE(J644,\" SI\"),\"\",1))","v":""},null,{"$f":"IF(OR(J644=\"\",G644=\"\"),\"\",IF(VLOOKUP(H644,Tabelle_Fisse!$B$25:$C$29,2,FALSE)=\"ok\",\"\",1))","v":""},{"$nulls":4},{"$f":"IF(J644=\"\",\"\",CONCATENATE(J644,\" \",F644))","v":""}]
[{"$nulls":9},"",{"$f":"IF(J645=\"\",\"\",IF(VLOOKUP(J645,Lotti!B$6:B$596,1,FALSE)=J645,\"\",1))","v":""},null,"",null,{"$f":"IF(J645=\"\",\"\",IF(VLOOKUP(F645,Tabelle_Fisse!$B$33:$C$34,2,FALSE)=\"ok\",\"\",1))","v":""},{"$f":"IF(J645=\"\",\"\",IF(VLOOKUP(CONCATENATE(J645,\" SI\"),W$7:W$1196,1,FALSE)=CONCATENATE(J645,\" SI\"),\"\",1))","v":""},null,{"$f":"IF(OR(J645=\"\",G645=\"\"),\"\",IF(VLOOKUP(H645,Tabelle_Fisse!$B$25:$C$29,2,FALSE)=\"ok\",\"\",1))","v":""},{"$nulls":4},""]
[{"$nulls":9},"",{"$f":"IF(J646=\"\",\"\",IF(VLOOKUP(J646,Lotti!B$6:B$596,1,FALSE)=J646,\"\",1))","v":""},null,"",null,{"$f":"IF(J646=\"\",\"\",IF(VLOOKUP(F646,Tabelle_Fisse!$B$33:$C$34,2,FALSE)=\"ok\",\"\",1))","v":""},{"$f":"IF(J646=\"\",\"\",IF(VLOOKUP(CONCATENATE(J646,\" SI\"),W$7:W$1196,1,FALSE)=CONCATENATE(J646,\" SI\"),\"\",1))","v":""},null,{"$f":"IF(OR(J646=\"\",G646=\"\"),\"\",IF(VLOOKUP(H646,Tabelle_Fisse!$B$25:$C$29,2,FALSE)=\"ok\",\"\",1))","v":""},{"$nulls":4},""]
[{"$nulls":9},"",{"$f":"IF(J647=\"\",\"\",IF(VLOOKUP(J647,Lotti!B$6:B$596,1,FALSE)=J647,\"\",1))","v":""},null,"",null,{"$f":"IF(J647=\"\",\"\",IF(VLOOKUP(F647,Tabelle_Fisse!$B$33:$C$34,2,FALSE)=\"ok\",\"\",1))","v":""},{"$f":"IF(J647=\"\",\"\",IF(VLOOKUP(CONCATENATE(J647,\" SI\"),W$7:W$1196,1,FALSE)=CONCATENATE(J647,\" SI\"),\"\",1))","v":""},null,{"$f":"IF(OR(J647=\"\",G647=\"\"),\"\",IF(VLOOKUP(H647,Tabelle_Fisse!$B$25:$C$29,2,FALSE)=\"ok\",\"\",1))","v":""},{"$nulls":4},""]
[{"$nulls":9},"",{"$f":"IF(J648=\"\",\"\",IF(VLOOKUP(J648,Lotti!B$6:B$596,1,FALSE)=J648,\"\",1))","v":""},null,"",null,{"$f":"IF(J648=\"\",\"\",IF(VLOOKUP(F648,Tabelle_Fisse!$B$33:$C$34,2,FALSE)=\"ok\",\"\",1))","v":""},{"$f":"IF(J648=\"\",\"\",IF(VLOOKUP(CONCATENATE(J648,\" SI\"),W$7:W$1196,1,FALSE)=CONCATENATE(J648,\" SI\"),\"\",1))","v":""},null,{"$f":"IF(OR(J648=\"\",G648=\"\"),\"\",IF(VLOOKUP(H648,Tabelle_Fisse!$B$25:$C$29,2,FALSE)=\"ok\",\"\",1))","v":""},{"$nulls":4},""]
[{"$nulls":9},"",{"$f":"IF(J649=\"\",\"\",IF(VLOOKUP(J649,Lotti!B$6:B$596,1,FALSE)=J649,\"\",1))","v":""},null,"",null,{"$f":"IF(J649=\"\",\"\",IF(VLOOKUP(F649,Tabelle_Fisse!$B$33:$C$34,2,FALSE)=\"ok\",\"\",1))","v":""},{"$f":"IF(J649=\"\",\"\",IF(VLOOKUP(CONCATENATE(J649,\" SI\"),W$7:W$1196,1,FALSE)=CONCATENATE(J649,\" SI\"),\"\",1))","v":""},null,{"$f":"IF(OR(J649=\"\",G649=\"\"),\"\",IF(VLOOKUP(H649,Tabelle_Fisse!$B$25:$C$29,2,FALSE)=\"ok\",\"\",1))","v":""},{"$nulls":4},""]
[{"$nulls":9},"",{"$f":"IF(J650=\"\",\"\",IF(VLOOKUP(J650,Lotti!B$6:B$596,1,FALSE)=J650,\"\",1))","v":""},null,"",null,{"$f":"IF(J650=\"\",\"\",IF(VLOOKUP(F650,Tabelle_Fisse!$B$33:$C$34,2,FALSE)=\"ok\",\"\",1))","v":""},{"$f":"IF(J650=\"\",\"\",IF(VLOOKUP(CONCATENATE(J650,\" SI\"),W$7:W$1196,1,FALSE)=CONCATENATE(J650,\" SI\"),\"\",1))","v":""},null,{"$f":"IF(OR(J650=\"\",G650=\"\"),\"\",IF(VLOOKUP(H650,Tabelle_Fisse!$B$25:$C$29,2,FALSE)=\"ok\",\"\",1))","v":""},{"$nulls":4},""]
[{"$nulls":9},"",{"$f":"IF(J651=\"\",\"\",IF(VLOOKUP(J651,Lotti!B$6:B$596,1,FALSE)=J651,\"\",1))","v":""},null,"",null,{"$f":"IF(J651=\"\",\"\",IF(VLOOKUP(F651,Tabelle_Fisse!$B$33:$C$34,2,FALSE)=\"ok\",\"\",1))","v":""},{"$f":"IF(J651=\"\",\"\",IF(VLOOKUP(CONCATENATE(J651,\" SI\"),W$7:W$1196,1,FALSE)=CONCATENATE(J651,\" SI\"),\"\",1))","v":""},null,{"$f":"IF(OR(J651=\"\",G651=\"\"),\"\",IF(VLOOKUP(H651,Tabelle_Fisse!$B$25:$C$29,2,FALSE)=\"ok\",\"\",1))","v":""},{"$nulls":4},""]
[{"$nulls":9},"",{"$f":"IF(J652=\"\",\"\",IF(VLOOKUP(J652,Lotti!B$6:B$596,1,FALSE)=J652,\"\",1))","v":""},null,"",null,{"$f":"IF(J652=\"\",\"\",IF(VLOOKUP(F652,Tabelle_Fisse!$B$33:$C$34,2,FALSE)=\"ok\",\"\",1))","v":""},{"$f":"IF(J652=\"\",\"\",IF(VLOOKUP(CONCATENATE(J652,\" SI\"),W$7:W$1196,1,FALSE)=CONCATENATE(J652,\" SI\"),\"\",1))","v":""},null,{"$f":"IF(OR(J652=\"\",G652=\"\"),\"\",IF(VLOOKUP(H652,Tabelle_Fisse!$B$25:$C$29,2,FALSE)=\"ok\",\"\",1))","v":""},{"$nulls":4},""]
[{"$nulls":9},"",{"$f":"IF(J653=\"\",\"\",IF(VLOOKUP(J653,Lotti!B$6:B$596,1,FALSE)=J653,\"\",1))","v":""},null,"",null,{"$f":"IF(J653=\"\",\"\",IF(VLOOKUP(F653,Tabelle_Fisse!$B$33:$C$34,2,FALSE)=\"ok\",\"\",1))","v":""},{"$f":"IF(J653=\"\",\"\",IF(VLOOKUP(CONCATENATE(J653,\" SI\"),W$7:W$1196,1,FALSE)=CONCATENATE(J653,\" SI\"),\"\",1))","v":""},null,{"$f":"IF(OR(J653=\"\",G653=\"\"),\"\",IF(VLOOKUP(H653,Tabelle_Fisse!$B$25:$C$29,2,FALSE)=\"ok\",\"\",1))","v":""},{"$nulls":4},""]
[{"$nulls":9},"",{"$f":"IF(J654=\"\",\"\",IF(VLOOKUP(J654,Lotti!B$6:B$596,1,FALSE)=J654,\"\",1))","v":""},null,"",null,{"$f":"IF(J654=\"\",\"\",IF(VLOOKUP(F654,Tabelle_Fisse!$B$33:$C$34,2,FALSE)=\"ok\",\"\",1))","v":""},{"$f":"IF(J654=\"\",\"\",IF(VLOOKUP(CONCATENATE(J654,\" SI\"),W$7:W$1196,1,FALSE)=CONCATENATE(J654,\" SI\"),\"\",1))","v":""},null,{"$f":"IF(OR(J654=\"\",G654=\"\"),\"\",IF(VLOOKUP(H654,Tabelle_Fisse!$B$25:$C$29,2,FALSE)=\"ok\",\"\",1))","v":""},{"$nulls":4},""]
[{"$nulls":9},"",{"$f":"IF(J655=\"\",\"\",IF(VLOOKUP(J655,Lotti!B$6:B$596,1,FALSE)=J655,\"\",1))","v":""},null,"",null,{"$f":"IF(J655=\"\",\"\",IF(VLOOKUP(F655,Tabelle_Fisse!$B$33:$C$34,2,FALSE)=\"ok\",\"\",1))","v":""},{"$f":"IF(J655=\"\",\"\",IF(VLOOKUP(CONCATENATE(J655,\" SI\"),W$7:W$1196,1,FALSE)=CONCATENATE(J655,\" SI\"),\"\",1))","v":""},null,{"$f":"IF(OR(J655=\"\",G655=\"\"),\"\",IF(VLOOKUP(H655,Tabelle_Fisse!$B$25:$C$29,2,FALSE)=\"ok\",\"\",1))","v":""},{"$nulls":4},""]
[{"$nulls":9},"",{"$f":"IF(J656=\"\",\"\",IF(VLOOKUP(J656,Lotti!B$6:B$596,1,FALSE)=J656,\"\",1))","v":""},null,"",null,{"$f":"IF(J656=\"\",\"\",IF(VLOOKUP(F656,Tabelle_Fisse!$B$33:$C$34,2,FALSE)=\"ok\",\"\",1))","v":""},{"$f":"IF(J656=\"\",\"\",IF(VLOOKUP(CONCATENATE(J656,\" SI\"),W$7:W$1196,1,FALSE)=CONCATENATE(J656,\" SI\"),\"\",1))","v":""},null,{"$f":"IF(OR(J656=\"\",G656=\"\"),\"\",IF(VLOOKUP(H656,Tabelle_Fisse!$B$25:$C$29,2,FALSE)=\"ok\",\"\",1))","v":""},{"$nulls":4},""]
[{"$nulls":9},"",{"$f":"IF(J657=\"\",\"\",IF(VLOOKUP(J657,Lotti!B$6:B$596,1,FALSE)=J657,\"\",1))","v":""},null,"",null,{"$f":"IF(J657=\"\",\"\",IF(VLOOKUP(F657,Tabelle_Fisse!$B$33:$C$34,2,FALSE)=\"ok\",\"\",1))","v":""},{"$f":"IF(J657=\"\",\"\",IF(VLOOKUP(CONCATENATE(J657,\" SI\"),W$7:W$1196,1,FALSE)=CONCATENATE(J657,\" SI\"),\"\",1))","v":""},null,{"$f":"IF(OR(J657=\"\",G657=\"\"),\"\",IF(VLOOKUP(H657,Tabelle_Fisse!$B$25:$C$29,2,FALSE)=\"ok\",\"\",1))","v":""},{"$nulls":4},""]
[{"$nulls":9},"",{"$f":"IF(J658=\"\",\"\",IF(VLOOKUP(J658,Lotti!B$6:B$596,1,FALSE)=J658,\"\",1))","v":""},null,"",null,{"$f":"IF(J658=\"\",\"\",IF(VLOOKUP(F658,Tabelle_Fisse!$B$33:$C$34,2,FALSE)=\"ok\",\"\",1))","v":""},{"$f":"IF(J658=\"\",\"\",IF(VLOOKUP(CONCATENATE(J658,\" SI\"),W$7:W$1196,1,FALSE)=CONCATENATE(J658,\" SI\"),\"\",1))","v":""},null,{"$f":"IF(OR(J658=\"\",G658=\"\"),\"\",IF(VLOOKUP(H658,Tabelle_Fisse!$B$25:$C$29,2,FALSE)=\"ok\",\"\",1))","v":""},{"$nulls":4},""]
[{"$nulls":9},"",{"$f":"IF(J659=\"\",\"\",IF(VLOOKUP(J659,Lotti!B$6:B$596,1,FALSE)=J659,\"\",1))","v":""},null,"",null,{"$f":"IF(J659=\"\",\"\",IF(VLOOKUP(F659,Tabelle_Fisse!$B$33:$C$34,2,FALSE)=\"ok\",\"\",1))","v":""},{"$f":"IF(J659=\"\",\"\",IF(VLOOKUP(CONCATENATE(J659,\" SI\"),W$7:W$1196,1,FALSE)=CONCATENATE(J659,\" SI\"),\"\",1))","v":""},null,{"$f":"IF(OR(J659=\"\",G659=\"\"),\"\",IF(VLOOKUP(H659,Tabelle_Fisse!$B$25:$C$29,2,FALSE)=\"ok\",\"\",1))","v":""},{"$nulls":4},""]
[{"$nulls":9},"",{"$f":"IF(J660=\"\",\"\",IF(VLOOKUP(J660,Lotti!B$6:B$596,1,FALSE)=J660,\"\",1))","v":""},null,"",null,{"$f":"IF(J660=\"\",\"\",IF(VLOOKUP(F660,Tabelle_Fisse!$B$33:$C$34,2,FALSE)=\"ok\",\"\",1))","v":""},{"$f":"IF(J660=\"\",\"\",IF(VLOOKUP(CONCATENATE(J660,\" SI\"),W$7:W$1196,1,FALSE)=CONCATENATE(J660,\" SI\"),\"\",1))","v":""},null,{"$f":"IF(OR(J660=\"\",G660=\"\"),\"\",IF(VLOOKUP(H660,Tabelle_Fisse!$B$25:$C$29,2,FALSE)=\"ok\",\"\",1))","v":""},{"$nulls":4},""]
[{"$nulls":9},"",{"$f":"IF(J661=\"\",\"\",IF(VLOOKUP(J661,Lotti!B$6:B$596,1,FALSE)=J661,\"\",1))","v":""},null,"",null,{"$f":"IF(J661=\"\",\"\",IF(VLOOKUP(F661,Tabelle_Fisse!$B$33:$C$34,2,FALSE)=\"ok\",\"\",1))","v":""},{"$f":"IF(J661=\"\",\"\",IF(VLOOKUP(CONCATENATE(J661,\" SI\"),W$7:W$1196,1,FALSE)=CONCATENATE(J661,\" SI\"),\"\",1))","v":""},null,{"$f":"IF(OR(J661=\"\",G661=\"\"),\"\",IF(VLOOKUP(H661,Tabelle_Fisse!$B$25:$C$29,2,FALSE)=\"ok\",\"\",1))","v":""},{"$nulls":4},""]
[{"$nulls":9},"",{"$f":"IF(J662=\"\",\"\",IF(VLOOKUP(J662,Lotti!B$6:B$596,1,FALSE)=J662,\"\",1))","v":""},null,"",null,{"$f":"IF(J662=\"\",\"\",IF(VLOOKUP(F662,Tabelle_Fisse!$B$33:$C$34,2,FALSE)=\"ok\",\"\",1))","v":""},{"$f":"IF(J662=\"\",\"\",IF(VLOOKUP(CONCATENATE(J662,\" SI\"),W$7:W$1196,1,FALSE)=CONCATENATE(J662,\" SI\"),\"\",1))","v":""},null,{"$f":"IF(OR(J662=\"\",G662=\"\"),\"\",IF(VLOOKUP(H662,Tabelle_Fisse!$B$25:$C$29,2,FALSE)=\"ok\",\"\",1))","v":""},{"$nulls":4},""]
[{"$nulls":9},"",{"$f":"IF(J663=\"\",\"\",IF(VLOOKUP(J663,Lotti!B$6:B$596,1,FALSE)=J663,\"\",1))","v":""},null,"",null,{"$f":"IF(J663=\"\",\"\",IF(VLOOKUP(F663,Tabelle_Fisse!$B$33:$C$34,2,FALSE)=\"ok\",\"\",1))","v":""},{"$f":"IF(J663=\"\",\"\",IF(VLOOKUP(CONCATENATE(J663,\" SI\"),W$7:W$1196,1,FALSE)=CONCATENATE(J663,\" SI\"),\"\",1))","v":""},null,{"$f":"IF(OR(J663=\"\",G663=\"\"),\"\",IF(VLOOKUP(H663,Tabelle_Fisse!$B$25:$C$29,2,FALSE)=\"ok\",\"\",1))","v":""},{"$nulls":4},""]
[{"$nulls":9},"",{"$f":"IF(J664=\"\",\"\",IF(VLOOKUP(J664,Lotti!B$6:B$596,1,FALSE)=J664,\"\",1))","v":""},null,"",null,{"$f":"IF(J664=\"\",\"\",IF(VLOOKUP(F664,Tabelle_Fisse!$B$33:$C$34,2,FALSE)=\"ok\",\"\",1))","v":""},{"$f":"IF(J664=\"\",\"\",IF(VLOOKUP(CONCATENATE(J664,\" SI\"),W$7:W$1196,1,FALSE)=CONCATENATE(J664,\" SI\"),\"\",1))","v":""},null,{"$f":"IF(OR(J664=\"\",G664=\"\"),\"\",IF(VLOOKUP(H664,Tabelle_Fisse!$B$25:$C$29,2,FALSE)=\"ok\",\"\",1))","v":""},{"$nulls":4},""]
[{"$nulls":9},"",{"$f":"IF(J665=\"\",\"\",IF(VLOOKUP(J665,Lotti!B$6:B$596,1,FALSE)=J665,\"\",1))","v":""},null,"",null,{"$f":"IF(J665=\"\",\"\",IF(VLOOKUP(F665,Tabelle_Fisse!$B$33:$C$34,2,FALSE)=\"ok\",\"\",1))","v":""},{"$f":"IF(J665=\"\",\"\",IF(VLOOKUP(CONCATENATE(J665,\" SI\"),W$7:W$1196,1,FALSE)=CONCATENATE(J665,\" SI\"),\"\",1))","v":""},null,{"$f":"IF(OR(J665=\"\",G665=\"\"),\"\",IF(VLOOKUP(H665,Tabelle_Fisse!$B$25:$C$29,2,FALSE)=\"ok\",\"\",1))","v":""},{"$nulls":4},""]
[{"$nulls":9},"",{"$f":"IF(J666=\"\",\"\",IF(VLOOKUP(J666,Lotti!B$6:B$596,1,FALSE)=J666,\"\",1))","v":""},null,"",null,{"$f":"IF(J666=\"\",\"\",IF(VLOOKUP(F666,Tabelle_Fisse!$B$33:$C$34,2,FALSE)=\"ok\",\"\",1))","v":""},{"$f":"IF(J666=\"\",\"\",IF(VLOOKUP(CONCATENATE(J666,\" SI\"),W$7:W$1196,1,FALSE)=CONCATENATE(J666,\" SI\"),\"\",1))","v":""},null,{"$f":"IF(OR(J666=\"\",G666=\"\"),\"\",IF(VLOOKUP(H666,Tabelle_Fisse!$B$25:$C$29,2,FALSE)=\"ok\",\"\",1))","v":""},{"$nulls":4},""]
[{"$nulls":9},"",{"$f":"IF(J667=\"\",\"\",IF(VLOOKUP(J667,Lotti!B$6:B$596,1,FALSE)=J667,\"\",1))","v":""},null,"",null,{"$f":"IF(J667=\"\",\"\",IF(VLOOKUP(F667,Tabelle_Fisse!$B$33:$C$34,2,FALSE)=\"ok\",\"\",1))","v":""},{"$f":"IF(J667=\"\",\"\",IF(VLOOKUP(CONCATENATE(J667,\" SI\"),W$7:W$1196,1,FALSE)=CONCATENATE(J667,\" SI\"),\"\",1))","v":""},null,{"$f":"IF(OR(J667=\"\",G667=\"\"),\"\",IF(VLOOKUP(H667,Tabelle_Fisse!$B$25:$C$29,2,FALSE)=\"ok\",\"\",1))","v":""},{"$nulls":4},""]
[{"$nulls":9},"",{"$f":"IF(J668=\"\",\"\",IF(VLOOKUP(J668,Lotti!B$6:B$596,1,FALSE)=J668,\"\",1))","v":""},null,"",null,{"$f":"IF(J668=\"\",\"\",IF(VLOOKUP(F668,Tabelle_Fisse!$B$33:$C$34,2,FALSE)=\"ok\",\"\",1))","v":""},{"$f":"IF(J668=\"\",\"\",IF(VLOOKUP(CONCATENATE(J668,\" SI\"),W$7:W$1196,1,FALSE)=CONCATENATE(J668,\" SI\"),\"\",1))","v":""},null,{"$f":"IF(OR(J668=\"\",G668=\"\"),\"\",IF(VLOOKUP(H668,Tabelle_Fisse!$B$25:$C$29,2,FALSE)=\"ok\",\"\",1))","v":""},{"$nulls":4},""]
[{"$nulls":9},"",{"$f":"IF(J669=\"\",\"\",IF(VLOOKUP(J669,Lotti!B$6:B$596,1,FALSE)=J669,\"\",1))","v":""},null,"",null,{"$f":"IF(J669=\"\",\"\",IF(VLOOKUP(F669,Tabelle_Fisse!$B$33:$C$34,2,FALSE)=\"ok\",\"\",1))","v":""},{"$f":"IF(J669=\"\",\"\",IF(VLOOKUP(CONCATENATE(J669,\" SI\"),W$7:W$1196,1,FALSE)=CONCATENATE(J669,\" SI\"),\"\",1))","v":""},null,{"$f":"IF(OR(J669=\"\",G669=\"\"),\"\",IF(VLOOKUP(H669,Tabelle_Fisse!$B$25:$C$29,2,FALSE)=\"ok\",\"\",1))","v":""},{"$nulls":4},""]
[{"$nulls":9},"",{"$f":"IF(J670=\"\",\"\",IF(VLOOKUP(J670,Lotti!B$6:B$596,1,FALSE)=J670,\"\",1))","v":""},null,"",null,{"$f":"IF(J670=\"\",\"\",IF(VLOOKUP(F670,Tabelle_Fisse!$B$33:$C$34,2,FALSE)=\"ok\",\"\",1))","v":""},{"$f":"IF(J670=\"\",\"\",IF(VLOOKUP(CONCATENATE(J670,\" SI\"),W$7:W$1196,1,FALSE)=CONCATENATE(J670,\" SI\"),\"\",1))","v":""},null,{"$f":"IF(OR(J670=\"\",G670=\"\"),\"\",IF(VLOOKUP(H670,Tabelle_Fisse!$B$25:$C$29,2,FALSE)=\"ok\",\"\",1))","v":""},{"$nulls":4},""]
[{"$nulls":9},"",{"$f":"IF(J671=\"\",\"\",IF(VLOOKUP(J671,Lotti!B$6:B$596,1,FALSE)=J671,\"\",1))","v":""},null,"",null,{"$f":"IF(J671=\"\",\"\",IF(VLOOKUP(F671,Tabelle_Fisse!$B$33:$C$34,2,FALSE)=\"ok\",\"\",1))","v":""},{"$f":"IF(J671=\"\",\"\",IF(VLOOKUP(CONCATENATE(J671,\" SI\"),W$7:W$1196,1,FALSE)=CONCATENATE(J671,\" SI\"),\"\",1))","v":""},null,{"$f":"IF(OR(J671=\"\",G671=\"\"),\"\",IF(VLOOKUP(H671,Tabelle_Fisse!$B$25:$C$29,2,FALSE)=\"ok\",\"\",1))","v":""},{"$nulls":4},""]
[{"$nulls":9},"",{"$f":"IF(J672=\"\",\"\",IF(VLOOKUP(J672,Lotti!B$6:B$596,1,FALSE)=J672,\"\",1))","v":""},null,"",null,{"$f":"IF(J672=\"\",\"\",IF(VLOOKUP(F672,Tabelle_Fisse!$B$33:$C$34,2,FALSE)=\"ok\",\"\",1))","v":""},{"$f":"IF(J672=\"\",\"\",IF(VLOOKUP(CONCATENATE(J672,\" SI\"),W$7:W$1196,1,FALSE)=CONCATENATE(J672,\" SI\"),\"\",1))","v":""},null,{"$f":"IF(OR(J672=\"\",G672=\"\"),\"\",IF(VLOOKUP(H672,Tabelle_Fisse!$B$25:$C$29,2,FALSE)=\"ok\",\"\",1))","v":""},{"$nulls":4},""]
[{"$nulls":9},"",{"$f":"IF(J673=\"\",\"\",IF(VLOOKUP(J673,Lotti!B$6:B$596,1,FALSE)=J673,\"\",1))","v":""},null,"",null,{"$f":"IF(J673=\"\",\"\",IF(VLOOKUP(F673,Tabelle_Fisse!$B$33:$C$34,2,FALSE)=\"ok\",\"\",1))","v":""},{"$f":"IF(J673=\"\",\"\",IF(VLOOKUP(CONCATENATE(J673,\" SI\"),W$7:W$1196,1,FALSE)=CONCATENATE(J673,\" SI\"),\"\",1))","v":""},null,{"$f":"IF(OR(J673=\"\",G673=\"\"),\"\",IF(VLOOKUP(H673,Tabelle_Fisse!$B$25:$C$29,2,FALSE)=\"ok\",\"\",1))","v":""},{"$nulls":4},""]
[{"$nulls":9},"",{"$f":"IF(J674=\"\",\"\",IF(VLOOKUP(J674,Lotti!B$6:B$596,1,FALSE)=J674,\"\",1))","v":""},null,"",null,{"$f":"IF(J674=\"\",\"\",IF(VLOOKUP(F674,Tabelle_Fisse!$B$33:$C$34,2,FALSE)=\"ok\",\"\",1))","v":""},{"$f":"IF(J674=\"\",\"\",IF(VLOOKUP(CONCATENATE(J674,\" SI\"),W$7:W$1196,1,FALSE)=CONCATENATE(J674,\" SI\"),\"\",1))","v":""},null,{"$f":"IF(OR(J674=\"\",G674=\"\"),\"\",IF(VLOOKUP(H674,Tabelle_Fisse!$B$25:$C$29,2,FALSE)=\"ok\",\"\",1))","v":""},{"$nulls":4},""]
[{"$nulls":9},"",{"$f":"IF(J675=\"\",\"\",IF(VLOOKUP(J675,Lotti!B$6:B$596,1,FALSE)=J675,\"\",1))","v":""},null,"",null,{"$f":"IF(J675=\"\",\"\",IF(VLOOKUP(F675,Tabelle_Fisse!$B$33:$C$34,2,FALSE)=\"ok\",\"\",1))","v":""},{"$f":"IF(J675=\"\",\"\",IF(VLOOKUP(CONCATENATE(J675,\" SI\"),W$7:W$1196,1,FALSE)=CONCATENATE(J675,\" SI\"),\"\",1))","v":""},null,{"$f":"IF(OR(J675=\"\",G675=\"\"),\"\",IF(VLOOKUP(H675,Tabelle_Fisse!$B$25:$C$29,2,FALSE)=\"ok\",\"\",1))","v":""},{"$nulls":4},""]
[{"$nulls":9},"",{"$f":"IF(J676=\"\",\"\",IF(VLOOKUP(J676,Lotti!B$6:B$596,1,FALSE)=J676,\"\",1))","v":""},null,"",null,{"$f":"IF(J676=\"\",\"\",IF(VLOOKUP(F676,Tabelle_Fisse!$B$33:$C$34,2,FALSE)=\"ok\",\"\",1))","v":""},{"$f":"IF(J676=\"\",\"\",IF(VLOOKUP(CONCATENATE(J676,\" SI\"),W$7:W$1196,1,FALSE)=CONCATENATE(J676,\" SI\"),\"\",1))","v":""},null,{"$f":"IF(OR(J676=\"\",G676=\"\"),\"\",IF(VLOOKUP(H676,Tabelle_Fisse!$B$25:$C$29,2,FALSE)=\"ok\",\"\",1))","v":""},{"$nulls":4},""]
[{"$nulls":9},"",{"$f":"IF(J677=\"\",\"\",IF(VLOOKUP(J677,Lotti!B$6:B$596,1,FALSE)=J677,\"\",1))","v":""},null,"",null,{"$f":"IF(J677=\"\",\"\",IF(VLOOKUP(F677,Tabelle_Fisse!$B$33:$C$34,2,FALSE)=\"ok\",\"\",1))","v":""},{"$f":"IF(J677=\"\",\"\",IF(VLOOKUP(CONCATENATE(J677,\" SI\"),W$7:W$1196,1,FALSE)=CONCATENATE(J677,\" SI\"),\"\",1))","v":""},null,{"$f":"IF(OR(J677=\"\",G677=\"\"),\"\",IF(VLOOKUP(H677,Tabelle_Fisse!$B$25:$C$29,2,FALSE)=\"ok\",\"\",1))","v":""},{"$nulls":4},""]
[{"$nulls":9},"",{"$f":"IF(J678=\"\",\"\",IF(VLOOKUP(J678,Lotti!B$6:B$596,1,FALSE)=J678,\"\",1))","v":""},null,"",null,{"$f":"IF(J678=\"\",\"\",IF(VLOOKUP(F678,Tabelle_Fisse!$B$33:$C$34,2,FALSE)=\"ok\",\"\",1))","v":""},{"$f":"IF(J678=\"\",\"\",IF(VLOOKUP(CONCATENATE(J678,\" SI\"),W$7:W$1196,1,FALSE)=CONCATENATE(J678,\" SI\"),\"\",1))","v":""},null,{"$f":"IF(OR(J678=\"\",G678=\"\"),\"\",IF(VLOOKUP(H678,Tabelle_Fisse!$B$25:$C$29,2,FALSE)=\"ok\",\"\",1))","v":""},{"$nulls":4},""]
[{"$nulls":9},"",{"$f":"IF(J679=\"\",\"\",IF(VLOOKUP(J679,Lotti!B$6:B$596,1,FALSE)=J679,\"\",1))","v":""},null,"",null,{"$f":"IF(J679=\"\",\"\",IF(VLOOKUP(F679,Tabelle_Fisse!$B$33:$C$34,2,FALSE)=\"ok\",\"\",1))","v":""},{"$f":"IF(J679=\"\",\"\",IF(VLOOKUP(CONCATENATE(J679,\" SI\"),W$7:W$1196,1,FALSE)=CONCATENATE(J679,\" SI\"),\"\",1))","v":""},null,{"$f":"IF(OR(J679=\"\",G679=\"\"),\"\",IF(VLOOKUP(H679,Tabelle_Fisse!$B$25:$C$29,2,FALSE)=\"ok\",\"\",1))","v":""},{"$nulls":4},""]
[{"$nulls":9},"",{"$f":"IF(J680=\"\",\"\",IF(VLOOKUP(J680,Lotti!B$6:B$596,1,FALSE)=J680,\"\",1))","v":""},null,"",null,{"$f":"IF(J680=\"\",\"\",IF(VLOOKUP(F680,Tabelle_Fisse!$B$33:$C$34,2,FALSE)=\"ok\",\"\",1))","v":""},{"$f":"IF(J680=\"\",\"\",IF(VLOOKUP(CONCATENATE(J680,\" SI\"),W$7:W$1196,1,FALSE)=CONCATENATE(J680,\" SI\"),\"\",1))","v":""},null,{"$f":"IF(OR(J680=\"\",G680=\"\"),\"\",IF(VLOOKUP(H680,Tabelle_Fisse!$B$25:$C$29,2,FALSE)=\"ok\",\"\",1))","v":""},{"$nulls":4},""]
[{"$nulls":9},"",{"$f":"IF(J681=\"\",\"\",IF(VLOOKUP(J681,Lotti!B$6:B$596,1,FALSE)=J681,\"\",1))","v":""},null,"",null,{"$f":"IF(J681=\"\",\"\",IF(VLOOKUP(F681,Tabelle_Fisse!$B$33:$C$34,2,FALSE)=\"ok\",\"\",1))","v":""},{"$f":"IF(J681=\"\",\"\",IF(VLOOKUP(CONCATENATE(J681,\" SI\"),W$7:W$1196,1,FALSE)=CONCATENATE(J681,\" SI\"),\"\",1))","v":""},null,{"$f":"IF(OR(J681=\"\",G681=\"\"),\"\",IF(VLOOKUP(H681,Tabelle_Fisse!$B$25:$C$29,2,FALSE)=\"ok\",\"\",1))","v":""},{"$nulls":4},""]
[{"$nulls":9},"",{"$f":"IF(J682=\"\",\"\",IF(VLOOKUP(J682,Lotti!B$6:B$596,1,FALSE)=J682,\"\",1))","v":""},null,"",null,{"$f":"IF(J682=\"\",\"\",IF(VLOOKUP(F682,Tabelle_Fisse!$B$33:$C$34,2,FALSE)=\"ok\",\"\",1))","v":""},{"$f":"IF(J682=\"\",\"\",IF(VLOOKUP(CONCATENATE(J682,\" SI\"),W$7:W$1196,1,FALSE)=CONCATENATE(J682,\" SI\"),\"\",1))","v":""},null,{"$f":"IF(OR(J682=\"\",G682=\"\"),\"\",IF(VLOOKUP(H682,Tabelle_Fisse!$B$25:$C$29,2,FALSE)=\"ok\",\"\",1))","v":""},{"$nulls":4},""]
[{"$nulls":9},"",{"$f":"IF(J683=\"\",\"\",IF(VLOOKUP(J683,Lotti!B$6:B$596,1,FALSE)=J683,\"\",1))","v":""},null,"",null,{"$f":"IF(J683=\"\",\"\",IF(VLOOKUP(F683,Tabelle_Fisse!$B$33:$C$34,2,FALSE)=\"ok\",\"\",1))","v":""},{"$f":"IF(J683=\"\",\"\",IF(VLOOKUP(CONCATENATE(J683,\" SI\"),W$7:W$1196,1,FALSE)=CONCATENATE(J683,\" SI\"),\"\",1))","v":""},null,{"$f":"IF(OR(J683=\"\",G683=\"\"),\"\",IF(VLOOKUP(H683,Tabelle_Fisse!$B$25:$C$29,2,FALSE)=\"ok\",\"\",1))","v":""},{"$nulls":4},""]
[{"$nulls":9},"",{"$f":"IF(J684=\"\",\"\",IF(VLOOKUP(J684,Lotti!B$6:B$596,1,FALSE)=J684,\"\",1))","v":""},null,"",null,{"$f":"IF(J684=\"\",\"\",IF(VLOOKUP(F684,Tabelle_Fisse!$B$33:$C$34,2,FALSE)=\"ok\",\"\",1))","v":""},{"$f":"IF(J684=\"\",\"\",IF(VLOOKUP(CONCATENATE(J684,\" SI\"),W$7:W$1196,1,FALSE)=CONCATENATE(J684,\" SI\"),\"\",1))","v":""},null,{"$f":"IF(OR(J684=\"\",G684=\"\"),\"\",IF(VLOOKUP(H684,Tabelle_Fisse!$B$25:$C$29,2,FALSE)=\"ok\",\"\",1))","v":""},{"$nulls":4},""]
[{"$nulls":9},"",{"$f":"IF(J685=\"\",\"\",IF(VLOOKUP(J685,Lotti!B$6:B$596,1,FALSE)=J685,\"\",1))","v":""},null,"",null,{"$f":"IF(J685=\"\",\"\",IF(VLOOKUP(F685,Tabelle_Fisse!$B$33:$C$34,2,FALSE)=\"ok\",\"\",1))","v":""},{"$f":"IF(J685=\"\",\"\",IF(VLOOKUP(CONCATENATE(J685,\" SI\"),W$7:W$1196,1,FALSE)=CONCATENATE(J685,\" SI\"),\"\",1))","v":""},null,{"$f":"IF(OR(J685=\"\",G685=\"\"),\"\",IF(VLOOKUP(H685,Tabelle_Fisse!$B$25:$C$29,2,FALSE)=\"ok\",\"\",1))","v":""},{"$nulls":4},""]
[{"$nulls":9},"",{"$f":"IF(J686=\"\",\"\",IF(VLOOKUP(J686,Lotti!B$6:B$596,1,FALSE)=J686,\"\",1))","v":""},null,"",null,{"$f":"IF(J686=\"\",\"\",IF(VLOOKUP(F686,Tabelle_Fisse!$B$33:$C$34,2,FALSE)=\"ok\",\"\",1))","v":""},{"$f":"IF(J686=\"\",\"\",IF(VLOOKUP(CONCATENATE(J686,\" SI\"),W$7:W$1196,1,FALSE)=CONCATENATE(J686,\" SI\"),\"\",1))","v":""},null,{"$f":"IF(OR(J686=\"\",G686=\"\"),\"\",IF(VLOOKUP(H686,Tabelle_Fisse!$B$25:$C$29,2,FALSE)=\"ok\",\"\",1))","v":""},{"$nulls":4},""]
[{"$nulls":9},"",{"$f":"IF(J687=\"\",\"\",IF(VLOOKUP(J687,Lotti!B$6:B$596,1,FALSE)=J687,\"\",1))","v":""},null,"",null,{"$f":"IF(J687=\"\",\"\",IF(VLOOKUP(F687,Tabelle_Fisse!$B$33:$C$34,2,FALSE)=\"ok\",\"\",1))","v":""},{"$f":"IF(J687=\"\",\"\",IF(VLOOKUP(CONCATENATE(J687,\" SI\"),W$7:W$1196,1,FALSE)=CONCATENATE(J687,\" SI\"),\"\",1))","v":""},null,{"$f":"IF(OR(J687=\"\",G687=\"\"),\"\",IF(VLOOKUP(H687,Tabelle_Fisse!$B$25:$C$29,2,FALSE)=\"ok\",\"\",1))","v":""},{"$nulls":4},""]
[{"$nulls":9},"",{"$f":"IF(J688=\"\",\"\",IF(VLOOKUP(J688,Lotti!B$6:B$596,1,FALSE)=J688,\"\",1))","v":""},null,"",null,{"$f":"IF(J688=\"\",\"\",IF(VLOOKUP(F688,Tabelle_Fisse!$B$33:$C$34,2,FALSE)=\"ok\",\"\",1))","v":""},{"$f":"IF(J688=\"\",\"\",IF(VLOOKUP(CONCATENATE(J688,\" SI\"),W$7:W$1196,1,FALSE)=CONCATENATE(J688,\" SI\"),\"\",1))","v":""},null,{"$f":"IF(OR(J688=\"\",G688=\"\"),\"\",IF(VLOOKUP(H688,Tabelle_Fisse!$B$25:$C$29,2,FALSE)=\"ok\",\"\",1))","v":""},{"$nulls":4},""]
[{"$nulls":9},"",{"$f":"IF(J689=\"\",\"\",IF(VLOOKUP(J689,Lotti!B$6:B$596,1,FALSE)=J689,\"\",1))","v":""},null,"",null,{"$f":"IF(J689=\"\",\"\",IF(VLOOKUP(F689,Tabelle_Fisse!$B$33:$C$34,2,FALSE)=\"ok\",\"\",1))","v":""},{"$f":"IF(J689=\"\",\"\",IF(VLOOKUP(CONCATENATE(J689,\" SI\"),W$7:W$1196,1,FALSE)=CONCATENATE(J689,\" SI\"),\"\",1))","v":""},null,{"$f":"IF(OR(J689=\"\",G689=\"\"),\"\",IF(VLOOKUP(H689,Tabelle_Fisse!$B$25:$C$29,2,FALSE)=\"ok\",\"\",1))","v":""},{"$nulls":4},""]
[{"$nulls":9},"",{"$f":"IF(J690=\"\",\"\",IF(VLOOKUP(J690,Lotti!B$6:B$596,1,FALSE)=J690,\"\",1))","v":""},null,"",null,{"$f":"IF(J690=\"\",\"\",IF(VLOOKUP(F690,Tabelle_Fisse!$B$33:$C$34,2,FALSE)=\"ok\",\"\",1))","v":""},{"$f":"IF(J690=\"\",\"\",IF(VLOOKUP(CONCATENATE(J690,\" SI\"),W$7:W$1196,1,FALSE)=CONCATENATE(J690,\" SI\"),\"\",1))","v":""},null,{"$f":"IF(OR(J690=\"\",G690=\"\"),\"\",IF(VLOOKUP(H690,Tabelle_Fisse!$B$25:$C$29,2,FALSE)=\"ok\",\"\",1))","v":""},{"$nulls":4},""]
[{"$nulls":9},"",{"$f":"IF(J691=\"\",\"\",IF(VLOOKUP(J691,Lotti!B$6:B$596,1,FALSE)=J691,\"\",1))","v":""},null,"",null,{"$f":"IF(J691=\"\",\"\",IF(VLOOKUP(F691,Tabelle_Fisse!$B$33:$C$34,2,FALSE)=\"ok\",\"\",1))","v":""},{"$f":"IF(J691=\"\",\"\",IF(VLOOKUP(CONCATENATE(J691,\" SI\"),W$7:W$1196,1,FALSE)=CONCATENATE(J691,\" SI\"),\"\",1))","v":""},null,{"$f":"IF(OR(J691=\"\",G691=\"\"),\"\",IF(VLOOKUP(H691,Tabelle_Fisse!$B$25:$C$29,2,FALSE)=\"ok\",\"\",1))","v":""},{"$nulls":4},""]
[{"$nulls":9},"",{"$f":"IF(J692=\"\",\"\",IF(VLOOKUP(J692,Lotti!B$6:B$596,1,FALSE)=J692,\"\",1))","v":""},null,"",null,{"$f":"IF(J692=\"\",\"\",IF(VLOOKUP(F692,Tabelle_Fisse!$B$33:$C$34,2,FALSE)=\"ok\",\"\",1))","v":""},{"$f":"IF(J692=\"\",\"\",IF(VLOOKUP(CONCATENATE(J692,\" SI\"),W$7:W$1196,1,FALSE)=CONCATENATE(J692,\" SI\"),\"\",1))","v":""},null,{"$f":"IF(OR(J692=\"\",G692=\"\"),\"\",IF(VLOOKUP(H692,Tabelle_Fisse!$B$25:$C$29,2,FALSE)=\"ok\",\"\",1))","v":""},{"$nulls":4},""]
[{"$nulls":9},"",{"$f":"IF(J693=\"\",\"\",IF(VLOOKUP(J693,Lotti!B$6:B$596,1,FALSE)=J693,\"\",1))","v":""},null,"",null,{"$f":"IF(J693=\"\",\"\",IF(VLOOKUP(F693,Tabelle_Fisse!$B$33:$C$34,2,FALSE)=\"ok\",\"\",1))","v":""},{"$f":"IF(J693=\"\",\"\",IF(VLOOKUP(CONCATENATE(J693,\" SI\"),W$7:W$1196,1,FALSE)=CONCATENATE(J693,\" SI\"),\"\",1))","v":""},null,{"$f":"IF(OR(J693=\"\",G693=\"\"),\"\",IF(VLOOKUP(H693,Tabelle_Fisse!$B$25:$C$29,2,FALSE)=\"ok\",\"\",1))","v":""},{"$nulls":4},""]
[{"$nulls":9},"",{"$f":"IF(J694=\"\",\"\",IF(VLOOKUP(J694,Lotti!B$6:B$596,1,FALSE)=J694,\"\",1))","v":""},null,"",null,{"$f":"IF(J694=\"\",\"\",IF(VLOOKUP(F694,Tabelle_Fisse!$B$33:$C$34,2,FALSE)=\"ok\",\"\",1))","v":""},{"$f":"IF(J694=\"\",\"\",IF(VLOOKUP(CONCATENATE(J694,\" SI\"),W$7:W$1196,1,FALSE)=CONCATENATE(J694,\" SI\"),\"\",1))","v":""},null,{"$f":"IF(OR(J694=\"\",G694=\"\"),\"\",IF(VLOOKUP(H694,Tabelle_Fisse!$B$25:$C$29,2,FALSE)=\"ok\",\"\",1))","v":""},{"$nulls":4},""]
[{"$nulls":9},"",{"$f":"IF(J695=\"\",\"\",IF(VLOOKUP(J695,Lotti!B$6:B$596,1,FALSE)=J695,\"\",1))","v":""},null,"",null,{"$f":"IF(J695=\"\",\"\",IF(VLOOKUP(F695,Tabelle_Fisse!$B$33:$C$34,2,FALSE)=\"ok\",\"\",1))","v":""},{"$f":"IF(J695=\"\",\"\",IF(VLOOKUP(CONCATENATE(J695,\" SI\"),W$7:W$1196,1,FALSE)=CONCATENATE(J695,\" SI\"),\"\",1))","v":""},null,{"$f":"IF(OR(J695=\"\",G695=\"\"),\"\",IF(VLOOKUP(H695,Tabelle_Fisse!$B$25:$C$29,2,FALSE)=\"ok\",\"\",1))","v":""},{"$nulls":4},""]
[{"$nulls":9},"",{"$f":"IF(J696=\"\",\"\",IF(VLOOKUP(J696,Lotti!B$6:B$596,1,FALSE)=J696,\"\",1))","v":""},null,"",null,{"$f":"IF(J696=\"\",\"\",IF(VLOOKUP(F696,Tabelle_Fisse!$B$33:$C$34,2,FALSE)=\"ok\",\"\",1))","v":""},{"$f":"IF(J696=\"\",\"\",IF(VLOOKUP(CONCATENATE(J696,\" SI\"),W$7:W$1196,1,FALSE)=CONCATENATE(J696,\" SI\"),\"\",1))","v":""},null,{"$f":"IF(OR(J696=\"\",G696=\"\"),\"\",IF(VLOOKUP(H696,Tabelle_Fisse!$B$25:$C$29,2,FALSE)=\"ok\",\"\",1))","v":""},{"$nulls":4},""]
[{"$nulls":9},"",{"$f":"IF(J697=\"\",\"\",IF(VLOOKUP(J697,Lotti!B$6:B$596,1,FALSE)=J697,\"\",1))","v":""},null,"",null,{"$f":"IF(J697=\"\",\"\",IF(VLOOKUP(F697,Tabelle_Fisse!$B$33:$C$34,2,FALSE)=\"ok\",\"\",1))","v":""},{"$f":"IF(J697=\"\",\"\",IF(VLOOKUP(CONCATENATE(J697,\" SI\"),W$7:W$1196,1,FALSE)=CONCATENATE(J697,\" SI\"),\"\",1))","v":""},null,{"$f":"IF(OR(J697=\"\",G697=\"\"),\"\",IF(VLOOKUP(H697,Tabelle_Fisse!$B$25:$C$29,2,FALSE)=\"ok\",\"\",1))","v":""},{"$nulls":4},""]
[{"$nulls":9},"",{"$f":"IF(J698=\"\",\"\",IF(VLOOKUP(J698,Lotti!B$6:B$596,1,FALSE)=J698,\"\",1))","v":""},null,"",null,{"$f":"IF(J698=\"\",\"\",IF(VLOOKUP(F698,Tabelle_Fisse!$B$33:$C$34,2,FALSE)=\"ok\",\"\",1))","v":""},{"$f":"IF(J698=\"\",\"\",IF(VLOOKUP(CONCATENATE(J698,\" SI\"),W$7:W$1196,1,FALSE)=CONCATENATE(J698,\" SI\"),\"\",1))","v":""},null,{"$f":"IF(OR(J698=\"\",G698=\"\"),\"\",IF(VLOOKUP(H698,Tabelle_Fisse!$B$25:$C$29,2,FALSE)=\"ok\",\"\",1))","v":""},{"$nulls":4},""]
[{"$nulls":9},"",{"$f":"IF(J699=\"\",\"\",IF(VLOOKUP(J699,Lotti!B$6:B$596,1,FALSE)=J699,\"\",1))","v":""},null,"",null,{"$f":"IF(J699=\"\",\"\",IF(VLOOKUP(F699,Tabelle_Fisse!$B$33:$C$34,2,FALSE)=\"ok\",\"\",1))","v":""},{"$f":"IF(J699=\"\",\"\",IF(VLOOKUP(CONCATENATE(J699,\" SI\"),W$7:W$1196,1,FALSE)=CONCATENATE(J699,\" SI\"),\"\",1))","v":""},null,{"$f":"IF(OR(J699=\"\",G699=\"\"),\"\",IF(VLOOKUP(H699,Tabelle_Fisse!$B$25:$C$29,2,FALSE)=\"ok\",\"\",1))","v":""},{"$nulls":4},""]
[{"$nulls":9},"",{"$f":"IF(J700=\"\",\"\",IF(VLOOKUP(J700,Lotti!B$6:B$596,1,FALSE)=J700,\"\",1))","v":""},null,"",null,{"$f":"IF(J700=\"\",\"\",IF(VLOOKUP(F700,Tabelle_Fisse!$B$33:$C$34,2,FALSE)=\"ok\",\"\",1))","v":""},{"$f":"IF(J700=\"\",\"\",IF(VLOOKUP(CONCATENATE(J700,\" SI\"),W$7:W$1196,1,FALSE)=CONCATENATE(J700,\" SI\"),\"\",1))","v":""},null,{"$f":"IF(OR(J700=\"\",G700=\"\"),\"\",IF(VLOOKUP(H700,Tabelle_Fisse!$B$25:$C$29,2,FALSE)=\"ok\",\"\",1))","v":""},{"$nulls":4},""]
[{"$nulls":9},"",{"$f":"IF(J701=\"\",\"\",IF(VLOOKUP(J701,Lotti!B$6:B$596,1,FALSE)=J701,\"\",1))","v":""},null,"",null,{"$f":"IF(J701=\"\",\"\",IF(VLOOKUP(F701,Tabelle_Fisse!$B$33:$C$34,2,FALSE)=\"ok\",\"\",1))","v":""},{"$f":"IF(J701=\"\",\"\",IF(VLOOKUP(CONCATENATE(J701,\" SI\"),W$7:W$1196,1,FALSE)=CONCATENATE(J701,\" SI\"),\"\",1))","v":""},null,{"$f":"IF(OR(J701=\"\",G701=\"\"),\"\",IF(VLOOKUP(H701,Tabelle_Fisse!$B$25:$C$29,2,FALSE)=\"ok\",\"\",1))","v":""},{"$nulls":4},""]
[{"$nulls":9},"",{"$f":"IF(J702=\"\",\"\",IF(VLOOKUP(J702,Lotti!B$6:B$596,1,FALSE)=J702,\"\",1))","v":""},null,"",null,{"$f":"IF(J702=\"\",\"\",IF(VLOOKUP(F702,Tabelle_Fisse!$B$33:$C$34,2,FALSE)=\"ok\",\"\",1))","v":""},{"$f":"IF(J702=\"\",\"\",IF(VLOOKUP(CONCATENATE(J702,\" SI\"),W$7:W$1196,1,FALSE)=CONCATENATE(J702,\" SI\"),\"\",1))","v":""},null,{"$f":"IF(OR(J702=\"\",G702=\"\"),\"\",IF(VLOOKUP(H702,Tabelle_Fisse!$B$25:$C$29,2,FALSE)=\"ok\",\"\",1))","v":""},{"$nulls":4},""]
[{"$nulls":9},"",{"$f":"IF(J703=\"\",\"\",IF(VLOOKUP(J703,Lotti!B$6:B$596,1,FALSE)=J703,\"\",1))","v":""},null,"",null,{"$f":"IF(J703=\"\",\"\",IF(VLOOKUP(F703,Tabelle_Fisse!$B$33:$C$34,2,FALSE)=\"ok\",\"\",1))","v":""},{"$f":"IF(J703=\"\",\"\",IF(VLOOKUP(CONCATENATE(J703,\" SI\"),W$7:W$1196,1,FALSE)=CONCATENATE(J703,\" SI\"),\"\",1))","v":""},null,{"$f":"IF(OR(J703=\"\",G703=\"\"),\"\",IF(VLOOKUP(H703,Tabelle_Fisse!$B$25:$C$29,2,FALSE)=\"ok\",\"\",1))","v":""},{"$nulls":4},""]
[{"$nulls":9},"",{"$f":"IF(J704=\"\",\"\",IF(VLOOKUP(J704,Lotti!B$6:B$596,1,FALSE)=J704,\"\",1))","v":""},null,"",null,{"$f":"IF(J704=\"\",\"\",IF(VLOOKUP(F704,Tabelle_Fisse!$B$33:$C$34,2,FALSE)=\"ok\",\"\",1))","v":""},{"$f":"IF(J704=\"\",\"\",IF(VLOOKUP(CONCATENATE(J704,\" SI\"),W$7:W$1196,1,FALSE)=CONCATENATE(J704,\" SI\"),\"\",1))","v":""},null,{"$f":"IF(OR(J704=\"\",G704=\"\"),\"\",IF(VLOOKUP(H704,Tabelle_Fisse!$B$25:$C$29,2,FALSE)=\"ok\",\"\",1))","v":""},{"$nulls":4},""]
[{"$nulls":9},"",{"$f":"IF(J705=\"\",\"\",IF(VLOOKUP(J705,Lotti!B$6:B$596,1,FALSE)=J705,\"\",1))","v":""},null,"",null,{"$f":"IF(J705=\"\",\"\",IF(VLOOKUP(F705,Tabelle_Fisse!$B$33:$C$34,2,FALSE)=\"ok\",\"\",1))","v":""},{"$f":"IF(J705=\"\",\"\",IF(VLOOKUP(CONCATENATE(J705,\" SI\"),W$7:W$1196,1,FALSE)=CONCATENATE(J705,\" SI\"),\"\",1))","v":""},null,{"$f":"IF(OR(J705=\"\",G705=\"\"),\"\",IF(VLOOKUP(H705,Tabelle_Fisse!$B$25:$C$29,2,FALSE)=\"ok\",\"\",1))","v":""},{"$nulls":4},""]
[{"$nulls":9},"",{"$f":"IF(J706=\"\",\"\",IF(VLOOKUP(J706,Lotti!B$6:B$596,1,FALSE)=J706,\"\",1))","v":""},null,"",null,{"$f":"IF(J706=\"\",\"\",IF(VLOOKUP(F706,Tabelle_Fisse!$B$33:$C$34,2,FALSE)=\"ok\",\"\",1))","v":""},{"$f":"IF(J706=\"\",\"\",IF(VLOOKUP(CONCATENATE(J706,\" SI\"),W$7:W$1196,1,FALSE)=CONCATENATE(J706,\" SI\"),\"\",1))","v":""},null,{"$f":"IF(OR(J706=\"\",G706=\"\"),\"\",IF(VLOOKUP(H706,Tabelle_Fisse!$B$25:$C$29,2,FALSE)=\"ok\",\"\",1))","v":""},{"$nulls":4},""]
[{"$nulls":9},"",{"$f":"IF(J707=\"\",\"\",IF(VLOOKUP(J707,Lotti!B$6:B$596,1,FALSE)=J707,\"\",1))","v":""},null,"",null,{"$f":"IF(J707=\"\",\"\",IF(VLOOKUP(F707,Tabelle_Fisse!$B$33:$C$34,2,FALSE)=\"ok\",\"\",1))","v":""},{"$f":"IF(J707=\"\",\"\",IF(VLOOKUP(CONCATENATE(J707,\" SI\"),W$7:W$1196,1,FALSE)=CONCATENATE(J707,\" SI\"),\"\",1))","v":""},null,{"$f":"IF(OR(J707=\"\",G707=\"\"),\"\",IF(VLOOKUP(H707,Tabelle_Fisse!$B$25:$C$29,2,FALSE)=\"ok\",\"\",1))","v":""},{"$nulls":4},""]
[{"$nulls":9},{"$f":"TRIM(B708)","v":""},{"$f":"IF(J708=\"\",\"\",IF(VLOOKUP(J708,Lotti!B$6:B$596,1,FALSE)=J708,\"\",1))","v":""},null,{"$f":"IF(J708=\"\",\"\",IF(OR(AND(E708=\"\",LEN(D708)<>11,LEN(D708)<>16),AND(D708=\"\",E708=\"\"),AND(D708<>\"\",E708<>\"\")),1,\"\"))","v":""},null,{"$f":"IF(J708=\"\",\"\",IF(VLOOKUP(F708,Tabelle_Fisse!$B$33:$C$34,2,FALSE)=\"ok\",\"\",1))","v":""},{"$f":"IF(J708=\"\",\"\",IF(VLOOKUP(CONCATENATE(J708,\" SI\"),W$7:W$1196,1,FALSE)=CONCATENATE(J708,\" SI\"),\"\",1))","v":""},null,{"$f":"IF(OR(J708=\"\",G708=\"\"),\"\",IF(VLOOKUP(H708,Tabelle_Fisse!$B$25:$C$29,2,FALSE)=\"ok\",\"\",1))","v":""},{"$nulls":4},{"$f":"IF(J708=\"\",\"\",CONCATENATE(J708,\" \",F708))","v":""}]
[{"$nulls":9},"",{"$f":"IF(J709=\"\",\"\",IF(VLOOKUP(J709,Lotti!B$6:B$596,1,FALSE)=J709,\"\",1))","v":""},null,"",null,{"$f":"IF(J709=\"\",\"\",IF(VLOOKUP(F709,Tabelle_Fisse!$B$33:$C$34,2,FALSE)=\"ok\",\"\",1))","v":""},{"$f":"IF(J709=\"\",\"\",IF(VLOOKUP(CONCATENATE(J709,\" SI\"),W$7:W$1196,1,FALSE)=CONCATENATE(J709,\" SI\"),\"\",1))","v":""},null,{"$f":"IF(OR(J709=\"\",G709=\"\"),\"\",IF(VLOOKUP(H709,Tabelle_Fisse!$B$25:$C$29,2,FALSE)=\"ok\",\"\",1))","v":""},{"$nulls":4},""]
[{"$nulls":9},"",{"$f":"IF(J710=\"\",\"\",IF(VLOOKUP(J710,Lotti!B$6:B$596,1,FALSE)=J710,\"\",1))","v":""},null,"",null,{"$f":"IF(J710=\"\",\"\",IF(VLOOKUP(F710,Tabelle_Fisse!$B$33:$C$34,2,FALSE)=\"ok\",\"\",1))","v":""},{"$f":"IF(J710=\"\",\"\",IF(VLOOKUP(CONCATENATE(J710,\" SI\"),W$7:W$1196,1,FALSE)=CONCATENATE(J710,\" SI\"),\"\",1))","v":""},null,{"$f":"IF(OR(J710=\"\",G710=\"\"),\"\",IF(VLOOKUP(H710,Tabelle_Fisse!$B$25:$C$29,2,FALSE)=\"ok\",\"\",1))","v":""},{"$nulls":4},""]
[{"$nulls":9},"",{"$f":"IF(J711=\"\",\"\",IF(VLOOKUP(J711,Lotti!B$6:B$596,1,FALSE)=J711,\"\",1))","v":""},null,"",null,{"$f":"IF(J711=\"\",\"\",IF(VLOOKUP(F711,Tabelle_Fisse!$B$33:$C$34,2,FALSE)=\"ok\",\"\",1))","v":""},{"$f":"IF(J711=\"\",\"\",IF(VLOOKUP(CONCATENATE(J711,\" SI\"),W$7:W$1196,1,FALSE)=CONCATENATE(J711,\" SI\"),\"\",1))","v":""},null,{"$f":"IF(OR(J711=\"\",G711=\"\"),\"\",IF(VLOOKUP(H711,Tabelle_Fisse!$B$25:$C$29,2,FALSE)=\"ok\",\"\",1))","v":""},{"$nulls":4},""]
[{"$nulls":9},"",{"$f":"IF(J712=\"\",\"\",IF(VLOOKUP(J712,Lotti!B$6:B$596,1,FALSE)=J712,\"\",1))","v":""},null,"",null,{"$f":"IF(J712=\"\",\"\",IF(VLOOKUP(F712,Tabelle_Fisse!$B$33:$C$34,2,FALSE)=\"ok\",\"\",1))","v":""},{"$f":"IF(J712=\"\",\"\",IF(VLOOKUP(CONCATENATE(J712,\" SI\"),W$7:W$1196,1,FALSE)=CONCATENATE(J712,\" SI\"),\"\",1))","v":""},null,{"$f":"IF(OR(J712=\"\",G712=\"\"),\"\",IF(VLOOKUP(H712,Tabelle_Fisse!$B$25:$C$29,2,FALSE)=\"ok\",\"\",1))","v":""},{"$nulls":4},""]
[{"$nulls":9},"",{"$f":"IF(J713=\"\",\"\",IF(VLOOKUP(J713,Lotti!B$6:B$596,1,FALSE)=J713,\"\",1))","v":""},null,"",null,{"$f":"IF(J713=\"\",\"\",IF(VLOOKUP(F713,Tabelle_Fisse!$B$33:$C$34,2,FALSE)=\"ok\",\"\",1))","v":""},{"$f":"IF(J713=\"\",\"\",IF(VLOOKUP(CONCATENATE(J713,\" SI\"),W$7:W$1196,1,FALSE)=CONCATENATE(J713,\" SI\"),\"\",1))","v":""},null,{"$f":"IF(OR(J713=\"\",G713=\"\"),\"\",IF(VLOOKUP(H713,Tabelle_Fisse!$B$25:$C$29,2,FALSE)=\"ok\",\"\",1))","v":""},{"$nulls":4},""]
[{"$nulls":9},"",{"$f":"IF(J714=\"\",\"\",IF(VLOOKUP(J714,Lotti!B$6:B$596,1,FALSE)=J714,\"\",1))","v":""},null,"",null,{"$f":"IF(J714=\"\",\"\",IF(VLOOKUP(F714,Tabelle_Fisse!$B$33:$C$34,2,FALSE)=\"ok\",\"\",1))","v":""},{"$f":"IF(J714=\"\",\"\",IF(VLOOKUP(CONCATENATE(J714,\" SI\"),W$7:W$1196,1,FALSE)=CONCATENATE(J714,\" SI\"),\"\",1))","v":""},null,{"$f":"IF(OR(J714=\"\",G714=\"\"),\"\",IF(VLOOKUP(H714,Tabelle_Fisse!$B$25:$C$29,2,FALSE)=\"ok\",\"\",1))","v":""},{"$nulls":4},""]
[{"$nulls":9},"",{"$f":"IF(J715=\"\",\"\",IF(VLOOKUP(J715,Lotti!B$6:B$596,1,FALSE)=J715,\"\",1))","v":""},null,"",null,{"$f":"IF(J715=\"\",\"\",IF(VLOOKUP(F715,Tabelle_Fisse!$B$33:$C$34,2,FALSE)=\"ok\",\"\",1))","v":""},{"$f":"IF(J715=\"\",\"\",IF(VLOOKUP(CONCATENATE(J715,\" SI\"),W$7:W$1196,1,FALSE)=CONCATENATE(J715,\" SI\"),\"\",1))","v":""},null,{"$f":"IF(OR(J715=\"\",G715=\"\"),\"\",IF(VLOOKUP(H715,Tabelle_Fisse!$B$25:$C$29,2,FALSE)=\"ok\",\"\",1))","v":""},{"$nulls":4},""]
[{"$nulls":9},"",{"$f":"IF(J716=\"\",\"\",IF(VLOOKUP(J716,Lotti!B$6:B$596,1,FALSE)=J716,\"\",1))","v":""},null,"",null,{"$f":"IF(J716=\"\",\"\",IF(VLOOKUP(F716,Tabelle_Fisse!$B$33:$C$34,2,FALSE)=\"ok\",\"\",1))","v":""},{"$f":"IF(J716=\"\",\"\",IF(VLOOKUP(CONCATENATE(J716,\" SI\"),W$7:W$1196,1,FALSE)=CONCATENATE(J716,\" SI\"),\"\",1))","v":""},null,{"$f":"IF(OR(J716=\"\",G716=\"\"),\"\",IF(VLOOKUP(H716,Tabelle_Fisse!$B$25:$C$29,2,FALSE)=\"ok\",\"\",1))","v":""},{"$nulls":4},""]
[{"$nulls":9},"",{"$f":"IF(J717=\"\",\"\",IF(VLOOKUP(J717,Lotti!B$6:B$596,1,FALSE)=J717,\"\",1))","v":""},null,"",null,{"$f":"IF(J717=\"\",\"\",IF(VLOOKUP(F717,Tabelle_Fisse!$B$33:$C$34,2,FALSE)=\"ok\",\"\",1))","v":""},{"$f":"IF(J717=\"\",\"\",IF(VLOOKUP(CONCATENATE(J717,\" SI\"),W$7:W$1196,1,FALSE)=CONCATENATE(J717,\" SI\"),\"\",1))","v":""},null,{"$f":"IF(OR(J717=\"\",G717=\"\"),\"\",IF(VLOOKUP(H717,Tabelle_Fisse!$B$25:$C$29,2,FALSE)=\"ok\",\"\",1))","v":""},{"$nulls":4},""]
[{"$nulls":9},"",{"$f":"IF(J718=\"\",\"\",IF(VLOOKUP(J718,Lotti!B$6:B$596,1,FALSE)=J718,\"\",1))","v":""},null,"",null,{"$f":"IF(J718=\"\",\"\",IF(VLOOKUP(F718,Tabelle_Fisse!$B$33:$C$34,2,FALSE)=\"ok\",\"\",1))","v":""},{"$f":"IF(J718=\"\",\"\",IF(VLOOKUP(CONCATENATE(J718,\" SI\"),W$7:W$1196,1,FALSE)=CONCATENATE(J718,\" SI\"),\"\",1))","v":""},null,{"$f":"IF(OR(J718=\"\",G718=\"\"),\"\",IF(VLOOKUP(H718,Tabelle_Fisse!$B$25:$C$29,2,FALSE)=\"ok\",\"\",1))","v":""},{"$nulls":4},""]
[{"$nulls":9},"",{"$f":"IF(J719=\"\",\"\",IF(VLOOKUP(J719,Lotti!B$6:B$596,1,FALSE)=J719,\"\",1))","v":""},null,"",null,{"$f":"IF(J719=\"\",\"\",IF(VLOOKUP(F719,Tabelle_Fisse!$B$33:$C$34,2,FALSE)=\"ok\",\"\",1))","v":""},{"$f":"IF(J719=\"\",\"\",IF(VLOOKUP(CONCATENATE(J719,\" SI\"),W$7:W$1196,1,FALSE)=CONCATENATE(J719,\" SI\"),\"\",1))","v":""},null,{"$f":"IF(OR(J719=\"\",G719=\"\"),\"\",IF(VLOOKUP(H719,Tabelle_Fisse!$B$25:$C$29,2,FALSE)=\"ok\",\"\",1))","v":""},{"$nulls":4},""]
[{"$nulls":9},"",{"$f":"IF(J720=\"\",\"\",IF(VLOOKUP(J720,Lotti!B$6:B$596,1,FALSE)=J720,\"\",1))","v":""},null,"",null,{"$f":"IF(J720=\"\",\"\",IF(VLOOKUP(F720,Tabelle_Fisse!$B$33:$C$34,2,FALSE)=\"ok\",\"\",1))","v":""},{"$f":"IF(J720=\"\",\"\",IF(VLOOKUP(CONCATENATE(J720,\" SI\"),W$7:W$1196,1,FALSE)=CONCATENATE(J720,\" SI\"),\"\",1))","v":""},null,{"$f":"IF(OR(J720=\"\",G720=\"\"),\"\",IF(VLOOKUP(H720,Tabelle_Fisse!$B$25:$C$29,2,FALSE)=\"ok\",\"\",1))","v":""},{"$nulls":4},""]
[{"$nulls":9},"",{"$f":"IF(J721=\"\",\"\",IF(VLOOKUP(J721,Lotti!B$6:B$596,1,FALSE)=J721,\"\",1))","v":""},null,"",null,{"$f":"IF(J721=\"\",\"\",IF(VLOOKUP(F721,Tabelle_Fisse!$B$33:$C$34,2,FALSE)=\"ok\",\"\",1))","v":""},{"$f":"IF(J721=\"\",\"\",IF(VLOOKUP(CONCATENATE(J721,\" SI\"),W$7:W$1196,1,FALSE)=CONCATENATE(J721,\" SI\"),\"\",1))","v":""},null,{"$f":"IF(OR(J721=\"\",G721=\"\"),\"\",IF(VLOOKUP(H721,Tabelle_Fisse!$B$25:$C$29,2,FALSE)=\"ok\",\"\",1))","v":""},{"$nulls":4},""]
[{"$nulls":9},"",{"$f":"IF(J722=\"\",\"\",IF(VLOOKUP(J722,Lotti!B$6:B$596,1,FALSE)=J722,\"\",1))","v":""},null,"",null,{"$f":"IF(J722=\"\",\"\",IF(VLOOKUP(F722,Tabelle_Fisse!$B$33:$C$34,2,FALSE)=\"ok\",\"\",1))","v":""},{"$f":"IF(J722=\"\",\"\",IF(VLOOKUP(CONCATENATE(J722,\" SI\"),W$7:W$1196,1,FALSE)=CONCATENATE(J722,\" SI\"),\"\",1))","v":""},null,{"$f":"IF(OR(J722=\"\",G722=\"\"),\"\",IF(VLOOKUP(H722,Tabelle_Fisse!$B$25:$C$29,2,FALSE)=\"ok\",\"\",1))","v":""},{"$nulls":4},""]
[{"$nulls":9},"",{"$f":"IF(J723=\"\",\"\",IF(VLOOKUP(J723,Lotti!B$6:B$596,1,FALSE)=J723,\"\",1))","v":""},null,"",null,{"$f":"IF(J723=\"\",\"\",IF(VLOOKUP(F723,Tabelle_Fisse!$B$33:$C$34,2,FALSE)=\"ok\",\"\",1))","v":""},{"$f":"IF(J723=\"\",\"\",IF(VLOOKUP(CONCATENATE(J723,\" SI\"),W$7:W$1196,1,FALSE)=CONCATENATE(J723,\" SI\"),\"\",1))","v":""},null,{"$f":"IF(OR(J723=\"\",G723=\"\"),\"\",IF(VLOOKUP(H723,Tabelle_Fisse!$B$25:$C$29,2,FALSE)=\"ok\",\"\",1))","v":""},{"$nulls":4},""]
[{"$nulls":9},"",{"$f":"IF(J724=\"\",\"\",IF(VLOOKUP(J724,Lotti!B$6:B$596,1,FALSE)=J724,\"\",1))","v":""},null,"",null,{"$f":"IF(J724=\"\",\"\",IF(VLOOKUP(F724,Tabelle_Fisse!$B$33:$C$34,2,FALSE)=\"ok\",\"\",1))","v":""},{"$f":"IF(J724=\"\",\"\",IF(VLOOKUP(CONCATENATE(J724,\" SI\"),W$7:W$1196,1,FALSE)=CONCATENATE(J724,\" SI\"),\"\",1))","v":""},null,{"$f":"IF(OR(J724=\"\",G724=\"\"),\"\",IF(VLOOKUP(H724,Tabelle_Fisse!$B$25:$C$29,2,FALSE)=\"ok\",\"\",1))","v":""},{"$nulls":4},""]
[{"$nulls":9},"",{"$f":"IF(J725=\"\",\"\",IF(VLOOKUP(J725,Lotti!B$6:B$596,1,FALSE)=J725,\"\",1))","v":""},null,"",null,{"$f":"IF(J725=\"\",\"\",IF(VLOOKUP(F725,Tabelle_Fisse!$B$33:$C$34,2,FALSE)=\"ok\",\"\",1))","v":""},{"$f":"IF(J725=\"\",\"\",IF(VLOOKUP(CONCATENATE(J725,\" SI\"),W$7:W$1196,1,FALSE)=CONCATENATE(J725,\" SI\"),\"\",1))","v":""},null,{"$f":"IF(OR(J725=\"\",G725=\"\"),\"\",IF(VLOOKUP(H725,Tabelle_Fisse!$B$25:$C$29,2,FALSE)=\"ok\",\"\",1))","v":""},{"$nulls":4},""]
[{"$nulls":9},"",{"$f":"IF(J726=\"\",\"\",IF(VLOOKUP(J726,Lotti!B$6:B$596,1,FALSE)=J726,\"\",1))","v":""},null,"",null,{"$f":"IF(J726=\"\",\"\",IF(VLOOKUP(F726,Tabelle_Fisse!$B$33:$C$34,2,FALSE)=\"ok\",\"\",1))","v":""},{"$f":"IF(J726=\"\",\"\",IF(VLOOKUP(CONCATENATE(J726,\" SI\"),W$7:W$1196,1,FALSE)=CONCATENATE(J726,\" SI\"),\"\",1))","v":""},null,{"$f":"IF(OR(J726=\"\",G726=\"\"),\"\",IF(VLOOKUP(H726,Tabelle_Fisse!$B$25:$C$29,2,FALSE)=\"ok\",\"\",1))","v":""},{"$nulls":4},""]
[{"$nulls":9},"",{"$f":"IF(J727=\"\",\"\",IF(VLOOKUP(J727,Lotti!B$6:B$596,1,FALSE)=J727,\"\",1))","v":""},null,"",null,{"$f":"IF(J727=\"\",\"\",IF(VLOOKUP(F727,Tabelle_Fisse!$B$33:$C$34,2,FALSE)=\"ok\",\"\",1))","v":""},{"$f":"IF(J727=\"\",\"\",IF(VLOOKUP(CONCATENATE(J727,\" SI\"),W$7:W$1196,1,FALSE)=CONCATENATE(J727,\" SI\"),\"\",1))","v":""},null,{"$f":"IF(OR(J727=\"\",G727=\"\"),\"\",IF(VLOOKUP(H727,Tabelle_Fisse!$B$25:$C$29,2,FALSE)=\"ok\",\"\",1))","v":""},{"$nulls":4},""]
[{"$nulls":9},"",{"$f":"IF(J728=\"\",\"\",IF(VLOOKUP(J728,Lotti!B$6:B$596,1,FALSE)=J728,\"\",1))","v":""},null,"",null,{"$f":"IF(J728=\"\",\"\",IF(VLOOKUP(F728,Tabelle_Fisse!$B$33:$C$34,2,FALSE)=\"ok\",\"\",1))","v":""},{"$f":"IF(J728=\"\",\"\",IF(VLOOKUP(CONCATENATE(J728,\" SI\"),W$7:W$1196,1,FALSE)=CONCATENATE(J728,\" SI\"),\"\",1))","v":""},null,{"$f":"IF(OR(J728=\"\",G728=\"\"),\"\",IF(VLOOKUP(H728,Tabelle_Fisse!$B$25:$C$29,2,FALSE)=\"ok\",\"\",1))","v":""},{"$nulls":4},""]
[{"$nulls":9},"",{"$f":"IF(J729=\"\",\"\",IF(VLOOKUP(J729,Lotti!B$6:B$596,1,FALSE)=J729,\"\",1))","v":""},null,"",null,{"$f":"IF(J729=\"\",\"\",IF(VLOOKUP(F729,Tabelle_Fisse!$B$33:$C$34,2,FALSE)=\"ok\",\"\",1))","v":""},{"$f":"IF(J729=\"\",\"\",IF(VLOOKUP(CONCATENATE(J729,\" SI\"),W$7:W$1196,1,FALSE)=CONCATENATE(J729,\" SI\"),\"\",1))","v":""},null,{"$f":"IF(OR(J729=\"\",G729=\"\"),\"\",IF(VLOOKUP(H729,Tabelle_Fisse!$B$25:$C$29,2,FALSE)=\"ok\",\"\",1))","v":""},{"$nulls":4},""]
[{"$nulls":9},"",{"$f":"IF(J730=\"\",\"\",IF(VLOOKUP(J730,Lotti!B$6:B$596,1,FALSE)=J730,\"\",1))","v":""},null,"",null,{"$f":"IF(J730=\"\",\"\",IF(VLOOKUP(F730,Tabelle_Fisse!$B$33:$C$34,2,FALSE)=\"ok\",\"\",1))","v":""},{"$f":"IF(J730=\"\",\"\",IF(VLOOKUP(CONCATENATE(J730,\" SI\"),W$7:W$1196,1,FALSE)=CONCATENATE(J730,\" SI\"),\"\",1))","v":""},null,{"$f":"IF(OR(J730=\"\",G730=\"\"),\"\",IF(VLOOKUP(H730,Tabelle_Fisse!$B$25:$C$29,2,FALSE)=\"ok\",\"\",1))","v":""},{"$nulls":4},""]
[{"$nulls":9},"",{"$f":"IF(J731=\"\",\"\",IF(VLOOKUP(J731,Lotti!B$6:B$596,1,FALSE)=J731,\"\",1))","v":""},null,"",null,{"$f":"IF(J731=\"\",\"\",IF(VLOOKUP(F731,Tabelle_Fisse!$B$33:$C$34,2,FALSE)=\"ok\",\"\",1))","v":""},{"$f":"IF(J731=\"\",\"\",IF(VLOOKUP(CONCATENATE(J731,\" SI\"),W$7:W$1196,1,FALSE)=CONCATENATE(J731,\" SI\"),\"\",1))","v":""},null,{"$f":"IF(OR(J731=\"\",G731=\"\"),\"\",IF(VLOOKUP(H731,Tabelle_Fisse!$B$25:$C$29,2,FALSE)=\"ok\",\"\",1))","v":""},{"$nulls":4},""]
[{"$nulls":9},"",{"$f":"IF(J732=\"\",\"\",IF(VLOOKUP(J732,Lotti!B$6:B$596,1,FALSE)=J732,\"\",1))","v":""},null,"",null,{"$f":"IF(J732=\"\",\"\",IF(VLOOKUP(F732,Tabelle_Fisse!$B$33:$C$34,2,FALSE)=\"ok\",\"\",1))","v":""},{"$f":"IF(J732=\"\",\"\",IF(VLOOKUP(CONCATENATE(J732,\" SI\"),W$7:W$1196,1,FALSE)=CONCATENATE(J732,\" SI\"),\"\",1))","v":""},null,{"$f":"IF(OR(J732=\"\",G732=\"\"),\"\",IF(VLOOKUP(H732,Tabelle_Fisse!$B$25:$C$29,2,FALSE)=\"ok\",\"\",1))","v":""},{"$nulls":4},""]
[{"$nulls":9},"",{"$f":"IF(J733=\"\",\"\",IF(VLOOKUP(J733,Lotti!B$6:B$596,1,FALSE)=J733,\"\",1))","v":""},null,"",null,{"$f":"IF(J733=\"\",\"\",IF(VLOOKUP(F733,Tabelle_Fisse!$B$33:$C$34,2,FALSE)=\"ok\",\"\",1))","v":""},{"$f":"IF(J733=\"\",\"\",IF(VLOOKUP(CONCATENATE(J733,\" SI\"),W$7:W$1196,1,FALSE)=CONCATENATE(J733,\" SI\"),\"\",1))","v":""},null,{"$f":"IF(OR(J733=\"\",G733=\"\"),\"\",IF(VLOOKUP(H733,Tabelle_Fisse!$B$25:$C$29,2,FALSE)=\"ok\",\"\",1))","v":""},{"$nulls":4},""]
[{"$nulls":9},"",{"$f":"IF(J734=\"\",\"\",IF(VLOOKUP(J734,Lotti!B$6:B$596,1,FALSE)=J734,\"\",1))","v":""},null,"",null,{"$f":"IF(J734=\"\",\"\",IF(VLOOKUP(F734,Tabelle_Fisse!$B$33:$C$34,2,FALSE)=\"ok\",\"\",1))","v":""},{"$f":"IF(J734=\"\",\"\",IF(VLOOKUP(CONCATENATE(J734,\" SI\"),W$7:W$1196,1,FALSE)=CONCATENATE(J734,\" SI\"),\"\",1))","v":""},null,{"$f":"IF(OR(J734=\"\",G734=\"\"),\"\",IF(VLOOKUP(H734,Tabelle_Fisse!$B$25:$C$29,2,FALSE)=\"ok\",\"\",1))","v":""},{"$nulls":4},""]
[{"$nulls":9},"",{"$f":"IF(J735=\"\",\"\",IF(VLOOKUP(J735,Lotti!B$6:B$596,1,FALSE)=J735,\"\",1))","v":""},null,"",null,{"$f":"IF(J735=\"\",\"\",IF(VLOOKUP(F735,Tabelle_Fisse!$B$33:$C$34,2,FALSE)=\"ok\",\"\",1))","v":""},{"$f":"IF(J735=\"\",\"\",IF(VLOOKUP(CONCATENATE(J735,\" SI\"),W$7:W$1196,1,FALSE)=CONCATENATE(J735,\" SI\"),\"\",1))","v":""},null,{"$f":"IF(OR(J735=\"\",G735=\"\"),\"\",IF(VLOOKUP(H735,Tabelle_Fisse!$B$25:$C$29,2,FALSE)=\"ok\",\"\",1))","v":""},{"$nulls":4},""]
[{"$nulls":9},"",{"$f":"IF(J736=\"\",\"\",IF(VLOOKUP(J736,Lotti!B$6:B$596,1,FALSE)=J736,\"\",1))","v":""},null,"",null,{"$f":"IF(J736=\"\",\"\",IF(VLOOKUP(F736,Tabelle_Fisse!$B$33:$C$34,2,FALSE)=\"ok\",\"\",1))","v":""},{"$f":"IF(J736=\"\",\"\",IF(VLOOKUP(CONCATENATE(J736,\" SI\"),W$7:W$1196,1,FALSE)=CONCATENATE(J736,\" SI\"),\"\",1))","v":""},null,{"$f":"IF(OR(J736=\"\",G736=\"\"),\"\",IF(VLOOKUP(H736,Tabelle_Fisse!$B$25:$C$29,2,FALSE)=\"ok\",\"\",1))","v":""},{"$nulls":4},""]
[{"$nulls":9},"",{"$f":"IF(J737=\"\",\"\",IF(VLOOKUP(J737,Lotti!B$6:B$596,1,FALSE)=J737,\"\",1))","v":""},null,"",null,{"$f":"IF(J737=\"\",\"\",IF(VLOOKUP(F737,Tabelle_Fisse!$B$33:$C$34,2,FALSE)=\"ok\",\"\",1))","v":""},{"$f":"IF(J737=\"\",\"\",IF(VLOOKUP(CONCATENATE(J737,\" SI\"),W$7:W$1196,1,FALSE)=CONCATENATE(J737,\" SI\"),\"\",1))","v":""},null,{"$f":"IF(OR(J737=\"\",G737=\"\"),\"\",IF(VLOOKUP(H737,Tabelle_Fisse!$B$25:$C$29,2,FALSE)=\"ok\",\"\",1))","v":""},{"$nulls":4},""]
[{"$nulls":9},"",{"$f":"IF(J738=\"\",\"\",IF(VLOOKUP(J738,Lotti!B$6:B$596,1,FALSE)=J738,\"\",1))","v":""},null,"",null,{"$f":"IF(J738=\"\",\"\",IF(VLOOKUP(F738,Tabelle_Fisse!$B$33:$C$34,2,FALSE)=\"ok\",\"\",1))","v":""},{"$f":"IF(J738=\"\",\"\",IF(VLOOKUP(CONCATENATE(J738,\" SI\"),W$7:W$1196,1,FALSE)=CONCATENATE(J738,\" SI\"),\"\",1))","v":""},null,{"$f":"IF(OR(J738=\"\",G738=\"\"),\"\",IF(VLOOKUP(H738,Tabelle_Fisse!$B$25:$C$29,2,FALSE)=\"ok\",\"\",1))","v":""},{"$nulls":4},""]
[{"$nulls":9},"",{"$f":"IF(J739=\"\",\"\",IF(VLOOKUP(J739,Lotti!B$6:B$596,1,FALSE)=J739,\"\",1))","v":""},null,"",null,{"$f":"IF(J739=\"\",\"\",IF(VLOOKUP(F739,Tabelle_Fisse!$B$33:$C$34,2,FALSE)=\"ok\",\"\",1))","v":""},{"$f":"IF(J739=\"\",\"\",IF(VLOOKUP(CONCATENATE(J739,\" SI\"),W$7:W$1196,1,FALSE)=CONCATENATE(J739,\" SI\"),\"\",1))","v":""},null,{"$f":"IF(OR(J739=\"\",G739=\"\"),\"\",IF(VLOOKUP(H739,Tabelle_Fisse!$B$25:$C$29,2,FALSE)=\"ok\",\"\",1))","v":""},{"$nulls":4},""]
[{"$nulls":9},"",{"$f":"IF(J740=\"\",\"\",IF(VLOOKUP(J740,Lotti!B$6:B$596,1,FALSE)=J740,\"\",1))","v":""},null,"",null,{"$f":"IF(J740=\"\",\"\",IF(VLOOKUP(F740,Tabelle_Fisse!$B$33:$C$34,2,FALSE)=\"ok\",\"\",1))","v":""},{"$f":"IF(J740=\"\",\"\",IF(VLOOKUP(CONCATENATE(J740,\" SI\"),W$7:W$1196,1,FALSE)=CONCATENATE(J740,\" SI\"),\"\",1))","v":""},null,{"$f":"IF(OR(J740=\"\",G740=\"\"),\"\",IF(VLOOKUP(H740,Tabelle_Fisse!$B$25:$C$29,2,FALSE)=\"ok\",\"\",1))","v":""},{"$nulls":4},""]
[{"$nulls":9},"",{"$f":"IF(J741=\"\",\"\",IF(VLOOKUP(J741,Lotti!B$6:B$596,1,FALSE)=J741,\"\",1))","v":""},null,"",null,{"$f":"IF(J741=\"\",\"\",IF(VLOOKUP(F741,Tabelle_Fisse!$B$33:$C$34,2,FALSE)=\"ok\",\"\",1))","v":""},{"$f":"IF(J741=\"\",\"\",IF(VLOOKUP(CONCATENATE(J741,\" SI\"),W$7:W$1196,1,FALSE)=CONCATENATE(J741,\" SI\"),\"\",1))","v":""},null,{"$f":"IF(OR(J741=\"\",G741=\"\"),\"\",IF(VLOOKUP(H741,Tabelle_Fisse!$B$25:$C$29,2,FALSE)=\"ok\",\"\",1))","v":""},{"$nulls":4},""]
[{"$nulls":9},"",{"$f":"IF(J742=\"\",\"\",IF(VLOOKUP(J742,Lotti!B$6:B$596,1,FALSE)=J742,\"\",1))","v":""},null,"",null,{"$f":"IF(J742=\"\",\"\",IF(VLOOKUP(F742,Tabelle_Fisse!$B$33:$C$34,2,FALSE)=\"ok\",\"\",1))","v":""},{"$f":"IF(J742=\"\",\"\",IF(VLOOKUP(CONCATENATE(J742,\" SI\"),W$7:W$1196,1,FALSE)=CONCATENATE(J742,\" SI\"),\"\",1))","v":""},null,{"$f":"IF(OR(J742=\"\",G742=\"\"),\"\",IF(VLOOKUP(H742,Tabelle_Fisse!$B$25:$C$29,2,FALSE)=\"ok\",\"\",1))","v":""},{"$nulls":4},""]
[{"$nulls":9},"",{"$f":"IF(J743=\"\",\"\",IF(VLOOKUP(J743,Lotti!B$6:B$596,1,FALSE)=J743,\"\",1))","v":""},null,"",null,{"$f":"IF(J743=\"\",\"\",IF(VLOOKUP(F743,Tabelle_Fisse!$B$33:$C$34,2,FALSE)=\"ok\",\"\",1))","v":""},{"$f":"IF(J743=\"\",\"\",IF(VLOOKUP(CONCATENATE(J743,\" SI\"),W$7:W$1196,1,FALSE)=CONCATENATE(J743,\" SI\"),\"\",1))","v":""},null,{"$f":"IF(OR(J743=\"\",G743=\"\"),\"\",IF(VLOOKUP(H743,Tabelle_Fisse!$B$25:$C$29,2,FALSE)=\"ok\",\"\",1))","v":""},{"$nulls":4},""]
[{"$nulls":9},"",{"$f":"IF(J744=\"\",\"\",IF(VLOOKUP(J744,Lotti!B$6:B$596,1,FALSE)=J744,\"\",1))","v":""},null,"",null,{"$f":"IF(J744=\"\",\"\",IF(VLOOKUP(F744,Tabelle_Fisse!$B$33:$C$34,2,FALSE)=\"ok\",\"\",1))","v":""},{"$f":"IF(J744=\"\",\"\",IF(VLOOKUP(CONCATENATE(J744,\" SI\"),W$7:W$1196,1,FALSE)=CONCATENATE(J744,\" SI\"),\"\",1))","v":""},null,{"$f":"IF(OR(J744=\"\",G744=\"\"),\"\",IF(VLOOKUP(H744,Tabelle_Fisse!$B$25:$C$29,2,FALSE)=\"ok\",\"\",1))","v":""},{"$nulls":4},""]
[{"$nulls":9},"",{"$f":"IF(J745=\"\",\"\",IF(VLOOKUP(J745,Lotti!B$6:B$596,1,FALSE)=J745,\"\",1))","v":""},null,"",null,{"$f":"IF(J745=\"\",\"\",IF(VLOOKUP(F745,Tabelle_Fisse!$B$33:$C$34,2,FALSE)=\"ok\",\"\",1))","v":""},{"$f":"IF(J745=\"\",\"\",IF(VLOOKUP(CONCATENATE(J745,\" SI\"),W$7:W$1196,1,FALSE)=CONCATENATE(J745,\" SI\"),\"\",1))","v":""},null,{"$f":"IF(OR(J745=\"\",G745=\"\"),\"\",IF(VLOOKUP(H745,Tabelle_Fisse!$B$25:$C$29,2,FALSE)=\"ok\",\"\",1))","v":""},{"$nulls":4},""]
[{"$nulls":9},"",{"$f":"IF(J746=\"\",\"\",IF(VLOOKUP(J746,Lotti!B$6:B$596,1,FALSE)=J746,\"\",1))","v":""},null,"",null,{"$f":"IF(J746=\"\",\"\",IF(VLOOKUP(F746,Tabelle_Fisse!$B$33:$C$34,2,FALSE)=\"ok\",\"\",1))","v":""},{"$f":"IF(J746=\"\",\"\",IF(VLOOKUP(CONCATENATE(J746,\" SI\"),W$7:W$1196,1,FALSE)=CONCATENATE(J746,\" SI\"),\"\",1))","v":""},null,{"$f":"IF(OR(J746=\"\",G746=\"\"),\"\",IF(VLOOKUP(H746,Tabelle_Fisse!$B$25:$C$29,2,FALSE)=\"ok\",\"\",1))","v":""},{"$nulls":4},""]
[{"$nulls":9},"",{"$f":"IF(J747=\"\",\"\",IF(VLOOKUP(J747,Lotti!B$6:B$596,1,FALSE)=J747,\"\",1))","v":""},null,"",null,{"$f":"IF(J747=\"\",\"\",IF(VLOOKUP(F747,Tabelle_Fisse!$B$33:$C$34,2,FALSE)=\"ok\",\"\",1))","v":""},{"$f":"IF(J747=\"\",\"\",IF(VLOOKUP(CONCATENATE(J747,\" SI\"),W$7:W$1196,1,FALSE)=CONCATENATE(J747,\" SI\"),\"\",1))","v":""},null,{"$f":"IF(OR(J747=\"\",G747=\"\"),\"\",IF(VLOOKUP(H747,Tabelle_Fisse!$B$25:$C$29,2,FALSE)=\"ok\",\"\",1))","v":""},{"$nulls":4},""]
[{"$nulls":9},"",{"$f":"IF(J748=\"\",\"\",IF(VLOOKUP(J748,Lotti!B$6:B$596,1,FALSE)=J748,\"\",1))","v":""},null,"",null,{"$f":"IF(J748=\"\",\"\",IF(VLOOKUP(F748,Tabelle_Fisse!$B$33:$C$34,2,FALSE)=\"ok\",\"\",1))","v":""},{"$f":"IF(J748=\"\",\"\",IF(VLOOKUP(CONCATENATE(J748,\" SI\"),W$7:W$1196,1,FALSE)=CONCATENATE(J748,\" SI\"),\"\",1))","v":""},null,{"$f":"IF(OR(J748=\"\",G748=\"\"),\"\",IF(VLOOKUP(H748,Tabelle_Fisse!$B$25:$C$29,2,FALSE)=\"ok\",\"\",1))","v":""},{"$nulls":4},""]
[{"$nulls":9},"",{"$f":"IF(J749=\"\",\"\",IF(VLOOKUP(J749,Lotti!B$6:B$596,1,FALSE)=J749,\"\",1))","v":""},null,"",null,{"$f":"IF(J749=\"\",\"\",IF(VLOOKUP(F749,Tabelle_Fisse!$B$33:$C$34,2,FALSE)=\"ok\",\"\",1))","v":""},{"$f":"IF(J749=\"\",\"\",IF(VLOOKUP(CONCATENATE(J749,\" SI\"),W$7:W$1196,1,FALSE)=CONCATENATE(J749,\" SI\"),\"\",1))","v":""},null,{"$f":"IF(OR(J749=\"\",G749=\"\"),\"\",IF(VLOOKUP(H749,Tabelle_Fisse!$B$25:$C$29,2,FALSE)=\"ok\",\"\",1))","v":""},{"$nulls":4},""]
[{"$nulls":9},"",{"$f":"IF(J750=\"\",\"\",IF(VLOOKUP(J750,Lotti!B$6:B$596,1,FALSE)=J750,\"\",1))","v":""},null,"",null,{"$f":"IF(J750=\"\",\"\",IF(VLOOKUP(F750,Tabelle_Fisse!$B$33:$C$34,2,FALSE)=\"ok\",\"\",1))","v":""},{"$f":"IF(J750=\"\",\"\",IF(VLOOKUP(CONCATENATE(J750,\" SI\"),W$7:W$1196,1,FALSE)=CONCATENATE(J750,\" SI\"),\"\",1))","v":""},null,{"$f":"IF(OR(J750=\"\",G750=\"\"),\"\",IF(VLOOKUP(H750,Tabelle_Fisse!$B$25:$C$29,2,FALSE)=\"ok\",\"\",1))","v":""},{"$nulls":4},""]
[{"$nulls":9},"",{"$f":"IF(J751=\"\",\"\",IF(VLOOKUP(J751,Lotti!B$6:B$596,1,FALSE)=J751,\"\",1))","v":""},null,"",null,{"$f":"IF(J751=\"\",\"\",IF(VLOOKUP(F751,Tabelle_Fisse!$B$33:$C$34,2,FALSE)=\"ok\",\"\",1))","v":""},{"$f":"IF(J751=\"\",\"\",IF(VLOOKUP(CONCATENATE(J751,\" SI\"),W$7:W$1196,1,FALSE)=CONCATENATE(J751,\" SI\"),\"\",1))","v":""},null,{"$f":"IF(OR(J751=\"\",G751=\"\"),\"\",IF(VLOOKUP(H751,Tabelle_Fisse!$B$25:$C$29,2,FALSE)=\"ok\",\"\",1))","v":""},{"$nulls":4},""]
[{"$nulls":9},"",{"$f":"IF(J752=\"\",\"\",IF(VLOOKUP(J752,Lotti!B$6:B$596,1,FALSE)=J752,\"\",1))","v":""},null,"",null,{"$f":"IF(J752=\"\",\"\",IF(VLOOKUP(F752,Tabelle_Fisse!$B$33:$C$34,2,FALSE)=\"ok\",\"\",1))","v":""},{"$f":"IF(J752=\"\",\"\",IF(VLOOKUP(CONCATENATE(J752,\" SI\"),W$7:W$1196,1,FALSE)=CONCATENATE(J752,\" SI\"),\"\",1))","v":""},null,{"$f":"IF(OR(J752=\"\",G752=\"\"),\"\",IF(VLOOKUP(H752,Tabelle_Fisse!$B$25:$C$29,2,FALSE)=\"ok\",\"\",1))","v":""},{"$nulls":4},""]
[{"$nulls":9},"",{"$f":"IF(J753=\"\",\"\",IF(VLOOKUP(J753,Lotti!B$6:B$596,1,FALSE)=J753,\"\",1))","v":""},null,"",null,{"$f":"IF(J753=\"\",\"\",IF(VLOOKUP(F753,Tabelle_Fisse!$B$33:$C$34,2,FALSE)=\"ok\",\"\",1))","v":""},{"$f":"IF(J753=\"\",\"\",IF(VLOOKUP(CONCATENATE(J753,\" SI\"),W$7:W$1196,1,FALSE)=CONCATENATE(J753,\" SI\"),\"\",1))","v":""},null,{"$f":"IF(OR(J753=\"\",G753=\"\"),\"\",IF(VLOOKUP(H753,Tabelle_Fisse!$B$25:$C$29,2,FALSE)=\"ok\",\"\",1))","v":""},{"$nulls":4},""]
[{"$nulls":9},"",{"$f":"IF(J754=\"\",\"\",IF(VLOOKUP(J754,Lotti!B$6:B$596,1,FALSE)=J754,\"\",1))","v":""},null,"",null,{"$f":"IF(J754=\"\",\"\",IF(VLOOKUP(F754,Tabelle_Fisse!$B$33:$C$34,2,FALSE)=\"ok\",\"\",1))","v":""},{"$f":"IF(J754=\"\",\"\",IF(VLOOKUP(CONCATENATE(J754,\" SI\"),W$7:W$1196,1,FALSE)=CONCATENATE(J754,\" SI\"),\"\",1))","v":""},null,{"$f":"IF(OR(J754=\"\",G754=\"\"),\"\",IF(VLOOKUP(H754,Tabelle_Fisse!$B$25:$C$29,2,FALSE)=\"ok\",\"\",1))","v":""},{"$nulls":4},""]
[{"$nulls":9},"",{"$f":"IF(J755=\"\",\"\",IF(VLOOKUP(J755,Lotti!B$6:B$596,1,FALSE)=J755,\"\",1))","v":""},null,"",null,{"$f":"IF(J755=\"\",\"\",IF(VLOOKUP(F755,Tabelle_Fisse!$B$33:$C$34,2,FALSE)=\"ok\",\"\",1))","v":""},{"$f":"IF(J755=\"\",\"\",IF(VLOOKUP(CONCATENATE(J755,\" SI\"),W$7:W$1196,1,FALSE)=CONCATENATE(J755,\" SI\"),\"\",1))","v":""},null,{"$f":"IF(OR(J755=\"\",G755=\"\"),\"\",IF(VLOOKUP(H755,Tabelle_Fisse!$B$25:$C$29,2,FALSE)=\"ok\",\"\",1))","v":""},{"$nulls":4},""]
[{"$nulls":9},"",{"$f":"IF(J756=\"\",\"\",IF(VLOOKUP(J756,Lotti!B$6:B$596,1,FALSE)=J756,\"\",1))","v":""},null,"",null,{"$f":"IF(J756=\"\",\"\",IF(VLOOKUP(F756,Tabelle_Fisse!$B$33:$C$34,2,FALSE)=\"ok\",\"\",1))","v":""},{"$f":"IF(J756=\"\",\"\",IF(VLOOKUP(CONCATENATE(J756,\" SI\"),W$7:W$1196,1,FALSE)=CONCATENATE(J756,\" SI\"),\"\",1))","v":""},null,{"$f":"IF(OR(J756=\"\",G756=\"\"),\"\",IF(VLOOKUP(H756,Tabelle_Fisse!$B$25:$C$29,2,FALSE)=\"ok\",\"\",1))","v":""},{"$nulls":4},""]
[{"$nulls":9},"",{"$f":"IF(J757=\"\",\"\",IF(VLOOKUP(J757,Lotti!B$6:B$596,1,FALSE)=J757,\"\",1))","v":""},null,"",null,{"$f":"IF(J757=\"\",\"\",IF(VLOOKUP(F757,Tabelle_Fisse!$B$33:$C$34,2,FALSE)=\"ok\",\"\",1))","v":""},{"$f":"IF(J757=\"\",\"\",IF(VLOOKUP(CONCATENATE(J757,\" SI\"),W$7:W$1196,1,FALSE)=CONCATENATE(J757,\" SI\"),\"\",1))","v":""},null,{"$f":"IF(OR(J757=\"\",G757=\"\"),\"\",IF(VLOOKUP(H757,Tabelle_Fisse!$B$25:$C$29,2,FALSE)=\"ok\",\"\",1))","v":""},{"$nulls":4},""]
[{"$nulls":9},"",{"$f":"IF(J758=\"\",\"\",IF(VLOOKUP(J758,Lotti!B$6:B$596,1,FALSE)=J758,\"\",1))","v":""},null,"",null,{"$f":"IF(J758=\"\",\"\",IF(VLOOKUP(F758,Tabelle_Fisse!$B$33:$C$34,2,FALSE)=\"ok\",\"\",1))","v":""},{"$f":"IF(J758=\"\",\"\",IF(VLOOKUP(CONCATENATE(J758,\" SI\"),W$7:W$1196,1,FALSE)=CONCATENATE(J758,\" SI\"),\"\",1))","v":""},null,{"$f":"IF(OR(J758=\"\",G758=\"\"),\"\",IF(VLOOKUP(H758,Tabelle_Fisse!$B$25:$C$29,2,FALSE)=\"ok\",\"\",1))","v":""},{"$nulls":4},""]
[{"$nulls":9},"",{"$f":"IF(J759=\"\",\"\",IF(VLOOKUP(J759,Lotti!B$6:B$596,1,FALSE)=J759,\"\",1))","v":""},null,"",null,{"$f":"IF(J759=\"\",\"\",IF(VLOOKUP(F759,Tabelle_Fisse!$B$33:$C$34,2,FALSE)=\"ok\",\"\",1))","v":""},{"$f":"IF(J759=\"\",\"\",IF(VLOOKUP(CONCATENATE(J759,\" SI\"),W$7:W$1196,1,FALSE)=CONCATENATE(J759,\" SI\"),\"\",1))","v":""},null,{"$f":"IF(OR(J759=\"\",G759=\"\"),\"\",IF(VLOOKUP(H759,Tabelle_Fisse!$B$25:$C$29,2,FALSE)=\"ok\",\"\",1))","v":""},{"$nulls":4},""]
[{"$nulls":9},"",{"$f":"IF(J760=\"\",\"\",IF(VLOOKUP(J760,Lotti!B$6:B$596,1,FALSE)=J760,\"\",1))","v":""},null,"",null,{"$f":"IF(J760=\"\",\"\",IF(VLOOKUP(F760,Tabelle_Fisse!$B$33:$C$34,2,FALSE)=\"ok\",\"\",1))","v":""},{"$f":"IF(J760=\"\",\"\",IF(VLOOKUP(CONCATENATE(J760,\" SI\"),W$7:W$1196,1,FALSE)=CONCATENATE(J760,\" SI\"),\"\",1))","v":""},null,{"$f":"IF(OR(J760=\"\",G760=\"\"),\"\",IF(VLOOKUP(H760,Tabelle_Fisse!$B$25:$C$29,2,FALSE)=\"ok\",\"\",1))","v":""},{"$nulls":4},""]
[{"$nulls":9},"",{"$f":"IF(J761=\"\",\"\",IF(VLOOKUP(J761,Lotti!B$6:B$596,1,FALSE)=J761,\"\",1))","v":""},null,"",null,{"$f":"IF(J761=\"\",\"\",IF(VLOOKUP(F761,Tabelle_Fisse!$B$33:$C$34,2,FALSE)=\"ok\",\"\",1))","v":""},{"$f":"IF(J761=\"\",\"\",IF(VLOOKUP(CONCATENATE(J761,\" SI\"),W$7:W$1196,1,FALSE)=CONCATENATE(J761,\" SI\"),\"\",1))","v":""},null,{"$f":"IF(OR(J761=\"\",G761=\"\"),\"\",IF(VLOOKUP(H761,Tabelle_Fisse!$B$25:$C$29,2,FALSE)=\"ok\",\"\",1))","v":""},{"$nulls":4},""]
[{"$nulls":9},"",{"$f":"IF(J762=\"\",\"\",IF(VLOOKUP(J762,Lotti!B$6:B$596,1,FALSE)=J762,\"\",1))","v":""},null,"",null,{"$f":"IF(J762=\"\",\"\",IF(VLOOKUP(F762,Tabelle_Fisse!$B$33:$C$34,2,FALSE)=\"ok\",\"\",1))","v":""},{"$f":"IF(J762=\"\",\"\",IF(VLOOKUP(CONCATENATE(J762,\" SI\"),W$7:W$1196,1,FALSE)=CONCATENATE(J762,\" SI\"),\"\",1))","v":""},null,{"$f":"IF(OR(J762=\"\",G762=\"\"),\"\",IF(VLOOKUP(H762,Tabelle_Fisse!$B$25:$C$29,2,FALSE)=\"ok\",\"\",1))","v":""},{"$nulls":4},""]
[{"$nulls":9},"",{"$f":"IF(J763=\"\",\"\",IF(VLOOKUP(J763,Lotti!B$6:B$596,1,FALSE)=J763,\"\",1))","v":""},null,"",null,{"$f":"IF(J763=\"\",\"\",IF(VLOOKUP(F763,Tabelle_Fisse!$B$33:$C$34,2,FALSE)=\"ok\",\"\",1))","v":""},{"$f":"IF(J763=\"\",\"\",IF(VLOOKUP(CONCATENATE(J763,\" SI\"),W$7:W$1196,1,FALSE)=CONCATENATE(J763,\" SI\"),\"\",1))","v":""},null,{"$f":"IF(OR(J763=\"\",G763=\"\"),\"\",IF(VLOOKUP(H763,Tabelle_Fisse!$B$25:$C$29,2,FALSE)=\"ok\",\"\",1))","v":""},{"$nulls":4},""]
[{"$nulls":9},"",{"$f":"IF(J764=\"\",\"\",IF(VLOOKUP(J764,Lotti!B$6:B$596,1,FALSE)=J764,\"\",1))","v":""},null,"",null,{"$f":"IF(J764=\"\",\"\",IF(VLOOKUP(F764,Tabelle_Fisse!$B$33:$C$34,2,FALSE)=\"ok\",\"\",1))","v":""},{"$f":"IF(J764=\"\",\"\",IF(VLOOKUP(CONCATENATE(J764,\" SI\"),W$7:W$1196,1,FALSE)=CONCATENATE(J764,\" SI\"),\"\",1))","v":""},null,{"$f":"IF(OR(J764=\"\",G764=\"\"),\"\",IF(VLOOKUP(H764,Tabelle_Fisse!$B$25:$C$29,2,FALSE)=\"ok\",\"\",1))","v":""},{"$nulls":4},""]
[{"$nulls":9},"",{"$f":"IF(J765=\"\",\"\",IF(VLOOKUP(J765,Lotti!B$6:B$596,1,FALSE)=J765,\"\",1))","v":""},null,"",null,{"$f":"IF(J765=\"\",\"\",IF(VLOOKUP(F765,Tabelle_Fisse!$B$33:$C$34,2,FALSE)=\"ok\",\"\",1))","v":""},{"$f":"IF(J765=\"\",\"\",IF(VLOOKUP(CONCATENATE(J765,\" SI\"),W$7:W$1196,1,FALSE)=CONCATENATE(J765,\" SI\"),\"\",1))","v":""},null,{"$f":"IF(OR(J765=\"\",G765=\"\"),\"\",IF(VLOOKUP(H765,Tabelle_Fisse!$B$25:$C$29,2,FALSE)=\"ok\",\"\",1))","v":""},{"$nulls":4},""]
[{"$nulls":9},"",{"$f":"IF(J766=\"\",\"\",IF(VLOOKUP(J766,Lotti!B$6:B$596,1,FALSE)=J766,\"\",1))","v":""},null,"",null,{"$f":"IF(J766=\"\",\"\",IF(VLOOKUP(F766,Tabelle_Fisse!$B$33:$C$34,2,FALSE)=\"ok\",\"\",1))","v":""},{"$f":"IF(J766=\"\",\"\",IF(VLOOKUP(CONCATENATE(J766,\" SI\"),W$7:W$1196,1,FALSE)=CONCATENATE(J766,\" SI\"),\"\",1))","v":""},null,{"$f":"IF(OR(J766=\"\",G766=\"\"),\"\",IF(VLOOKUP(H766,Tabelle_Fisse!$B$25:$C$29,2,FALSE)=\"ok\",\"\",1))","v":""},{"$nulls":4},""]
[{"$nulls":9},"",{"$f":"IF(J767=\"\",\"\",IF(VLOOKUP(J767,Lotti!B$6:B$596,1,FALSE)=J767,\"\",1))","v":""},null,"",null,{"$f":"IF(J767=\"\",\"\",IF(VLOOKUP(F767,Tabelle_Fisse!$B$33:$C$34,2,FALSE)=\"ok\",\"\",1))","v":""},{"$f":"IF(J767=\"\",\"\",IF(VLOOKUP(CONCATENATE(J767,\" SI\"),W$7:W$1196,1,FALSE)=CONCATENATE(J767,\" SI\"),\"\",1))","v":""},null,{"$f":"IF(OR(J767=\"\",G767=\"\"),\"\",IF(VLOOKUP(H767,Tabelle_Fisse!$B$25:$C$29,2,FALSE)=\"ok\",\"\",1))","v":""},{"$nulls":4},""]
[{"$nulls":9},"",{"$f":"IF(J768=\"\",\"\",IF(VLOOKUP(J768,Lotti!B$6:B$596,1,FALSE)=J768,\"\",1))","v":""},null,"",null,{"$f":"IF(J768=\"\",\"\",IF(VLOOKUP(F768,Tabelle_Fisse!$B$33:$C$34,2,FALSE)=\"ok\",\"\",1))","v":""},{"$f":"IF(J768=\"\",\"\",IF(VLOOKUP(CONCATENATE(J768,\" SI\"),W$7:W$1196,1,FALSE)=CONCATENATE(J768,\" SI\"),\"\",1))","v":""},null,{"$f":"IF(OR(J768=\"\",G768=\"\"),\"\",IF(VLOOKUP(H768,Tabelle_Fisse!$B$25:$C$29,2,FALSE)=\"ok\",\"\",1))","v":""},{"$nulls":4},""]
[{"$nulls":9},"",{"$f":"IF(J769=\"\",\"\",IF(VLOOKUP(J769,Lotti!B$6:B$596,1,FALSE)=J769,\"\",1))","v":""},null,"",null,{"$f":"IF(J769=\"\",\"\",IF(VLOOKUP(F769,Tabelle_Fisse!$B$33:$C$34,2,FALSE)=\"ok\",\"\",1))","v":""},{"$f":"IF(J769=\"\",\"\",IF(VLOOKUP(CONCATENATE(J769,\" SI\"),W$7:W$1196,1,FALSE)=CONCATENATE(J769,\" SI\"),\"\",1))","v":""},null,{"$f":"IF(OR(J769=\"\",G769=\"\"),\"\",IF(VLOOKUP(H769,Tabelle_Fisse!$B$25:$C$29,2,FALSE)=\"ok\",\"\",1))","v":""},{"$nulls":4},""]
[{"$nulls":9},"",{"$f":"IF(J770=\"\",\"\",IF(VLOOKUP(J770,Lotti!B$6:B$596,1,FALSE)=J770,\"\",1))","v":""},null,"",null,{"$f":"IF(J770=\"\",\"\",IF(VLOOKUP(F770,Tabelle_Fisse!$B$33:$C$34,2,FALSE)=\"ok\",\"\",1))","v":""},{"$f":"IF(J770=\"\",\"\",IF(VLOOKUP(CONCATENATE(J770,\" SI\"),W$7:W$1196,1,FALSE)=CONCATENATE(J770,\" SI\"),\"\",1))","v":""},null,{"$f":"IF(OR(J770=\"\",G770=\"\"),\"\",IF(VLOOKUP(H770,Tabelle_Fisse!$B$25:$C$29,2,FALSE)=\"ok\",\"\",1))","v":""},{"$nulls":4},""]
[{"$nulls":9},"",{"$f":"IF(J771=\"\",\"\",IF(VLOOKUP(J771,Lotti!B$6:B$596,1,FALSE)=J771,\"\",1))","v":""},null,"",null,{"$f":"IF(J771=\"\",\"\",IF(VLOOKUP(F771,Tabelle_Fisse!$B$33:$C$34,2,FALSE)=\"ok\",\"\",1))","v":""},{"$f":"IF(J771=\"\",\"\",IF(VLOOKUP(CONCATENATE(J771,\" SI\"),W$7:W$1196,1,FALSE)=CONCATENATE(J771,\" SI\"),\"\",1))","v":""},null,{"$f":"IF(OR(J771=\"\",G771=\"\"),\"\",IF(VLOOKUP(H771,Tabelle_Fisse!$B$25:$C$29,2,FALSE)=\"ok\",\"\",1))","v":""},{"$nulls":4},""]
[{"$nulls":9},{"$f":"TRIM(B772)","v":""},{"$f":"IF(J772=\"\",\"\",IF(VLOOKUP(J772,Lotti!B$6:B$596,1,FALSE)=J772,\"\",1))","v":""},null,{"$f":"IF(J772=\"\",\"\",IF(OR(AND(E772=\"\",LEN(D772)<>11,LEN(D772)<>16),AND(D772=\"\",E772=\"\"),AND(D772<>\"\",E772<>\"\")),1,\"\"))","v":""},null,{"$f":"IF(J772=\"\",\"\",IF(VLOOKUP(F772,Tabelle_Fisse!$B$33:$C$34,2,FALSE)=\"ok\",\"\",1))","v":""},{"$f":"IF(J772=\"\",\"\",IF(VLOOKUP(CONCATENATE(J772,\" SI\"),W$7:W$1196,1,FALSE)=CONCATENATE(J772,\" SI\"),\"\",1))","v":""},null,{"$f":"IF(OR(J772=\"\",G772=\"\"),\"\",IF(VLOOKUP(H772,Tabelle_Fisse!$B$25:$C$29,2,FALSE)=\"ok\",\"\",1))","v":""},{"$nulls":4},{"$f":"IF(J772=\"\",\"\",CONCATENATE(J772,\" \",F772))","v":""}]
[{"$nulls":9},"",{"$f":"IF(J773=\"\",\"\",IF(VLOOKUP(J773,Lotti!B$6:B$596,1,FALSE)=J773,\"\",1))","v":""},null,"",null,{"$f":"IF(J773=\"\",\"\",IF(VLOOKUP(F773,Tabelle_Fisse!$B$33:$C$34,2,FALSE)=\"ok\",\"\",1))","v":""},{"$f":"IF(J773=\"\",\"\",IF(VLOOKUP(CONCATENATE(J773,\" SI\"),W$7:W$1196,1,FALSE)=CONCATENATE(J773,\" SI\"),\"\",1))","v":""},null,{"$f":"IF(OR(J773=\"\",G773=\"\"),\"\",IF(VLOOKUP(H773,Tabelle_Fisse!$B$25:$C$29,2,FALSE)=\"ok\",\"\",1))","v":""},{"$nulls":4},""]
[{"$nulls":9},"",{"$f":"IF(J774=\"\",\"\",IF(VLOOKUP(J774,Lotti!B$6:B$596,1,FALSE)=J774,\"\",1))","v":""},null,"",null,{"$f":"IF(J774=\"\",\"\",IF(VLOOKUP(F774,Tabelle_Fisse!$B$33:$C$34,2,FALSE)=\"ok\",\"\",1))","v":""},{"$f":"IF(J774=\"\",\"\",IF(VLOOKUP(CONCATENATE(J774,\" SI\"),W$7:W$1196,1,FALSE)=CONCATENATE(J774,\" SI\"),\"\",1))","v":""},null,{"$f":"IF(OR(J774=\"\",G774=\"\"),\"\",IF(VLOOKUP(H774,Tabelle_Fisse!$B$25:$C$29,2,FALSE)=\"ok\",\"\",1))","v":""},{"$nulls":4},""]
[{"$nulls":9},"",{"$f":"IF(J775=\"\",\"\",IF(VLOOKUP(J775,Lotti!B$6:B$596,1,FALSE)=J775,\"\",1))","v":""},null,"",null,{"$f":"IF(J775=\"\",\"\",IF(VLOOKUP(F775,Tabelle_Fisse!$B$33:$C$34,2,FALSE)=\"ok\",\"\",1))","v":""},{"$f":"IF(J775=\"\",\"\",IF(VLOOKUP(CONCATENATE(J775,\" SI\"),W$7:W$1196,1,FALSE)=CONCATENATE(J775,\" SI\"),\"\",1))","v":""},null,{"$f":"IF(OR(J775=\"\",G775=\"\"),\"\",IF(VLOOKUP(H775,Tabelle_Fisse!$B$25:$C$29,2,FALSE)=\"ok\",\"\",1))","v":""},{"$nulls":4},""]
[{"$nulls":9},"",{"$f":"IF(J776=\"\",\"\",IF(VLOOKUP(J776,Lotti!B$6:B$596,1,FALSE)=J776,\"\",1))","v":""},null,"",null,{"$f":"IF(J776=\"\",\"\",IF(VLOOKUP(F776,Tabelle_Fisse!$B$33:$C$34,2,FALSE)=\"ok\",\"\",1))","v":""},{"$f":"IF(J776=\"\",\"\",IF(VLOOKUP(CONCATENATE(J776,\" SI\"),W$7:W$1196,1,FALSE)=CONCATENATE(J776,\" SI\"),\"\",1))","v":""},null,{"$f":"IF(OR(J776=\"\",G776=\"\"),\"\",IF(VLOOKUP(H776,Tabelle_Fisse!$B$25:$C$29,2,FALSE)=\"ok\",\"\",1))","v":""},{"$nulls":4},""]
[{"$nulls":9},"",{"$f":"IF(J777=\"\",\"\",IF(VLOOKUP(J777,Lotti!B$6:B$596,1,FALSE)=J777,\"\",1))","v":""},null,"",null,{"$f":"IF(J777=\"\",\"\",IF(VLOOKUP(F777,Tabelle_Fisse!$B$33:$C$34,2,FALSE)=\"ok\",\"\",1))","v":""},{"$f":"IF(J777=\"\",\"\",IF(VLOOKUP(CONCATENATE(J777,\" SI\"),W$7:W$1196,1,FALSE)=CONCATENATE(J777,\" SI\"),\"\",1))","v":""},null,{"$f":"IF(OR(J777=\"\",G777=\"\"),\"\",IF(VLOOKUP(H777,Tabelle_Fisse!$B$25:$C$29,2,FALSE)=\"ok\",\"\",1))","v":""},{"$nulls":4},""]
[{"$nulls":9},"",{"$f":"IF(J778=\"\",\"\",IF(VLOOKUP(J778,Lotti!B$6:B$596,1,FALSE)=J778,\"\",1))","v":""},null,"",null,{"$f":"IF(J778=\"\",\"\",IF(VLOOKUP(F778,Tabelle_Fisse!$B$33:$C$34,2,FALSE)=\"ok\",\"\",1))","v":""},{"$f":"IF(J778=\"\",\"\",IF(VLOOKUP(CONCATENATE(J778,\" SI\"),W$7:W$1196,1,FALSE)=CONCATENATE(J778,\" SI\"),\"\",1))","v":""},null,{"$f":"IF(OR(J778=\"\",G778=\"\"),\"\",IF(VLOOKUP(H778,Tabelle_Fisse!$B$25:$C$29,2,FALSE)=\"ok\",\"\",1))","v":""},{"$nulls":4},""]
[{"$nulls":9},"",{"$f":"IF(J779=\"\",\"\",IF(VLOOKUP(J779,Lotti!B$6:B$596,1,FALSE)=J779,\"\",1))","v":""},null,"",null,{"$f":"IF(J779=\"\",\"\",IF(VLOOKUP(F779,Tabelle_Fisse!$B$33:$C$34,2,FALSE)=\"ok\",\"\",1))","v":""},{"$f":"IF(J779=\"\",\"\",IF(VLOOKUP(CONCATENATE(J779,\" SI\"),W$7:W$1196,1,FALSE)=CONCATENATE(J779,\" SI\"),\"\",1))","v":""},null,{"$f":"IF(OR(J779=\"\",G779=\"\"),\"\",IF(VLOOKUP(H779,Tabelle_Fisse!$B$25:$C$29,2,FALSE)=\"ok\",\"\",1))","v":""},{"$nulls":4},""]
[{"$nulls":9},"",{"$f":"IF(J780=\"\",\"\",IF(VLOOKUP(J780,Lotti!B$6:B$596,1,FALSE)=J780,\"\",1))","v":""},null,"",null,{"$f":"IF(J780=\"\",\"\",IF(VLOOKUP(F780,Tabelle_Fisse!$B$33:$C$34,2,FALSE)=\"ok\",\"\",1))","v":""},{"$f":"IF(J780=\"\",\"\",IF(VLOOKUP(CONCATENATE(J780,\" SI\"),W$7:W$1196,1,FALSE)=CONCATENATE(J780,\" SI\"),\"\",1))","v":""},null,{"$f":"IF(OR(J780=\"\",G780=\"\"),\"\",IF(VLOOKUP(H780,Tabelle_Fisse!$B$25:$C$29,2,FALSE)=\"ok\",\"\",1))","v":""},{"$nulls":4},""]
[{"$nulls":9},"",{"$f":"IF(J781=\"\",\"\",IF(VLOOKUP(J781,Lotti!B$6:B$596,1,FALSE)=J781,\"\",1))","v":""},null,"",null,{"$f":"IF(J781=\"\",\"\",IF(VLOOKUP(F781,Tabelle_Fisse!$B$33:$C$34,2,FALSE)=\"ok\",\"\",1))","v":""},{"$f":"IF(J781=\"\",\"\",IF(VLOOKUP(CONCATENATE(J781,\" SI\"),W$7:W$1196,1,FALSE)=CONCATENATE(J781,\" SI\"),\"\",1))","v":""},null,{"$f":"IF(OR(J781=\"\",G781=\"\"),\"\",IF(VLOOKUP(H781,Tabelle_Fisse!$B$25:$C$29,2,FALSE)=\"ok\",\"\",1))","v":""},{"$nulls":4},""]
[{"$nulls":9},"",{"$f":"IF(J782=\"\",\"\",IF(VLOOKUP(J782,Lotti!B$6:B$596,1,FALSE)=J782,\"\",1))","v":""},null,"",null,{"$f":"IF(J782=\"\",\"\",IF(VLOOKUP(F782,Tabelle_Fisse!$B$33:$C$34,2,FALSE)=\"ok\",\"\",1))","v":""},{"$f":"IF(J782=\"\",\"\",IF(VLOOKUP(CONCATENATE(J782,\" SI\"),W$7:W$1196,1,FALSE)=CONCATENATE(J782,\" SI\"),\"\",1))","v":""},null,{"$f":"IF(OR(J782=\"\",G782=\"\"),\"\",IF(VLOOKUP(H782,Tabelle_Fisse!$B$25:$C$29,2,FALSE)=\"ok\",\"\",1))","v":""},{"$nulls":4},""]
[{"$nulls":9},"",{"$f":"IF(J783=\"\",\"\",IF(VLOOKUP(J783,Lotti!B$6:B$596,1,FALSE)=J783,\"\",1))","v":""},null,"",null,{"$f":"IF(J783=\"\",\"\",IF(VLOOKUP(F783,Tabelle_Fisse!$B$33:$C$34,2,FALSE)=\"ok\",\"\",1))","v":""},{"$f":"IF(J783=\"\",\"\",IF(VLOOKUP(CONCATENATE(J783,\" SI\"),W$7:W$1196,1,FALSE)=CONCATENATE(J783,\" SI\"),\"\",1))","v":""},null,{"$f":"IF(OR(J783=\"\",G783=\"\"),\"\",IF(VLOOKUP(H783,Tabelle_Fisse!$B$25:$C$29,2,FALSE)=\"ok\",\"\",1))","v":""},{"$nulls":4},""]
[{"$nulls":9},"",{"$f":"IF(J784=\"\",\"\",IF(VLOOKUP(J784,Lotti!B$6:B$596,1,FALSE)=J784,\"\",1))","v":""},null,"",null,{"$f":"IF(J784=\"\",\"\",IF(VLOOKUP(F784,Tabelle_Fisse!$B$33:$C$34,2,FALSE)=\"ok\",\"\",1))","v":""},{"$f":"IF(J784=\"\",\"\",IF(VLOOKUP(CONCATENATE(J784,\" SI\"),W$7:W$1196,1,FALSE)=CONCATENATE(J784,\" SI\"),\"\",1))","v":""},null,{"$f":"IF(OR(J784=\"\",G784=\"\"),\"\",IF(VLOOKUP(H784,Tabelle_Fisse!$B$25:$C$29,2,FALSE)=\"ok\",\"\",1))","v":""},{"$nulls":4},""]
[{"$nulls":9},"",{"$f":"IF(J785=\"\",\"\",IF(VLOOKUP(J785,Lotti!B$6:B$596,1,FALSE)=J785,\"\",1))","v":""},null,"",null,{"$f":"IF(J785=\"\",\"\",IF(VLOOKUP(F785,Tabelle_Fisse!$B$33:$C$34,2,FALSE)=\"ok\",\"\",1))","v":""},{"$f":"IF(J785=\"\",\"\",IF(VLOOKUP(CONCATENATE(J785,\" SI\"),W$7:W$1196,1,FALSE)=CONCATENATE(J785,\" SI\"),\"\",1))","v":""},null,{"$f":"IF(OR(J785=\"\",G785=\"\"),\"\",IF(VLOOKUP(H785,Tabelle_Fisse!$B$25:$C$29,2,FALSE)=\"ok\",\"\",1))","v":""},{"$nulls":4},""]
[{"$nulls":9},"",{"$f":"IF(J786=\"\",\"\",IF(VLOOKUP(J786,Lotti!B$6:B$596,1,FALSE)=J786,\"\",1))","v":""},null,"",null,{"$f":"IF(J786=\"\",\"\",IF(VLOOKUP(F786,Tabelle_Fisse!$B$33:$C$34,2,FALSE)=\"ok\",\"\",1))","v":""},{"$f":"IF(J786=\"\",\"\",IF(VLOOKUP(CONCATENATE(J786,\" SI\"),W$7:W$1196,1,FALSE)=CONCATENATE(J786,\" SI\"),\"\",1))","v":""},null,{"$f":"IF(OR(J786=\"\",G786=\"\"),\"\",IF(VLOOKUP(H786,Tabelle_Fisse!$B$25:$C$29,2,FALSE)=\"ok\",\"\",1))","v":""},{"$nulls":4},""]
[{"$nulls":9},"",{"$f":"IF(J787=\"\",\"\",IF(VLOOKUP(J787,Lotti!B$6:B$596,1,FALSE)=J787,\"\",1))","v":""},null,"",null,{"$f":"IF(J787=\"\",\"\",IF(VLOOKUP(F787,Tabelle_Fisse!$B$33:$C$34,2,FALSE)=\"ok\",\"\",1))","v":""},{"$f":"IF(J787=\"\",\"\",IF(VLOOKUP(CONCATENATE(J787,\" SI\"),W$7:W$1196,1,FALSE)=CONCATENATE(J787,\" SI\"),\"\",1))","v":""},null,{"$f":"IF(OR(J787=\"\",G787=\"\"),\"\",IF(VLOOKUP(H787,Tabelle_Fisse!$B$25:$C$29,2,FALSE)=\"ok\",\"\",1))","v":""},{"$nulls":4},""]
[{"$nulls":9},"",{"$f":"IF(J788=\"\",\"\",IF(VLOOKUP(J788,Lotti!B$6:B$596,1,FALSE)=J788,\"\",1))","v":""},null,"",null,{"$f":"IF(J788=\"\",\"\",IF(VLOOKUP(F788,Tabelle_Fisse!$B$33:$C$34,2,FALSE)=\"ok\",\"\",1))","v":""},{"$f":"IF(J788=\"\",\"\",IF(VLOOKUP(CONCATENATE(J788,\" SI\"),W$7:W$1196,1,FALSE)=CONCATENATE(J788,\" SI\"),\"\",1))","v":""},null,{"$f":"IF(OR(J788=\"\",G788=\"\"),\"\",IF(VLOOKUP(H788,Tabelle_Fisse!$B$25:$C$29,2,FALSE)=\"ok\",\"\",1))","v":""},{"$nulls":4},""]
[{"$nulls":9},"",{"$f":"IF(J789=\"\",\"\",IF(VLOOKUP(J789,Lotti!B$6:B$596,1,FALSE)=J789,\"\",1))","v":""},null,"",null,{"$f":"IF(J789=\"\",\"\",IF(VLOOKUP(F789,Tabelle_Fisse!$B$33:$C$34,2,FALSE)=\"ok\",\"\",1))","v":""},{"$f":"IF(J789=\"\",\"\",IF(VLOOKUP(CONCATENATE(J789,\" SI\"),W$7:W$1196,1,FALSE)=CONCATENATE(J789,\" SI\"),\"\",1))","v":""},null,{"$f":"IF(OR(J789=\"\",G789=\"\"),\"\",IF(VLOOKUP(H789,Tabelle_Fisse!$B$25:$C$29,2,FALSE)=\"ok\",\"\",1))","v":""},{"$nulls":4},""]
[{"$nulls":9},"",{"$f":"IF(J790=\"\",\"\",IF(VLOOKUP(J790,Lotti!B$6:B$596,1,FALSE)=J790,\"\",1))","v":""},null,"",null,{"$f":"IF(J790=\"\",\"\",IF(VLOOKUP(F790,Tabelle_Fisse!$B$33:$C$34,2,FALSE)=\"ok\",\"\",1))","v":""},{"$f":"IF(J790=\"\",\"\",IF(VLOOKUP(CONCATENATE(J790,\" SI\"),W$7:W$1196,1,FALSE)=CONCATENATE(J790,\" SI\"),\"\",1))","v":""},null,{"$f":"IF(OR(J790=\"\",G790=\"\"),\"\",IF(VLOOKUP(H790,Tabelle_Fisse!$B$25:$C$29,2,FALSE)=\"ok\",\"\",1))","v":""},{"$nulls":4},""]
[{"$nulls":9},"",{"$f":"IF(J791=\"\",\"\",IF(VLOOKUP(J791,Lotti!B$6:B$596,1,FALSE)=J791,\"\",1))","v":""},null,"",null,{"$f":"IF(J791=\"\",\"\",IF(VLOOKUP(F791,Tabelle_Fisse!$B$33:$C$34,2,FALSE)=\"ok\",\"\",1))","v":""},{"$f":"IF(J791=\"\",\"\",IF(VLOOKUP(CONCATENATE(J791,\" SI\"),W$7:W$1196,1,FALSE)=CONCATENATE(J791,\" SI\"),\"\",1))","v":""},null,{"$f":"IF(OR(J791=\"\",G791=\"\"),\"\",IF(VLOOKUP(H791,Tabelle_Fisse!$B$25:$C$29,2,FALSE)=\"ok\",\"\",1))","v":""},{"$nulls":4},""]
[{"$nulls":9},"",{"$f":"IF(J792=\"\",\"\",IF(VLOOKUP(J792,Lotti!B$6:B$596,1,FALSE)=J792,\"\",1))","v":""},null,"",null,{"$f":"IF(J792=\"\",\"\",IF(VLOOKUP(F792,Tabelle_Fisse!$B$33:$C$34,2,FALSE)=\"ok\",\"\",1))","v":""},{"$f":"IF(J792=\"\",\"\",IF(VLOOKUP(CONCATENATE(J792,\" SI\"),W$7:W$1196,1,FALSE)=CONCATENATE(J792,\" SI\"),\"\",1))","v":""},null,{"$f":"IF(OR(J792=\"\",G792=\"\"),\"\",IF(VLOOKUP(H792,Tabelle_Fisse!$B$25:$C$29,2,FALSE)=\"ok\",\"\",1))","v":""},{"$nulls":4},""]
[{"$nulls":9},"",{"$f":"IF(J793=\"\",\"\",IF(VLOOKUP(J793,Lotti!B$6:B$596,1,FALSE)=J793,\"\",1))","v":""},null,"",null,{"$f":"IF(J793=\"\",\"\",IF(VLOOKUP(F793,Tabelle_Fisse!$B$33:$C$34,2,FALSE)=\"ok\",\"\",1))","v":""},{"$f":"IF(J793=\"\",\"\",IF(VLOOKUP(CONCATENATE(J793,\" SI\"),W$7:W$1196,1,FALSE)=CONCATENATE(J793,\" SI\"),\"\",1))","v":""},null,{"$f":"IF(OR(J793=\"\",G793=\"\"),\"\",IF(VLOOKUP(H793,Tabelle_Fisse!$B$25:$C$29,2,FALSE)=\"ok\",\"\",1))","v":""},{"$nulls":4},""]
[{"$nulls":9},"",{"$f":"IF(J794=\"\",\"\",IF(VLOOKUP(J794,Lotti!B$6:B$596,1,FALSE)=J794,\"\",1))","v":""},null,"",null,{"$f":"IF(J794=\"\",\"\",IF(VLOOKUP(F794,Tabelle_Fisse!$B$33:$C$34,2,FALSE)=\"ok\",\"\",1))","v":""},{"$f":"IF(J794=\"\",\"\",IF(VLOOKUP(CONCATENATE(J794,\" SI\"),W$7:W$1196,1,FALSE)=CONCATENATE(J794,\" SI\"),\"\",1))","v":""},null,{"$f":"IF(OR(J794=\"\",G794=\"\"),\"\",IF(VLOOKUP(H794,Tabelle_Fisse!$B$25:$C$29,2,FALSE)=\"ok\",\"\",1))","v":""},{"$nulls":4},""]
[{"$nulls":9},"",{"$f":"IF(J795=\"\",\"\",IF(VLOOKUP(J795,Lotti!B$6:B$596,1,FALSE)=J795,\"\",1))","v":""},null,"",null,{"$f":"IF(J795=\"\",\"\",IF(VLOOKUP(F795,Tabelle_Fisse!$B$33:$C$34,2,FALSE)=\"ok\",\"\",1))","v":""},{"$f":"IF(J795=\"\",\"\",IF(VLOOKUP(CONCATENATE(J795,\" SI\"),W$7:W$1196,1,FALSE)=CONCATENATE(J795,\" SI\"),\"\",1))","v":""},null,{"$f":"IF(OR(J795=\"\",G795=\"\"),\"\",IF(VLOOKUP(H795,Tabelle_Fisse!$B$25:$C$29,2,FALSE)=\"ok\",\"\",1))","v":""},{"$nulls":4},""]
[{"$nulls":9},"",{"$f":"IF(J796=\"\",\"\",IF(VLOOKUP(J796,Lotti!B$6:B$596,1,FALSE)=J796,\"\",1))","v":""},null,"",null,{"$f":"IF(J796=\"\",\"\",IF(VLOOKUP(F796,Tabelle_Fisse!$B$33:$C$34,2,FALSE)=\"ok\",\"\",1))","v":""},{"$f":"IF(J796=\"\",\"\",IF(VLOOKUP(CONCATENATE(J796,\" SI\"),W$7:W$1196,1,FALSE)=CONCATENATE(J796,\" SI\"),\"\",1))","v":""},null,{"$f":"IF(OR(J796=\"\",G796=\"\"),\"\",IF(VLOOKUP(H796,Tabelle_Fisse!$B$25:$C$29,2,FALSE)=\"ok\",\"\",1))","v":""},{"$nulls":4},""]
[{"$nulls":9},"",{"$f":"IF(J797=\"\",\"\",IF(VLOOKUP(J797,Lotti!B$6:B$596,1,FALSE)=J797,\"\",1))","v":""},null,"",null,{"$f":"IF(J797=\"\",\"\",IF(VLOOKUP(F797,Tabelle_Fisse!$B$33:$C$34,2,FALSE)=\"ok\",\"\",1))","v":""},{"$f":"IF(J797=\"\",\"\",IF(VLOOKUP(CONCATENATE(J797,\" SI\"),W$7:W$1196,1,FALSE)=CONCATENATE(J797,\" SI\"),\"\",1))","v":""},null,{"$f":"IF(OR(J797=\"\",G797=\"\"),\"\",IF(VLOOKUP(H797,Tabelle_Fisse!$B$25:$C$29,2,FALSE)=\"ok\",\"\",1))","v":""},{"$nulls":4},""]
[{"$nulls":9},"",{"$f":"IF(J798=\"\",\"\",IF(VLOOKUP(J798,Lotti!B$6:B$596,1,FALSE)=J798,\"\",1))","v":""},null,"",null,{"$f":"IF(J798=\"\",\"\",IF(VLOOKUP(F798,Tabelle_Fisse!$B$33:$C$34,2,FALSE)=\"ok\",\"\",1))","v":""},{"$f":"IF(J798=\"\",\"\",IF(VLOOKUP(CONCATENATE(J798,\" SI\"),W$7:W$1196,1,FALSE)=CONCATENATE(J798,\" SI\"),\"\",1))","v":""},null,{"$f":"IF(OR(J798=\"\",G798=\"\"),\"\",IF(VLOOKUP(H798,Tabelle_Fisse!$B$25:$C$29,2,FALSE)=\"ok\",\"\",1))","v":""},{"$nulls":4},""]
[{"$nulls":9},"",{"$f":"IF(J799=\"\",\"\",IF(VLOOKUP(J799,Lotti!B$6:B$596,1,FALSE)=J799,\"\",1))","v":""},null,"",null,{"$f":"IF(J799=\"\",\"\",IF(VLOOKUP(F799,Tabelle_Fisse!$B$33:$C$34,2,FALSE)=\"ok\",\"\",1))","v":""},{"$f":"IF(J799=\"\",\"\",IF(VLOOKUP(CONCATENATE(J799,\" SI\"),W$7:W$1196,1,FALSE)=CONCATENATE(J799,\" SI\"),\"\",1))","v":""},null,{"$f":"IF(OR(J799=\"\",G799=\"\"),\"\",IF(VLOOKUP(H799,Tabelle_Fisse!$B$25:$C$29,2,FALSE)=\"ok\",\"\",1))","v":""},{"$nulls":4},""]
[{"$nulls":9},"",{"$f":"IF(J800=\"\",\"\",IF(VLOOKUP(J800,Lotti!B$6:B$596,1,FALSE)=J800,\"\",1))","v":""},null,"",null,{"$f":"IF(J800=\"\",\"\",IF(VLOOKUP(F800,Tabelle_Fisse!$B$33:$C$34,2,FALSE)=\"ok\",\"\",1))","v":""},{"$f":"IF(J800=\"\",\"\",IF(VLOOKUP(CONCATENATE(J800,\" SI\"),W$7:W$1196,1,FALSE)=CONCATENATE(J800,\" SI\"),\"\",1))","v":""},null,{"$f":"IF(OR(J800=\"\",G800=\"\"),\"\",IF(VLOOKUP(H800,Tabelle_Fisse!$B$25:$C$29,2,FALSE)=\"ok\",\"\",1))","v":""},{"$nulls":4},""]
[{"$nulls":9},"",{"$f":"IF(J801=\"\",\"\",IF(VLOOKUP(J801,Lotti!B$6:B$596,1,FALSE)=J801,\"\",1))","v":""},null,"",null,{"$f":"IF(J801=\"\",\"\",IF(VLOOKUP(F801,Tabelle_Fisse!$B$33:$C$34,2,FALSE)=\"ok\",\"\",1))","v":""},{"$f":"IF(J801=\"\",\"\",IF(VLOOKUP(CONCATENATE(J801,\" SI\"),W$7:W$1196,1,FALSE)=CONCATENATE(J801,\" SI\"),\"\",1))","v":""},null,{"$f":"IF(OR(J801=\"\",G801=\"\"),\"\",IF(VLOOKUP(H801,Tabelle_Fisse!$B$25:$C$29,2,FALSE)=\"ok\",\"\",1))","v":""},{"$nulls":4},""]
[{"$nulls":9},"",{"$f":"IF(J802=\"\",\"\",IF(VLOOKUP(J802,Lotti!B$6:B$596,1,FALSE)=J802,\"\",1))","v":""},null,"",null,{"$f":"IF(J802=\"\",\"\",IF(VLOOKUP(F802,Tabelle_Fisse!$B$33:$C$34,2,FALSE)=\"ok\",\"\",1))","v":""},{"$f":"IF(J802=\"\",\"\",IF(VLOOKUP(CONCATENATE(J802,\" SI\"),W$7:W$1196,1,FALSE)=CONCATENATE(J802,\" SI\"),\"\",1))","v":""},null,{"$f":"IF(OR(J802=\"\",G802=\"\"),\"\",IF(VLOOKUP(H802,Tabelle_Fisse!$B$25:$C$29,2,FALSE)=\"ok\",\"\",1))","v":""},{"$nulls":4},""]
[{"$nulls":9},"",{"$f":"IF(J803=\"\",\"\",IF(VLOOKUP(J803,Lotti!B$6:B$596,1,FALSE)=J803,\"\",1))","v":""},null,"",null,{"$f":"IF(J803=\"\",\"\",IF(VLOOKUP(F803,Tabelle_Fisse!$B$33:$C$34,2,FALSE)=\"ok\",\"\",1))","v":""},{"$f":"IF(J803=\"\",\"\",IF(VLOOKUP(CONCATENATE(J803,\" SI\"),W$7:W$1196,1,FALSE)=CONCATENATE(J803,\" SI\"),\"\",1))","v":""},null,{"$f":"IF(OR(J803=\"\",G803=\"\"),\"\",IF(VLOOKUP(H803,Tabelle_Fisse!$B$25:$C$29,2,FALSE)=\"ok\",\"\",1))","v":""},{"$nulls":4},""]
[{"$nulls":9},"",{"$f":"IF(J804=\"\",\"\",IF(VLOOKUP(J804,Lotti!B$6:B$596,1,FALSE)=J804,\"\",1))","v":""},null,"",null,{"$f":"IF(J804=\"\",\"\",IF(VLOOKUP(F804,Tabelle_Fisse!$B$33:$C$34,2,FALSE)=\"ok\",\"\",1))","v":""},{"$f":"IF(J804=\"\",\"\",IF(VLOOKUP(CONCATENATE(J804,\" SI\"),W$7:W$1196,1,FALSE)=CONCATENATE(J804,\" SI\"),\"\",1))","v":""},null,{"$f":"IF(OR(J804=\"\",G804=\"\"),\"\",IF(VLOOKUP(H804,Tabelle_Fisse!$B$25:$C$29,2,FALSE)=\"ok\",\"\",1))","v":""},{"$nulls":4},""]
[{"$nulls":9},"",{"$f":"IF(J805=\"\",\"\",IF(VLOOKUP(J805,Lotti!B$6:B$596,1,FALSE)=J805,\"\",1))","v":""},null,"",null,{"$f":"IF(J805=\"\",\"\",IF(VLOOKUP(F805,Tabelle_Fisse!$B$33:$C$34,2,FALSE)=\"ok\",\"\",1))","v":""},{"$f":"IF(J805=\"\",\"\",IF(VLOOKUP(CONCATENATE(J805,\" SI\"),W$7:W$1196,1,FALSE)=CONCATENATE(J805,\" SI\"),\"\",1))","v":""},null,{"$f":"IF(OR(J805=\"\",G805=\"\"),\"\",IF(VLOOKUP(H805,Tabelle_Fisse!$B$25:$C$29,2,FALSE)=\"ok\",\"\",1))","v":""},{"$nulls":4},""]
[{"$nulls":9},"",{"$f":"IF(J806=\"\",\"\",IF(VLOOKUP(J806,Lotti!B$6:B$596,1,FALSE)=J806,\"\",1))","v":""},null,"",null,{"$f":"IF(J806=\"\",\"\",IF(VLOOKUP(F806,Tabelle_Fisse!$B$33:$C$34,2,FALSE)=\"ok\",\"\",1))","v":""},{"$f":"IF(J806=\"\",\"\",IF(VLOOKUP(CONCATENATE(J806,\" SI\"),W$7:W$1196,1,FALSE)=CONCATENATE(J806,\" SI\"),\"\",1))","v":""},null,{"$f":"IF(OR(J806=\"\",G806=\"\"),\"\",IF(VLOOKUP(H806,Tabelle_Fisse!$B$25:$C$29,2,FALSE)=\"ok\",\"\",1))","v":""},{"$nulls":4},""]
[{"$nulls":9},"",{"$f":"IF(J807=\"\",\"\",IF(VLOOKUP(J807,Lotti!B$6:B$596,1,FALSE)=J807,\"\",1))","v":""},null,"",null,{"$f":"IF(J807=\"\",\"\",IF(VLOOKUP(F807,Tabelle_Fisse!$B$33:$C$34,2,FALSE)=\"ok\",\"\",1))","v":""},{"$f":"IF(J807=\"\",\"\",IF(VLOOKUP(CONCATENATE(J807,\" SI\"),W$7:W$1196,1,FALSE)=CONCATENATE(J807,\" SI\"),\"\",1))","v":""},null,{"$f":"IF(OR(J807=\"\",G807=\"\"),\"\",IF(VLOOKUP(H807,Tabelle_Fisse!$B$25:$C$29,2,FALSE)=\"ok\",\"\",1))","v":""},{"$nulls":4},""]
[{"$nulls":9},"",{"$f":"IF(J808=\"\",\"\",IF(VLOOKUP(J808,Lotti!B$6:B$596,1,FALSE)=J808,\"\",1))","v":""},null,"",null,{"$f":"IF(J808=\"\",\"\",IF(VLOOKUP(F808,Tabelle_Fisse!$B$33:$C$34,2,FALSE)=\"ok\",\"\",1))","v":""},{"$f":"IF(J808=\"\",\"\",IF(VLOOKUP(CONCATENATE(J808,\" SI\"),W$7:W$1196,1,FALSE)=CONCATENATE(J808,\" SI\"),\"\",1))","v":""},null,{"$f":"IF(OR(J808=\"\",G808=\"\"),\"\",IF(VLOOKUP(H808,Tabelle_Fisse!$B$25:$C$29,2,FALSE)=\"ok\",\"\",1))","v":""},{"$nulls":4},""]
[{"$nulls":9},"",{"$f":"IF(J809=\"\",\"\",IF(VLOOKUP(J809,Lotti!B$6:B$596,1,FALSE)=J809,\"\",1))","v":""},null,"",null,{"$f":"IF(J809=\"\",\"\",IF(VLOOKUP(F809,Tabelle_Fisse!$B$33:$C$34,2,FALSE)=\"ok\",\"\",1))","v":""},{"$f":"IF(J809=\"\",\"\",IF(VLOOKUP(CONCATENATE(J809,\" SI\"),W$7:W$1196,1,FALSE)=CONCATENATE(J809,\" SI\"),\"\",1))","v":""},null,{"$f":"IF(OR(J809=\"\",G809=\"\"),\"\",IF(VLOOKUP(H809,Tabelle_Fisse!$B$25:$C$29,2,FALSE)=\"ok\",\"\",1))","v":""},{"$nulls":4},""]
[{"$nulls":9},"",{"$f":"IF(J810=\"\",\"\",IF(VLOOKUP(J810,Lotti!B$6:B$596,1,FALSE)=J810,\"\",1))","v":""},null,"",null,{"$f":"IF(J810=\"\",\"\",IF(VLOOKUP(F810,Tabelle_Fisse!$B$33:$C$34,2,FALSE)=\"ok\",\"\",1))","v":""},{"$f":"IF(J810=\"\",\"\",IF(VLOOKUP(CONCATENATE(J810,\" SI\"),W$7:W$1196,1,FALSE)=CONCATENATE(J810,\" SI\"),\"\",1))","v":""},null,{"$f":"IF(OR(J810=\"\",G810=\"\"),\"\",IF(VLOOKUP(H810,Tabelle_Fisse!$B$25:$C$29,2,FALSE)=\"ok\",\"\",1))","v":""},{"$nulls":4},""]
[{"$nulls":9},"",{"$f":"IF(J811=\"\",\"\",IF(VLOOKUP(J811,Lotti!B$6:B$596,1,FALSE)=J811,\"\",1))","v":""},null,"",null,{"$f":"IF(J811=\"\",\"\",IF(VLOOKUP(F811,Tabelle_Fisse!$B$33:$C$34,2,FALSE)=\"ok\",\"\",1))","v":""},{"$f":"IF(J811=\"\",\"\",IF(VLOOKUP(CONCATENATE(J811,\" SI\"),W$7:W$1196,1,FALSE)=CONCATENATE(J811,\" SI\"),\"\",1))","v":""},null,{"$f":"IF(OR(J811=\"\",G811=\"\"),\"\",IF(VLOOKUP(H811,Tabelle_Fisse!$B$25:$C$29,2,FALSE)=\"ok\",\"\",1))","v":""},{"$nulls":4},""]
[{"$nulls":9},"",{"$f":"IF(J812=\"\",\"\",IF(VLOOKUP(J812,Lotti!B$6:B$596,1,FALSE)=J812,\"\",1))","v":""},null,"",null,{"$f":"IF(J812=\"\",\"\",IF(VLOOKUP(F812,Tabelle_Fisse!$B$33:$C$34,2,FALSE)=\"ok\",\"\",1))","v":""},{"$f":"IF(J812=\"\",\"\",IF(VLOOKUP(CONCATENATE(J812,\" SI\"),W$7:W$1196,1,FALSE)=CONCATENATE(J812,\" SI\"),\"\",1))","v":""},null,{"$f":"IF(OR(J812=\"\",G812=\"\"),\"\",IF(VLOOKUP(H812,Tabelle_Fisse!$B$25:$C$29,2,FALSE)=\"ok\",\"\",1))","v":""},{"$nulls":4},""]
[{"$nulls":9},"",{"$f":"IF(J813=\"\",\"\",IF(VLOOKUP(J813,Lotti!B$6:B$596,1,FALSE)=J813,\"\",1))","v":""},null,"",null,{"$f":"IF(J813=\"\",\"\",IF(VLOOKUP(F813,Tabelle_Fisse!$B$33:$C$34,2,FALSE)=\"ok\",\"\",1))","v":""},{"$f":"IF(J813=\"\",\"\",IF(VLOOKUP(CONCATENATE(J813,\" SI\"),W$7:W$1196,1,FALSE)=CONCATENATE(J813,\" SI\"),\"\",1))","v":""},null,{"$f":"IF(OR(J813=\"\",G813=\"\"),\"\",IF(VLOOKUP(H813,Tabelle_Fisse!$B$25:$C$29,2,FALSE)=\"ok\",\"\",1))","v":""},{"$nulls":4},""]
[{"$nulls":9},"",{"$f":"IF(J814=\"\",\"\",IF(VLOOKUP(J814,Lotti!B$6:B$596,1,FALSE)=J814,\"\",1))","v":""},null,"",null,{"$f":"IF(J814=\"\",\"\",IF(VLOOKUP(F814,Tabelle_Fisse!$B$33:$C$34,2,FALSE)=\"ok\",\"\",1))","v":""},{"$f":"IF(J814=\"\",\"\",IF(VLOOKUP(CONCATENATE(J814,\" SI\"),W$7:W$1196,1,FALSE)=CONCATENATE(J814,\" SI\"),\"\",1))","v":""},null,{"$f":"IF(OR(J814=\"\",G814=\"\"),\"\",IF(VLOOKUP(H814,Tabelle_Fisse!$B$25:$C$29,2,FALSE)=\"ok\",\"\",1))","v":""},{"$nulls":4},""]
[{"$nulls":9},"",{"$f":"IF(J815=\"\",\"\",IF(VLOOKUP(J815,Lotti!B$6:B$596,1,FALSE)=J815,\"\",1))","v":""},null,"",null,{"$f":"IF(J815=\"\",\"\",IF(VLOOKUP(F815,Tabelle_Fisse!$B$33:$C$34,2,FALSE)=\"ok\",\"\",1))","v":""},{"$f":"IF(J815=\"\",\"\",IF(VLOOKUP(CONCATENATE(J815,\" SI\"),W$7:W$1196,1,FALSE)=CONCATENATE(J815,\" SI\"),\"\",1))","v":""},null,{"$f":"IF(OR(J815=\"\",G815=\"\"),\"\",IF(VLOOKUP(H815,Tabelle_Fisse!$B$25:$C$29,2,FALSE)=\"ok\",\"\",1))","v":""},{"$nulls":4},""]
[{"$nulls":9},"",{"$f":"IF(J816=\"\",\"\",IF(VLOOKUP(J816,Lotti!B$6:B$596,1,FALSE)=J816,\"\",1))","v":""},null,"",null,{"$f":"IF(J816=\"\",\"\",IF(VLOOKUP(F816,Tabelle_Fisse!$B$33:$C$34,2,FALSE)=\"ok\",\"\",1))","v":""},{"$f":"IF(J816=\"\",\"\",IF(VLOOKUP(CONCATENATE(J816,\" SI\"),W$7:W$1196,1,FALSE)=CONCATENATE(J816,\" SI\"),\"\",1))","v":""},null,{"$f":"IF(OR(J816=\"\",G816=\"\"),\"\",IF(VLOOKUP(H816,Tabelle_Fisse!$B$25:$C$29,2,FALSE)=\"ok\",\"\",1))","v":""},{"$nulls":4},""]
[{"$nulls":9},"",{"$f":"IF(J817=\"\",\"\",IF(VLOOKUP(J817,Lotti!B$6:B$596,1,FALSE)=J817,\"\",1))","v":""},null,"",null,{"$f":"IF(J817=\"\",\"\",IF(VLOOKUP(F817,Tabelle_Fisse!$B$33:$C$34,2,FALSE)=\"ok\",\"\",1))","v":""},{"$f":"IF(J817=\"\",\"\",IF(VLOOKUP(CONCATENATE(J817,\" SI\"),W$7:W$1196,1,FALSE)=CONCATENATE(J817,\" SI\"),\"\",1))","v":""},null,{"$f":"IF(OR(J817=\"\",G817=\"\"),\"\",IF(VLOOKUP(H817,Tabelle_Fisse!$B$25:$C$29,2,FALSE)=\"ok\",\"\",1))","v":""},{"$nulls":4},""]
[{"$nulls":9},"",{"$f":"IF(J818=\"\",\"\",IF(VLOOKUP(J818,Lotti!B$6:B$596,1,FALSE)=J818,\"\",1))","v":""},null,"",null,{"$f":"IF(J818=\"\",\"\",IF(VLOOKUP(F818,Tabelle_Fisse!$B$33:$C$34,2,FALSE)=\"ok\",\"\",1))","v":""},{"$f":"IF(J818=\"\",\"\",IF(VLOOKUP(CONCATENATE(J818,\" SI\"),W$7:W$1196,1,FALSE)=CONCATENATE(J818,\" SI\"),\"\",1))","v":""},null,{"$f":"IF(OR(J818=\"\",G818=\"\"),\"\",IF(VLOOKUP(H818,Tabelle_Fisse!$B$25:$C$29,2,FALSE)=\"ok\",\"\",1))","v":""},{"$nulls":4},""]
[{"$nulls":9},"",{"$f":"IF(J819=\"\",\"\",IF(VLOOKUP(J819,Lotti!B$6:B$596,1,FALSE)=J819,\"\",1))","v":""},null,"",null,{"$f":"IF(J819=\"\",\"\",IF(VLOOKUP(F819,Tabelle_Fisse!$B$33:$C$34,2,FALSE)=\"ok\",\"\",1))","v":""},{"$f":"IF(J819=\"\",\"\",IF(VLOOKUP(CONCATENATE(J819,\" SI\"),W$7:W$1196,1,FALSE)=CONCATENATE(J819,\" SI\"),\"\",1))","v":""},null,{"$f":"IF(OR(J819=\"\",G819=\"\"),\"\",IF(VLOOKUP(H819,Tabelle_Fisse!$B$25:$C$29,2,FALSE)=\"ok\",\"\",1))","v":""},{"$nulls":4},""]
[{"$nulls":9},"",{"$f":"IF(J820=\"\",\"\",IF(VLOOKUP(J820,Lotti!B$6:B$596,1,FALSE)=J820,\"\",1))","v":""},null,"",null,{"$f":"IF(J820=\"\",\"\",IF(VLOOKUP(F820,Tabelle_Fisse!$B$33:$C$34,2,FALSE)=\"ok\",\"\",1))","v":""},{"$f":"IF(J820=\"\",\"\",IF(VLOOKUP(CONCATENATE(J820,\" SI\"),W$7:W$1196,1,FALSE)=CONCATENATE(J820,\" SI\"),\"\",1))","v":""},null,{"$f":"IF(OR(J820=\"\",G820=\"\"),\"\",IF(VLOOKUP(H820,Tabelle_Fisse!$B$25:$C$29,2,FALSE)=\"ok\",\"\",1))","v":""},{"$nulls":4},""]
[{"$nulls":9},"",{"$f":"IF(J821=\"\",\"\",IF(VLOOKUP(J821,Lotti!B$6:B$596,1,FALSE)=J821,\"\",1))","v":""},null,"",null,{"$f":"IF(J821=\"\",\"\",IF(VLOOKUP(F821,Tabelle_Fisse!$B$33:$C$34,2,FALSE)=\"ok\",\"\",1))","v":""},{"$f":"IF(J821=\"\",\"\",IF(VLOOKUP(CONCATENATE(J821,\" SI\"),W$7:W$1196,1,FALSE)=CONCATENATE(J821,\" SI\"),\"\",1))","v":""},null,{"$f":"IF(OR(J821=\"\",G821=\"\"),\"\",IF(VLOOKUP(H821,Tabelle_Fisse!$B$25:$C$29,2,FALSE)=\"ok\",\"\",1))","v":""},{"$nulls":4},""]
[{"$nulls":9},"",{"$f":"IF(J822=\"\",\"\",IF(VLOOKUP(J822,Lotti!B$6:B$596,1,FALSE)=J822,\"\",1))","v":""},null,"",null,{"$f":"IF(J822=\"\",\"\",IF(VLOOKUP(F822,Tabelle_Fisse!$B$33:$C$34,2,FALSE)=\"ok\",\"\",1))","v":""},{"$f":"IF(J822=\"\",\"\",IF(VLOOKUP(CONCATENATE(J822,\" SI\"),W$7:W$1196,1,FALSE)=CONCATENATE(J822,\" SI\"),\"\",1))","v":""},null,{"$f":"IF(OR(J822=\"\",G822=\"\"),\"\",IF(VLOOKUP(H822,Tabelle_Fisse!$B$25:$C$29,2,FALSE)=\"ok\",\"\",1))","v":""},{"$nulls":4},""]
[{"$nulls":9},"",{"$f":"IF(J823=\"\",\"\",IF(VLOOKUP(J823,Lotti!B$6:B$596,1,FALSE)=J823,\"\",1))","v":""},null,"",null,{"$f":"IF(J823=\"\",\"\",IF(VLOOKUP(F823,Tabelle_Fisse!$B$33:$C$34,2,FALSE)=\"ok\",\"\",1))","v":""},{"$f":"IF(J823=\"\",\"\",IF(VLOOKUP(CONCATENATE(J823,\" SI\"),W$7:W$1196,1,FALSE)=CONCATENATE(J823,\" SI\"),\"\",1))","v":""},null,{"$f":"IF(OR(J823=\"\",G823=\"\"),\"\",IF(VLOOKUP(H823,Tabelle_Fisse!$B$25:$C$29,2,FALSE)=\"ok\",\"\",1))","v":""},{"$nulls":4},""]
[{"$nulls":9},"",{"$f":"IF(J824=\"\",\"\",IF(VLOOKUP(J824,Lotti!B$6:B$596,1,FALSE)=J824,\"\",1))","v":""},null,"",null,{"$f":"IF(J824=\"\",\"\",IF(VLOOKUP(F824,Tabelle_Fisse!$B$33:$C$34,2,FALSE)=\"ok\",\"\",1))","v":""},{"$f":"IF(J824=\"\",\"\",IF(VLOOKUP(CONCATENATE(J824,\" SI\"),W$7:W$1196,1,FALSE)=CONCATENATE(J824,\" SI\"),\"\",1))","v":""},null,{"$f":"IF(OR(J824=\"\",G824=\"\"),\"\",IF(VLOOKUP(H824,Tabelle_Fisse!$B$25:$C$29,2,FALSE)=\"ok\",\"\",1))","v":""},{"$nulls":4},""]
[{"$nulls":9},"",{"$f":"IF(J825=\"\",\"\",IF(VLOOKUP(J825,Lotti!B$6:B$596,1,FALSE)=J825,\"\",1))","v":""},null,"",null,{"$f":"IF(J825=\"\",\"\",IF(VLOOKUP(F825,Tabelle_Fisse!$B$33:$C$34,2,FALSE)=\"ok\",\"\",1))","v":""},{"$f":"IF(J825=\"\",\"\",IF(VLOOKUP(CONCATENATE(J825,\" SI\"),W$7:W$1196,1,FALSE)=CONCATENATE(J825,\" SI\"),\"\",1))","v":""},null,{"$f":"IF(OR(J825=\"\",G825=\"\"),\"\",IF(VLOOKUP(H825,Tabelle_Fisse!$B$25:$C$29,2,FALSE)=\"ok\",\"\",1))","v":""},{"$nulls":4},""]
[{"$nulls":9},"",{"$f":"IF(J826=\"\",\"\",IF(VLOOKUP(J826,Lotti!B$6:B$596,1,FALSE)=J826,\"\",1))","v":""},null,"",null,{"$f":"IF(J826=\"\",\"\",IF(VLOOKUP(F826,Tabelle_Fisse!$B$33:$C$34,2,FALSE)=\"ok\",\"\",1))","v":""},{"$f":"IF(J826=\"\",\"\",IF(VLOOKUP(CONCATENATE(J826,\" SI\"),W$7:W$1196,1,FALSE)=CONCATENATE(J826,\" SI\"),\"\",1))","v":""},null,{"$f":"IF(OR(J826=\"\",G826=\"\"),\"\",IF(VLOOKUP(H826,Tabelle_Fisse!$B$25:$C$29,2,FALSE)=\"ok\",\"\",1))","v":""},{"$nulls":4},""]
[{"$nulls":9},"",{"$f":"IF(J827=\"\",\"\",IF(VLOOKUP(J827,Lotti!B$6:B$596,1,FALSE)=J827,\"\",1))","v":""},null,"",null,{"$f":"IF(J827=\"\",\"\",IF(VLOOKUP(F827,Tabelle_Fisse!$B$33:$C$34,2,FALSE)=\"ok\",\"\",1))","v":""},{"$f":"IF(J827=\"\",\"\",IF(VLOOKUP(CONCATENATE(J827,\" SI\"),W$7:W$1196,1,FALSE)=CONCATENATE(J827,\" SI\"),\"\",1))","v":""},null,{"$f":"IF(OR(J827=\"\",G827=\"\"),\"\",IF(VLOOKUP(H827,Tabelle_Fisse!$B$25:$C$29,2,FALSE)=\"ok\",\"\",1))","v":""},{"$nulls":4},""]
[{"$nulls":9},"",{"$f":"IF(J828=\"\",\"\",IF(VLOOKUP(J828,Lotti!B$6:B$596,1,FALSE)=J828,\"\",1))","v":""},null,"",null,{"$f":"IF(J828=\"\",\"\",IF(VLOOKUP(F828,Tabelle_Fisse!$B$33:$C$34,2,FALSE)=\"ok\",\"\",1))","v":""},{"$f":"IF(J828=\"\",\"\",IF(VLOOKUP(CONCATENATE(J828,\" SI\"),W$7:W$1196,1,FALSE)=CONCATENATE(J828,\" SI\"),\"\",1))","v":""},null,{"$f":"IF(OR(J828=\"\",G828=\"\"),\"\",IF(VLOOKUP(H828,Tabelle_Fisse!$B$25:$C$29,2,FALSE)=\"ok\",\"\",1))","v":""},{"$nulls":4},""]
[{"$nulls":9},"",{"$f":"IF(J829=\"\",\"\",IF(VLOOKUP(J829,Lotti!B$6:B$596,1,FALSE)=J829,\"\",1))","v":""},null,"",null,{"$f":"IF(J829=\"\",\"\",IF(VLOOKUP(F829,Tabelle_Fisse!$B$33:$C$34,2,FALSE)=\"ok\",\"\",1))","v":""},{"$f":"IF(J829=\"\",\"\",IF(VLOOKUP(CONCATENATE(J829,\" SI\"),W$7:W$1196,1,FALSE)=CONCATENATE(J829,\" SI\"),\"\",1))","v":""},null,{"$f":"IF(OR(J829=\"\",G829=\"\"),\"\",IF(VLOOKUP(H829,Tabelle_Fisse!$B$25:$C$29,2,FALSE)=\"ok\",\"\",1))","v":""},{"$nulls":4},""]
[{"$nulls":9},"",{"$f":"IF(J830=\"\",\"\",IF(VLOOKUP(J830,Lotti!B$6:B$596,1,FALSE)=J830,\"\",1))","v":""},null,"",null,{"$f":"IF(J830=\"\",\"\",IF(VLOOKUP(F830,Tabelle_Fisse!$B$33:$C$34,2,FALSE)=\"ok\",\"\",1))","v":""},{"$f":"IF(J830=\"\",\"\",IF(VLOOKUP(CONCATENATE(J830,\" SI\"),W$7:W$1196,1,FALSE)=CONCATENATE(J830,\" SI\"),\"\",1))","v":""},null,{"$f":"IF(OR(J830=\"\",G830=\"\"),\"\",IF(VLOOKUP(H830,Tabelle_Fisse!$B$25:$C$29,2,FALSE)=\"ok\",\"\",1))","v":""},{"$nulls":4},""]
[{"$nulls":9},"",{"$f":"IF(J831=\"\",\"\",IF(VLOOKUP(J831,Lotti!B$6:B$596,1,FALSE)=J831,\"\",1))","v":""},null,"",null,{"$f":"IF(J831=\"\",\"\",IF(VLOOKUP(F831,Tabelle_Fisse!$B$33:$C$34,2,FALSE)=\"ok\",\"\",1))","v":""},{"$f":"IF(J831=\"\",\"\",IF(VLOOKUP(CONCATENATE(J831,\" SI\"),W$7:W$1196,1,FALSE)=CONCATENATE(J831,\" SI\"),\"\",1))","v":""},null,{"$f":"IF(OR(J831=\"\",G831=\"\"),\"\",IF(VLOOKUP(H831,Tabelle_Fisse!$B$25:$C$29,2,FALSE)=\"ok\",\"\",1))","v":""},{"$nulls":4},""]
[{"$nulls":9},"",{"$f":"IF(J832=\"\",\"\",IF(VLOOKUP(J832,Lotti!B$6:B$596,1,FALSE)=J832,\"\",1))","v":""},null,"",null,{"$f":"IF(J832=\"\",\"\",IF(VLOOKUP(F832,Tabelle_Fisse!$B$33:$C$34,2,FALSE)=\"ok\",\"\",1))","v":""},{"$f":"IF(J832=\"\",\"\",IF(VLOOKUP(CONCATENATE(J832,\" SI\"),W$7:W$1196,1,FALSE)=CONCATENATE(J832,\" SI\"),\"\",1))","v":""},null,{"$f":"IF(OR(J832=\"\",G832=\"\"),\"\",IF(VLOOKUP(H832,Tabelle_Fisse!$B$25:$C$29,2,FALSE)=\"ok\",\"\",1))","v":""},{"$nulls":4},""]
[{"$nulls":9},"",{"$f":"IF(J833=\"\",\"\",IF(VLOOKUP(J833,Lotti!B$6:B$596,1,FALSE)=J833,\"\",1))","v":""},null,"",null,{"$f":"IF(J833=\"\",\"\",IF(VLOOKUP(F833,Tabelle_Fisse!$B$33:$C$34,2,FALSE)=\"ok\",\"\",1))","v":""},{"$f":"IF(J833=\"\",\"\",IF(VLOOKUP(CONCATENATE(J833,\" SI\"),W$7:W$1196,1,FALSE)=CONCATENATE(J833,\" SI\"),\"\",1))","v":""},null,{"$f":"IF(OR(J833=\"\",G833=\"\"),\"\",IF(VLOOKUP(H833,Tabelle_Fisse!$B$25:$C$29,2,FALSE)=\"ok\",\"\",1))","v":""},{"$nulls":4},""]
[{"$nulls":9},"",{"$f":"IF(J834=\"\",\"\",IF(VLOOKUP(J834,Lotti!B$6:B$596,1,FALSE)=J834,\"\",1))","v":""},null,"",null,{"$f":"IF(J834=\"\",\"\",IF(VLOOKUP(F834,Tabelle_Fisse!$B$33:$C$34,2,FALSE)=\"ok\",\"\",1))","v":""},{"$f":"IF(J834=\"\",\"\",IF(VLOOKUP(CONCATENATE(J834,\" SI\"),W$7:W$1196,1,FALSE)=CONCATENATE(J834,\" SI\"),\"\",1))","v":""},null,{"$f":"IF(OR(J834=\"\",G834=\"\"),\"\",IF(VLOOKUP(H834,Tabelle_Fisse!$B$25:$C$29,2,FALSE)=\"ok\",\"\",1))","v":""},{"$nulls":4},""]
[{"$nulls":9},"",{"$f":"IF(J835=\"\",\"\",IF(VLOOKUP(J835,Lotti!B$6:B$596,1,FALSE)=J835,\"\",1))","v":""},null,"",null,{"$f":"IF(J835=\"\",\"\",IF(VLOOKUP(F835,Tabelle_Fisse!$B$33:$C$34,2,FALSE)=\"ok\",\"\",1))","v":""},{"$f":"IF(J835=\"\",\"\",IF(VLOOKUP(CONCATENATE(J835,\" SI\"),W$7:W$1196,1,FALSE)=CONCATENATE(J835,\" SI\"),\"\",1))","v":""},null,{"$f":"IF(OR(J835=\"\",G835=\"\"),\"\",IF(VLOOKUP(H835,Tabelle_Fisse!$B$25:$C$29,2,FALSE)=\"ok\",\"\",1))","v":""},{"$nulls":4},""]
[{"$nulls":9},{"$f":"TRIM(B836)","v":""},{"$f":"IF(J836=\"\",\"\",IF(VLOOKUP(J836,Lotti!B$6:B$596,1,FALSE)=J836,\"\",1))","v":""},null,{"$f":"IF(J836=\"\",\"\",IF(OR(AND(E836=\"\",LEN(D836)<>11,LEN(D836)<>16),AND(D836=\"\",E836=\"\"),AND(D836<>\"\",E836<>\"\")),1,\"\"))","v":""},null,{"$f":"IF(J836=\"\",\"\",IF(VLOOKUP(F836,Tabelle_Fisse!$B$33:$C$34,2,FALSE)=\"ok\",\"\",1))","v":""},{"$f":"IF(J836=\"\",\"\",IF(VLOOKUP(CONCATENATE(J836,\" SI\"),W$7:W$1196,1,FALSE)=CONCATENATE(J836,\" SI\"),\"\",1))","v":""},null,{"$f":"IF(OR(J836=\"\",G836=\"\"),\"\",IF(VLOOKUP(H836,Tabelle_Fisse!$B$25:$C$29,2,FALSE)=\"ok\",\"\",1))","v":""},{"$nulls":4},{"$f":"IF(J836=\"\",\"\",CONCATENATE(J836,\" \",F836))","v":""}]
[{"$nulls":9},"",{"$f":"IF(J837=\"\",\"\",IF(VLOOKUP(J837,Lotti!B$6:B$596,1,FALSE)=J837,\"\",1))","v":""},null,"",null,{"$f":"IF(J837=\"\",\"\",IF(VLOOKUP(F837,Tabelle_Fisse!$B$33:$C$34,2,FALSE)=\"ok\",\"\",1))","v":""},{"$f":"IF(J837=\"\",\"\",IF(VLOOKUP(CONCATENATE(J837,\" SI\"),W$7:W$1196,1,FALSE)=CONCATENATE(J837,\" SI\"),\"\",1))","v":""},null,{"$f":"IF(OR(J837=\"\",G837=\"\"),\"\",IF(VLOOKUP(H837,Tabelle_Fisse!$B$25:$C$29,2,FALSE)=\"ok\",\"\",1))","v":""},{"$nulls":4},""]
[{"$nulls":9},"",{"$f":"IF(J838=\"\",\"\",IF(VLOOKUP(J838,Lotti!B$6:B$596,1,FALSE)=J838,\"\",1))","v":""},null,"",null,{"$f":"IF(J838=\"\",\"\",IF(VLOOKUP(F838,Tabelle_Fisse!$B$33:$C$34,2,FALSE)=\"ok\",\"\",1))","v":""},{"$f":"IF(J838=\"\",\"\",IF(VLOOKUP(CONCATENATE(J838,\" SI\"),W$7:W$1196,1,FALSE)=CONCATENATE(J838,\" SI\"),\"\",1))","v":""},null,{"$f":"IF(OR(J838=\"\",G838=\"\"),\"\",IF(VLOOKUP(H838,Tabelle_Fisse!$B$25:$C$29,2,FALSE)=\"ok\",\"\",1))","v":""},{"$nulls":4},""]
[{"$nulls":9},"",{"$f":"IF(J839=\"\",\"\",IF(VLOOKUP(J839,Lotti!B$6:B$596,1,FALSE)=J839,\"\",1))","v":""},null,"",null,{"$f":"IF(J839=\"\",\"\",IF(VLOOKUP(F839,Tabelle_Fisse!$B$33:$C$34,2,FALSE)=\"ok\",\"\",1))","v":""},{"$f":"IF(J839=\"\",\"\",IF(VLOOKUP(CONCATENATE(J839,\" SI\"),W$7:W$1196,1,FALSE)=CONCATENATE(J839,\" SI\"),\"\",1))","v":""},null,{"$f":"IF(OR(J839=\"\",G839=\"\"),\"\",IF(VLOOKUP(H839,Tabelle_Fisse!$B$25:$C$29,2,FALSE)=\"ok\",\"\",1))","v":""},{"$nulls":4},""]
[{"$nulls":9},"",{"$f":"IF(J840=\"\",\"\",IF(VLOOKUP(J840,Lotti!B$6:B$596,1,FALSE)=J840,\"\",1))","v":""},null,"",null,{"$f":"IF(J840=\"\",\"\",IF(VLOOKUP(F840,Tabelle_Fisse!$B$33:$C$34,2,FALSE)=\"ok\",\"\",1))","v":""},{"$f":"IF(J840=\"\",\"\",IF(VLOOKUP(CONCATENATE(J840,\" SI\"),W$7:W$1196,1,FALSE)=CONCATENATE(J840,\" SI\"),\"\",1))","v":""},null,{"$f":"IF(OR(J840=\"\",G840=\"\"),\"\",IF(VLOOKUP(H840,Tabelle_Fisse!$B$25:$C$29,2,FALSE)=\"ok\",\"\",1))","v":""},{"$nulls":4},""]
[{"$nulls":9},"",{"$f":"IF(J841=\"\",\"\",IF(VLOOKUP(J841,Lotti!B$6:B$596,1,FALSE)=J841,\"\",1))","v":""},null,"",null,{"$f":"IF(J841=\"\",\"\",IF(VLOOKUP(F841,Tabelle_Fisse!$B$33:$C$34,2,FALSE)=\"ok\",\"\",1))","v":""},{"$f":"IF(J841=\"\",\"\",IF(VLOOKUP(CONCATENATE(J841,\" SI\"),W$7:W$1196,1,FALSE)=CONCATENATE(J841,\" SI\"),\"\",1))","v":""},null,{"$f":"IF(OR(J841=\"\",G841=\"\"),\"\",IF(VLOOKUP(H841,Tabelle_Fisse!$B$25:$C$29,2,FALSE)=\"ok\",\"\",1))","v":""},{"$nulls":4},""]
[{"$nulls":9},"",{"$f":"IF(J842=\"\",\"\",IF(VLOOKUP(J842,Lotti!B$6:B$596,1,FALSE)=J842,\"\",1))","v":""},null,"",null,{"$f":"IF(J842=\"\",\"\",IF(VLOOKUP(F842,Tabelle_Fisse!$B$33:$C$34,2,FALSE)=\"ok\",\"\",1))","v":""},{"$f":"IF(J842=\"\",\"\",IF(VLOOKUP(CONCATENATE(J842,\" SI\"),W$7:W$1196,1,FALSE)=CONCATENATE(J842,\" SI\"),\"\",1))","v":""},null,{"$f":"IF(OR(J842=\"\",G842=\"\"),\"\",IF(VLOOKUP(H842,Tabelle_Fisse!$B$25:$C$29,2,FALSE)=\"ok\",\"\",1))","v":""},{"$nulls":4},""]
[{"$nulls":9},"",{"$f":"IF(J843=\"\",\"\",IF(VLOOKUP(J843,Lotti!B$6:B$596,1,FALSE)=J843,\"\",1))","v":""},null,"",null,{"$f":"IF(J843=\"\",\"\",IF(VLOOKUP(F843,Tabelle_Fisse!$B$33:$C$34,2,FALSE)=\"ok\",\"\",1))","v":""},{"$f":"IF(J843=\"\",\"\",IF(VLOOKUP(CONCATENATE(J843,\" SI\"),W$7:W$1196,1,FALSE)=CONCATENATE(J843,\" SI\"),\"\",1))","v":""},null,{"$f":"IF(OR(J843=\"\",G843=\"\"),\"\",IF(VLOOKUP(H843,Tabelle_Fisse!$B$25:$C$29,2,FALSE)=\"ok\",\"\",1))","v":""},{"$nulls":4},""]
[{"$nulls":9},"",{"$f":"IF(J844=\"\",\"\",IF(VLOOKUP(J844,Lotti!B$6:B$596,1,FALSE)=J844,\"\",1))","v":""},null,"",null,{"$f":"IF(J844=\"\",\"\",IF(VLOOKUP(F844,Tabelle_Fisse!$B$33:$C$34,2,FALSE)=\"ok\",\"\",1))","v":""},{"$f":"IF(J844=\"\",\"\",IF(VLOOKUP(CONCATENATE(J844,\" SI\"),W$7:W$1196,1,FALSE)=CONCATENATE(J844,\" SI\"),\"\",1))","v":""},null,{"$f":"IF(OR(J844=\"\",G844=\"\"),\"\",IF(VLOOKUP(H844,Tabelle_Fisse!$B$25:$C$29,2,FALSE)=\"ok\",\"\",1))","v":""},{"$nulls":4},""]
[{"$nulls":9},"",{"$f":"IF(J845=\"\",\"\",IF(VLOOKUP(J845,Lotti!B$6:B$596,1,FALSE)=J845,\"\",1))","v":""},null,"",null,{"$f":"IF(J845=\"\",\"\",IF(VLOOKUP(F845,Tabelle_Fisse!$B$33:$C$34,2,FALSE)=\"ok\",\"\",1))","v":""},{"$f":"IF(J845=\"\",\"\",IF(VLOOKUP(CONCATENATE(J845,\" SI\"),W$7:W$1196,1,FALSE)=CONCATENATE(J845,\" SI\"),\"\",1))","v":""},null,{"$f":"IF(OR(J845=\"\",G845=\"\"),\"\",IF(VLOOKUP(H845,Tabelle_Fisse!$B$25:$C$29,2,FALSE)=\"ok\",\"\",1))","v":""},{"$nulls":4},""]
[{"$nulls":9},"",{"$f":"IF(J846=\"\",\"\",IF(VLOOKUP(J846,Lotti!B$6:B$596,1,FALSE)=J846,\"\",1))","v":""},null,"",null,{"$f":"IF(J846=\"\",\"\",IF(VLOOKUP(F846,Tabelle_Fisse!$B$33:$C$34,2,FALSE)=\"ok\",\"\",1))","v":""},{"$f":"IF(J846=\"\",\"\",IF(VLOOKUP(CONCATENATE(J846,\" SI\"),W$7:W$1196,1,FALSE)=CONCATENATE(J846,\" SI\"),\"\",1))","v":""},null,{"$f":"IF(OR(J846=\"\",G846=\"\"),\"\",IF(VLOOKUP(H846,Tabelle_Fisse!$B$25:$C$29,2,FALSE)=\"ok\",\"\",1))","v":""},{"$nulls":4},""]
[{"$nulls":9},"",{"$f":"IF(J847=\"\",\"\",IF(VLOOKUP(J847,Lotti!B$6:B$596,1,FALSE)=J847,\"\",1))","v":""},null,"",null,{"$f":"IF(J847=\"\",\"\",IF(VLOOKUP(F847,Tabelle_Fisse!$B$33:$C$34,2,FALSE)=\"ok\",\"\",1))","v":""},{"$f":"IF(J847=\"\",\"\",IF(VLOOKUP(CONCATENATE(J847,\" SI\"),W$7:W$1196,1,FALSE)=CONCATENATE(J847,\" SI\"),\"\",1))","v":""},null,{"$f":"IF(OR(J847=\"\",G847=\"\"),\"\",IF(VLOOKUP(H847,Tabelle_Fisse!$B$25:$C$29,2,FALSE)=\"ok\",\"\",1))","v":""},{"$nulls":4},""]
[{"$nulls":9},"",{"$f":"IF(J848=\"\",\"\",IF(VLOOKUP(J848,Lotti!B$6:B$596,1,FALSE)=J848,\"\",1))","v":""},null,"",null,{"$f":"IF(J848=\"\",\"\",IF(VLOOKUP(F848,Tabelle_Fisse!$B$33:$C$34,2,FALSE)=\"ok\",\"\",1))","v":""},{"$f":"IF(J848=\"\",\"\",IF(VLOOKUP(CONCATENATE(J848,\" SI\"),W$7:W$1196,1,FALSE)=CONCATENATE(J848,\" SI\"),\"\",1))","v":""},null,{"$f":"IF(OR(J848=\"\",G848=\"\"),\"\",IF(VLOOKUP(H848,Tabelle_Fisse!$B$25:$C$29,2,FALSE)=\"ok\",\"\",1))","v":""},{"$nulls":4},""]
[{"$nulls":9},"",{"$f":"IF(J849=\"\",\"\",IF(VLOOKUP(J849,Lotti!B$6:B$596,1,FALSE)=J849,\"\",1))","v":""},null,"",null,{"$f":"IF(J849=\"\",\"\",IF(VLOOKUP(F849,Tabelle_Fisse!$B$33:$C$34,2,FALSE)=\"ok\",\"\",1))","v":""},{"$f":"IF(J849=\"\",\"\",IF(VLOOKUP(CONCATENATE(J849,\" SI\"),W$7:W$1196,1,FALSE)=CONCATENATE(J849,\" SI\"),\"\",1))","v":""},null,{"$f":"IF(OR(J849=\"\",G849=\"\"),\"\",IF(VLOOKUP(H849,Tabelle_Fisse!$B$25:$C$29,2,FALSE)=\"ok\",\"\",1))","v":""},{"$nulls":4},""]
[{"$nulls":9},"",{"$f":"IF(J850=\"\",\"\",IF(VLOOKUP(J850,Lotti!B$6:B$596,1,FALSE)=J850,\"\",1))","v":""},null,"",null,{"$f":"IF(J850=\"\",\"\",IF(VLOOKUP(F850,Tabelle_Fisse!$B$33:$C$34,2,FALSE)=\"ok\",\"\",1))","v":""},{"$f":"IF(J850=\"\",\"\",IF(VLOOKUP(CONCATENATE(J850,\" SI\"),W$7:W$1196,1,FALSE)=CONCATENATE(J850,\" SI\"),\"\",1))","v":""},null,{"$f":"IF(OR(J850=\"\",G850=\"\"),\"\",IF(VLOOKUP(H850,Tabelle_Fisse!$B$25:$C$29,2,FALSE)=\"ok\",\"\",1))","v":""},{"$nulls":4},""]
[{"$nulls":9},"",{"$f":"IF(J851=\"\",\"\",IF(VLOOKUP(J851,Lotti!B$6:B$596,1,FALSE)=J851,\"\",1))","v":""},null,"",null,{"$f":"IF(J851=\"\",\"\",IF(VLOOKUP(F851,Tabelle_Fisse!$B$33:$C$34,2,FALSE)=\"ok\",\"\",1))","v":""},{"$f":"IF(J851=\"\",\"\",IF(VLOOKUP(CONCATENATE(J851,\" SI\"),W$7:W$1196,1,FALSE)=CONCATENATE(J851,\" SI\"),\"\",1))","v":""},null,{"$f":"IF(OR(J851=\"\",G851=\"\"),\"\",IF(VLOOKUP(H851,Tabelle_Fisse!$B$25:$C$29,2,FALSE)=\"ok\",\"\",1))","v":""},{"$nulls":4},""]
[{"$nulls":9},"",{"$f":"IF(J852=\"\",\"\",IF(VLOOKUP(J852,Lotti!B$6:B$596,1,FALSE)=J852,\"\",1))","v":""},null,"",null,{"$f":"IF(J852=\"\",\"\",IF(VLOOKUP(F852,Tabelle_Fisse!$B$33:$C$34,2,FALSE)=\"ok\",\"\",1))","v":""},{"$f":"IF(J852=\"\",\"\",IF(VLOOKUP(CONCATENATE(J852,\" SI\"),W$7:W$1196,1,FALSE)=CONCATENATE(J852,\" SI\"),\"\",1))","v":""},null,{"$f":"IF(OR(J852=\"\",G852=\"\"),\"\",IF(VLOOKUP(H852,Tabelle_Fisse!$B$25:$C$29,2,FALSE)=\"ok\",\"\",1))","v":""},{"$nulls":4},""]
[{"$nulls":9},"",{"$f":"IF(J853=\"\",\"\",IF(VLOOKUP(J853,Lotti!B$6:B$596,1,FALSE)=J853,\"\",1))","v":""},null,"",null,{"$f":"IF(J853=\"\",\"\",IF(VLOOKUP(F853,Tabelle_Fisse!$B$33:$C$34,2,FALSE)=\"ok\",\"\",1))","v":""},{"$f":"IF(J853=\"\",\"\",IF(VLOOKUP(CONCATENATE(J853,\" SI\"),W$7:W$1196,1,FALSE)=CONCATENATE(J853,\" SI\"),\"\",1))","v":""},null,{"$f":"IF(OR(J853=\"\",G853=\"\"),\"\",IF(VLOOKUP(H853,Tabelle_Fisse!$B$25:$C$29,2,FALSE)=\"ok\",\"\",1))","v":""},{"$nulls":4},""]
[{"$nulls":9},"",{"$f":"IF(J854=\"\",\"\",IF(VLOOKUP(J854,Lotti!B$6:B$596,1,FALSE)=J854,\"\",1))","v":""},null,"",null,{"$f":"IF(J854=\"\",\"\",IF(VLOOKUP(F854,Tabelle_Fisse!$B$33:$C$34,2,FALSE)=\"ok\",\"\",1))","v":""},{"$f":"IF(J854=\"\",\"\",IF(VLOOKUP(CONCATENATE(J854,\" SI\"),W$7:W$1196,1,FALSE)=CONCATENATE(J854,\" SI\"),\"\",1))","v":""},null,{"$f":"IF(OR(J854=\"\",G854=\"\"),\"\",IF(VLOOKUP(H854,Tabelle_Fisse!$B$25:$C$29,2,FALSE)=\"ok\",\"\",1))","v":""},{"$nulls":4},""]
[{"$nulls":9},"",{"$f":"IF(J855=\"\",\"\",IF(VLOOKUP(J855,Lotti!B$6:B$596,1,FALSE)=J855,\"\",1))","v":""},null,"",null,{"$f":"IF(J855=\"\",\"\",IF(VLOOKUP(F855,Tabelle_Fisse!$B$33:$C$34,2,FALSE)=\"ok\",\"\",1))","v":""},{"$f":"IF(J855=\"\",\"\",IF(VLOOKUP(CONCATENATE(J855,\" SI\"),W$7:W$1196,1,FALSE)=CONCATENATE(J855,\" SI\"),\"\",1))","v":""},null,{"$f":"IF(OR(J855=\"\",G855=\"\"),\"\",IF(VLOOKUP(H855,Tabelle_Fisse!$B$25:$C$29,2,FALSE)=\"ok\",\"\",1))","v":""},{"$nulls":4},""]
[{"$nulls":9},"",{"$f":"IF(J856=\"\",\"\",IF(VLOOKUP(J856,Lotti!B$6:B$596,1,FALSE)=J856,\"\",1))","v":""},null,"",null,{"$f":"IF(J856=\"\",\"\",IF(VLOOKUP(F856,Tabelle_Fisse!$B$33:$C$34,2,FALSE)=\"ok\",\"\",1))","v":""},{"$f":"IF(J856=\"\",\"\",IF(VLOOKUP(CONCATENATE(J856,\" SI\"),W$7:W$1196,1,FALSE)=CONCATENATE(J856,\" SI\"),\"\",1))","v":""},null,{"$f":"IF(OR(J856=\"\",G856=\"\"),\"\",IF(VLOOKUP(H856,Tabelle_Fisse!$B$25:$C$29,2,FALSE)=\"ok\",\"\",1))","v":""},{"$nulls":4},""]
[{"$nulls":9},"",{"$f":"IF(J857=\"\",\"\",IF(VLOOKUP(J857,Lotti!B$6:B$596,1,FALSE)=J857,\"\",1))","v":""},null,"",null,{"$f":"IF(J857=\"\",\"\",IF(VLOOKUP(F857,Tabelle_Fisse!$B$33:$C$34,2,FALSE)=\"ok\",\"\",1))","v":""},{"$f":"IF(J857=\"\",\"\",IF(VLOOKUP(CONCATENATE(J857,\" SI\"),W$7:W$1196,1,FALSE)=CONCATENATE(J857,\" SI\"),\"\",1))","v":""},null,{"$f":"IF(OR(J857=\"\",G857=\"\"),\"\",IF(VLOOKUP(H857,Tabelle_Fisse!$B$25:$C$29,2,FALSE)=\"ok\",\"\",1))","v":""},{"$nulls":4},""]
[{"$nulls":9},"",{"$f":"IF(J858=\"\",\"\",IF(VLOOKUP(J858,Lotti!B$6:B$596,1,FALSE)=J858,\"\",1))","v":""},null,"",null,{"$f":"IF(J858=\"\",\"\",IF(VLOOKUP(F858,Tabelle_Fisse!$B$33:$C$34,2,FALSE)=\"ok\",\"\",1))","v":""},{"$f":"IF(J858=\"\",\"\",IF(VLOOKUP(CONCATENATE(J858,\" SI\"),W$7:W$1196,1,FALSE)=CONCATENATE(J858,\" SI\"),\"\",1))","v":""},null,{"$f":"IF(OR(J858=\"\",G858=\"\"),\"\",IF(VLOOKUP(H858,Tabelle_Fisse!$B$25:$C$29,2,FALSE)=\"ok\",\"\",1))","v":""},{"$nulls":4},""]
[{"$nulls":9},"",{"$f":"IF(J859=\"\",\"\",IF(VLOOKUP(J859,Lotti!B$6:B$596,1,FALSE)=J859,\"\",1))","v":""},null,"",null,{"$f":"IF(J859=\"\",\"\",IF(VLOOKUP(F859,Tabelle_Fisse!$B$33:$C$34,2,FALSE)=\"ok\",\"\",1))","v":""},{"$f":"IF(J859=\"\",\"\",IF(VLOOKUP(CONCATENATE(J859,\" SI\"),W$7:W$1196,1,FALSE)=CONCATENATE(J859,\" SI\"),\"\",1))","v":""},null,{"$f":"IF(OR(J859=\"\",G859=\"\"),\"\",IF(VLOOKUP(H859,Tabelle_Fisse!$B$25:$C$29,2,FALSE)=\"ok\",\"\",1))","v":""},{"$nulls":4},""]
[{"$nulls":9},"",{"$f":"IF(J860=\"\",\"\",IF(VLOOKUP(J860,Lotti!B$6:B$596,1,FALSE)=J860,\"\",1))","v":""},null,"",null,{"$f":"IF(J860=\"\",\"\",IF(VLOOKUP(F860,Tabelle_Fisse!$B$33:$C$34,2,FALSE)=\"ok\",\"\",1))","v":""},{"$f":"IF(J860=\"\",\"\",IF(VLOOKUP(CONCATENATE(J860,\" SI\"),W$7:W$1196,1,FALSE)=CONCATENATE(J860,\" SI\"),\"\",1))","v":""},null,{"$f":"IF(OR(J860=\"\",G860=\"\"),\"\",IF(VLOOKUP(H860,Tabelle_Fisse!$B$25:$C$29,2,FALSE)=\"ok\",\"\",1))","v":""},{"$nulls":4},""]
[{"$nulls":9},"",{"$f":"IF(J861=\"\",\"\",IF(VLOOKUP(J861,Lotti!B$6:B$596,1,FALSE)=J861,\"\",1))","v":""},null,"",null,{"$f":"IF(J861=\"\",\"\",IF(VLOOKUP(F861,Tabelle_Fisse!$B$33:$C$34,2,FALSE)=\"ok\",\"\",1))","v":""},{"$f":"IF(J861=\"\",\"\",IF(VLOOKUP(CONCATENATE(J861,\" SI\"),W$7:W$1196,1,FALSE)=CONCATENATE(J861,\" SI\"),\"\",1))","v":""},null,{"$f":"IF(OR(J861=\"\",G861=\"\"),\"\",IF(VLOOKUP(H861,Tabelle_Fisse!$B$25:$C$29,2,FALSE)=\"ok\",\"\",1))","v":""},{"$nulls":4},""]
[{"$nulls":9},"",{"$f":"IF(J862=\"\",\"\",IF(VLOOKUP(J862,Lotti!B$6:B$596,1,FALSE)=J862,\"\",1))","v":""},null,"",null,{"$f":"IF(J862=\"\",\"\",IF(VLOOKUP(F862,Tabelle_Fisse!$B$33:$C$34,2,FALSE)=\"ok\",\"\",1))","v":""},{"$f":"IF(J862=\"\",\"\",IF(VLOOKUP(CONCATENATE(J862,\" SI\"),W$7:W$1196,1,FALSE)=CONCATENATE(J862,\" SI\"),\"\",1))","v":""},null,{"$f":"IF(OR(J862=\"\",G862=\"\"),\"\",IF(VLOOKUP(H862,Tabelle_Fisse!$B$25:$C$29,2,FALSE)=\"ok\",\"\",1))","v":""},{"$nulls":4},""]
[{"$nulls":9},"",{"$f":"IF(J863=\"\",\"\",IF(VLOOKUP(J863,Lotti!B$6:B$596,1,FALSE)=J863,\"\",1))","v":""},null,"",null,{"$f":"IF(J863=\"\",\"\",IF(VLOOKUP(F863,Tabelle_Fisse!$B$33:$C$34,2,FALSE)=\"ok\",\"\",1))","v":""},{"$f":"IF(J863=\"\",\"\",IF(VLOOKUP(CONCATENATE(J863,\" SI\"),W$7:W$1196,1,FALSE)=CONCATENATE(J863,\" SI\"),\"\",1))","v":""},null,{"$f":"IF(OR(J863=\"\",G863=\"\"),\"\",IF(VLOOKUP(H863,Tabelle_Fisse!$B$25:$C$29,2,FALSE)=\"ok\",\"\",1))","v":""},{"$nulls":4},""]
[{"$nulls":9},"",{"$f":"IF(J864=\"\",\"\",IF(VLOOKUP(J864,Lotti!B$6:B$596,1,FALSE)=J864,\"\",1))","v":""},null,"",null,{"$f":"IF(J864=\"\",\"\",IF(VLOOKUP(F864,Tabelle_Fisse!$B$33:$C$34,2,FALSE)=\"ok\",\"\",1))","v":""},{"$f":"IF(J864=\"\",\"\",IF(VLOOKUP(CONCATENATE(J864,\" SI\"),W$7:W$1196,1,FALSE)=CONCATENATE(J864,\" SI\"),\"\",1))","v":""},null,{"$f":"IF(OR(J864=\"\",G864=\"\"),\"\",IF(VLOOKUP(H864,Tabelle_Fisse!$B$25:$C$29,2,FALSE)=\"ok\",\"\",1))","v":""},{"$nulls":4},""]
[{"$nulls":9},"",{"$f":"IF(J865=\"\",\"\",IF(VLOOKUP(J865,Lotti!B$6:B$596,1,FALSE)=J865,\"\",1))","v":""},null,"",null,{"$f":"IF(J865=\"\",\"\",IF(VLOOKUP(F865,Tabelle_Fisse!$B$33:$C$34,2,FALSE)=\"ok\",\"\",1))","v":""},{"$f":"IF(J865=\"\",\"\",IF(VLOOKUP(CONCATENATE(J865,\" SI\"),W$7:W$1196,1,FALSE)=CONCATENATE(J865,\" SI\"),\"\",1))","v":""},null,{"$f":"IF(OR(J865=\"\",G865=\"\"),\"\",IF(VLOOKUP(H865,Tabelle_Fisse!$B$25:$C$29,2,FALSE)=\"ok\",\"\",1))","v":""},{"$nulls":4},""]
[{"$nulls":9},"",{"$f":"IF(J866=\"\",\"\",IF(VLOOKUP(J866,Lotti!B$6:B$596,1,FALSE)=J866,\"\",1))","v":""},null,"",null,{"$f":"IF(J866=\"\",\"\",IF(VLOOKUP(F866,Tabelle_Fisse!$B$33:$C$34,2,FALSE)=\"ok\",\"\",1))","v":""},{"$f":"IF(J866=\"\",\"\",IF(VLOOKUP(CONCATENATE(J866,\" SI\"),W$7:W$1196,1,FALSE)=CONCATENATE(J866,\" SI\"),\"\",1))","v":""},null,{"$f":"IF(OR(J866=\"\",G866=\"\"),\"\",IF(VLOOKUP(H866,Tabelle_Fisse!$B$25:$C$29,2,FALSE)=\"ok\",\"\",1))","v":""},{"$nulls":4},""]
[{"$nulls":9},"",{"$f":"IF(J867=\"\",\"\",IF(VLOOKUP(J867,Lotti!B$6:B$596,1,FALSE)=J867,\"\",1))","v":""},null,"",null,{"$f":"IF(J867=\"\",\"\",IF(VLOOKUP(F867,Tabelle_Fisse!$B$33:$C$34,2,FALSE)=\"ok\",\"\",1))","v":""},{"$f":"IF(J867=\"\",\"\",IF(VLOOKUP(CONCATENATE(J867,\" SI\"),W$7:W$1196,1,FALSE)=CONCATENATE(J867,\" SI\"),\"\",1))","v":""},null,{"$f":"IF(OR(J867=\"\",G867=\"\"),\"\",IF(VLOOKUP(H867,Tabelle_Fisse!$B$25:$C$29,2,FALSE)=\"ok\",\"\",1))","v":""},{"$nulls":4},""]
[{"$nulls":9},"",{"$f":"IF(J868=\"\",\"\",IF(VLOOKUP(J868,Lotti!B$6:B$596,1,FALSE)=J868,\"\",1))","v":""},null,"",null,{"$f":"IF(J868=\"\",\"\",IF(VLOOKUP(F868,Tabelle_Fisse!$B$33:$C$34,2,FALSE)=\"ok\",\"\",1))","v":""},{"$f":"IF(J868=\"\",\"\",IF(VLOOKUP(CONCATENATE(J868,\" SI\"),W$7:W$1196,1,FALSE)=CONCATENATE(J868,\" SI\"),\"\",1))","v":""},null,{"$f":"IF(OR(J868=\"\",G868=\"\"),\"\",IF(VLOOKUP(H868,Tabelle_Fisse!$B$25:$C$29,2,FALSE)=\"ok\",\"\",1))","v":""},{"$nulls":4},""]
[{"$nulls":9},"",{"$f":"IF(J869=\"\",\"\",IF(VLOOKUP(J869,Lotti!B$6:B$596,1,FALSE)=J869,\"\",1))","v":""},null,"",null,{"$f":"IF(J869=\"\",\"\",IF(VLOOKUP(F869,Tabelle_Fisse!$B$33:$C$34,2,FALSE)=\"ok\",\"\",1))","v":""},{"$f":"IF(J869=\"\",\"\",IF(VLOOKUP(CONCATENATE(J869,\" SI\"),W$7:W$1196,1,FALSE)=CONCATENATE(J869,\" SI\"),\"\",1))","v":""},null,{"$f":"IF(OR(J869=\"\",G869=\"\"),\"\",IF(VLOOKUP(H869,Tabelle_Fisse!$B$25:$C$29,2,FALSE)=\"ok\",\"\",1))","v":""},{"$nulls":4},""]
[{"$nulls":9},"",{"$f":"IF(J870=\"\",\"\",IF(VLOOKUP(J870,Lotti!B$6:B$596,1,FALSE)=J870,\"\",1))","v":""},null,"",null,{"$f":"IF(J870=\"\",\"\",IF(VLOOKUP(F870,Tabelle_Fisse!$B$33:$C$34,2,FALSE)=\"ok\",\"\",1))","v":""},{"$f":"IF(J870=\"\",\"\",IF(VLOOKUP(CONCATENATE(J870,\" SI\"),W$7:W$1196,1,FALSE)=CONCATENATE(J870,\" SI\"),\"\",1))","v":""},null,{"$f":"IF(OR(J870=\"\",G870=\"\"),\"\",IF(VLOOKUP(H870,Tabelle_Fisse!$B$25:$C$29,2,FALSE)=\"ok\",\"\",1))","v":""},{"$nulls":4},""]
[{"$nulls":9},"",{"$f":"IF(J871=\"\",\"\",IF(VLOOKUP(J871,Lotti!B$6:B$596,1,FALSE)=J871,\"\",1))","v":""},null,"",null,{"$f":"IF(J871=\"\",\"\",IF(VLOOKUP(F871,Tabelle_Fisse!$B$33:$C$34,2,FALSE)=\"ok\",\"\",1))","v":""},{"$f":"IF(J871=\"\",\"\",IF(VLOOKUP(CONCATENATE(J871,\" SI\"),W$7:W$1196,1,FALSE)=CONCATENATE(J871,\" SI\"),\"\",1))","v":""},null,{"$f":"IF(OR(J871=\"\",G871=\"\"),\"\",IF(VLOOKUP(H871,Tabelle_Fisse!$B$25:$C$29,2,FALSE)=\"ok\",\"\",1))","v":""},{"$nulls":4},""]
[{"$nulls":9},"",{"$f":"IF(J872=\"\",\"\",IF(VLOOKUP(J872,Lotti!B$6:B$596,1,FALSE)=J872,\"\",1))","v":""},null,"",null,{"$f":"IF(J872=\"\",\"\",IF(VLOOKUP(F872,Tabelle_Fisse!$B$33:$C$34,2,FALSE)=\"ok\",\"\",1))","v":""},{"$f":"IF(J872=\"\",\"\",IF(VLOOKUP(CONCATENATE(J872,\" SI\"),W$7:W$1196,1,FALSE)=CONCATENATE(J872,\" SI\"),\"\",1))","v":""},null,{"$f":"IF(OR(J872=\"\",G872=\"\"),\"\",IF(VLOOKUP(H872,Tabelle_Fisse!$B$25:$C$29,2,FALSE)=\"ok\",\"\",1))","v":""},{"$nulls":4},""]
[{"$nulls":9},"",{"$f":"IF(J873=\"\",\"\",IF(VLOOKUP(J873,Lotti!B$6:B$596,1,FALSE)=J873,\"\",1))","v":""},null,"",null,{"$f":"IF(J873=\"\",\"\",IF(VLOOKUP(F873,Tabelle_Fisse!$B$33:$C$34,2,FALSE)=\"ok\",\"\",1))","v":""},{"$f":"IF(J873=\"\",\"\",IF(VLOOKUP(CONCATENATE(J873,\" SI\"),W$7:W$1196,1,FALSE)=CONCATENATE(J873,\" SI\"),\"\",1))","v":""},null,{"$f":"IF(OR(J873=\"\",G873=\"\"),\"\",IF(VLOOKUP(H873,Tabelle_Fisse!$B$25:$C$29,2,FALSE)=\"ok\",\"\",1))","v":""},{"$nulls":4},""]
[{"$nulls":9},"",{"$f":"IF(J874=\"\",\"\",IF(VLOOKUP(J874,Lotti!B$6:B$596,1,FALSE)=J874,\"\",1))","v":""},null,"",null,{"$f":"IF(J874=\"\",\"\",IF(VLOOKUP(F874,Tabelle_Fisse!$B$33:$C$34,2,FALSE)=\"ok\",\"\",1))","v":""},{"$f":"IF(J874=\"\",\"\",IF(VLOOKUP(CONCATENATE(J874,\" SI\"),W$7:W$1196,1,FALSE)=CONCATENATE(J874,\" SI\"),\"\",1))","v":""},null,{"$f":"IF(OR(J874=\"\",G874=\"\"),\"\",IF(VLOOKUP(H874,Tabelle_Fisse!$B$25:$C$29,2,FALSE)=\"ok\",\"\",1))","v":""},{"$nulls":4},""]
[{"$nulls":9},"",{"$f":"IF(J875=\"\",\"\",IF(VLOOKUP(J875,Lotti!B$6:B$596,1,FALSE)=J875,\"\",1))","v":""},null,"",null,{"$f":"IF(J875=\"\",\"\",IF(VLOOKUP(F875,Tabelle_Fisse!$B$33:$C$34,2,FALSE)=\"ok\",\"\",1))","v":""},{"$f":"IF(J875=\"\",\"\",IF(VLOOKUP(CONCATENATE(J875,\" SI\"),W$7:W$1196,1,FALSE)=CONCATENATE(J875,\" SI\"),\"\",1))","v":""},null,{"$f":"IF(OR(J875=\"\",G875=\"\"),\"\",IF(VLOOKUP(H875,Tabelle_Fisse!$B$25:$C$29,2,FALSE)=\"ok\",\"\",1))","v":""},{"$nulls":4},""]
[{"$nulls":9},"",{"$f":"IF(J876=\"\",\"\",IF(VLOOKUP(J876,Lotti!B$6:B$596,1,FALSE)=J876,\"\",1))","v":""},null,"",null,{"$f":"IF(J876=\"\",\"\",IF(VLOOKUP(F876,Tabelle_Fisse!$B$33:$C$34,2,FALSE)=\"ok\",\"\",1))","v":""},{"$f":"IF(J876=\"\",\"\",IF(VLOOKUP(CONCATENATE(J876,\" SI\"),W$7:W$1196,1,FALSE)=CONCATENATE(J876,\" SI\"),\"\",1))","v":""},null,{"$f":"IF(OR(J876=\"\",G876=\"\"),\"\",IF(VLOOKUP(H876,Tabelle_Fisse!$B$25:$C$29,2,FALSE)=\"ok\",\"\",1))","v":""},{"$nulls":4},""]
[{"$nulls":9},"",{"$f":"IF(J877=\"\",\"\",IF(VLOOKUP(J877,Lotti!B$6:B$596,1,FALSE)=J877,\"\",1))","v":""},null,"",null,{"$f":"IF(J877=\"\",\"\",IF(VLOOKUP(F877,Tabelle_Fisse!$B$33:$C$34,2,FALSE)=\"ok\",\"\",1))","v":""},{"$f":"IF(J877=\"\",\"\",IF(VLOOKUP(CONCATENATE(J877,\" SI\"),W$7:W$1196,1,FALSE)=CONCATENATE(J877,\" SI\"),\"\",1))","v":""},null,{"$f":"IF(OR(J877=\"\",G877=\"\"),\"\",IF(VLOOKUP(H877,Tabelle_Fisse!$B$25:$C$29,2,FALSE)=\"ok\",\"\",1))","v":""},{"$nulls":4},""]
[{"$nulls":9},"",{"$f":"IF(J878=\"\",\"\",IF(VLOOKUP(J878,Lotti!B$6:B$596,1,FALSE)=J878,\"\",1))","v":""},null,"",null,{"$f":"IF(J878=\"\",\"\",IF(VLOOKUP(F878,Tabelle_Fisse!$B$33:$C$34,2,FALSE)=\"ok\",\"\",1))","v":""},{"$f":"IF(J878=\"\",\"\",IF(VLOOKUP(CONCATENATE(J878,\" SI\"),W$7:W$1196,1,FALSE)=CONCATENATE(J878,\" SI\"),\"\",1))","v":""},null,{"$f":"IF(OR(J878=\"\",G878=\"\"),\"\",IF(VLOOKUP(H878,Tabelle_Fisse!$B$25:$C$29,2,FALSE)=\"ok\",\"\",1))","v":""},{"$nulls":4},""]
[{"$nulls":9},"",{"$f":"IF(J879=\"\",\"\",IF(VLOOKUP(J879,Lotti!B$6:B$596,1,FALSE)=J879,\"\",1))","v":""},null,"",null,{"$f":"IF(J879=\"\",\"\",IF(VLOOKUP(F879,Tabelle_Fisse!$B$33:$C$34,2,FALSE)=\"ok\",\"\",1))","v":""},{"$f":"IF(J879=\"\",\"\",IF(VLOOKUP(CONCATENATE(J879,\" SI\"),W$7:W$1196,1,FALSE)=CONCATENATE(J879,\" SI\"),\"\",1))","v":""},null,{"$f":"IF(OR(J879=\"\",G879=\"\"),\"\",IF(VLOOKUP(H879,Tabelle_Fisse!$B$25:$C$29,2,FALSE)=\"ok\",\"\",1))","v":""},{"$nulls":4},""]
[{"$nulls":9},"",{"$f":"IF(J880=\"\",\"\",IF(VLOOKUP(J880,Lotti!B$6:B$596,1,FALSE)=J880,\"\",1))","v":""},null,"",null,{"$f":"IF(J880=\"\",\"\",IF(VLOOKUP(F880,Tabelle_Fisse!$B$33:$C$34,2,FALSE)=\"ok\",\"\",1))","v":""},{"$f":"IF(J880=\"\",\"\",IF(VLOOKUP(CONCATENATE(J880,\" SI\"),W$7:W$1196,1,FALSE)=CONCATENATE(J880,\" SI\"),\"\",1))","v":""},null,{"$f":"IF(OR(J880=\"\",G880=\"\"),\"\",IF(VLOOKUP(H880,Tabelle_Fisse!$B$25:$C$29,2,FALSE)=\"ok\",\"\",1))","v":""},{"$nulls":4},""]
[{"$nulls":9},"",{"$f":"IF(J881=\"\",\"\",IF(VLOOKUP(J881,Lotti!B$6:B$596,1,FALSE)=J881,\"\",1))","v":""},null,"",null,{"$f":"IF(J881=\"\",\"\",IF(VLOOKUP(F881,Tabelle_Fisse!$B$33:$C$34,2,FALSE)=\"ok\",\"\",1))","v":""},{"$f":"IF(J881=\"\",\"\",IF(VLOOKUP(CONCATENATE(J881,\" SI\"),W$7:W$1196,1,FALSE)=CONCATENATE(J881,\" SI\"),\"\",1))","v":""},null,{"$f":"IF(OR(J881=\"\",G881=\"\"),\"\",IF(VLOOKUP(H881,Tabelle_Fisse!$B$25:$C$29,2,FALSE)=\"ok\",\"\",1))","v":""},{"$nulls":4},""]
[{"$nulls":9},"",{"$f":"IF(J882=\"\",\"\",IF(VLOOKUP(J882,Lotti!B$6:B$596,1,FALSE)=J882,\"\",1))","v":""},null,"",null,{"$f":"IF(J882=\"\",\"\",IF(VLOOKUP(F882,Tabelle_Fisse!$B$33:$C$34,2,FALSE)=\"ok\",\"\",1))","v":""},{"$f":"IF(J882=\"\",\"\",IF(VLOOKUP(CONCATENATE(J882,\" SI\"),W$7:W$1196,1,FALSE)=CONCATENATE(J882,\" SI\"),\"\",1))","v":""},null,{"$f":"IF(OR(J882=\"\",G882=\"\"),\"\",IF(VLOOKUP(H882,Tabelle_Fisse!$B$25:$C$29,2,FALSE)=\"ok\",\"\",1))","v":""},{"$nulls":4},""]
[{"$nulls":9},"",{"$f":"IF(J883=\"\",\"\",IF(VLOOKUP(J883,Lotti!B$6:B$596,1,FALSE)=J883,\"\",1))","v":""},null,"",null,{"$f":"IF(J883=\"\",\"\",IF(VLOOKUP(F883,Tabelle_Fisse!$B$33:$C$34,2,FALSE)=\"ok\",\"\",1))","v":""},{"$f":"IF(J883=\"\",\"\",IF(VLOOKUP(CONCATENATE(J883,\" SI\"),W$7:W$1196,1,FALSE)=CONCATENATE(J883,\" SI\"),\"\",1))","v":""},null,{"$f":"IF(OR(J883=\"\",G883=\"\"),\"\",IF(VLOOKUP(H883,Tabelle_Fisse!$B$25:$C$29,2,FALSE)=\"ok\",\"\",1))","v":""},{"$nulls":4},""]
[{"$nulls":9},"",{"$f":"IF(J884=\"\",\"\",IF(VLOOKUP(J884,Lotti!B$6:B$596,1,FALSE)=J884,\"\",1))","v":""},null,"",null,{"$f":"IF(J884=\"\",\"\",IF(VLOOKUP(F884,Tabelle_Fisse!$B$33:$C$34,2,FALSE)=\"ok\",\"\",1))","v":""},{"$f":"IF(J884=\"\",\"\",IF(VLOOKUP(CONCATENATE(J884,\" SI\"),W$7:W$1196,1,FALSE)=CONCATENATE(J884,\" SI\"),\"\",1))","v":""},null,{"$f":"IF(OR(J884=\"\",G884=\"\"),\"\",IF(VLOOKUP(H884,Tabelle_Fisse!$B$25:$C$29,2,FALSE)=\"ok\",\"\",1))","v":""},{"$nulls":4},""]
[{"$nulls":9},"",{"$f":"IF(J885=\"\",\"\",IF(VLOOKUP(J885,Lotti!B$6:B$596,1,FALSE)=J885,\"\",1))","v":""},null,"",null,{"$f":"IF(J885=\"\",\"\",IF(VLOOKUP(F885,Tabelle_Fisse!$B$33:$C$34,2,FALSE)=\"ok\",\"\",1))","v":""},{"$f":"IF(J885=\"\",\"\",IF(VLOOKUP(CONCATENATE(J885,\" SI\"),W$7:W$1196,1,FALSE)=CONCATENATE(J885,\" SI\"),\"\",1))","v":""},null,{"$f":"IF(OR(J885=\"\",G885=\"\"),\"\",IF(VLOOKUP(H885,Tabelle_Fisse!$B$25:$C$29,2,FALSE)=\"ok\",\"\",1))","v":""},{"$nulls":4},""]
[{"$nulls":9},"",{"$f":"IF(J886=\"\",\"\",IF(VLOOKUP(J886,Lotti!B$6:B$596,1,FALSE)=J886,\"\",1))","v":""},null,"",null,{"$f":"IF(J886=\"\",\"\",IF(VLOOKUP(F886,Tabelle_Fisse!$B$33:$C$34,2,FALSE)=\"ok\",\"\",1))","v":""},{"$f":"IF(J886=\"\",\"\",IF(VLOOKUP(CONCATENATE(J886,\" SI\"),W$7:W$1196,1,FALSE)=CONCATENATE(J886,\" SI\"),\"\",1))","v":""},null,{"$f":"IF(OR(J886=\"\",G886=\"\"),\"\",IF(VLOOKUP(H886,Tabelle_Fisse!$B$25:$C$29,2,FALSE)=\"ok\",\"\",1))","v":""},{"$nulls":4},""]
[{"$nulls":9},"",{"$f":"IF(J887=\"\",\"\",IF(VLOOKUP(J887,Lotti!B$6:B$596,1,FALSE)=J887,\"\",1))","v":""},null,"",null,{"$f":"IF(J887=\"\",\"\",IF(VLOOKUP(F887,Tabelle_Fisse!$B$33:$C$34,2,FALSE)=\"ok\",\"\",1))","v":""},{"$f":"IF(J887=\"\",\"\",IF(VLOOKUP(CONCATENATE(J887,\" SI\"),W$7:W$1196,1,FALSE)=CONCATENATE(J887,\" SI\"),\"\",1))","v":""},null,{"$f":"IF(OR(J887=\"\",G887=\"\"),\"\",IF(VLOOKUP(H887,Tabelle_Fisse!$B$25:$C$29,2,FALSE)=\"ok\",\"\",1))","v":""},{"$nulls":4},""]
[{"$nulls":9},"",{"$f":"IF(J888=\"\",\"\",IF(VLOOKUP(J888,Lotti!B$6:B$596,1,FALSE)=J888,\"\",1))","v":""},null,"",null,{"$f":"IF(J888=\"\",\"\",IF(VLOOKUP(F888,Tabelle_Fisse!$B$33:$C$34,2,FALSE)=\"ok\",\"\",1))","v":""},{"$f":"IF(J888=\"\",\"\",IF(VLOOKUP(CONCATENATE(J888,\" SI\"),W$7:W$1196,1,FALSE)=CONCATENATE(J888,\" SI\"),\"\",1))","v":""},null,{"$f":"IF(OR(J888=\"\",G888=\"\"),\"\",IF(VLOOKUP(H888,Tabelle_Fisse!$B$25:$C$29,2,FALSE)=\"ok\",\"\",1))","v":""},{"$nulls":4},""]
[{"$nulls":9},"",{"$f":"IF(J889=\"\",\"\",IF(VLOOKUP(J889,Lotti!B$6:B$596,1,FALSE)=J889,\"\",1))","v":""},null,"",null,{"$f":"IF(J889=\"\",\"\",IF(VLOOKUP(F889,Tabelle_Fisse!$B$33:$C$34,2,FALSE)=\"ok\",\"\",1))","v":""},{"$f":"IF(J889=\"\",\"\",IF(VLOOKUP(CONCATENATE(J889,\" SI\"),W$7:W$1196,1,FALSE)=CONCATENATE(J889,\" SI\"),\"\",1))","v":""},null,{"$f":"IF(OR(J889=\"\",G889=\"\"),\"\",IF(VLOOKUP(H889,Tabelle_Fisse!$B$25:$C$29,2,FALSE)=\"ok\",\"\",1))","v":""},{"$nulls":4},""]
[{"$nulls":9},"",{"$f":"IF(J890=\"\",\"\",IF(VLOOKUP(J890,Lotti!B$6:B$596,1,FALSE)=J890,\"\",1))","v":""},null,"",null,{"$f":"IF(J890=\"\",\"\",IF(VLOOKUP(F890,Tabelle_Fisse!$B$33:$C$34,2,FALSE)=\"ok\",\"\",1))","v":""},{"$f":"IF(J890=\"\",\"\",IF(VLOOKUP(CONCATENATE(J890,\" SI\"),W$7:W$1196,1,FALSE)=CONCATENATE(J890,\" SI\"),\"\",1))","v":""},null,{"$f":"IF(OR(J890=\"\",G890=\"\"),\"\",IF(VLOOKUP(H890,Tabelle_Fisse!$B$25:$C$29,2,FALSE)=\"ok\",\"\",1))","v":""},{"$nulls":4},""]
[{"$nulls":9},"",{"$f":"IF(J891=\"\",\"\",IF(VLOOKUP(J891,Lotti!B$6:B$596,1,FALSE)=J891,\"\",1))","v":""},null,"",null,{"$f":"IF(J891=\"\",\"\",IF(VLOOKUP(F891,Tabelle_Fisse!$B$33:$C$34,2,FALSE)=\"ok\",\"\",1))","v":""},{"$f":"IF(J891=\"\",\"\",IF(VLOOKUP(CONCATENATE(J891,\" SI\"),W$7:W$1196,1,FALSE)=CONCATENATE(J891,\" SI\"),\"\",1))","v":""},null,{"$f":"IF(OR(J891=\"\",G891=\"\"),\"\",IF(VLOOKUP(H891,Tabelle_Fisse!$B$25:$C$29,2,FALSE)=\"ok\",\"\",1))","v":""},{"$nulls":4},""]
[{"$nulls":9},"",{"$f":"IF(J892=\"\",\"\",IF(VLOOKUP(J892,Lotti!B$6:B$596,1,FALSE)=J892,\"\",1))","v":""},null,"",null,{"$f":"IF(J892=\"\",\"\",IF(VLOOKUP(F892,Tabelle_Fisse!$B$33:$C$34,2,FALSE)=\"ok\",\"\",1))","v":""},{"$f":"IF(J892=\"\",\"\",IF(VLOOKUP(CONCATENATE(J892,\" SI\"),W$7:W$1196,1,FALSE)=CONCATENATE(J892,\" SI\"),\"\",1))","v":""},null,{"$f":"IF(OR(J892=\"\",G892=\"\"),\"\",IF(VLOOKUP(H892,Tabelle_Fisse!$B$25:$C$29,2,FALSE)=\"ok\",\"\",1))","v":""},{"$nulls":4},""]
[{"$nulls":9},"",{"$f":"IF(J893=\"\",\"\",IF(VLOOKUP(J893,Lotti!B$6:B$596,1,FALSE)=J893,\"\",1))","v":""},null,"",null,{"$f":"IF(J893=\"\",\"\",IF(VLOOKUP(F893,Tabelle_Fisse!$B$33:$C$34,2,FALSE)=\"ok\",\"\",1))","v":""},{"$f":"IF(J893=\"\",\"\",IF(VLOOKUP(CONCATENATE(J893,\" SI\"),W$7:W$1196,1,FALSE)=CONCATENATE(J893,\" SI\"),\"\",1))","v":""},null,{"$f":"IF(OR(J893=\"\",G893=\"\"),\"\",IF(VLOOKUP(H893,Tabelle_Fisse!$B$25:$C$29,2,FALSE)=\"ok\",\"\",1))","v":""},{"$nulls":4},""]
[{"$nulls":9},"",{"$f":"IF(J894=\"\",\"\",IF(VLOOKUP(J894,Lotti!B$6:B$596,1,FALSE)=J894,\"\",1))","v":""},null,"",null,{"$f":"IF(J894=\"\",\"\",IF(VLOOKUP(F894,Tabelle_Fisse!$B$33:$C$34,2,FALSE)=\"ok\",\"\",1))","v":""},{"$f":"IF(J894=\"\",\"\",IF(VLOOKUP(CONCATENATE(J894,\" SI\"),W$7:W$1196,1,FALSE)=CONCATENATE(J894,\" SI\"),\"\",1))","v":""},null,{"$f":"IF(OR(J894=\"\",G894=\"\"),\"\",IF(VLOOKUP(H894,Tabelle_Fisse!$B$25:$C$29,2,FALSE)=\"ok\",\"\",1))","v":""},{"$nulls":4},""]
[{"$nulls":9},"",{"$f":"IF(J895=\"\",\"\",IF(VLOOKUP(J895,Lotti!B$6:B$596,1,FALSE)=J895,\"\",1))","v":""},null,"",null,{"$f":"IF(J895=\"\",\"\",IF(VLOOKUP(F895,Tabelle_Fisse!$B$33:$C$34,2,FALSE)=\"ok\",\"\",1))","v":""},{"$f":"IF(J895=\"\",\"\",IF(VLOOKUP(CONCATENATE(J895,\" SI\"),W$7:W$1196,1,FALSE)=CONCATENATE(J895,\" SI\"),\"\",1))","v":""},null,{"$f":"IF(OR(J895=\"\",G895=\"\"),\"\",IF(VLOOKUP(H895,Tabelle_Fisse!$B$25:$C$29,2,FALSE)=\"ok\",\"\",1))","v":""},{"$nulls":4},""]
[{"$nulls":9},"",{"$f":"IF(J896=\"\",\"\",IF(VLOOKUP(J896,Lotti!B$6:B$596,1,FALSE)=J896,\"\",1))","v":""},null,"",null,{"$f":"IF(J896=\"\",\"\",IF(VLOOKUP(F896,Tabelle_Fisse!$B$33:$C$34,2,FALSE)=\"ok\",\"\",1))","v":""},{"$f":"IF(J896=\"\",\"\",IF(VLOOKUP(CONCATENATE(J896,\" SI\"),W$7:W$1196,1,FALSE)=CONCATENATE(J896,\" SI\"),\"\",1))","v":""},null,{"$f":"IF(OR(J896=\"\",G896=\"\"),\"\",IF(VLOOKUP(H896,Tabelle_Fisse!$B$25:$C$29,2,FALSE)=\"ok\",\"\",1))","v":""},{"$nulls":4},""]
[{"$nulls":9},"",{"$f":"IF(J897=\"\",\"\",IF(VLOOKUP(J897,Lotti!B$6:B$596,1,FALSE)=J897,\"\",1))","v":""},null,"",null,{"$f":"IF(J897=\"\",\"\",IF(VLOOKUP(F897,Tabelle_Fisse!$B$33:$C$34,2,FALSE)=\"ok\",\"\",1))","v":""},{"$f":"IF(J897=\"\",\"\",IF(VLOOKUP(CONCATENATE(J897,\" SI\"),W$7:W$1196,1,FALSE)=CONCATENATE(J897,\" SI\"),\"\",1))","v":""},null,{"$f":"IF(OR(J897=\"\",G897=\"\"),\"\",IF(VLOOKUP(H897,Tabelle_Fisse!$B$25:$C$29,2,FALSE)=\"ok\",\"\",1))","v":""},{"$nulls":4},""]
[{"$nulls":9},"",{"$f":"IF(J898=\"\",\"\",IF(VLOOKUP(J898,Lotti!B$6:B$596,1,FALSE)=J898,\"\",1))","v":""},null,"",null,{"$f":"IF(J898=\"\",\"\",IF(VLOOKUP(F898,Tabelle_Fisse!$B$33:$C$34,2,FALSE)=\"ok\",\"\",1))","v":""},{"$f":"IF(J898=\"\",\"\",IF(VLOOKUP(CONCATENATE(J898,\" SI\"),W$7:W$1196,1,FALSE)=CONCATENATE(J898,\" SI\"),\"\",1))","v":""},null,{"$f":"IF(OR(J898=\"\",G898=\"\"),\"\",IF(VLOOKUP(H898,Tabelle_Fisse!$B$25:$C$29,2,FALSE)=\"ok\",\"\",1))","v":""},{"$nulls":4},""]
[{"$nulls":9},"",{"$f":"IF(J899=\"\",\"\",IF(VLOOKUP(J899,Lotti!B$6:B$596,1,FALSE)=J899,\"\",1))","v":""},null,"",null,{"$f":"IF(J899=\"\",\"\",IF(VLOOKUP(F899,Tabelle_Fisse!$B$33:$C$34,2,FALSE)=\"ok\",\"\",1))","v":""},{"$f":"IF(J899=\"\",\"\",IF(VLOOKUP(CONCATENATE(J899,\" SI\"),W$7:W$1196,1,FALSE)=CONCATENATE(J899,\" SI\"),\"\",1))","v":""},null,{"$f":"IF(OR(J899=\"\",G899=\"\"),\"\",IF(VLOOKUP(H899,Tabelle_Fisse!$B$25:$C$29,2,FALSE)=\"ok\",\"\",1))","v":""},{"$nulls":4},""]
[{"$nulls":9},{"$f":"TRIM(B900)","v":""},{"$f":"IF(J900=\"\",\"\",IF(VLOOKUP(J900,Lotti!B$6:B$596,1,FALSE)=J900,\"\",1))","v":""},null,{"$f":"IF(J900=\"\",\"\",IF(OR(AND(E900=\"\",LEN(D900)<>11,LEN(D900)<>16),AND(D900=\"\",E900=\"\"),AND(D900<>\"\",E900<>\"\")),1,\"\"))","v":""},null,{"$f":"IF(J900=\"\",\"\",IF(VLOOKUP(F900,Tabelle_Fisse!$B$33:$C$34,2,FALSE)=\"ok\",\"\",1))","v":""},{"$f":"IF(J900=\"\",\"\",IF(VLOOKUP(CONCATENATE(J900,\" SI\"),W$7:W$1196,1,FALSE)=CONCATENATE(J900,\" SI\"),\"\",1))","v":""},null,{"$f":"IF(OR(J900=\"\",G900=\"\"),\"\",IF(VLOOKUP(H900,Tabelle_Fisse!$B$25:$C$29,2,FALSE)=\"ok\",\"\",1))","v":""},{"$nulls":4},{"$f":"IF(J900=\"\",\"\",CONCATENATE(J900,\" \",F900))","v":""}]
[{"$nulls":9},"",{"$f":"IF(J901=\"\",\"\",IF(VLOOKUP(J901,Lotti!B$6:B$596,1,FALSE)=J901,\"\",1))","v":""},null,"",null,{"$f":"IF(J901=\"\",\"\",IF(VLOOKUP(F901,Tabelle_Fisse!$B$33:$C$34,2,FALSE)=\"ok\",\"\",1))","v":""},{"$f":"IF(J901=\"\",\"\",IF(VLOOKUP(CONCATENATE(J901,\" SI\"),W$7:W$1196,1,FALSE)=CONCATENATE(J901,\" SI\"),\"\",1))","v":""},null,{"$f":"IF(OR(J901=\"\",G901=\"\"),\"\",IF(VLOOKUP(H901,Tabelle_Fisse!$B$25:$C$29,2,FALSE)=\"ok\",\"\",1))","v":""},{"$nulls":4},""]
[{"$nulls":9},"",{"$f":"IF(J902=\"\",\"\",IF(VLOOKUP(J902,Lotti!B$6:B$596,1,FALSE)=J902,\"\",1))","v":""},null,"",null,{"$f":"IF(J902=\"\",\"\",IF(VLOOKUP(F902,Tabelle_Fisse!$B$33:$C$34,2,FALSE)=\"ok\",\"\",1))","v":""},{"$f":"IF(J902=\"\",\"\",IF(VLOOKUP(CONCATENATE(J902,\" SI\"),W$7:W$1196,1,FALSE)=CONCATENATE(J902,\" SI\"),\"\",1))","v":""},null,{"$f":"IF(OR(J902=\"\",G902=\"\"),\"\",IF(VLOOKUP(H902,Tabelle_Fisse!$B$25:$C$29,2,FALSE)=\"ok\",\"\",1))","v":""},{"$nulls":4},""]
[{"$nulls":9},"",{"$f":"IF(J903=\"\",\"\",IF(VLOOKUP(J903,Lotti!B$6:B$596,1,FALSE)=J903,\"\",1))","v":""},null,"",null,{"$f":"IF(J903=\"\",\"\",IF(VLOOKUP(F903,Tabelle_Fisse!$B$33:$C$34,2,FALSE)=\"ok\",\"\",1))","v":""},{"$f":"IF(J903=\"\",\"\",IF(VLOOKUP(CONCATENATE(J903,\" SI\"),W$7:W$1196,1,FALSE)=CONCATENATE(J903,\" SI\"),\"\",1))","v":""},null,{"$f":"IF(OR(J903=\"\",G903=\"\"),\"\",IF(VLOOKUP(H903,Tabelle_Fisse!$B$25:$C$29,2,FALSE)=\"ok\",\"\",1))","v":""},{"$nulls":4},""]
[{"$nulls":9},"",{"$f":"IF(J904=\"\",\"\",IF(VLOOKUP(J904,Lotti!B$6:B$596,1,FALSE)=J904,\"\",1))","v":""},null,"",null,{"$f":"IF(J904=\"\",\"\",IF(VLOOKUP(F904,Tabelle_Fisse!$B$33:$C$34,2,FALSE)=\"ok\",\"\",1))","v":""},{"$f":"IF(J904=\"\",\"\",IF(VLOOKUP(CONCATENATE(J904,\" SI\"),W$7:W$1196,1,FALSE)=CONCATENATE(J904,\" SI\"),\"\",1))","v":""},null,{"$f":"IF(OR(J904=\"\",G904=\"\"),\"\",IF(VLOOKUP(H904,Tabelle_Fisse!$B$25:$C$29,2,FALSE)=\"ok\",\"\",1))","v":""},{"$nulls":4},""]
[{"$nulls":9},"",{"$f":"IF(J905=\"\",\"\",IF(VLOOKUP(J905,Lotti!B$6:B$596,1,FALSE)=J905,\"\",1))","v":""},null,"",null,{"$f":"IF(J905=\"\",\"\",IF(VLOOKUP(F905,Tabelle_Fisse!$B$33:$C$34,2,FALSE)=\"ok\",\"\",1))","v":""},{"$f":"IF(J905=\"\",\"\",IF(VLOOKUP(CONCATENATE(J905,\" SI\"),W$7:W$1196,1,FALSE)=CONCATENATE(J905,\" SI\"),\"\",1))","v":""},null,{"$f":"IF(OR(J905=\"\",G905=\"\"),\"\",IF(VLOOKUP(H905,Tabelle_Fisse!$B$25:$C$29,2,FALSE)=\"ok\",\"\",1))","v":""},{"$nulls":4},""]
[{"$nulls":9},"",{"$f":"IF(J906=\"\",\"\",IF(VLOOKUP(J906,Lotti!B$6:B$596,1,FALSE)=J906,\"\",1))","v":""},null,"",null,{"$f":"IF(J906=\"\",\"\",IF(VLOOKUP(F906,Tabelle_Fisse!$B$33:$C$34,2,FALSE)=\"ok\",\"\",1))","v":""},{"$f":"IF(J906=\"\",\"\",IF(VLOOKUP(CONCATENATE(J906,\" SI\"),W$7:W$1196,1,FALSE)=CONCATENATE(J906,\" SI\"),\"\",1))","v":""},null,{"$f":"IF(OR(J906=\"\",G906=\"\"),\"\",IF(VLOOKUP(H906,Tabelle_Fisse!$B$25:$C$29,2,FALSE)=\"ok\",\"\",1))","v":""},{"$nulls":4},""]
[{"$nulls":9},"",{"$f":"IF(J907=\"\",\"\",IF(VLOOKUP(J907,Lotti!B$6:B$596,1,FALSE)=J907,\"\",1))","v":""},null,"",null,{"$f":"IF(J907=\"\",\"\",IF(VLOOKUP(F907,Tabelle_Fisse!$B$33:$C$34,2,FALSE)=\"ok\",\"\",1))","v":""},{"$f":"IF(J907=\"\",\"\",IF(VLOOKUP(CONCATENATE(J907,\" SI\"),W$7:W$1196,1,FALSE)=CONCATENATE(J907,\" SI\"),\"\",1))","v":""},null,{"$f":"IF(OR(J907=\"\",G907=\"\"),\"\",IF(VLOOKUP(H907,Tabelle_Fisse!$B$25:$C$29,2,FALSE)=\"ok\",\"\",1))","v":""},{"$nulls":4},""]
[{"$nulls":9},"",{"$f":"IF(J908=\"\",\"\",IF(VLOOKUP(J908,Lotti!B$6:B$596,1,FALSE)=J908,\"\",1))","v":""},null,"",null,{"$f":"IF(J908=\"\",\"\",IF(VLOOKUP(F908,Tabelle_Fisse!$B$33:$C$34,2,FALSE)=\"ok\",\"\",1))","v":""},{"$f":"IF(J908=\"\",\"\",IF(VLOOKUP(CONCATENATE(J908,\" SI\"),W$7:W$1196,1,FALSE)=CONCATENATE(J908,\" SI\"),\"\",1))","v":""},null,{"$f":"IF(OR(J908=\"\",G908=\"\"),\"\",IF(VLOOKUP(H908,Tabelle_Fisse!$B$25:$C$29,2,FALSE)=\"ok\",\"\",1))","v":""},{"$nulls":4},""]
[{"$nulls":9},"",{"$f":"IF(J909=\"\",\"\",IF(VLOOKUP(J909,Lotti!B$6:B$596,1,FALSE)=J909,\"\",1))","v":""},null,"",null,{"$f":"IF(J909=\"\",\"\",IF(VLOOKUP(F909,Tabelle_Fisse!$B$33:$C$34,2,FALSE)=\"ok\",\"\",1))","v":""},{"$f":"IF(J909=\"\",\"\",IF(VLOOKUP(CONCATENATE(J909,\" SI\"),W$7:W$1196,1,FALSE)=CONCATENATE(J909,\" SI\"),\"\",1))","v":""},null,{"$f":"IF(OR(J909=\"\",G909=\"\"),\"\",IF(VLOOKUP(H909,Tabelle_Fisse!$B$25:$C$29,2,FALSE)=\"ok\",\"\",1))","v":""},{"$nulls":4},""]
[{"$nulls":9},"",{"$f":"IF(J910=\"\",\"\",IF(VLOOKUP(J910,Lotti!B$6:B$596,1,FALSE)=J910,\"\",1))","v":""},null,"",null,{"$f":"IF(J910=\"\",\"\",IF(VLOOKUP(F910,Tabelle_Fisse!$B$33:$C$34,2,FALSE)=\"ok\",\"\",1))","v":""},{"$f":"IF(J910=\"\",\"\",IF(VLOOKUP(CONCATENATE(J910,\" SI\"),W$7:W$1196,1,FALSE)=CONCATENATE(J910,\" SI\"),\"\",1))","v":""},null,{"$f":"IF(OR(J910=\"\",G910=\"\"),\"\",IF(VLOOKUP(H910,Tabelle_Fisse!$B$25:$C$29,2,FALSE)=\"ok\",\"\",1))","v":""},{"$nulls":4},""]
[{"$nulls":9},"",{"$f":"IF(J911=\"\",\"\",IF(VLOOKUP(J911,Lotti!B$6:B$596,1,FALSE)=J911,\"\",1))","v":""},null,"",null,{"$f":"IF(J911=\"\",\"\",IF(VLOOKUP(F911,Tabelle_Fisse!$B$33:$C$34,2,FALSE)=\"ok\",\"\",1))","v":""},{"$f":"IF(J911=\"\",\"\",IF(VLOOKUP(CONCATENATE(J911,\" SI\"),W$7:W$1196,1,FALSE)=CONCATENATE(J911,\" SI\"),\"\",1))","v":""},null,{"$f":"IF(OR(J911=\"\",G911=\"\"),\"\",IF(VLOOKUP(H911,Tabelle_Fisse!$B$25:$C$29,2,FALSE)=\"ok\",\"\",1))","v":""},{"$nulls":4},""]
[{"$nulls":9},"",{"$f":"IF(J912=\"\",\"\",IF(VLOOKUP(J912,Lotti!B$6:B$596,1,FALSE)=J912,\"\",1))","v":""},null,"",null,{"$f":"IF(J912=\"\",\"\",IF(VLOOKUP(F912,Tabelle_Fisse!$B$33:$C$34,2,FALSE)=\"ok\",\"\",1))","v":""},{"$f":"IF(J912=\"\",\"\",IF(VLOOKUP(CONCATENATE(J912,\" SI\"),W$7:W$1196,1,FALSE)=CONCATENATE(J912,\" SI\"),\"\",1))","v":""},null,{"$f":"IF(OR(J912=\"\",G912=\"\"),\"\",IF(VLOOKUP(H912,Tabelle_Fisse!$B$25:$C$29,2,FALSE)=\"ok\",\"\",1))","v":""},{"$nulls":4},""]
[{"$nulls":9},"",{"$f":"IF(J913=\"\",\"\",IF(VLOOKUP(J913,Lotti!B$6:B$596,1,FALSE)=J913,\"\",1))","v":""},null,"",null,{"$f":"IF(J913=\"\",\"\",IF(VLOOKUP(F913,Tabelle_Fisse!$B$33:$C$34,2,FALSE)=\"ok\",\"\",1))","v":""},{"$f":"IF(J913=\"\",\"\",IF(VLOOKUP(CONCATENATE(J913,\" SI\"),W$7:W$1196,1,FALSE)=CONCATENATE(J913,\" SI\"),\"\",1))","v":""},null,{"$f":"IF(OR(J913=\"\",G913=\"\"),\"\",IF(VLOOKUP(H913,Tabelle_Fisse!$B$25:$C$29,2,FALSE)=\"ok\",\"\",1))","v":""},{"$nulls":4},""]
[{"$nulls":9},"",{"$f":"IF(J914=\"\",\"\",IF(VLOOKUP(J914,Lotti!B$6:B$596,1,FALSE)=J914,\"\",1))","v":""},null,"",null,{"$f":"IF(J914=\"\",\"\",IF(VLOOKUP(F914,Tabelle_Fisse!$B$33:$C$34,2,FALSE)=\"ok\",\"\",1))","v":""},{"$f":"IF(J914=\"\",\"\",IF(VLOOKUP(CONCATENATE(J914,\" SI\"),W$7:W$1196,1,FALSE)=CONCATENATE(J914,\" SI\"),\"\",1))","v":""},null,{"$f":"IF(OR(J914=\"\",G914=\"\"),\"\",IF(VLOOKUP(H914,Tabelle_Fisse!$B$25:$C$29,2,FALSE)=\"ok\",\"\",1))","v":""},{"$nulls":4},""]
[{"$nulls":9},"",{"$f":"IF(J915=\"\",\"\",IF(VLOOKUP(J915,Lotti!B$6:B$596,1,FALSE)=J915,\"\",1))","v":""},null,"",null,{"$f":"IF(J915=\"\",\"\",IF(VLOOKUP(F915,Tabelle_Fisse!$B$33:$C$34,2,FALSE)=\"ok\",\"\",1))","v":""},{"$f":"IF(J915=\"\",\"\",IF(VLOOKUP(CONCATENATE(J915,\" SI\"),W$7:W$1196,1,FALSE)=CONCATENATE(J915,\" SI\"),\"\",1))","v":""},null,{"$f":"IF(OR(J915=\"\",G915=\"\"),\"\",IF(VLOOKUP(H915,Tabelle_Fisse!$B$25:$C$29,2,FALSE)=\"ok\",\"\",1))","v":""},{"$nulls":4},""]
[{"$nulls":9},"",{"$f":"IF(J916=\"\",\"\",IF(VLOOKUP(J916,Lotti!B$6:B$596,1,FALSE)=J916,\"\",1))","v":""},null,"",null,{"$f":"IF(J916=\"\",\"\",IF(VLOOKUP(F916,Tabelle_Fisse!$B$33:$C$34,2,FALSE)=\"ok\",\"\",1))","v":""},{"$f":"IF(J916=\"\",\"\",IF(VLOOKUP(CONCATENATE(J916,\" SI\"),W$7:W$1196,1,FALSE)=CONCATENATE(J916,\" SI\"),\"\",1))","v":""},null,{"$f":"IF(OR(J916=\"\",G916=\"\"),\"\",IF(VLOOKUP(H916,Tabelle_Fisse!$B$25:$C$29,2,FALSE)=\"ok\",\"\",1))","v":""},{"$nulls":4},""]
[{"$nulls":9},"",{"$f":"IF(J917=\"\",\"\",IF(VLOOKUP(J917,Lotti!B$6:B$596,1,FALSE)=J917,\"\",1))","v":""},null,"",null,{"$f":"IF(J917=\"\",\"\",IF(VLOOKUP(F917,Tabelle_Fisse!$B$33:$C$34,2,FALSE)=\"ok\",\"\",1))","v":""},{"$f":"IF(J917=\"\",\"\",IF(VLOOKUP(CONCATENATE(J917,\" SI\"),W$7:W$1196,1,FALSE)=CONCATENATE(J917,\" SI\"),\"\",1))","v":""},null,{"$f":"IF(OR(J917=\"\",G917=\"\"),\"\",IF(VLOOKUP(H917,Tabelle_Fisse!$B$25:$C$29,2,FALSE)=\"ok\",\"\",1))","v":""},{"$nulls":4},""]
[{"$nulls":9},"",{"$f":"IF(J918=\"\",\"\",IF(VLOOKUP(J918,Lotti!B$6:B$596,1,FALSE)=J918,\"\",1))","v":""},null,"",null,{"$f":"IF(J918=\"\",\"\",IF(VLOOKUP(F918,Tabelle_Fisse!$B$33:$C$34,2,FALSE)=\"ok\",\"\",1))","v":""},{"$f":"IF(J918=\"\",\"\",IF(VLOOKUP(CONCATENATE(J918,\" SI\"),W$7:W$1196,1,FALSE)=CONCATENATE(J918,\" SI\"),\"\",1))","v":""},null,{"$f":"IF(OR(J918=\"\",G918=\"\"),\"\",IF(VLOOKUP(H918,Tabelle_Fisse!$B$25:$C$29,2,FALSE)=\"ok\",\"\",1))","v":""},{"$nulls":4},""]
[{"$nulls":9},"",{"$f":"IF(J919=\"\",\"\",IF(VLOOKUP(J919,Lotti!B$6:B$596,1,FALSE)=J919,\"\",1))","v":""},null,"",null,{"$f":"IF(J919=\"\",\"\",IF(VLOOKUP(F919,Tabelle_Fisse!$B$33:$C$34,2,FALSE)=\"ok\",\"\",1))","v":""},{"$f":"IF(J919=\"\",\"\",IF(VLOOKUP(CONCATENATE(J919,\" SI\"),W$7:W$1196,1,FALSE)=CONCATENATE(J919,\" SI\"),\"\",1))","v":""},null,{"$f":"IF(OR(J919=\"\",G919=\"\"),\"\",IF(VLOOKUP(H919,Tabelle_Fisse!$B$25:$C$29,2,FALSE)=\"ok\",\"\",1))","v":""},{"$nulls":4},""]
[{"$nulls":9},"",{"$f":"IF(J920=\"\",\"\",IF(VLOOKUP(J920,Lotti!B$6:B$596,1,FALSE)=J920,\"\",1))","v":""},null,"",null,{"$f":"IF(J920=\"\",\"\",IF(VLOOKUP(F920,Tabelle_Fisse!$B$33:$C$34,2,FALSE)=\"ok\",\"\",1))","v":""},{"$f":"IF(J920=\"\",\"\",IF(VLOOKUP(CONCATENATE(J920,\" SI\"),W$7:W$1196,1,FALSE)=CONCATENATE(J920,\" SI\"),\"\",1))","v":""},null,{"$f":"IF(OR(J920=\"\",G920=\"\"),\"\",IF(VLOOKUP(H920,Tabelle_Fisse!$B$25:$C$29,2,FALSE)=\"ok\",\"\",1))","v":""},{"$nulls":4},""]
[{"$nulls":9},"",{"$f":"IF(J921=\"\",\"\",IF(VLOOKUP(J921,Lotti!B$6:B$596,1,FALSE)=J921,\"\",1))","v":""},null,"",null,{"$f":"IF(J921=\"\",\"\",IF(VLOOKUP(F921,Tabelle_Fisse!$B$33:$C$34,2,FALSE)=\"ok\",\"\",1))","v":""},{"$f":"IF(J921=\"\",\"\",IF(VLOOKUP(CONCATENATE(J921,\" SI\"),W$7:W$1196,1,FALSE)=CONCATENATE(J921,\" SI\"),\"\",1))","v":""},null,{"$f":"IF(OR(J921=\"\",G921=\"\"),\"\",IF(VLOOKUP(H921,Tabelle_Fisse!$B$25:$C$29,2,FALSE)=\"ok\",\"\",1))","v":""},{"$nulls":4},""]
[{"$nulls":9},"",{"$f":"IF(J922=\"\",\"\",IF(VLOOKUP(J922,Lotti!B$6:B$596,1,FALSE)=J922,\"\",1))","v":""},null,"",null,{"$f":"IF(J922=\"\",\"\",IF(VLOOKUP(F922,Tabelle_Fisse!$B$33:$C$34,2,FALSE)=\"ok\",\"\",1))","v":""},{"$f":"IF(J922=\"\",\"\",IF(VLOOKUP(CONCATENATE(J922,\" SI\"),W$7:W$1196,1,FALSE)=CONCATENATE(J922,\" SI\"),\"\",1))","v":""},null,{"$f":"IF(OR(J922=\"\",G922=\"\"),\"\",IF(VLOOKUP(H922,Tabelle_Fisse!$B$25:$C$29,2,FALSE)=\"ok\",\"\",1))","v":""},{"$nulls":4},""]
[{"$nulls":9},"",{"$f":"IF(J923=\"\",\"\",IF(VLOOKUP(J923,Lotti!B$6:B$596,1,FALSE)=J923,\"\",1))","v":""},null,"",null,{"$f":"IF(J923=\"\",\"\",IF(VLOOKUP(F923,Tabelle_Fisse!$B$33:$C$34,2,FALSE)=\"ok\",\"\",1))","v":""},{"$f":"IF(J923=\"\",\"\",IF(VLOOKUP(CONCATENATE(J923,\" SI\"),W$7:W$1196,1,FALSE)=CONCATENATE(J923,\" SI\"),\"\",1))","v":""},null,{"$f":"IF(OR(J923=\"\",G923=\"\"),\"\",IF(VLOOKUP(H923,Tabelle_Fisse!$B$25:$C$29,2,FALSE)=\"ok\",\"\",1))","v":""},{"$nulls":4},""]
[{"$nulls":9},"",{"$f":"IF(J924=\"\",\"\",IF(VLOOKUP(J924,Lotti!B$6:B$596,1,FALSE)=J924,\"\",1))","v":""},null,"",null,{"$f":"IF(J924=\"\",\"\",IF(VLOOKUP(F924,Tabelle_Fisse!$B$33:$C$34,2,FALSE)=\"ok\",\"\",1))","v":""},{"$f":"IF(J924=\"\",\"\",IF(VLOOKUP(CONCATENATE(J924,\" SI\"),W$7:W$1196,1,FALSE)=CONCATENATE(J924,\" SI\"),\"\",1))","v":""},null,{"$f":"IF(OR(J924=\"\",G924=\"\"),\"\",IF(VLOOKUP(H924,Tabelle_Fisse!$B$25:$C$29,2,FALSE)=\"ok\",\"\",1))","v":""},{"$nulls":4},""]
[{"$nulls":9},"",{"$f":"IF(J925=\"\",\"\",IF(VLOOKUP(J925,Lotti!B$6:B$596,1,FALSE)=J925,\"\",1))","v":""},null,"",null,{"$f":"IF(J925=\"\",\"\",IF(VLOOKUP(F925,Tabelle_Fisse!$B$33:$C$34,2,FALSE)=\"ok\",\"\",1))","v":""},{"$f":"IF(J925=\"\",\"\",IF(VLOOKUP(CONCATENATE(J925,\" SI\"),W$7:W$1196,1,FALSE)=CONCATENATE(J925,\" SI\"),\"\",1))","v":""},null,{"$f":"IF(OR(J925=\"\",G925=\"\"),\"\",IF(VLOOKUP(H925,Tabelle_Fisse!$B$25:$C$29,2,FALSE)=\"ok\",\"\",1))","v":""},{"$nulls":4},""]
[{"$nulls":9},"",{"$f":"IF(J926=\"\",\"\",IF(VLOOKUP(J926,Lotti!B$6:B$596,1,FALSE)=J926,\"\",1))","v":""},null,"",null,{"$f":"IF(J926=\"\",\"\",IF(VLOOKUP(F926,Tabelle_Fisse!$B$33:$C$34,2,FALSE)=\"ok\",\"\",1))","v":""},{"$f":"IF(J926=\"\",\"\",IF(VLOOKUP(CONCATENATE(J926,\" SI\"),W$7:W$1196,1,FALSE)=CONCATENATE(J926,\" SI\"),\"\",1))","v":""},null,{"$f":"IF(OR(J926=\"\",G926=\"\"),\"\",IF(VLOOKUP(H926,Tabelle_Fisse!$B$25:$C$29,2,FALSE)=\"ok\",\"\",1))","v":""},{"$nulls":4},""]
[{"$nulls":9},"",{"$f":"IF(J927=\"\",\"\",IF(VLOOKUP(J927,Lotti!B$6:B$596,1,FALSE)=J927,\"\",1))","v":""},null,"",null,{"$f":"IF(J927=\"\",\"\",IF(VLOOKUP(F927,Tabelle_Fisse!$B$33:$C$34,2,FALSE)=\"ok\",\"\",1))","v":""},{"$f":"IF(J927=\"\",\"\",IF(VLOOKUP(CONCATENATE(J927,\" SI\"),W$7:W$1196,1,FALSE)=CONCATENATE(J927,\" SI\"),\"\",1))","v":""},null,{"$f":"IF(OR(J927=\"\",G927=\"\"),\"\",IF(VLOOKUP(H927,Tabelle_Fisse!$B$25:$C$29,2,FALSE)=\"ok\",\"\",1))","v":""},{"$nulls":4},""]
[{"$nulls":9},"",{"$f":"IF(J928=\"\",\"\",IF(VLOOKUP(J928,Lotti!B$6:B$596,1,FALSE)=J928,\"\",1))","v":""},null,"",null,{"$f":"IF(J928=\"\",\"\",IF(VLOOKUP(F928,Tabelle_Fisse!$B$33:$C$34,2,FALSE)=\"ok\",\"\",1))","v":""},{"$f":"IF(J928=\"\",\"\",IF(VLOOKUP(CONCATENATE(J928,\" SI\"),W$7:W$1196,1,FALSE)=CONCATENATE(J928,\" SI\"),\"\",1))","v":""},null,{"$f":"IF(OR(J928=\"\",G928=\"\"),\"\",IF(VLOOKUP(H928,Tabelle_Fisse!$B$25:$C$29,2,FALSE)=\"ok\",\"\",1))","v":""},{"$nulls":4},""]
[{"$nulls":9},"",{"$f":"IF(J929=\"\",\"\",IF(VLOOKUP(J929,Lotti!B$6:B$596,1,FALSE)=J929,\"\",1))","v":""},null,"",null,{"$f":"IF(J929=\"\",\"\",IF(VLOOKUP(F929,Tabelle_Fisse!$B$33:$C$34,2,FALSE)=\"ok\",\"\",1))","v":""},{"$f":"IF(J929=\"\",\"\",IF(VLOOKUP(CONCATENATE(J929,\" SI\"),W$7:W$1196,1,FALSE)=CONCATENATE(J929,\" SI\"),\"\",1))","v":""},null,{"$f":"IF(OR(J929=\"\",G929=\"\"),\"\",IF(VLOOKUP(H929,Tabelle_Fisse!$B$25:$C$29,2,FALSE)=\"ok\",\"\",1))","v":""},{"$nulls":4},""]
[{"$nulls":9},"",{"$f":"IF(J930=\"\",\"\",IF(VLOOKUP(J930,Lotti!B$6:B$596,1,FALSE)=J930,\"\",1))","v":""},null,"",null,{"$f":"IF(J930=\"\",\"\",IF(VLOOKUP(F930,Tabelle_Fisse!$B$33:$C$34,2,FALSE)=\"ok\",\"\",1))","v":""},{"$f":"IF(J930=\"\",\"\",IF(VLOOKUP(CONCATENATE(J930,\" SI\"),W$7:W$1196,1,FALSE)=CONCATENATE(J930,\" SI\"),\"\",1))","v":""},null,{"$f":"IF(OR(J930=\"\",G930=\"\"),\"\",IF(VLOOKUP(H930,Tabelle_Fisse!$B$25:$C$29,2,FALSE)=\"ok\",\"\",1))","v":""},{"$nulls":4},""]
[{"$nulls":9},"",{"$f":"IF(J931=\"\",\"\",IF(VLOOKUP(J931,Lotti!B$6:B$596,1,FALSE)=J931,\"\",1))","v":""},null,"",null,{"$f":"IF(J931=\"\",\"\",IF(VLOOKUP(F931,Tabelle_Fisse!$B$33:$C$34,2,FALSE)=\"ok\",\"\",1))","v":""},{"$f":"IF(J931=\"\",\"\",IF(VLOOKUP(CONCATENATE(J931,\" SI\"),W$7:W$1196,1,FALSE)=CONCATENATE(J931,\" SI\"),\"\",1))","v":""},null,{"$f":"IF(OR(J931=\"\",G931=\"\"),\"\",IF(VLOOKUP(H931,Tabelle_Fisse!$B$25:$C$29,2,FALSE)=\"ok\",\"\",1))","v":""},{"$nulls":4},""]
[{"$nulls":9},"",{"$f":"IF(J932=\"\",\"\",IF(VLOOKUP(J932,Lotti!B$6:B$596,1,FALSE)=J932,\"\",1))","v":""},null,"",null,{"$f":"IF(J932=\"\",\"\",IF(VLOOKUP(F932,Tabelle_Fisse!$B$33:$C$34,2,FALSE)=\"ok\",\"\",1))","v":""},{"$f":"IF(J932=\"\",\"\",IF(VLOOKUP(CONCATENATE(J932,\" SI\"),W$7:W$1196,1,FALSE)=CONCATENATE(J932,\" SI\"),\"\",1))","v":""},null,{"$f":"IF(OR(J932=\"\",G932=\"\"),\"\",IF(VLOOKUP(H932,Tabelle_Fisse!$B$25:$C$29,2,FALSE)=\"ok\",\"\",1))","v":""},{"$nulls":4},""]
[{"$nulls":9},"",{"$f":"IF(J933=\"\",\"\",IF(VLOOKUP(J933,Lotti!B$6:B$596,1,FALSE)=J933,\"\",1))","v":""},null,"",null,{"$f":"IF(J933=\"\",\"\",IF(VLOOKUP(F933,Tabelle_Fisse!$B$33:$C$34,2,FALSE)=\"ok\",\"\",1))","v":""},{"$f":"IF(J933=\"\",\"\",IF(VLOOKUP(CONCATENATE(J933,\" SI\"),W$7:W$1196,1,FALSE)=CONCATENATE(J933,\" SI\"),\"\",1))","v":""},null,{"$f":"IF(OR(J933=\"\",G933=\"\"),\"\",IF(VLOOKUP(H933,Tabelle_Fisse!$B$25:$C$29,2,FALSE)=\"ok\",\"\",1))","v":""},{"$nulls":4},""]
[{"$nulls":9},"",{"$f":"IF(J934=\"\",\"\",IF(VLOOKUP(J934,Lotti!B$6:B$596,1,FALSE)=J934,\"\",1))","v":""},null,"",null,{"$f":"IF(J934=\"\",\"\",IF(VLOOKUP(F934,Tabelle_Fisse!$B$33:$C$34,2,FALSE)=\"ok\",\"\",1))","v":""},{"$f":"IF(J934=\"\",\"\",IF(VLOOKUP(CONCATENATE(J934,\" SI\"),W$7:W$1196,1,FALSE)=CONCATENATE(J934,\" SI\"),\"\",1))","v":""},null,{"$f":"IF(OR(J934=\"\",G934=\"\"),\"\",IF(VLOOKUP(H934,Tabelle_Fisse!$B$25:$C$29,2,FALSE)=\"ok\",\"\",1))","v":""},{"$nulls":4},""]
[{"$nulls":9},"",{"$f":"IF(J935=\"\",\"\",IF(VLOOKUP(J935,Lotti!B$6:B$596,1,FALSE)=J935,\"\",1))","v":""},null,"",null,{"$f":"IF(J935=\"\",\"\",IF(VLOOKUP(F935,Tabelle_Fisse!$B$33:$C$34,2,FALSE)=\"ok\",\"\",1))","v":""},{"$f":"IF(J935=\"\",\"\",IF(VLOOKUP(CONCATENATE(J935,\" SI\"),W$7:W$1196,1,FALSE)=CONCATENATE(J935,\" SI\"),\"\",1))","v":""},null,{"$f":"IF(OR(J935=\"\",G935=\"\"),\"\",IF(VLOOKUP(H935,Tabelle_Fisse!$B$25:$C$29,2,FALSE)=\"ok\",\"\",1))","v":""},{"$nulls":4},""]
[{"$nulls":9},"",{"$f":"IF(J936=\"\",\"\",IF(VLOOKUP(J936,Lotti!B$6:B$596,1,FALSE)=J936,\"\",1))","v":""},null,"",null,{"$f":"IF(J936=\"\",\"\",IF(VLOOKUP(F936,Tabelle_Fisse!$B$33:$C$34,2,FALSE)=\"ok\",\"\",1))","v":""},{"$f":"IF(J936=\"\",\"\",IF(VLOOKUP(CONCATENATE(J936,\" SI\"),W$7:W$1196,1,FALSE)=CONCATENATE(J936,\" SI\"),\"\",1))","v":""},null,{"$f":"IF(OR(J936=\"\",G936=\"\"),\"\",IF(VLOOKUP(H936,Tabelle_Fisse!$B$25:$C$29,2,FALSE)=\"ok\",\"\",1))","v":""},{"$nulls":4},""]
[{"$nulls":9},"",{"$f":"IF(J937=\"\",\"\",IF(VLOOKUP(J937,Lotti!B$6:B$596,1,FALSE)=J937,\"\",1))","v":""},null,"",null,{"$f":"IF(J937=\"\",\"\",IF(VLOOKUP(F937,Tabelle_Fisse!$B$33:$C$34,2,FALSE)=\"ok\",\"\",1))","v":""},{"$f":"IF(J937=\"\",\"\",IF(VLOOKUP(CONCATENATE(J937,\" SI\"),W$7:W$1196,1,FALSE)=CONCATENATE(J937,\" SI\"),\"\",1))","v":""},null,{"$f":"IF(OR(J937=\"\",G937=\"\"),\"\",IF(VLOOKUP(H937,Tabelle_Fisse!$B$25:$C$29,2,FALSE)=\"ok\",\"\",1))","v":""},{"$nulls":4},""]
[{"$nulls":9},"",{"$f":"IF(J938=\"\",\"\",IF(VLOOKUP(J938,Lotti!B$6:B$596,1,FALSE)=J938,\"\",1))","v":""},null,"",null,{"$f":"IF(J938=\"\",\"\",IF(VLOOKUP(F938,Tabelle_Fisse!$B$33:$C$34,2,FALSE)=\"ok\",\"\",1))","v":""},{"$f":"IF(J938=\"\",\"\",IF(VLOOKUP(CONCATENATE(J938,\" SI\"),W$7:W$1196,1,FALSE)=CONCATENATE(J938,\" SI\"),\"\",1))","v":""},null,{"$f":"IF(OR(J938=\"\",G938=\"\"),\"\",IF(VLOOKUP(H938,Tabelle_Fisse!$B$25:$C$29,2,FALSE)=\"ok\",\"\",1))","v":""},{"$nulls":4},""]
[{"$nulls":9},"",{"$f":"IF(J939=\"\",\"\",IF(VLOOKUP(J939,Lotti!B$6:B$596,1,FALSE)=J939,\"\",1))","v":""},null,"",null,{"$f":"IF(J939=\"\",\"\",IF(VLOOKUP(F939,Tabelle_Fisse!$B$33:$C$34,2,FALSE)=\"ok\",\"\",1))","v":""},{"$f":"IF(J939=\"\",\"\",IF(VLOOKUP(CONCATENATE(J939,\" SI\"),W$7:W$1196,1,FALSE)=CONCATENATE(J939,\" SI\"),\"\",1))","v":""},null,{"$f":"IF(OR(J939=\"\",G939=\"\"),\"\",IF(VLOOKUP(H939,Tabelle_Fisse!$B$25:$C$29,2,FALSE)=\"ok\",\"\",1))","v":""},{"$nulls":4},""]
[{"$nulls":9},"",{"$f":"IF(J940=\"\",\"\",IF(VLOOKUP(J940,Lotti!B$6:B$596,1,FALSE)=J940,\"\",1))","v":""},null,"",null,{"$f":"IF(J940=\"\",\"\",IF(VLOOKUP(F940,Tabelle_Fisse!$B$33:$C$34,2,FALSE)=\"ok\",\"\",1))","v":""},{"$f":"IF(J940=\"\",\"\",IF(VLOOKUP(CONCATENATE(J940,\" SI\"),W$7:W$1196,1,FALSE)=CONCATENATE(J940,\" SI\"),\"\",1))","v":""},null,{"$f":"IF(OR(J940=\"\",G940=\"\"),\"\",IF(VLOOKUP(H940,Tabelle_Fisse!$B$25:$C$29,2,FALSE)=\"ok\",\"\",1))","v":""},{"$nulls":4},""]
[{"$nulls":9},"",{"$f":"IF(J941=\"\",\"\",IF(VLOOKUP(J941,Lotti!B$6:B$596,1,FALSE)=J941,\"\",1))","v":""},null,"",null,{"$f":"IF(J941=\"\",\"\",IF(VLOOKUP(F941,Tabelle_Fisse!$B$33:$C$34,2,FALSE)=\"ok\",\"\",1))","v":""},{"$f":"IF(J941=\"\",\"\",IF(VLOOKUP(CONCATENATE(J941,\" SI\"),W$7:W$1196,1,FALSE)=CONCATENATE(J941,\" SI\"),\"\",1))","v":""},null,{"$f":"IF(OR(J941=\"\",G941=\"\"),\"\",IF(VLOOKUP(H941,Tabelle_Fisse!$B$25:$C$29,2,FALSE)=\"ok\",\"\",1))","v":""},{"$nulls":4},""]
[{"$nulls":9},"",{"$f":"IF(J942=\"\",\"\",IF(VLOOKUP(J942,Lotti!B$6:B$596,1,FALSE)=J942,\"\",1))","v":""},null,"",null,{"$f":"IF(J942=\"\",\"\",IF(VLOOKUP(F942,Tabelle_Fisse!$B$33:$C$34,2,FALSE)=\"ok\",\"\",1))","v":""},{"$f":"IF(J942=\"\",\"\",IF(VLOOKUP(CONCATENATE(J942,\" SI\"),W$7:W$1196,1,FALSE)=CONCATENATE(J942,\" SI\"),\"\",1))","v":""},null,{"$f":"IF(OR(J942=\"\",G942=\"\"),\"\",IF(VLOOKUP(H942,Tabelle_Fisse!$B$25:$C$29,2,FALSE)=\"ok\",\"\",1))","v":""},{"$nulls":4},""]
[{"$nulls":9},"",{"$f":"IF(J943=\"\",\"\",IF(VLOOKUP(J943,Lotti!B$6:B$596,1,FALSE)=J943,\"\",1))","v":""},null,"",null,{"$f":"IF(J943=\"\",\"\",IF(VLOOKUP(F943,Tabelle_Fisse!$B$33:$C$34,2,FALSE)=\"ok\",\"\",1))","v":""},{"$f":"IF(J943=\"\",\"\",IF(VLOOKUP(CONCATENATE(J943,\" SI\"),W$7:W$1196,1,FALSE)=CONCATENATE(J943,\" SI\"),\"\",1))","v":""},null,{"$f":"IF(OR(J943=\"\",G943=\"\"),\"\",IF(VLOOKUP(H943,Tabelle_Fisse!$B$25:$C$29,2,FALSE)=\"ok\",\"\",1))","v":""},{"$nulls":4},""]
[{"$nulls":9},"",{"$f":"IF(J944=\"\",\"\",IF(VLOOKUP(J944,Lotti!B$6:B$596,1,FALSE)=J944,\"\",1))","v":""},null,"",null,{"$f":"IF(J944=\"\",\"\",IF(VLOOKUP(F944,Tabelle_Fisse!$B$33:$C$34,2,FALSE)=\"ok\",\"\",1))","v":""},{"$f":"IF(J944=\"\",\"\",IF(VLOOKUP(CONCATENATE(J944,\" SI\"),W$7:W$1196,1,FALSE)=CONCATENATE(J944,\" SI\"),\"\",1))","v":""},null,{"$f":"IF(OR(J944=\"\",G944=\"\"),\"\",IF(VLOOKUP(H944,Tabelle_Fisse!$B$25:$C$29,2,FALSE)=\"ok\",\"\",1))","v":""},{"$nulls":4},""]
[{"$nulls":9},"",{"$f":"IF(J945=\"\",\"\",IF(VLOOKUP(J945,Lotti!B$6:B$596,1,FALSE)=J945,\"\",1))","v":""},null,"",null,{"$f":"IF(J945=\"\",\"\",IF(VLOOKUP(F945,Tabelle_Fisse!$B$33:$C$34,2,FALSE)=\"ok\",\"\",1))","v":""},{"$f":"IF(J945=\"\",\"\",IF(VLOOKUP(CONCATENATE(J945,\" SI\"),W$7:W$1196,1,FALSE)=CONCATENATE(J945,\" SI\"),\"\",1))","v":""},null,{"$f":"IF(OR(J945=\"\",G945=\"\"),\"\",IF(VLOOKUP(H945,Tabelle_Fisse!$B$25:$C$29,2,FALSE)=\"ok\",\"\",1))","v":""},{"$nulls":4},""]
[{"$nulls":9},"",{"$f":"IF(J946=\"\",\"\",IF(VLOOKUP(J946,Lotti!B$6:B$596,1,FALSE)=J946,\"\",1))","v":""},null,"",null,{"$f":"IF(J946=\"\",\"\",IF(VLOOKUP(F946,Tabelle_Fisse!$B$33:$C$34,2,FALSE)=\"ok\",\"\",1))","v":""},{"$f":"IF(J946=\"\",\"\",IF(VLOOKUP(CONCATENATE(J946,\" SI\"),W$7:W$1196,1,FALSE)=CONCATENATE(J946,\" SI\"),\"\",1))","v":""},null,{"$f":"IF(OR(J946=\"\",G946=\"\"),\"\",IF(VLOOKUP(H946,Tabelle_Fisse!$B$25:$C$29,2,FALSE)=\"ok\",\"\",1))","v":""},{"$nulls":4},""]
[{"$nulls":9},"",{"$f":"IF(J947=\"\",\"\",IF(VLOOKUP(J947,Lotti!B$6:B$596,1,FALSE)=J947,\"\",1))","v":""},null,"",null,{"$f":"IF(J947=\"\",\"\",IF(VLOOKUP(F947,Tabelle_Fisse!$B$33:$C$34,2,FALSE)=\"ok\",\"\",1))","v":""},{"$f":"IF(J947=\"\",\"\",IF(VLOOKUP(CONCATENATE(J947,\" SI\"),W$7:W$1196,1,FALSE)=CONCATENATE(J947,\" SI\"),\"\",1))","v":""},null,{"$f":"IF(OR(J947=\"\",G947=\"\"),\"\",IF(VLOOKUP(H947,Tabelle_Fisse!$B$25:$C$29,2,FALSE)=\"ok\",\"\",1))","v":""},{"$nulls":4},""]
[{"$nulls":9},"",{"$f":"IF(J948=\"\",\"\",IF(VLOOKUP(J948,Lotti!B$6:B$596,1,FALSE)=J948,\"\",1))","v":""},null,"",null,{"$f":"IF(J948=\"\",\"\",IF(VLOOKUP(F948,Tabelle_Fisse!$B$33:$C$34,2,FALSE)=\"ok\",\"\",1))","v":""},{"$f":"IF(J948=\"\",\"\",IF(VLOOKUP(CONCATENATE(J948,\" SI\"),W$7:W$1196,1,FALSE)=CONCATENATE(J948,\" SI\"),\"\",1))","v":""},null,{"$f":"IF(OR(J948=\"\",G948=\"\"),\"\",IF(VLOOKUP(H948,Tabelle_Fisse!$B$25:$C$29,2,FALSE)=\"ok\",\"\",1))","v":""},{"$nulls":4},""]
[{"$nulls":9},"",{"$f":"IF(J949=\"\",\"\",IF(VLOOKUP(J949,Lotti!B$6:B$596,1,FALSE)=J949,\"\",1))","v":""},null,"",null,{"$f":"IF(J949=\"\",\"\",IF(VLOOKUP(F949,Tabelle_Fisse!$B$33:$C$34,2,FALSE)=\"ok\",\"\",1))","v":""},{"$f":"IF(J949=\"\",\"\",IF(VLOOKUP(CONCATENATE(J949,\" SI\"),W$7:W$1196,1,FALSE)=CONCATENATE(J949,\" SI\"),\"\",1))","v":""},null,{"$f":"IF(OR(J949=\"\",G949=\"\"),\"\",IF(VLOOKUP(H949,Tabelle_Fisse!$B$25:$C$29,2,FALSE)=\"ok\",\"\",1))","v":""},{"$nulls":4},""]
[{"$nulls":9},"",{"$f":"IF(J950=\"\",\"\",IF(VLOOKUP(J950,Lotti!B$6:B$596,1,FALSE)=J950,\"\",1))","v":""},null,"",null,{"$f":"IF(J950=\"\",\"\",IF(VLOOKUP(F950,Tabelle_Fisse!$B$33:$C$34,2,FALSE)=\"ok\",\"\",1))","v":""},{"$f":"IF(J950=\"\",\"\",IF(VLOOKUP(CONCATENATE(J950,\" SI\"),W$7:W$1196,1,FALSE)=CONCATENATE(J950,\" SI\"),\"\",1))","v":""},null,{"$f":"IF(OR(J950=\"\",G950=\"\"),\"\",IF(VLOOKUP(H950,Tabelle_Fisse!$B$25:$C$29,2,FALSE)=\"ok\",\"\",1))","v":""},{"$nulls":4},""]
[{"$nulls":9},"",{"$f":"IF(J951=\"\",\"\",IF(VLOOKUP(J951,Lotti!B$6:B$596,1,FALSE)=J951,\"\",1))","v":""},null,"",null,{"$f":"IF(J951=\"\",\"\",IF(VLOOKUP(F951,Tabelle_Fisse!$B$33:$C$34,2,FALSE)=\"ok\",\"\",1))","v":""},{"$f":"IF(J951=\"\",\"\",IF(VLOOKUP(CONCATENATE(J951,\" SI\"),W$7:W$1196,1,FALSE)=CONCATENATE(J951,\" SI\"),\"\",1))","v":""},null,{"$f":"IF(OR(J951=\"\",G951=\"\"),\"\",IF(VLOOKUP(H951,Tabelle_Fisse!$B$25:$C$29,2,FALSE)=\"ok\",\"\",1))","v":""},{"$nulls":4},""]
[{"$nulls":9},"",{"$f":"IF(J952=\"\",\"\",IF(VLOOKUP(J952,Lotti!B$6:B$596,1,FALSE)=J952,\"\",1))","v":""},null,"",null,{"$f":"IF(J952=\"\",\"\",IF(VLOOKUP(F952,Tabelle_Fisse!$B$33:$C$34,2,FALSE)=\"ok\",\"\",1))","v":""},{"$f":"IF(J952=\"\",\"\",IF(VLOOKUP(CONCATENATE(J952,\" SI\"),W$7:W$1196,1,FALSE)=CONCATENATE(J952,\" SI\"),\"\",1))","v":""},null,{"$f":"IF(OR(J952=\"\",G952=\"\"),\"\",IF(VLOOKUP(H952,Tabelle_Fisse!$B$25:$C$29,2,FALSE)=\"ok\",\"\",1))","v":""},{"$nulls":4},""]
[{"$nulls":9},"",{"$f":"IF(J953=\"\",\"\",IF(VLOOKUP(J953,Lotti!B$6:B$596,1,FALSE)=J953,\"\",1))","v":""},null,"",null,{"$f":"IF(J953=\"\",\"\",IF(VLOOKUP(F953,Tabelle_Fisse!$B$33:$C$34,2,FALSE)=\"ok\",\"\",1))","v":""},{"$f":"IF(J953=\"\",\"\",IF(VLOOKUP(CONCATENATE(J953,\" SI\"),W$7:W$1196,1,FALSE)=CONCATENATE(J953,\" SI\"),\"\",1))","v":""},null,{"$f":"IF(OR(J953=\"\",G953=\"\"),\"\",IF(VLOOKUP(H953,Tabelle_Fisse!$B$25:$C$29,2,FALSE)=\"ok\",\"\",1))","v":""},{"$nulls":4},""]
[{"$nulls":9},"",{"$f":"IF(J954=\"\",\"\",IF(VLOOKUP(J954,Lotti!B$6:B$596,1,FALSE)=J954,\"\",1))","v":""},null,"",null,{"$f":"IF(J954=\"\",\"\",IF(VLOOKUP(F954,Tabelle_Fisse!$B$33:$C$34,2,FALSE)=\"ok\",\"\",1))","v":""},{"$f":"IF(J954=\"\",\"\",IF(VLOOKUP(CONCATENATE(J954,\" SI\"),W$7:W$1196,1,FALSE)=CONCATENATE(J954,\" SI\"),\"\",1))","v":""},null,{"$f":"IF(OR(J954=\"\",G954=\"\"),\"\",IF(VLOOKUP(H954,Tabelle_Fisse!$B$25:$C$29,2,FALSE)=\"ok\",\"\",1))","v":""},{"$nulls":4},""]
[{"$nulls":9},"",{"$f":"IF(J955=\"\",\"\",IF(VLOOKUP(J955,Lotti!B$6:B$596,1,FALSE)=J955,\"\",1))","v":""},null,"",null,{"$f":"IF(J955=\"\",\"\",IF(VLOOKUP(F955,Tabelle_Fisse!$B$33:$C$34,2,FALSE)=\"ok\",\"\",1))","v":""},{"$f":"IF(J955=\"\",\"\",IF(VLOOKUP(CONCATENATE(J955,\" SI\"),W$7:W$1196,1,FALSE)=CONCATENATE(J955,\" SI\"),\"\",1))","v":""},null,{"$f":"IF(OR(J955=\"\",G955=\"\"),\"\",IF(VLOOKUP(H955,Tabelle_Fisse!$B$25:$C$29,2,FALSE)=\"ok\",\"\",1))","v":""},{"$nulls":4},""]
[{"$nulls":9},"",{"$f":"IF(J956=\"\",\"\",IF(VLOOKUP(J956,Lotti!B$6:B$596,1,FALSE)=J956,\"\",1))","v":""},null,"",null,{"$f":"IF(J956=\"\",\"\",IF(VLOOKUP(F956,Tabelle_Fisse!$B$33:$C$34,2,FALSE)=\"ok\",\"\",1))","v":""},{"$f":"IF(J956=\"\",\"\",IF(VLOOKUP(CONCATENATE(J956,\" SI\"),W$7:W$1196,1,FALSE)=CONCATENATE(J956,\" SI\"),\"\",1))","v":""},null,{"$f":"IF(OR(J956=\"\",G956=\"\"),\"\",IF(VLOOKUP(H956,Tabelle_Fisse!$B$25:$C$29,2,FALSE)=\"ok\",\"\",1))","v":""},{"$nulls":4},""]
[{"$nulls":9},"",{"$f":"IF(J957=\"\",\"\",IF(VLOOKUP(J957,Lotti!B$6:B$596,1,FALSE)=J957,\"\",1))","v":""},null,"",null,{"$f":"IF(J957=\"\",\"\",IF(VLOOKUP(F957,Tabelle_Fisse!$B$33:$C$34,2,FALSE)=\"ok\",\"\",1))","v":""},{"$f":"IF(J957=\"\",\"\",IF(VLOOKUP(CONCATENATE(J957,\" SI\"),W$7:W$1196,1,FALSE)=CONCATENATE(J957,\" SI\"),\"\",1))","v":""},null,{"$f":"IF(OR(J957=\"\",G957=\"\"),\"\",IF(VLOOKUP(H957,Tabelle_Fisse!$B$25:$C$29,2,FALSE)=\"ok\",\"\",1))","v":""},{"$nulls":4},""]
[{"$nulls":9},"",{"$f":"IF(J958=\"\",\"\",IF(VLOOKUP(J958,Lotti!B$6:B$596,1,FALSE)=J958,\"\",1))","v":""},null,"",null,{"$f":"IF(J958=\"\",\"\",IF(VLOOKUP(F958,Tabelle_Fisse!$B$33:$C$34,2,FALSE)=\"ok\",\"\",1))","v":""},{"$f":"IF(J958=\"\",\"\",IF(VLOOKUP(CONCATENATE(J958,\" SI\"),W$7:W$1196,1,FALSE)=CONCATENATE(J958,\" SI\"),\"\",1))","v":""},null,{"$f":"IF(OR(J958=\"\",G958=\"\"),\"\",IF(VLOOKUP(H958,Tabelle_Fisse!$B$25:$C$29,2,FALSE)=\"ok\",\"\",1))","v":""},{"$nulls":4},""]
[{"$nulls":9},"",{"$f":"IF(J959=\"\",\"\",IF(VLOOKUP(J959,Lotti!B$6:B$596,1,FALSE)=J959,\"\",1))","v":""},null,"",null,{"$f":"IF(J959=\"\",\"\",IF(VLOOKUP(F959,Tabelle_Fisse!$B$33:$C$34,2,FALSE)=\"ok\",\"\",1))","v":""},{"$f":"IF(J959=\"\",\"\",IF(VLOOKUP(CONCATENATE(J959,\" SI\"),W$7:W$1196,1,FALSE)=CONCATENATE(J959,\" SI\"),\"\",1))","v":""},null,{"$f":"IF(OR(J959=\"\",G959=\"\"),\"\",IF(VLOOKUP(H959,Tabelle_Fisse!$B$25:$C$29,2,FALSE)=\"ok\",\"\",1))","v":""},{"$nulls":4},""]
[{"$nulls":9},"",{"$f":"IF(J960=\"\",\"\",IF(VLOOKUP(J960,Lotti!B$6:B$596,1,FALSE)=J960,\"\",1))","v":""},null,"",null,{"$f":"IF(J960=\"\",\"\",IF(VLOOKUP(F960,Tabelle_Fisse!$B$33:$C$34,2,FALSE)=\"ok\",\"\",1))","v":""},{"$f":"IF(J960=\"\",\"\",IF(VLOOKUP(CONCATENATE(J960,\" SI\"),W$7:W$1196,1,FALSE)=CONCATENATE(J960,\" SI\"),\"\",1))","v":""},null,{"$f":"IF(OR(J960=\"\",G960=\"\"),\"\",IF(VLOOKUP(H960,Tabelle_Fisse!$B$25:$C$29,2,FALSE)=\"ok\",\"\",1))","v":""},{"$nulls":4},""]
[{"$nulls":9},"",{"$f":"IF(J961=\"\",\"\",IF(VLOOKUP(J961,Lotti!B$6:B$596,1,FALSE)=J961,\"\",1))","v":""},null,"",null,{"$f":"IF(J961=\"\",\"\",IF(VLOOKUP(F961,Tabelle_Fisse!$B$33:$C$34,2,FALSE)=\"ok\",\"\",1))","v":""},{"$f":"IF(J961=\"\",\"\",IF(VLOOKUP(CONCATENATE(J961,\" SI\"),W$7:W$1196,1,FALSE)=CONCATENATE(J961,\" SI\"),\"\",1))","v":""},null,{"$f":"IF(OR(J961=\"\",G961=\"\"),\"\",IF(VLOOKUP(H961,Tabelle_Fisse!$B$25:$C$29,2,FALSE)=\"ok\",\"\",1))","v":""},{"$nulls":4},""]
[{"$nulls":9},"",{"$f":"IF(J962=\"\",\"\",IF(VLOOKUP(J962,Lotti!B$6:B$596,1,FALSE)=J962,\"\",1))","v":""},null,"",null,{"$f":"IF(J962=\"\",\"\",IF(VLOOKUP(F962,Tabelle_Fisse!$B$33:$C$34,2,FALSE)=\"ok\",\"\",1))","v":""},{"$f":"IF(J962=\"\",\"\",IF(VLOOKUP(CONCATENATE(J962,\" SI\"),W$7:W$1196,1,FALSE)=CONCATENATE(J962,\" SI\"),\"\",1))","v":""},null,{"$f":"IF(OR(J962=\"\",G962=\"\"),\"\",IF(VLOOKUP(H962,Tabelle_Fisse!$B$25:$C$29,2,FALSE)=\"ok\",\"\",1))","v":""},{"$nulls":4},""]
[{"$nulls":9},"",{"$f":"IF(J963=\"\",\"\",IF(VLOOKUP(J963,Lotti!B$6:B$596,1,FALSE)=J963,\"\",1))","v":""},null,"",null,{"$f":"IF(J963=\"\",\"\",IF(VLOOKUP(F963,Tabelle_Fisse!$B$33:$C$34,2,FALSE)=\"ok\",\"\",1))","v":""},{"$f":"IF(J963=\"\",\"\",IF(VLOOKUP(CONCATENATE(J963,\" SI\"),W$7:W$1196,1,FALSE)=CONCATENATE(J963,\" SI\"),\"\",1))","v":""},null,{"$f":"IF(OR(J963=\"\",G963=\"\"),\"\",IF(VLOOKUP(H963,Tabelle_Fisse!$B$25:$C$29,2,FALSE)=\"ok\",\"\",1))","v":""},{"$nulls":4},""]
[{"$nulls":9},{"$f":"TRIM(B964)","v":""},{"$f":"IF(J964=\"\",\"\",IF(VLOOKUP(J964,Lotti!B$6:B$596,1,FALSE)=J964,\"\",1))","v":""},null,{"$f":"IF(J964=\"\",\"\",IF(OR(AND(E964=\"\",LEN(D964)<>11,LEN(D964)<>16),AND(D964=\"\",E964=\"\"),AND(D964<>\"\",E964<>\"\")),1,\"\"))","v":""},null,{"$f":"IF(J964=\"\",\"\",IF(VLOOKUP(F964,Tabelle_Fisse!$B$33:$C$34,2,FALSE)=\"ok\",\"\",1))","v":""},{"$f":"IF(J964=\"\",\"\",IF(VLOOKUP(CONCATENATE(J964,\" SI\"),W$7:W$1196,1,FALSE)=CONCATENATE(J964,\" SI\"),\"\",1))","v":""},null,{"$f":"IF(OR(J964=\"\",G964=\"\"),\"\",IF(VLOOKUP(H964,Tabelle_Fisse!$B$25:$C$29,2,FALSE)=\"ok\",\"\",1))","v":""},{"$nulls":4},{"$f":"IF(J964=\"\",\"\",CONCATENATE(J964,\" \",F964))","v":""}]
[{"$nulls":9},"",{"$f":"IF(J965=\"\",\"\",IF(VLOOKUP(J965,Lotti!B$6:B$596,1,FALSE)=J965,\"\",1))","v":""},null,"",null,{"$f":"IF(J965=\"\",\"\",IF(VLOOKUP(F965,Tabelle_Fisse!$B$33:$C$34,2,FALSE)=\"ok\",\"\",1))","v":""},{"$f":"IF(J965=\"\",\"\",IF(VLOOKUP(CONCATENATE(J965,\" SI\"),W$7:W$1196,1,FALSE)=CONCATENATE(J965,\" SI\"),\"\",1))","v":""},null,{"$f":"IF(OR(J965=\"\",G965=\"\"),\"\",IF(VLOOKUP(H965,Tabelle_Fisse!$B$25:$C$29,2,FALSE)=\"ok\",\"\",1))","v":""},{"$nulls":4},""]
[{"$nulls":9},"",{"$f":"IF(J966=\"\",\"\",IF(VLOOKUP(J966,Lotti!B$6:B$596,1,FALSE)=J966,\"\",1))","v":""},null,"",null,{"$f":"IF(J966=\"\",\"\",IF(VLOOKUP(F966,Tabelle_Fisse!$B$33:$C$34,2,FALSE)=\"ok\",\"\",1))","v":""},{"$f":"IF(J966=\"\",\"\",IF(VLOOKUP(CONCATENATE(J966,\" SI\"),W$7:W$1196,1,FALSE)=CONCATENATE(J966,\" SI\"),\"\",1))","v":""},null,{"$f":"IF(OR(J966=\"\",G966=\"\"),\"\",IF(VLOOKUP(H966,Tabelle_Fisse!$B$25:$C$29,2,FALSE)=\"ok\",\"\",1))","v":""},{"$nulls":4},""]
[{"$nulls":9},"",{"$f":"IF(J967=\"\",\"\",IF(VLOOKUP(J967,Lotti!B$6:B$596,1,FALSE)=J967,\"\",1))","v":""},null,"",null,{"$f":"IF(J967=\"\",\"\",IF(VLOOKUP(F967,Tabelle_Fisse!$B$33:$C$34,2,FALSE)=\"ok\",\"\",1))","v":""},{"$f":"IF(J967=\"\",\"\",IF(VLOOKUP(CONCATENATE(J967,\" SI\"),W$7:W$1196,1,FALSE)=CONCATENATE(J967,\" SI\"),\"\",1))","v":""},null,{"$f":"IF(OR(J967=\"\",G967=\"\"),\"\",IF(VLOOKUP(H967,Tabelle_Fisse!$B$25:$C$29,2,FALSE)=\"ok\",\"\",1))","v":""},{"$nulls":4},""]
[{"$nulls":9},"",{"$f":"IF(J968=\"\",\"\",IF(VLOOKUP(J968,Lotti!B$6:B$596,1,FALSE)=J968,\"\",1))","v":""},null,"",null,{"$f":"IF(J968=\"\",\"\",IF(VLOOKUP(F968,Tabelle_Fisse!$B$33:$C$34,2,FALSE)=\"ok\",\"\",1))","v":""},{"$f":"IF(J968=\"\",\"\",IF(VLOOKUP(CONCATENATE(J968,\" SI\"),W$7:W$1196,1,FALSE)=CONCATENATE(J968,\" SI\"),\"\",1))","v":""},null,{"$f":"IF(OR(J968=\"\",G968=\"\"),\"\",IF(VLOOKUP(H968,Tabelle_Fisse!$B$25:$C$29,2,FALSE)=\"ok\",\"\",1))","v":""},{"$nulls":4},""]
[{"$nulls":9},"",{"$f":"IF(J969=\"\",\"\",IF(VLOOKUP(J969,Lotti!B$6:B$596,1,FALSE)=J969,\"\",1))","v":""},null,"",null,{"$f":"IF(J969=\"\",\"\",IF(VLOOKUP(F969,Tabelle_Fisse!$B$33:$C$34,2,FALSE)=\"ok\",\"\",1))","v":""},{"$f":"IF(J969=\"\",\"\",IF(VLOOKUP(CONCATENATE(J969,\" SI\"),W$7:W$1196,1,FALSE)=CONCATENATE(J969,\" SI\"),\"\",1))","v":""},null,{"$f":"IF(OR(J969=\"\",G969=\"\"),\"\",IF(VLOOKUP(H969,Tabelle_Fisse!$B$25:$C$29,2,FALSE)=\"ok\",\"\",1))","v":""},{"$nulls":4},""]
[{"$nulls":9},"",{"$f":"IF(J970=\"\",\"\",IF(VLOOKUP(J970,Lotti!B$6:B$596,1,FALSE)=J970,\"\",1))","v":""},null,"",null,{"$f":"IF(J970=\"\",\"\",IF(VLOOKUP(F970,Tabelle_Fisse!$B$33:$C$34,2,FALSE)=\"ok\",\"\",1))","v":""},{"$f":"IF(J970=\"\",\"\",IF(VLOOKUP(CONCATENATE(J970,\" SI\"),W$7:W$1196,1,FALSE)=CONCATENATE(J970,\" SI\"),\"\",1))","v":""},null,{"$f":"IF(OR(J970=\"\",G970=\"\"),\"\",IF(VLOOKUP(H970,Tabelle_Fisse!$B$25:$C$29,2,FALSE)=\"ok\",\"\",1))","v":""},{"$nulls":4},""]
[{"$nulls":9},"",{"$f":"IF(J971=\"\",\"\",IF(VLOOKUP(J971,Lotti!B$6:B$596,1,FALSE)=J971,\"\",1))","v":""},null,"",null,{"$f":"IF(J971=\"\",\"\",IF(VLOOKUP(F971,Tabelle_Fisse!$B$33:$C$34,2,FALSE)=\"ok\",\"\",1))","v":""},{"$f":"IF(J971=\"\",\"\",IF(VLOOKUP(CONCATENATE(J971,\" SI\"),W$7:W$1196,1,FALSE)=CONCATENATE(J971,\" SI\"),\"\",1))","v":""},null,{"$f":"IF(OR(J971=\"\",G971=\"\"),\"\",IF(VLOOKUP(H971,Tabelle_Fisse!$B$25:$C$29,2,FALSE)=\"ok\",\"\",1))","v":""},{"$nulls":4},""]
[{"$nulls":9},"",{"$f":"IF(J972=\"\",\"\",IF(VLOOKUP(J972,Lotti!B$6:B$596,1,FALSE)=J972,\"\",1))","v":""},null,"",null,{"$f":"IF(J972=\"\",\"\",IF(VLOOKUP(F972,Tabelle_Fisse!$B$33:$C$34,2,FALSE)=\"ok\",\"\",1))","v":""},{"$f":"IF(J972=\"\",\"\",IF(VLOOKUP(CONCATENATE(J972,\" SI\"),W$7:W$1196,1,FALSE)=CONCATENATE(J972,\" SI\"),\"\",1))","v":""},null,{"$f":"IF(OR(J972=\"\",G972=\"\"),\"\",IF(VLOOKUP(H972,Tabelle_Fisse!$B$25:$C$29,2,FALSE)=\"ok\",\"\",1))","v":""},{"$nulls":4},""]
[{"$nulls":9},"",{"$f":"IF(J973=\"\",\"\",IF(VLOOKUP(J973,Lotti!B$6:B$596,1,FALSE)=J973,\"\",1))","v":""},null,"",null,{"$f":"IF(J973=\"\",\"\",IF(VLOOKUP(F973,Tabelle_Fisse!$B$33:$C$34,2,FALSE)=\"ok\",\"\",1))","v":""},{"$f":"IF(J973=\"\",\"\",IF(VLOOKUP(CONCATENATE(J973,\" SI\"),W$7:W$1196,1,FALSE)=CONCATENATE(J973,\" SI\"),\"\",1))","v":""},null,{"$f":"IF(OR(J973=\"\",G973=\"\"),\"\",IF(VLOOKUP(H973,Tabelle_Fisse!$B$25:$C$29,2,FALSE)=\"ok\",\"\",1))","v":""},{"$nulls":4},""]
[{"$nulls":9},"",{"$f":"IF(J974=\"\",\"\",IF(VLOOKUP(J974,Lotti!B$6:B$596,1,FALSE)=J974,\"\",1))","v":""},null,"",null,{"$f":"IF(J974=\"\",\"\",IF(VLOOKUP(F974,Tabelle_Fisse!$B$33:$C$34,2,FALSE)=\"ok\",\"\",1))","v":""},{"$f":"IF(J974=\"\",\"\",IF(VLOOKUP(CONCATENATE(J974,\" SI\"),W$7:W$1196,1,FALSE)=CONCATENATE(J974,\" SI\"),\"\",1))","v":""},null,{"$f":"IF(OR(J974=\"\",G974=\"\"),\"\",IF(VLOOKUP(H974,Tabelle_Fisse!$B$25:$C$29,2,FALSE)=\"ok\",\"\",1))","v":""},{"$nulls":4},""]
[{"$nulls":9},"",{"$f":"IF(J975=\"\",\"\",IF(VLOOKUP(J975,Lotti!B$6:B$596,1,FALSE)=J975,\"\",1))","v":""},null,"",null,{"$f":"IF(J975=\"\",\"\",IF(VLOOKUP(F975,Tabelle_Fisse!$B$33:$C$34,2,FALSE)=\"ok\",\"\",1))","v":""},{"$f":"IF(J975=\"\",\"\",IF(VLOOKUP(CONCATENATE(J975,\" SI\"),W$7:W$1196,1,FALSE)=CONCATENATE(J975,\" SI\"),\"\",1))","v":""},null,{"$f":"IF(OR(J975=\"\",G975=\"\"),\"\",IF(VLOOKUP(H975,Tabelle_Fisse!$B$25:$C$29,2,FALSE)=\"ok\",\"\",1))","v":""},{"$nulls":4},""]
[{"$nulls":9},"",{"$f":"IF(J976=\"\",\"\",IF(VLOOKUP(J976,Lotti!B$6:B$596,1,FALSE)=J976,\"\",1))","v":""},null,"",null,{"$f":"IF(J976=\"\",\"\",IF(VLOOKUP(F976,Tabelle_Fisse!$B$33:$C$34,2,FALSE)=\"ok\",\"\",1))","v":""},{"$f":"IF(J976=\"\",\"\",IF(VLOOKUP(CONCATENATE(J976,\" SI\"),W$7:W$1196,1,FALSE)=CONCATENATE(J976,\" SI\"),\"\",1))","v":""},null,{"$f":"IF(OR(J976=\"\",G976=\"\"),\"\",IF(VLOOKUP(H976,Tabelle_Fisse!$B$25:$C$29,2,FALSE)=\"ok\",\"\",1))","v":""},{"$nulls":4},""]
[{"$nulls":9},"",{"$f":"IF(J977=\"\",\"\",IF(VLOOKUP(J977,Lotti!B$6:B$596,1,FALSE)=J977,\"\",1))","v":""},null,"",null,{"$f":"IF(J977=\"\",\"\",IF(VLOOKUP(F977,Tabelle_Fisse!$B$33:$C$34,2,FALSE)=\"ok\",\"\",1))","v":""},{"$f":"IF(J977=\"\",\"\",IF(VLOOKUP(CONCATENATE(J977,\" SI\"),W$7:W$1196,1,FALSE)=CONCATENATE(J977,\" SI\"),\"\",1))","v":""},null,{"$f":"IF(OR(J977=\"\",G977=\"\"),\"\",IF(VLOOKUP(H977,Tabelle_Fisse!$B$25:$C$29,2,FALSE)=\"ok\",\"\",1))","v":""},{"$nulls":4},""]
[{"$nulls":9},"",{"$f":"IF(J978=\"\",\"\",IF(VLOOKUP(J978,Lotti!B$6:B$596,1,FALSE)=J978,\"\",1))","v":""},null,"",null,{"$f":"IF(J978=\"\",\"\",IF(VLOOKUP(F978,Tabelle_Fisse!$B$33:$C$34,2,FALSE)=\"ok\",\"\",1))","v":""},{"$f":"IF(J978=\"\",\"\",IF(VLOOKUP(CONCATENATE(J978,\" SI\"),W$7:W$1196,1,FALSE)=CONCATENATE(J978,\" SI\"),\"\",1))","v":""},null,{"$f":"IF(OR(J978=\"\",G978=\"\"),\"\",IF(VLOOKUP(H978,Tabelle_Fisse!$B$25:$C$29,2,FALSE)=\"ok\",\"\",1))","v":""},{"$nulls":4},""]
[{"$nulls":9},"",{"$f":"IF(J979=\"\",\"\",IF(VLOOKUP(J979,Lotti!B$6:B$596,1,FALSE)=J979,\"\",1))","v":""},null,"",null,{"$f":"IF(J979=\"\",\"\",IF(VLOOKUP(F979,Tabelle_Fisse!$B$33:$C$34,2,FALSE)=\"ok\",\"\",1))","v":""},{"$f":"IF(J979=\"\",\"\",IF(VLOOKUP(CONCATENATE(J979,\" SI\"),W$7:W$1196,1,FALSE)=CONCATENATE(J979,\" SI\"),\"\",1))","v":""},null,{"$f":"IF(OR(J979=\"\",G979=\"\"),\"\",IF(VLOOKUP(H979,Tabelle_Fisse!$B$25:$C$29,2,FALSE)=\"ok\",\"\",1))","v":""},{"$nulls":4},""]
[{"$nulls":9},"",{"$f":"IF(J980=\"\",\"\",IF(VLOOKUP(J980,Lotti!B$6:B$596,1,FALSE)=J980,\"\",1))","v":""},null,"",null,{"$f":"IF(J980=\"\",\"\",IF(VLOOKUP(F980,Tabelle_Fisse!$B$33:$C$34,2,FALSE)=\"ok\",\"\",1))","v":""},{"$f":"IF(J980=\"\",\"\",IF(VLOOKUP(CONCATENATE(J980,\" SI\"),W$7:W$1196,1,FALSE)=CONCATENATE(J980,\" SI\"),\"\",1))","v":""},null,{"$f":"IF(OR(J980=\"\",G980=\"\"),\"\",IF(VLOOKUP(H980,Tabelle_Fisse!$B$25:$C$29,2,FALSE)=\"ok\",\"\",1))","v":""},{"$nulls":4},""]
[{"$nulls":9},"",{"$f":"IF(J981=\"\",\"\",IF(VLOOKUP(J981,Lotti!B$6:B$596,1,FALSE)=J981,\"\",1))","v":""},null,"",null,{"$f":"IF(J981=\"\",\"\",IF(VLOOKUP(F981,Tabelle_Fisse!$B$33:$C$34,2,FALSE)=\"ok\",\"\",1))","v":""},{"$f":"IF(J981=\"\",\"\",IF(VLOOKUP(CONCATENATE(J981,\" SI\"),W$7:W$1196,1,FALSE)=CONCATENATE(J981,\" SI\"),\"\",1))","v":""},null,{"$f":"IF(OR(J981=\"\",G981=\"\"),\"\",IF(VLOOKUP(H981,Tabelle_Fisse!$B$25:$C$29,2,FALSE)=\"ok\",\"\",1))","v":""},{"$nulls":4},""]
[{"$nulls":9},"",{"$f":"IF(J982=\"\",\"\",IF(VLOOKUP(J982,Lotti!B$6:B$596,1,FALSE)=J982,\"\",1))","v":""},null,"",null,{"$f":"IF(J982=\"\",\"\",IF(VLOOKUP(F982,Tabelle_Fisse!$B$33:$C$34,2,FALSE)=\"ok\",\"\",1))","v":""},{"$f":"IF(J982=\"\",\"\",IF(VLOOKUP(CONCATENATE(J982,\" SI\"),W$7:W$1196,1,FALSE)=CONCATENATE(J982,\" SI\"),\"\",1))","v":""},null,{"$f":"IF(OR(J982=\"\",G982=\"\"),\"\",IF(VLOOKUP(H982,Tabelle_Fisse!$B$25:$C$29,2,FALSE)=\"ok\",\"\",1))","v":""},{"$nulls":4},""]
[{"$nulls":9},"",{"$f":"IF(J983=\"\",\"\",IF(VLOOKUP(J983,Lotti!B$6:B$596,1,FALSE)=J983,\"\",1))","v":""},null,"",null,{"$f":"IF(J983=\"\",\"\",IF(VLOOKUP(F983,Tabelle_Fisse!$B$33:$C$34,2,FALSE)=\"ok\",\"\",1))","v":""},{"$f":"IF(J983=\"\",\"\",IF(VLOOKUP(CONCATENATE(J983,\" SI\"),W$7:W$1196,1,FALSE)=CONCATENATE(J983,\" SI\"),\"\",1))","v":""},null,{"$f":"IF(OR(J983=\"\",G983=\"\"),\"\",IF(VLOOKUP(H983,Tabelle_Fisse!$B$25:$C$29,2,FALSE)=\"ok\",\"\",1))","v":""},{"$nulls":4},""]
[{"$nulls":9},"",{"$f":"IF(J984=\"\",\"\",IF(VLOOKUP(J984,Lotti!B$6:B$596,1,FALSE)=J984,\"\",1))","v":""},null,"",null,{"$f":"IF(J984=\"\",\"\",IF(VLOOKUP(F984,Tabelle_Fisse!$B$33:$C$34,2,FALSE)=\"ok\",\"\",1))","v":""},{"$f":"IF(J984=\"\",\"\",IF(VLOOKUP(CONCATENATE(J984,\" SI\"),W$7:W$1196,1,FALSE)=CONCATENATE(J984,\" SI\"),\"\",1))","v":""},null,{"$f":"IF(OR(J984=\"\",G984=\"\"),\"\",IF(VLOOKUP(H984,Tabelle_Fisse!$B$25:$C$29,2,FALSE)=\"ok\",\"\",1))","v":""},{"$nulls":4},""]
[{"$nulls":9},"",{"$f":"IF(J985=\"\",\"\",IF(VLOOKUP(J985,Lotti!B$6:B$596,1,FALSE)=J985,\"\",1))","v":""},null,"",null,{"$f":"IF(J985=\"\",\"\",IF(VLOOKUP(F985,Tabelle_Fisse!$B$33:$C$34,2,FALSE)=\"ok\",\"\",1))","v":""},{"$f":"IF(J985=\"\",\"\",IF(VLOOKUP(CONCATENATE(J985,\" SI\"),W$7:W$1196,1,FALSE)=CONCATENATE(J985,\" SI\"),\"\",1))","v":""},null,{"$f":"IF(OR(J985=\"\",G985=\"\"),\"\",IF(VLOOKUP(H985,Tabelle_Fisse!$B$25:$C$29,2,FALSE)=\"ok\",\"\",1))","v":""},{"$nulls":4},""]
[{"$nulls":9},"",{"$f":"IF(J986=\"\",\"\",IF(VLOOKUP(J986,Lotti!B$6:B$596,1,FALSE)=J986,\"\",1))","v":""},null,"",null,{"$f":"IF(J986=\"\",\"\",IF(VLOOKUP(F986,Tabelle_Fisse!$B$33:$C$34,2,FALSE)=\"ok\",\"\",1))","v":""},{"$f":"IF(J986=\"\",\"\",IF(VLOOKUP(CONCATENATE(J986,\" SI\"),W$7:W$1196,1,FALSE)=CONCATENATE(J986,\" SI\"),\"\",1))","v":""},null,{"$f":"IF(OR(J986=\"\",G986=\"\"),\"\",IF(VLOOKUP(H986,Tabelle_Fisse!$B$25:$C$29,2,FALSE)=\"ok\",\"\",1))","v":""},{"$nulls":4},""]
[{"$nulls":9},"",{"$f":"IF(J987=\"\",\"\",IF(VLOOKUP(J987,Lotti!B$6:B$596,1,FALSE)=J987,\"\",1))","v":""},null,"",null,{"$f":"IF(J987=\"\",\"\",IF(VLOOKUP(F987,Tabelle_Fisse!$B$33:$C$34,2,FALSE)=\"ok\",\"\",1))","v":""},{"$f":"IF(J987=\"\",\"\",IF(VLOOKUP(CONCATENATE(J987,\" SI\"),W$7:W$1196,1,FALSE)=CONCATENATE(J987,\" SI\"),\"\",1))","v":""},null,{"$f":"IF(OR(J987=\"\",G987=\"\"),\"\",IF(VLOOKUP(H987,Tabelle_Fisse!$B$25:$C$29,2,FALSE)=\"ok\",\"\",1))","v":""},{"$nulls":4},""]
[{"$nulls":9},"",{"$f":"IF(J988=\"\",\"\",IF(VLOOKUP(J988,Lotti!B$6:B$596,1,FALSE)=J988,\"\",1))","v":""},null,"",null,{"$f":"IF(J988=\"\",\"\",IF(VLOOKUP(F988,Tabelle_Fisse!$B$33:$C$34,2,FALSE)=\"ok\",\"\",1))","v":""},{"$f":"IF(J988=\"\",\"\",IF(VLOOKUP(CONCATENATE(J988,\" SI\"),W$7:W$1196,1,FALSE)=CONCATENATE(J988,\" SI\"),\"\",1))","v":""},null,{"$f":"IF(OR(J988=\"\",G988=\"\"),\"\",IF(VLOOKUP(H988,Tabelle_Fisse!$B$25:$C$29,2,FALSE)=\"ok\",\"\",1))","v":""},{"$nulls":4},""]
[{"$nulls":9},"",{"$f":"IF(J989=\"\",\"\",IF(VLOOKUP(J989,Lotti!B$6:B$596,1,FALSE)=J989,\"\",1))","v":""},null,"",null,{"$f":"IF(J989=\"\",\"\",IF(VLOOKUP(F989,Tabelle_Fisse!$B$33:$C$34,2,FALSE)=\"ok\",\"\",1))","v":""},{"$f":"IF(J989=\"\",\"\",IF(VLOOKUP(CONCATENATE(J989,\" SI\"),W$7:W$1196,1,FALSE)=CONCATENATE(J989,\" SI\"),\"\",1))","v":""},null,{"$f":"IF(OR(J989=\"\",G989=\"\"),\"\",IF(VLOOKUP(H989,Tabelle_Fisse!$B$25:$C$29,2,FALSE)=\"ok\",\"\",1))","v":""},{"$nulls":4},""]
[{"$nulls":9},"",{"$f":"IF(J990=\"\",\"\",IF(VLOOKUP(J990,Lotti!B$6:B$596,1,FALSE)=J990,\"\",1))","v":""},null,"",null,{"$f":"IF(J990=\"\",\"\",IF(VLOOKUP(F990,Tabelle_Fisse!$B$33:$C$34,2,FALSE)=\"ok\",\"\",1))","v":""},{"$f":"IF(J990=\"\",\"\",IF(VLOOKUP(CONCATENATE(J990,\" SI\"),W$7:W$1196,1,FALSE)=CONCATENATE(J990,\" SI\"),\"\",1))","v":""},null,{"$f":"IF(OR(J990=\"\",G990=\"\"),\"\",IF(VLOOKUP(H990,Tabelle_Fisse!$B$25:$C$29,2,FALSE)=\"ok\",\"\",1))","v":""},{"$nulls":4},""]
[{"$nulls":9},"",{"$f":"IF(J991=\"\",\"\",IF(VLOOKUP(J991,Lotti!B$6:B$596,1,FALSE)=J991,\"\",1))","v":""},null,"",null,{"$f":"IF(J991=\"\",\"\",IF(VLOOKUP(F991,Tabelle_Fisse!$B$33:$C$34,2,FALSE)=\"ok\",\"\",1))","v":""},{"$f":"IF(J991=\"\",\"\",IF(VLOOKUP(CONCATENATE(J991,\" SI\"),W$7:W$1196,1,FALSE)=CONCATENATE(J991,\" SI\"),\"\",1))","v":""},null,{"$f":"IF(OR(J991=\"\",G991=\"\"),\"\",IF(VLOOKUP(H991,Tabelle_Fisse!$B$25:$C$29,2,FALSE)=\"ok\",\"\",1))","v":""},{"$nulls":4},""]
[{"$nulls":9},"",{"$f":"IF(J992=\"\",\"\",IF(VLOOKUP(J992,Lotti!B$6:B$596,1,FALSE)=J992,\"\",1))","v":""},null,"",null,{"$f":"IF(J992=\"\",\"\",IF(VLOOKUP(F992,Tabelle_Fisse!$B$33:$C$34,2,FALSE)=\"ok\",\"\",1))","v":""},{"$f":"IF(J992=\"\",\"\",IF(VLOOKUP(CONCATENATE(J992,\" SI\"),W$7:W$1196,1,FALSE)=CONCATENATE(J992,\" SI\"),\"\",1))","v":""},null,{"$f":"IF(OR(J992=\"\",G992=\"\"),\"\",IF(VLOOKUP(H992,Tabelle_Fisse!$B$25:$C$29,2,FALSE)=\"ok\",\"\",1))","v":""},{"$nulls":4},""]
[{"$nulls":9},"",{"$f":"IF(J993=\"\",\"\",IF(VLOOKUP(J993,Lotti!B$6:B$596,1,FALSE)=J993,\"\",1))","v":""},null,"",null,{"$f":"IF(J993=\"\",\"\",IF(VLOOKUP(F993,Tabelle_Fisse!$B$33:$C$34,2,FALSE)=\"ok\",\"\",1))","v":""},{"$f":"IF(J993=\"\",\"\",IF(VLOOKUP(CONCATENATE(J993,\" SI\"),W$7:W$1196,1,FALSE)=CONCATENATE(J993,\" SI\"),\"\",1))","v":""},null,{"$f":"IF(OR(J993=\"\",G993=\"\"),\"\",IF(VLOOKUP(H993,Tabelle_Fisse!$B$25:$C$29,2,FALSE)=\"ok\",\"\",1))","v":""},{"$nulls":4},""]
[{"$nulls":9},"",{"$f":"IF(J994=\"\",\"\",IF(VLOOKUP(J994,Lotti!B$6:B$596,1,FALSE)=J994,\"\",1))","v":""},null,"",null,{"$f":"IF(J994=\"\",\"\",IF(VLOOKUP(F994,Tabelle_Fisse!$B$33:$C$34,2,FALSE)=\"ok\",\"\",1))","v":""},{"$f":"IF(J994=\"\",\"\",IF(VLOOKUP(CONCATENATE(J994,\" SI\"),W$7:W$1196,1,FALSE)=CONCATENATE(J994,\" SI\"),\"\",1))","v":""},null,{"$f":"IF(OR(J994=\"\",G994=\"\"),\"\",IF(VLOOKUP(H994,Tabelle_Fisse!$B$25:$C$29,2,FALSE)=\"ok\",\"\",1))","v":""},{"$nulls":4},""]
[{"$nulls":9},"",{"$f":"IF(J995=\"\",\"\",IF(VLOOKUP(J995,Lotti!B$6:B$596,1,FALSE)=J995,\"\",1))","v":""},null,"",null,{"$f":"IF(J995=\"\",\"\",IF(VLOOKUP(F995,Tabelle_Fisse!$B$33:$C$34,2,FALSE)=\"ok\",\"\",1))","v":""},{"$f":"IF(J995=\"\",\"\",IF(VLOOKUP(CONCATENATE(J995,\" SI\"),W$7:W$1196,1,FALSE)=CONCATENATE(J995,\" SI\"),\"\",1))","v":""},null,{"$f":"IF(OR(J995=\"\",G995=\"\"),\"\",IF(VLOOKUP(H995,Tabelle_Fisse!$B$25:$C$29,2,FALSE)=\"ok\",\"\",1))","v":""},{"$nulls":4},""]
[{"$nulls":9},"",{"$f":"IF(J996=\"\",\"\",IF(VLOOKUP(J996,Lotti!B$6:B$596,1,FALSE)=J996,\"\",1))","v":""},null,"",null,{"$f":"IF(J996=\"\",\"\",IF(VLOOKUP(F996,Tabelle_Fisse!$B$33:$C$34,2,FALSE)=\"ok\",\"\",1))","v":""},{"$f":"IF(J996=\"\",\"\",IF(VLOOKUP(CONCATENATE(J996,\" SI\"),W$7:W$1196,1,FALSE)=CONCATENATE(J996,\" SI\"),\"\",1))","v":""},null,{"$f":"IF(OR(J996=\"\",G996=\"\"),\"\",IF(VLOOKUP(H996,Tabelle_Fisse!$B$25:$C$29,2,FALSE)=\"ok\",\"\",1))","v":""},{"$nulls":4},""]
[{"$nulls":9},"",{"$f":"IF(J997=\"\",\"\",IF(VLOOKUP(J997,Lotti!B$6:B$596,1,FALSE)=J997,\"\",1))","v":""},null,"",null,{"$f":"IF(J997=\"\",\"\",IF(VLOOKUP(F997,Tabelle_Fisse!$B$33:$C$34,2,FALSE)=\"ok\",\"\",1))","v":""},{"$f":"IF(J997=\"\",\"\",IF(VLOOKUP(CONCATENATE(J997,\" SI\"),W$7:W$1196,1,FALSE)=CONCATENATE(J997,\" SI\"),\"\",1))","v":""},null,{"$f":"IF(OR(J997=\"\",G997=\"\"),\"\",IF(VLOOKUP(H997,Tabelle_Fisse!$B$25:$C$29,2,FALSE)=\"ok\",\"\",1))","v":""},{"$nulls":4},""]
[{"$nulls":9},"",{"$f":"IF(J998=\"\",\"\",IF(VLOOKUP(J998,Lotti!B$6:B$596,1,FALSE)=J998,\"\",1))","v":""},null,"",null,{"$f":"IF(J998=\"\",\"\",IF(VLOOKUP(F998,Tabelle_Fisse!$B$33:$C$34,2,FALSE)=\"ok\",\"\",1))","v":""},{"$f":"IF(J998=\"\",\"\",IF(VLOOKUP(CONCATENATE(J998,\" SI\"),W$7:W$1196,1,FALSE)=CONCATENATE(J998,\" SI\"),\"\",1))","v":""},null,{"$f":"IF(OR(J998=\"\",G998=\"\"),\"\",IF(VLOOKUP(H998,Tabelle_Fisse!$B$25:$C$29,2,FALSE)=\"ok\",\"\",1))","v":""},{"$nulls":4},""]
[{"$nulls":9},"",{"$f":"IF(J999=\"\",\"\",IF(VLOOKUP(J999,Lotti!B$6:B$596,1,FALSE)=J999,\"\",1))","v":""},null,"",null,{"$f":"IF(J999=\"\",\"\",IF(VLOOKUP(F999,Tabelle_Fisse!$B$33:$C$34,2,FALSE)=\"ok\",\"\",1))","v":""},{"$f":"IF(J999=\"\",\"\",IF(VLOOKUP(CONCATENATE(J999,\" SI\"),W$7:W$1196,1,FALSE)=CONCATENATE(J999,\" SI\"),\"\",1))","v":""},null,{"$f":"IF(OR(J999=\"\",G999=\"\"),\"\",IF(VLOOKUP(H999,Tabelle_Fisse!$B$25:$C$29,2,FALSE)=\"ok\",\"\",1))","v":""},{"$nulls":4},""]
[{"$nulls":9},"",{"$f":"IF(J1000=\"\",\"\",IF(VLOOKUP(J1000,Lotti!B$6:B$596,1,FALSE)=J1000,\"\",1))","v":""},null,"",null,{"$f":"IF(J1000=\"\",\"\",IF(VLOOKUP(F1000,Tabelle_Fisse!$B$33:$C$34,2,FALSE)=\"ok\",\"\",1))","v":""},{"$f":"IF(J1000=\"\",\"\",IF(VLOOKUP(CONCATENATE(J1000,\" SI\"),W$7:W$1196,1,FALSE)=CONCATENATE(J1000,\" SI\"),\"\",1))","v":""},null,{"$f":"IF(OR(J1000=\"\",G1000=\"\"),\"\",IF(VLOOKUP(H1000,Tabelle_Fisse!$B$25:$C$29,2,FALSE)=\"ok\",\"\",1))","v":""},{"$nulls":4},""]
[{"$nulls":9},"",{"$f":"IF(J1001=\"\",\"\",IF(VLOOKUP(J1001,Lotti!B$6:B$596,1,FALSE)=J1001,\"\",1))","v":""},null,"",null,{"$f":"IF(J1001=\"\",\"\",IF(VLOOKUP(F1001,Tabelle_Fisse!$B$33:$C$34,2,FALSE)=\"ok\",\"\",1))","v":""},{"$f":"IF(J1001=\"\",\"\",IF(VLOOKUP(CONCATENATE(J1001,\" SI\"),W$7:W$1196,1,FALSE)=CONCATENATE(J1001,\" SI\"),\"\",1))","v":""},null,{"$f":"IF(OR(J1001=\"\",G1001=\"\"),\"\",IF(VLOOKUP(H1001,Tabelle_Fisse!$B$25:$C$29,2,FALSE)=\"ok\",\"\",1))","v":""},{"$nulls":4},""]
[{"$nulls":9},"",{"$f":"IF(J1002=\"\",\"\",IF(VLOOKUP(J1002,Lotti!B$6:B$596,1,FALSE)=J1002,\"\",1))","v":""},null,"",null,{"$f":"IF(J1002=\"\",\"\",IF(VLOOKUP(F1002,Tabelle_Fisse!$B$33:$C$34,2,FALSE)=\"ok\",\"\",1))","v":""},{"$f":"IF(J1002=\"\",\"\",IF(VLOOKUP(CONCATENATE(J1002,\" SI\"),W$7:W$1196,1,FALSE)=CONCATENATE(J1002,\" SI\"),\"\",1))","v":""},null,{"$f":"IF(OR(J1002=\"\",G1002=\"\"),\"\",IF(VLOOKUP(H1002,Tabelle_Fisse!$B$25:$C$29,2,FALSE)=\"ok\",\"\",1))","v":""},{"$nulls":4},""]
[{"$nulls":9},"",{"$f":"IF(J1003=\"\",\"\",IF(VLOOKUP(J1003,Lotti!B$6:B$596,1,FALSE)=J1003,\"\",1))","v":""},null,"",null,{"$f":"IF(J1003=\"\",\"\",IF(VLOOKUP(F1003,Tabelle_Fisse!$B$33:$C$34,2,FALSE)=\"ok\",\"\",1))","v":""},{"$f":"IF(J1003=\"\",\"\",IF(VLOOKUP(CONCATENATE(J1003,\" SI\"),W$7:W$1196,1,FALSE)=CONCATENATE(J1003,\" SI\"),\"\",1))","v":""},null,{"$f":"IF(OR(J1003=\"\",G1003=\"\"),\"\",IF(VLOOKUP(H1003,Tabelle_Fisse!$B$25:$C$29,2,FALSE)=\"ok\",\"\",1))","v":""},{"$nulls":4},""]
[{"$nulls":9},"",{"$f":"IF(J1004=\"\",\"\",IF(VLOOKUP(J1004,Lotti!B$6:B$596,1,FALSE)=J1004,\"\",1))","v":""},null,"",null,{"$f":"IF(J1004=\"\",\"\",IF(VLOOKUP(F1004,Tabelle_Fisse!$B$33:$C$34,2,FALSE)=\"ok\",\"\",1))","v":""},{"$f":"IF(J1004=\"\",\"\",IF(VLOOKUP(CONCATENATE(J1004,\" SI\"),W$7:W$1196,1,FALSE)=CONCATENATE(J1004,\" SI\"),\"\",1))","v":""},null,{"$f":"IF(OR(J1004=\"\",G1004=\"\"),\"\",IF(VLOOKUP(H1004,Tabelle_Fisse!$B$25:$C$29,2,FALSE)=\"ok\",\"\",1))","v":""},{"$nulls":4},""]
[{"$nulls":9},"",{"$f":"IF(J1005=\"\",\"\",IF(VLOOKUP(J1005,Lotti!B$6:B$596,1,FALSE)=J1005,\"\",1))","v":""},null,"",null,{"$f":"IF(J1005=\"\",\"\",IF(VLOOKUP(F1005,Tabelle_Fisse!$B$33:$C$34,2,FALSE)=\"ok\",\"\",1))","v":""},{"$f":"IF(J1005=\"\",\"\",IF(VLOOKUP(CONCATENATE(J1005,\" SI\"),W$7:W$1196,1,FALSE)=CONCATENATE(J1005,\" SI\"),\"\",1))","v":""},null,{"$f":"IF(OR(J1005=\"\",G1005=\"\"),\"\",IF(VLOOKUP(H1005,Tabelle_Fisse!$B$25:$C$29,2,FALSE)=\"ok\",\"\",1))","v":""},{"$nulls":4},""]
[{"$nulls":9},"",{"$f":"IF(J1006=\"\",\"\",IF(VLOOKUP(J1006,Lotti!B$6:B$596,1,FALSE)=J1006,\"\",1))","v":""},null,"",null,{"$f":"IF(J1006=\"\",\"\",IF(VLOOKUP(F1006,Tabelle_Fisse!$B$33:$C$34,2,FALSE)=\"ok\",\"\",1))","v":""},{"$f":"IF(J1006=\"\",\"\",IF(VLOOKUP(CONCATENATE(J1006,\" SI\"),W$7:W$1196,1,FALSE)=CONCATENATE(J1006,\" SI\"),\"\",1))","v":""},null,{"$f":"IF(OR(J1006=\"\",G1006=\"\"),\"\",IF(VLOOKUP(H1006,Tabelle_Fisse!$B$25:$C$29,2,FALSE)=\"ok\",\"\",1))","v":""},{"$nulls":4},""]
[{"$nulls":9},"",{"$f":"IF(J1007=\"\",\"\",IF(VLOOKUP(J1007,Lotti!B$6:B$596,1,FALSE)=J1007,\"\",1))","v":""},null,"",null,{"$f":"IF(J1007=\"\",\"\",IF(VLOOKUP(F1007,Tabelle_Fisse!$B$33:$C$34,2,FALSE)=\"ok\",\"\",1))","v":""},{"$f":"IF(J1007=\"\",\"\",IF(VLOOKUP(CONCATENATE(J1007,\" SI\"),W$7:W$1196,1,FALSE)=CONCATENATE(J1007,\" SI\"),\"\",1))","v":""},null,{"$f":"IF(OR(J1007=\"\",G1007=\"\"),\"\",IF(VLOOKUP(H1007,Tabelle_Fisse!$B$25:$C$29,2,FALSE)=\"ok\",\"\",1))","v":""},{"$nulls":4},""]
[{"$nulls":9},"",{"$f":"IF(J1008=\"\",\"\",IF(VLOOKUP(J1008,Lotti!B$6:B$596,1,FALSE)=J1008,\"\",1))","v":""},null,"",null,{"$f":"IF(J1008=\"\",\"\",IF(VLOOKUP(F1008,Tabelle_Fisse!$B$33:$C$34,2,FALSE)=\"ok\",\"\",1))","v":""},{"$f":"IF(J1008=\"\",\"\",IF(VLOOKUP(CONCATENATE(J1008,\" SI\"),W$7:W$1196,1,FALSE)=CONCATENATE(J1008,\" SI\"),\"\",1))","v":""},null,{"$f":"IF(OR(J1008=\"\",G1008=\"\"),\"\",IF(VLOOKUP(H1008,Tabelle_Fisse!$B$25:$C$29,2,FALSE)=\"ok\",\"\",1))","v":""},{"$nulls":4},""]
[{"$nulls":9},"",{"$f":"IF(J1009=\"\",\"\",IF(VLOOKUP(J1009,Lotti!B$6:B$596,1,FALSE)=J1009,\"\",1))","v":""},null,"",null,{"$f":"IF(J1009=\"\",\"\",IF(VLOOKUP(F1009,Tabelle_Fisse!$B$33:$C$34,2,FALSE)=\"ok\",\"\",1))","v":""},{"$f":"IF(J1009=\"\",\"\",IF(VLOOKUP(CONCATENATE(J1009,\" SI\"),W$7:W$1196,1,FALSE)=CONCATENATE(J1009,\" SI\"),\"\",1))","v":""},null,{"$f":"IF(OR(J1009=\"\",G1009=\"\"),\"\",IF(VLOOKUP(H1009,Tabelle_Fisse!$B$25:$C$29,2,FALSE)=\"ok\",\"\",1))","v":""},{"$nulls":4},""]
[{"$nulls":9},"",{"$f":"IF(J1010=\"\",\"\",IF(VLOOKUP(J1010,Lotti!B$6:B$596,1,FALSE)=J1010,\"\",1))","v":""},null,"",null,{"$f":"IF(J1010=\"\",\"\",IF(VLOOKUP(F1010,Tabelle_Fisse!$B$33:$C$34,2,FALSE)=\"ok\",\"\",1))","v":""},{"$f":"IF(J1010=\"\",\"\",IF(VLOOKUP(CONCATENATE(J1010,\" SI\"),W$7:W$1196,1,FALSE)=CONCATENATE(J1010,\" SI\"),\"\",1))","v":""},null,{"$f":"IF(OR(J1010=\"\",G1010=\"\"),\"\",IF(VLOOKUP(H1010,Tabelle_Fisse!$B$25:$C$29,2,FALSE)=\"ok\",\"\",1))","v":""},{"$nulls":4},""]
[{"$nulls":9},"",{"$f":"IF(J1011=\"\",\"\",IF(VLOOKUP(J1011,Lotti!B$6:B$596,1,FALSE)=J1011,\"\",1))","v":""},null,"",null,{"$f":"IF(J1011=\"\",\"\",IF(VLOOKUP(F1011,Tabelle_Fisse!$B$33:$C$34,2,FALSE)=\"ok\",\"\",1))","v":""},{"$f":"IF(J1011=\"\",\"\",IF(VLOOKUP(CONCATENATE(J1011,\" SI\"),W$7:W$1196,1,FALSE)=CONCATENATE(J1011,\" SI\"),\"\",1))","v":""},null,{"$f":"IF(OR(J1011=\"\",G1011=\"\"),\"\",IF(VLOOKUP(H1011,Tabelle_Fisse!$B$25:$C$29,2,FALSE)=\"ok\",\"\",1))","v":""},{"$nulls":4},""]
[{"$nulls":9},"",{"$f":"IF(J1012=\"\",\"\",IF(VLOOKUP(J1012,Lotti!B$6:B$596,1,FALSE)=J1012,\"\",1))","v":""},null,"",null,{"$f":"IF(J1012=\"\",\"\",IF(VLOOKUP(F1012,Tabelle_Fisse!$B$33:$C$34,2,FALSE)=\"ok\",\"\",1))","v":""},{"$f":"IF(J1012=\"\",\"\",IF(VLOOKUP(CONCATENATE(J1012,\" SI\"),W$7:W$1196,1,FALSE)=CONCATENATE(J1012,\" SI\"),\"\",1))","v":""},null,{"$f":"IF(OR(J1012=\"\",G1012=\"\"),\"\",IF(VLOOKUP(H1012,Tabelle_Fisse!$B$25:$C$29,2,FALSE)=\"ok\",\"\",1))","v":""},{"$nulls":4},""]
[{"$nulls":9},"",{"$f":"IF(J1013=\"\",\"\",IF(VLOOKUP(J1013,Lotti!B$6:B$596,1,FALSE)=J1013,\"\",1))","v":""},null,"",null,{"$f":"IF(J1013=\"\",\"\",IF(VLOOKUP(F1013,Tabelle_Fisse!$B$33:$C$34,2,FALSE)=\"ok\",\"\",1))","v":""},{"$f":"IF(J1013=\"\",\"\",IF(VLOOKUP(CONCATENATE(J1013,\" SI\"),W$7:W$1196,1,FALSE)=CONCATENATE(J1013,\" SI\"),\"\",1))","v":""},null,{"$f":"IF(OR(J1013=\"\",G1013=\"\"),\"\",IF(VLOOKUP(H1013,Tabelle_Fisse!$B$25:$C$29,2,FALSE)=\"ok\",\"\",1))","v":""},{"$nulls":4},""]
[{"$nulls":9},"",{"$f":"IF(J1014=\"\",\"\",IF(VLOOKUP(J1014,Lotti!B$6:B$596,1,FALSE)=J1014,\"\",1))","v":""},null,"",null,{"$f":"IF(J1014=\"\",\"\",IF(VLOOKUP(F1014,Tabelle_Fisse!$B$33:$C$34,2,FALSE)=\"ok\",\"\",1))","v":""},{"$f":"IF(J1014=\"\",\"\",IF(VLOOKUP(CONCATENATE(J1014,\" SI\"),W$7:W$1196,1,FALSE)=CONCATENATE(J1014,\" SI\"),\"\",1))","v":""},null,{"$f":"IF(OR(J1014=\"\",G1014=\"\"),\"\",IF(VLOOKUP(H1014,Tabelle_Fisse!$B$25:$C$29,2,FALSE)=\"ok\",\"\",1))","v":""},{"$nulls":4},""]
[{"$nulls":9},"",{"$f":"IF(J1015=\"\",\"\",IF(VLOOKUP(J1015,Lotti!B$6:B$596,1,FALSE)=J1015,\"\",1))","v":""},null,"",null,{"$f":"IF(J1015=\"\",\"\",IF(VLOOKUP(F1015,Tabelle_Fisse!$B$33:$C$34,2,FALSE)=\"ok\",\"\",1))","v":""},{"$f":"IF(J1015=\"\",\"\",IF(VLOOKUP(CONCATENATE(J1015,\" SI\"),W$7:W$1196,1,FALSE)=CONCATENATE(J1015,\" SI\"),\"\",1))","v":""},null,{"$f":"IF(OR(J1015=\"\",G1015=\"\"),\"\",IF(VLOOKUP(H1015,Tabelle_Fisse!$B$25:$C$29,2,FALSE)=\"ok\",\"\",1))","v":""},{"$nulls":4},""]
[{"$nulls":9},"",{"$f":"IF(J1016=\"\",\"\",IF(VLOOKUP(J1016,Lotti!B$6:B$596,1,FALSE)=J1016,\"\",1))","v":""},null,"",null,{"$f":"IF(J1016=\"\",\"\",IF(VLOOKUP(F1016,Tabelle_Fisse!$B$33:$C$34,2,FALSE)=\"ok\",\"\",1))","v":""},{"$f":"IF(J1016=\"\",\"\",IF(VLOOKUP(CONCATENATE(J1016,\" SI\"),W$7:W$1196,1,FALSE)=CONCATENATE(J1016,\" SI\"),\"\",1))","v":""},null,{"$f":"IF(OR(J1016=\"\",G1016=\"\"),\"\",IF(VLOOKUP(H1016,Tabelle_Fisse!$B$25:$C$29,2,FALSE)=\"ok\",\"\",1))","v":""},{"$nulls":4},""]
[{"$nulls":9},"",{"$f":"IF(J1017=\"\",\"\",IF(VLOOKUP(J1017,Lotti!B$6:B$596,1,FALSE)=J1017,\"\",1))","v":""},null,"",null,{"$f":"IF(J1017=\"\",\"\",IF(VLOOKUP(F1017,Tabelle_Fisse!$B$33:$C$34,2,FALSE)=\"ok\",\"\",1))","v":""},{"$f":"IF(J1017=\"\",\"\",IF(VLOOKUP(CONCATENATE(J1017,\" SI\"),W$7:W$1196,1,FALSE)=CONCATENATE(J1017,\" SI\"),\"\",1))","v":""},null,{"$f":"IF(OR(J1017=\"\",G1017=\"\"),\"\",IF(VLOOKUP(H1017,Tabelle_Fisse!$B$25:$C$29,2,FALSE)=\"ok\",\"\",1))","v":""},{"$nulls":4},""]
[{"$nulls":9},"",{"$f":"IF(J1018=\"\",\"\",IF(VLOOKUP(J1018,Lotti!B$6:B$596,1,FALSE)=J1018,\"\",1))","v":""},null,"",null,{"$f":"IF(J1018=\"\",\"\",IF(VLOOKUP(F1018,Tabelle_Fisse!$B$33:$C$34,2,FALSE)=\"ok\",\"\",1))","v":""},{"$f":"IF(J1018=\"\",\"\",IF(VLOOKUP(CONCATENATE(J1018,\" SI\"),W$7:W$1196,1,FALSE)=CONCATENATE(J1018,\" SI\"),\"\",1))","v":""},null,{"$f":"IF(OR(J1018=\"\",G1018=\"\"),\"\",IF(VLOOKUP(H1018,Tabelle_Fisse!$B$25:$C$29,2,FALSE)=\"ok\",\"\",1))","v":""},{"$nulls":4},""]
[{"$nulls":9},"",{"$f":"IF(J1019=\"\",\"\",IF(VLOOKUP(J1019,Lotti!B$6:B$596,1,FALSE)=J1019,\"\",1))","v":""},null,"",null,{"$f":"IF(J1019=\"\",\"\",IF(VLOOKUP(F1019,Tabelle_Fisse!$B$33:$C$34,2,FALSE)=\"ok\",\"\",1))","v":""},{"$f":"IF(J1019=\"\",\"\",IF(VLOOKUP(CONCATENATE(J1019,\" SI\"),W$7:W$1196,1,FALSE)=CONCATENATE(J1019,\" SI\"),\"\",1))","v":""},null,{"$f":"IF(OR(J1019=\"\",G1019=\"\"),\"\",IF(VLOOKUP(H1019,Tabelle_Fisse!$B$25:$C$29,2,FALSE)=\"ok\",\"\",1))","v":""},{"$nulls":4},""]
[{"$nulls":9},"",{"$f":"IF(J1020=\"\",\"\",IF(VLOOKUP(J1020,Lotti!B$6:B$596,1,FALSE)=J1020,\"\",1))","v":""},null,"",null,{"$f":"IF(J1020=\"\",\"\",IF(VLOOKUP(F1020,Tabelle_Fisse!$B$33:$C$34,2,FALSE)=\"ok\",\"\",1))","v":""},{"$f":"IF(J1020=\"\",\"\",IF(VLOOKUP(CONCATENATE(J1020,\" SI\"),W$7:W$1196,1,FALSE)=CONCATENATE(J1020,\" SI\"),\"\",1))","v":""},null,{"$f":"IF(OR(J1020=\"\",G1020=\"\"),\"\",IF(VLOOKUP(H1020,Tabelle_Fisse!$B$25:$C$29,2,FALSE)=\"ok\",\"\",1))","v":""},{"$nulls":4},""]
[{"$nulls":9},"",{"$f":"IF(J1021=\"\",\"\",IF(VLOOKUP(J1021,Lotti!B$6:B$596,1,FALSE)=J1021,\"\",1))","v":""},null,"",null,{"$f":"IF(J1021=\"\",\"\",IF(VLOOKUP(F1021,Tabelle_Fisse!$B$33:$C$34,2,FALSE)=\"ok\",\"\",1))","v":""},{"$f":"IF(J1021=\"\",\"\",IF(VLOOKUP(CONCATENATE(J1021,\" SI\"),W$7:W$1196,1,FALSE)=CONCATENATE(J1021,\" SI\"),\"\",1))","v":""},null,{"$f":"IF(OR(J1021=\"\",G1021=\"\"),\"\",IF(VLOOKUP(H1021,Tabelle_Fisse!$B$25:$C$29,2,FALSE)=\"ok\",\"\",1))","v":""},{"$nulls":4},""]
[{"$nulls":9},"",{"$f":"IF(J1022=\"\",\"\",IF(VLOOKUP(J1022,Lotti!B$6:B$596,1,FALSE)=J1022,\"\",1))","v":""},null,"",null,{"$f":"IF(J1022=\"\",\"\",IF(VLOOKUP(F1022,Tabelle_Fisse!$B$33:$C$34,2,FALSE)=\"ok\",\"\",1))","v":""},{"$f":"IF(J1022=\"\",\"\",IF(VLOOKUP(CONCATENATE(J1022,\" SI\"),W$7:W$1196,1,FALSE)=CONCATENATE(J1022,\" SI\"),\"\",1))","v":""},null,{"$f":"IF(OR(J1022=\"\",G1022=\"\"),\"\",IF(VLOOKUP(H1022,Tabelle_Fisse!$B$25:$C$29,2,FALSE)=\"ok\",\"\",1))","v":""},{"$nulls":4},""]
[{"$nulls":9},"",{"$f":"IF(J1023=\"\",\"\",IF(VLOOKUP(J1023,Lotti!B$6:B$596,1,FALSE)=J1023,\"\",1))","v":""},null,"",null,{"$f":"IF(J1023=\"\",\"\",IF(VLOOKUP(F1023,Tabelle_Fisse!$B$33:$C$34,2,FALSE)=\"ok\",\"\",1))","v":""},{"$f":"IF(J1023=\"\",\"\",IF(VLOOKUP(CONCATENATE(J1023,\" SI\"),W$7:W$1196,1,FALSE)=CONCATENATE(J1023,\" SI\"),\"\",1))","v":""},null,{"$f":"IF(OR(J1023=\"\",G1023=\"\"),\"\",IF(VLOOKUP(H1023,Tabelle_Fisse!$B$25:$C$29,2,FALSE)=\"ok\",\"\",1))","v":""},{"$nulls":4},""]
[{"$nulls":9},"",{"$f":"IF(J1024=\"\",\"\",IF(VLOOKUP(J1024,Lotti!B$6:B$596,1,FALSE)=J1024,\"\",1))","v":""},null,"",null,{"$f":"IF(J1024=\"\",\"\",IF(VLOOKUP(F1024,Tabelle_Fisse!$B$33:$C$34,2,FALSE)=\"ok\",\"\",1))","v":""},{"$f":"IF(J1024=\"\",\"\",IF(VLOOKUP(CONCATENATE(J1024,\" SI\"),W$7:W$1196,1,FALSE)=CONCATENATE(J1024,\" SI\"),\"\",1))","v":""},null,{"$f":"IF(OR(J1024=\"\",G1024=\"\"),\"\",IF(VLOOKUP(H1024,Tabelle_Fisse!$B$25:$C$29,2,FALSE)=\"ok\",\"\",1))","v":""},{"$nulls":4},""]
[{"$nulls":9},"",{"$f":"IF(J1025=\"\",\"\",IF(VLOOKUP(J1025,Lotti!B$6:B$596,1,FALSE)=J1025,\"\",1))","v":""},null,"",null,{"$f":"IF(J1025=\"\",\"\",IF(VLOOKUP(F1025,Tabelle_Fisse!$B$33:$C$34,2,FALSE)=\"ok\",\"\",1))","v":""},{"$f":"IF(J1025=\"\",\"\",IF(VLOOKUP(CONCATENATE(J1025,\" SI\"),W$7:W$1196,1,FALSE)=CONCATENATE(J1025,\" SI\"),\"\",1))","v":""},null,{"$f":"IF(OR(J1025=\"\",G1025=\"\"),\"\",IF(VLOOKUP(H1025,Tabelle_Fisse!$B$25:$C$29,2,FALSE)=\"ok\",\"\",1))","v":""},{"$nulls":4},""]
[{"$nulls":9},"",{"$f":"IF(J1026=\"\",\"\",IF(VLOOKUP(J1026,Lotti!B$6:B$596,1,FALSE)=J1026,\"\",1))","v":""},null,"",null,{"$f":"IF(J1026=\"\",\"\",IF(VLOOKUP(F1026,Tabelle_Fisse!$B$33:$C$34,2,FALSE)=\"ok\",\"\",1))","v":""},{"$f":"IF(J1026=\"\",\"\",IF(VLOOKUP(CONCATENATE(J1026,\" SI\"),W$7:W$1196,1,FALSE)=CONCATENATE(J1026,\" SI\"),\"\",1))","v":""},null,{"$f":"IF(OR(J1026=\"\",G1026=\"\"),\"\",IF(VLOOKUP(H1026,Tabelle_Fisse!$B$25:$C$29,2,FALSE)=\"ok\",\"\",1))","v":""},{"$nulls":4},""]
[{"$nulls":9},"",{"$f":"IF(J1027=\"\",\"\",IF(VLOOKUP(J1027,Lotti!B$6:B$596,1,FALSE)=J1027,\"\",1))","v":""},null,"",null,{"$f":"IF(J1027=\"\",\"\",IF(VLOOKUP(F1027,Tabelle_Fisse!$B$33:$C$34,2,FALSE)=\"ok\",\"\",1))","v":""},{"$f":"IF(J1027=\"\",\"\",IF(VLOOKUP(CONCATENATE(J1027,\" SI\"),W$7:W$1196,1,FALSE)=CONCATENATE(J1027,\" SI\"),\"\",1))","v":""},null,{"$f":"IF(OR(J1027=\"\",G1027=\"\"),\"\",IF(VLOOKUP(H1027,Tabelle_Fisse!$B$25:$C$29,2,FALSE)=\"ok\",\"\",1))","v":""},{"$nulls":4},""]
[{"$nulls":9},{"$f":"TRIM(B1028)","v":""},{"$f":"IF(J1028=\"\",\"\",IF(VLOOKUP(J1028,Lotti!B$6:B$596,1,FALSE)=J1028,\"\",1))","v":""},null,{"$f":"IF(J1028=\"\",\"\",IF(OR(AND(E1028=\"\",LEN(D1028)<>11,LEN(D1028)<>16),AND(D1028=\"\",E1028=\"\"),AND(D1028<>\"\",E1028<>\"\")),1,\"\"))","v":""},null,{"$f":"IF(J1028=\"\",\"\",IF(VLOOKUP(F1028,Tabelle_Fisse!$B$33:$C$34,2,FALSE)=\"ok\",\"\",1))","v":""},{"$f":"IF(J1028=\"\",\"\",IF(VLOOKUP(CONCATENATE(J1028,\" SI\"),W$7:W$1196,1,FALSE)=CONCATENATE(J1028,\" SI\"),\"\",1))","v":""},null,{"$f":"IF(OR(J1028=\"\",G1028=\"\"),\"\",IF(VLOOKUP(H1028,Tabelle_Fisse!$B$25:$C$29,2,FALSE)=\"ok\",\"\",1))","v":""},{"$nulls":4},{"$f":"IF(J1028=\"\",\"\",CONCATENATE(J1028,\" \",F1028))","v":""}]
[{"$nulls":9},"",{"$f":"IF(J1029=\"\",\"\",IF(VLOOKUP(J1029,Lotti!B$6:B$596,1,FALSE)=J1029,\"\",1))","v":""},null,"",null,{"$f":"IF(J1029=\"\",\"\",IF(VLOOKUP(F1029,Tabelle_Fisse!$B$33:$C$34,2,FALSE)=\"ok\",\"\",1))","v":""},{"$f":"IF(J1029=\"\",\"\",IF(VLOOKUP(CONCATENATE(J1029,\" SI\"),W$7:W$1196,1,FALSE)=CONCATENATE(J1029,\" SI\"),\"\",1))","v":""},null,{"$f":"IF(OR(J1029=\"\",G1029=\"\"),\"\",IF(VLOOKUP(H1029,Tabelle_Fisse!$B$25:$C$29,2,FALSE)=\"ok\",\"\",1))","v":""},{"$nulls":4},""]
[{"$nulls":9},"",{"$f":"IF(J1030=\"\",\"\",IF(VLOOKUP(J1030,Lotti!B$6:B$596,1,FALSE)=J1030,\"\",1))","v":""},null,"",null,{"$f":"IF(J1030=\"\",\"\",IF(VLOOKUP(F1030,Tabelle_Fisse!$B$33:$C$34,2,FALSE)=\"ok\",\"\",1))","v":""},{"$f":"IF(J1030=\"\",\"\",IF(VLOOKUP(CONCATENATE(J1030,\" SI\"),W$7:W$1196,1,FALSE)=CONCATENATE(J1030,\" SI\"),\"\",1))","v":""},null,{"$f":"IF(OR(J1030=\"\",G1030=\"\"),\"\",IF(VLOOKUP(H1030,Tabelle_Fisse!$B$25:$C$29,2,FALSE)=\"ok\",\"\",1))","v":""},{"$nulls":4},""]
[{"$nulls":9},"",{"$f":"IF(J1031=\"\",\"\",IF(VLOOKUP(J1031,Lotti!B$6:B$596,1,FALSE)=J1031,\"\",1))","v":""},null,"",null,{"$f":"IF(J1031=\"\",\"\",IF(VLOOKUP(F1031,Tabelle_Fisse!$B$33:$C$34,2,FALSE)=\"ok\",\"\",1))","v":""},{"$f":"IF(J1031=\"\",\"\",IF(VLOOKUP(CONCATENATE(J1031,\" SI\"),W$7:W$1196,1,FALSE)=CONCATENATE(J1031,\" SI\"),\"\",1))","v":""},null,{"$f":"IF(OR(J1031=\"\",G1031=\"\"),\"\",IF(VLOOKUP(H1031,Tabelle_Fisse!$B$25:$C$29,2,FALSE)=\"ok\",\"\",1))","v":""},{"$nulls":4},""]
[{"$nulls":9},"",{"$f":"IF(J1032=\"\",\"\",IF(VLOOKUP(J1032,Lotti!B$6:B$596,1,FALSE)=J1032,\"\",1))","v":""},null,"",null,{"$f":"IF(J1032=\"\",\"\",IF(VLOOKUP(F1032,Tabelle_Fisse!$B$33:$C$34,2,FALSE)=\"ok\",\"\",1))","v":""},{"$f":"IF(J1032=\"\",\"\",IF(VLOOKUP(CONCATENATE(J1032,\" SI\"),W$7:W$1196,1,FALSE)=CONCATENATE(J1032,\" SI\"),\"\",1))","v":""},null,{"$f":"IF(OR(J1032=\"\",G1032=\"\"),\"\",IF(VLOOKUP(H1032,Tabelle_Fisse!$B$25:$C$29,2,FALSE)=\"ok\",\"\",1))","v":""},{"$nulls":4},""]
[{"$nulls":9},"",{"$f":"IF(J1033=\"\",\"\",IF(VLOOKUP(J1033,Lotti!B$6:B$596,1,FALSE)=J1033,\"\",1))","v":""},null,"",null,{"$f":"IF(J1033=\"\",\"\",IF(VLOOKUP(F1033,Tabelle_Fisse!$B$33:$C$34,2,FALSE)=\"ok\",\"\",1))","v":""},{"$f":"IF(J1033=\"\",\"\",IF(VLOOKUP(CONCATENATE(J1033,\" SI\"),W$7:W$1196,1,FALSE)=CONCATENATE(J1033,\" SI\"),\"\",1))","v":""},null,{"$f":"IF(OR(J1033=\"\",G1033=\"\"),\"\",IF(VLOOKUP(H1033,Tabelle_Fisse!$B$25:$C$29,2,FALSE)=\"ok\",\"\",1))","v":""},{"$nulls":4},""]
[{"$nulls":9},"",{"$f":"IF(J1034=\"\",\"\",IF(VLOOKUP(J1034,Lotti!B$6:B$596,1,FALSE)=J1034,\"\",1))","v":""},null,"",null,{"$f":"IF(J1034=\"\",\"\",IF(VLOOKUP(F1034,Tabelle_Fisse!$B$33:$C$34,2,FALSE)=\"ok\",\"\",1))","v":""},{"$f":"IF(J1034=\"\",\"\",IF(VLOOKUP(CONCATENATE(J1034,\" SI\"),W$7:W$1196,1,FALSE)=CONCATENATE(J1034,\" SI\"),\"\",1))","v":""},null,{"$f":"IF(OR(J1034=\"\",G1034=\"\"),\"\",IF(VLOOKUP(H1034,Tabelle_Fisse!$B$25:$C$29,2,FALSE)=\"ok\",\"\",1))","v":""},{"$nulls":4},""]
[{"$nulls":9},"",{"$f":"IF(J1035=\"\",\"\",IF(VLOOKUP(J1035,Lotti!B$6:B$596,1,FALSE)=J1035,\"\",1))","v":""},null,"",null,{"$f":"IF(J1035=\"\",\"\",IF(VLOOKUP(F1035,Tabelle_Fisse!$B$33:$C$34,2,FALSE)=\"ok\",\"\",1))","v":""},{"$f":"IF(J1035=\"\",\"\",IF(VLOOKUP(CONCATENATE(J1035,\" SI\"),W$7:W$1196,1,FALSE)=CONCATENATE(J1035,\" SI\"),\"\",1))","v":""},null,{"$f":"IF(OR(J1035=\"\",G1035=\"\"),\"\",IF(VLOOKUP(H1035,Tabelle_Fisse!$B$25:$C$29,2,FALSE)=\"ok\",\"\",1))","v":""},{"$nulls":4},""]
[{"$nulls":9},"",{"$f":"IF(J1036=\"\",\"\",IF(VLOOKUP(J1036,Lotti!B$6:B$596,1,FALSE)=J1036,\"\",1))","v":""},null,"",null,{"$f":"IF(J1036=\"\",\"\",IF(VLOOKUP(F1036,Tabelle_Fisse!$B$33:$C$34,2,FALSE)=\"ok\",\"\",1))","v":""},{"$f":"IF(J1036=\"\",\"\",IF(VLOOKUP(CONCATENATE(J1036,\" SI\"),W$7:W$1196,1,FALSE)=CONCATENATE(J1036,\" SI\"),\"\",1))","v":""},null,{"$f":"IF(OR(J1036=\"\",G1036=\"\"),\"\",IF(VLOOKUP(H1036,Tabelle_Fisse!$B$25:$C$29,2,FALSE)=\"ok\",\"\",1))","v":""},{"$nulls":4},""]
[{"$nulls":9},"",{"$f":"IF(J1037=\"\",\"\",IF(VLOOKUP(J1037,Lotti!B$6:B$596,1,FALSE)=J1037,\"\",1))","v":""},null,"",null,{"$f":"IF(J1037=\"\",\"\",IF(VLOOKUP(F1037,Tabelle_Fisse!$B$33:$C$34,2,FALSE)=\"ok\",\"\",1))","v":""},{"$f":"IF(J1037=\"\",\"\",IF(VLOOKUP(CONCATENATE(J1037,\" SI\"),W$7:W$1196,1,FALSE)=CONCATENATE(J1037,\" SI\"),\"\",1))","v":""},null,{"$f":"IF(OR(J1037=\"\",G1037=\"\"),\"\",IF(VLOOKUP(H1037,Tabelle_Fisse!$B$25:$C$29,2,FALSE)=\"ok\",\"\",1))","v":""},{"$nulls":4},""]
[{"$nulls":9},"",{"$f":"IF(J1038=\"\",\"\",IF(VLOOKUP(J1038,Lotti!B$6:B$596,1,FALSE)=J1038,\"\",1))","v":""},null,"",null,{"$f":"IF(J1038=\"\",\"\",IF(VLOOKUP(F1038,Tabelle_Fisse!$B$33:$C$34,2,FALSE)=\"ok\",\"\",1))","v":""},{"$f":"IF(J1038=\"\",\"\",IF(VLOOKUP(CONCATENATE(J1038,\" SI\"),W$7:W$1196,1,FALSE)=CONCATENATE(J1038,\" SI\"),\"\",1))","v":""},null,{"$f":"IF(OR(J1038=\"\",G1038=\"\"),\"\",IF(VLOOKUP(H1038,Tabelle_Fisse!$B$25:$C$29,2,FALSE)=\"ok\",\"\",1))","v":""},{"$nulls":4},""]
[{"$nulls":9},"",{"$f":"IF(J1039=\"\",\"\",IF(VLOOKUP(J1039,Lotti!B$6:B$596,1,FALSE)=J1039,\"\",1))","v":""},null,"",null,{"$f":"IF(J1039=\"\",\"\",IF(VLOOKUP(F1039,Tabelle_Fisse!$B$33:$C$34,2,FALSE)=\"ok\",\"\",1))","v":""},{"$f":"IF(J1039=\"\",\"\",IF(VLOOKUP(CONCATENATE(J1039,\" SI\"),W$7:W$1196,1,FALSE)=CONCATENATE(J1039,\" SI\"),\"\",1))","v":""},null,{"$f":"IF(OR(J1039=\"\",G1039=\"\"),\"\",IF(VLOOKUP(H1039,Tabelle_Fisse!$B$25:$C$29,2,FALSE)=\"ok\",\"\",1))","v":""},{"$nulls":4},""]
[{"$nulls":9},"",{"$f":"IF(J1040=\"\",\"\",IF(VLOOKUP(J1040,Lotti!B$6:B$596,1,FALSE)=J1040,\"\",1))","v":""},null,"",null,{"$f":"IF(J1040=\"\",\"\",IF(VLOOKUP(F1040,Tabelle_Fisse!$B$33:$C$34,2,FALSE)=\"ok\",\"\",1))","v":""},{"$f":"IF(J1040=\"\",\"\",IF(VLOOKUP(CONCATENATE(J1040,\" SI\"),W$7:W$1196,1,FALSE)=CONCATENATE(J1040,\" SI\"),\"\",1))","v":""},null,{"$f":"IF(OR(J1040=\"\",G1040=\"\"),\"\",IF(VLOOKUP(H1040,Tabelle_Fisse!$B$25:$C$29,2,FALSE)=\"ok\",\"\",1))","v":""},{"$nulls":4},""]
[{"$nulls":9},"",{"$f":"IF(J1041=\"\",\"\",IF(VLOOKUP(J1041,Lotti!B$6:B$596,1,FALSE)=J1041,\"\",1))","v":""},null,"",null,{"$f":"IF(J1041=\"\",\"\",IF(VLOOKUP(F1041,Tabelle_Fisse!$B$33:$C$34,2,FALSE)=\"ok\",\"\",1))","v":""},{"$f":"IF(J1041=\"\",\"\",IF(VLOOKUP(CONCATENATE(J1041,\" SI\"),W$7:W$1196,1,FALSE)=CONCATENATE(J1041,\" SI\"),\"\",1))","v":""},null,{"$f":"IF(OR(J1041=\"\",G1041=\"\"),\"\",IF(VLOOKUP(H1041,Tabelle_Fisse!$B$25:$C$29,2,FALSE)=\"ok\",\"\",1))","v":""},{"$nulls":4},""]
[{"$nulls":9},"",{"$f":"IF(J1042=\"\",\"\",IF(VLOOKUP(J1042,Lotti!B$6:B$596,1,FALSE)=J1042,\"\",1))","v":""},null,"",null,{"$f":"IF(J1042=\"\",\"\",IF(VLOOKUP(F1042,Tabelle_Fisse!$B$33:$C$34,2,FALSE)=\"ok\",\"\",1))","v":""},{"$f":"IF(J1042=\"\",\"\",IF(VLOOKUP(CONCATENATE(J1042,\" SI\"),W$7:W$1196,1,FALSE)=CONCATENATE(J1042,\" SI\"),\"\",1))","v":""},null,{"$f":"IF(OR(J1042=\"\",G1042=\"\"),\"\",IF(VLOOKUP(H1042,Tabelle_Fisse!$B$25:$C$29,2,FALSE)=\"ok\",\"\",1))","v":""},{"$nulls":4},""]
[{"$nulls":9},"",{"$f":"IF(J1043=\"\",\"\",IF(VLOOKUP(J1043,Lotti!B$6:B$596,1,FALSE)=J1043,\"\",1))","v":""},null,"",null,{"$f":"IF(J1043=\"\",\"\",IF(VLOOKUP(F1043,Tabelle_Fisse!$B$33:$C$34,2,FALSE)=\"ok\",\"\",1))","v":""},{"$f":"IF(J1043=\"\",\"\",IF(VLOOKUP(CONCATENATE(J1043,\" SI\"),W$7:W$1196,1,FALSE)=CONCATENATE(J1043,\" SI\"),\"\",1))","v":""},null,{"$f":"IF(OR(J1043=\"\",G1043=\"\"),\"\",IF(VLOOKUP(H1043,Tabelle_Fisse!$B$25:$C$29,2,FALSE)=\"ok\",\"\",1))","v":""},{"$nulls":4},""]
[{"$nulls":9},"",{"$f":"IF(J1044=\"\",\"\",IF(VLOOKUP(J1044,Lotti!B$6:B$596,1,FALSE)=J1044,\"\",1))","v":""},null,"",null,{"$f":"IF(J1044=\"\",\"\",IF(VLOOKUP(F1044,Tabelle_Fisse!$B$33:$C$34,2,FALSE)=\"ok\",\"\",1))","v":""},{"$f":"IF(J1044=\"\",\"\",IF(VLOOKUP(CONCATENATE(J1044,\" SI\"),W$7:W$1196,1,FALSE)=CONCATENATE(J1044,\" SI\"),\"\",1))","v":""},null,{"$f":"IF(OR(J1044=\"\",G1044=\"\"),\"\",IF(VLOOKUP(H1044,Tabelle_Fisse!$B$25:$C$29,2,FALSE)=\"ok\",\"\",1))","v":""},{"$nulls":4},""]
[{"$nulls":9},"",{"$f":"IF(J1045=\"\",\"\",IF(VLOOKUP(J1045,Lotti!B$6:B$596,1,FALSE)=J1045,\"\",1))","v":""},null,"",null,{"$f":"IF(J1045=\"\",\"\",IF(VLOOKUP(F1045,Tabelle_Fisse!$B$33:$C$34,2,FALSE)=\"ok\",\"\",1))","v":""},{"$f":"IF(J1045=\"\",\"\",IF(VLOOKUP(CONCATENATE(J1045,\" SI\"),W$7:W$1196,1,FALSE)=CONCATENATE(J1045,\" SI\"),\"\",1))","v":""},null,{"$f":"IF(OR(J1045=\"\",G1045=\"\"),\"\",IF(VLOOKUP(H1045,Tabelle_Fisse!$B$25:$C$29,2,FALSE)=\"ok\",\"\",1))","v":""},{"$nulls":4},""]
[{"$nulls":9},"",{"$f":"IF(J1046=\"\",\"\",IF(VLOOKUP(J1046,Lotti!B$6:B$596,1,FALSE)=J1046,\"\",1))","v":""},null,"",null,{"$f":"IF(J1046=\"\",\"\",IF(VLOOKUP(F1046,Tabelle_Fisse!$B$33:$C$34,2,FALSE)=\"ok\",\"\",1))","v":""},{"$f":"IF(J1046=\"\",\"\",IF(VLOOKUP(CONCATENATE(J1046,\" SI\"),W$7:W$1196,1,FALSE)=CONCATENATE(J1046,\" SI\"),\"\",1))","v":""},null,{"$f":"IF(OR(J1046=\"\",G1046=\"\"),\"\",IF(VLOOKUP(H1046,Tabelle_Fisse!$B$25:$C$29,2,FALSE)=\"ok\",\"\",1))","v":""},{"$nulls":4},""]
[{"$nulls":9},"",{"$f":"IF(J1047=\"\",\"\",IF(VLOOKUP(J1047,Lotti!B$6:B$596,1,FALSE)=J1047,\"\",1))","v":""},null,"",null,{"$f":"IF(J1047=\"\",\"\",IF(VLOOKUP(F1047,Tabelle_Fisse!$B$33:$C$34,2,FALSE)=\"ok\",\"\",1))","v":""},{"$f":"IF(J1047=\"\",\"\",IF(VLOOKUP(CONCATENATE(J1047,\" SI\"),W$7:W$1196,1,FALSE)=CONCATENATE(J1047,\" SI\"),\"\",1))","v":""},null,{"$f":"IF(OR(J1047=\"\",G1047=\"\"),\"\",IF(VLOOKUP(H1047,Tabelle_Fisse!$B$25:$C$29,2,FALSE)=\"ok\",\"\",1))","v":""},{"$nulls":4},""]
[{"$nulls":9},"",{"$f":"IF(J1048=\"\",\"\",IF(VLOOKUP(J1048,Lotti!B$6:B$596,1,FALSE)=J1048,\"\",1))","v":""},null,"",null,{"$f":"IF(J1048=\"\",\"\",IF(VLOOKUP(F1048,Tabelle_Fisse!$B$33:$C$34,2,FALSE)=\"ok\",\"\",1))","v":""},{"$f":"IF(J1048=\"\",\"\",IF(VLOOKUP(CONCATENATE(J1048,\" SI\"),W$7:W$1196,1,FALSE)=CONCATENATE(J1048,\" SI\"),\"\",1))","v":""},null,{"$f":"IF(OR(J1048=\"\",G1048=\"\"),\"\",IF(VLOOKUP(H1048,Tabelle_Fisse!$B$25:$C$29,2,FALSE)=\"ok\",\"\",1))","v":""},{"$nulls":4},""]
[{"$nulls":9},"",{"$f":"IF(J1049=\"\",\"\",IF(VLOOKUP(J1049,Lotti!B$6:B$596,1,FALSE)=J1049,\"\",1))","v":""},null,"",null,{"$f":"IF(J1049=\"\",\"\",IF(VLOOKUP(F1049,Tabelle_Fisse!$B$33:$C$34,2,FALSE)=\"ok\",\"\",1))","v":""},{"$f":"IF(J1049=\"\",\"\",IF(VLOOKUP(CONCATENATE(J1049,\" SI\"),W$7:W$1196,1,FALSE)=CONCATENATE(J1049,\" SI\"),\"\",1))","v":""},null,{"$f":"IF(OR(J1049=\"\",G1049=\"\"),\"\",IF(VLOOKUP(H1049,Tabelle_Fisse!$B$25:$C$29,2,FALSE)=\"ok\",\"\",1))","v":""},{"$nulls":4},""]
[{"$nulls":9},"",{"$f":"IF(J1050=\"\",\"\",IF(VLOOKUP(J1050,Lotti!B$6:B$596,1,FALSE)=J1050,\"\",1))","v":""},null,"",null,{"$f":"IF(J1050=\"\",\"\",IF(VLOOKUP(F1050,Tabelle_Fisse!$B$33:$C$34,2,FALSE)=\"ok\",\"\",1))","v":""},{"$f":"IF(J1050=\"\",\"\",IF(VLOOKUP(CONCATENATE(J1050,\" SI\"),W$7:W$1196,1,FALSE)=CONCATENATE(J1050,\" SI\"),\"\",1))","v":""},null,{"$f":"IF(OR(J1050=\"\",G1050=\"\"),\"\",IF(VLOOKUP(H1050,Tabelle_Fisse!$B$25:$C$29,2,FALSE)=\"ok\",\"\",1))","v":""},{"$nulls":4},""]
[{"$nulls":9},"",{"$f":"IF(J1051=\"\",\"\",IF(VLOOKUP(J1051,Lotti!B$6:B$596,1,FALSE)=J1051,\"\",1))","v":""},null,"",null,{"$f":"IF(J1051=\"\",\"\",IF(VLOOKUP(F1051,Tabelle_Fisse!$B$33:$C$34,2,FALSE)=\"ok\",\"\",1))","v":""},{"$f":"IF(J1051=\"\",\"\",IF(VLOOKUP(CONCATENATE(J1051,\" SI\"),W$7:W$1196,1,FALSE)=CONCATENATE(J1051,\" SI\"),\"\",1))","v":""},null,{"$f":"IF(OR(J1051=\"\",G1051=\"\"),\"\",IF(VLOOKUP(H1051,Tabelle_Fisse!$B$25:$C$29,2,FALSE)=\"ok\",\"\",1))","v":""},{"$nulls":4},""]
[{"$nulls":9},"",{"$f":"IF(J1052=\"\",\"\",IF(VLOOKUP(J1052,Lotti!B$6:B$596,1,FALSE)=J1052,\"\",1))","v":""},null,"",null,{"$f":"IF(J1052=\"\",\"\",IF(VLOOKUP(F1052,Tabelle_Fisse!$B$33:$C$34,2,FALSE)=\"ok\",\"\",1))","v":""},{"$f":"IF(J1052=\"\",\"\",IF(VLOOKUP(CONCATENATE(J1052,\" SI\"),W$7:W$1196,1,FALSE)=CONCATENATE(J1052,\" SI\"),\"\",1))","v":""},null,{"$f":"IF(OR(J1052=\"\",G1052=\"\"),\"\",IF(VLOOKUP(H1052,Tabelle_Fisse!$B$25:$C$29,2,FALSE)=\"ok\",\"\",1))","v":""},{"$nulls":4},""]
[{"$nulls":9},"",{"$f":"IF(J1053=\"\",\"\",IF(VLOOKUP(J1053,Lotti!B$6:B$596,1,FALSE)=J1053,\"\",1))","v":""},null,"",null,{"$f":"IF(J1053=\"\",\"\",IF(VLOOKUP(F1053,Tabelle_Fisse!$B$33:$C$34,2,FALSE)=\"ok\",\"\",1))","v":""},{"$f":"IF(J1053=\"\",\"\",IF(VLOOKUP(CONCATENATE(J1053,\" SI\"),W$7:W$1196,1,FALSE)=CONCATENATE(J1053,\" SI\"),\"\",1))","v":""},null,{"$f":"IF(OR(J1053=\"\",G1053=\"\"),\"\",IF(VLOOKUP(H1053,Tabelle_Fisse!$B$25:$C$29,2,FALSE)=\"ok\",\"\",1))","v":""},{"$nulls":4},""]
[{"$nulls":9},"",{"$f":"IF(J1054=\"\",\"\",IF(VLOOKUP(J1054,Lotti!B$6:B$596,1,FALSE)=J1054,\"\",1))","v":""},null,"",null,{"$f":"IF(J1054=\"\",\"\",IF(VLOOKUP(F1054,Tabelle_Fisse!$B$33:$C$34,2,FALSE)=\"ok\",\"\",1))","v":""},{"$f":"IF(J1054=\"\",\"\",IF(VLOOKUP(CONCATENATE(J1054,\" SI\"),W$7:W$1196,1,FALSE)=CONCATENATE(J1054,\" SI\"),\"\",1))","v":""},null,{"$f":"IF(OR(J1054=\"\",G1054=\"\"),\"\",IF(VLOOKUP(H1054,Tabelle_Fisse!$B$25:$C$29,2,FALSE)=\"ok\",\"\",1))","v":""},{"$nulls":4},""]
[{"$nulls":9},"",{"$f":"IF(J1055=\"\",\"\",IF(VLOOKUP(J1055,Lotti!B$6:B$596,1,FALSE)=J1055,\"\",1))","v":""},null,"",null,{"$f":"IF(J1055=\"\",\"\",IF(VLOOKUP(F1055,Tabelle_Fisse!$B$33:$C$34,2,FALSE)=\"ok\",\"\",1))","v":""},{"$f":"IF(J1055=\"\",\"\",IF(VLOOKUP(CONCATENATE(J1055,\" SI\"),W$7:W$1196,1,FALSE)=CONCATENATE(J1055,\" SI\"),\"\",1))","v":""},null,{"$f":"IF(OR(J1055=\"\",G1055=\"\"),\"\",IF(VLOOKUP(H1055,Tabelle_Fisse!$B$25:$C$29,2,FALSE)=\"ok\",\"\",1))","v":""},{"$nulls":4},""]
[{"$nulls":9},"",{"$f":"IF(J1056=\"\",\"\",IF(VLOOKUP(J1056,Lotti!B$6:B$596,1,FALSE)=J1056,\"\",1))","v":""},null,"",null,{"$f":"IF(J1056=\"\",\"\",IF(VLOOKUP(F1056,Tabelle_Fisse!$B$33:$C$34,2,FALSE)=\"ok\",\"\",1))","v":""},{"$f":"IF(J1056=\"\",\"\",IF(VLOOKUP(CONCATENATE(J1056,\" SI\"),W$7:W$1196,1,FALSE)=CONCATENATE(J1056,\" SI\"),\"\",1))","v":""},null,{"$f":"IF(OR(J1056=\"\",G1056=\"\"),\"\",IF(VLOOKUP(H1056,Tabelle_Fisse!$B$25:$C$29,2,FALSE)=\"ok\",\"\",1))","v":""},{"$nulls":4},""]
[{"$nulls":9},"",{"$f":"IF(J1057=\"\",\"\",IF(VLOOKUP(J1057,Lotti!B$6:B$596,1,FALSE)=J1057,\"\",1))","v":""},null,"",null,{"$f":"IF(J1057=\"\",\"\",IF(VLOOKUP(F1057,Tabelle_Fisse!$B$33:$C$34,2,FALSE)=\"ok\",\"\",1))","v":""},{"$f":"IF(J1057=\"\",\"\",IF(VLOOKUP(CONCATENATE(J1057,\" SI\"),W$7:W$1196,1,FALSE)=CONCATENATE(J1057,\" SI\"),\"\",1))","v":""},null,{"$f":"IF(OR(J1057=\"\",G1057=\"\"),\"\",IF(VLOOKUP(H1057,Tabelle_Fisse!$B$25:$C$29,2,FALSE)=\"ok\",\"\",1))","v":""},{"$nulls":4},""]
[{"$nulls":9},"",{"$f":"IF(J1058=\"\",\"\",IF(VLOOKUP(J1058,Lotti!B$6:B$596,1,FALSE)=J1058,\"\",1))","v":""},null,"",null,{"$f":"IF(J1058=\"\",\"\",IF(VLOOKUP(F1058,Tabelle_Fisse!$B$33:$C$34,2,FALSE)=\"ok\",\"\",1))","v":""},{"$f":"IF(J1058=\"\",\"\",IF(VLOOKUP(CONCATENATE(J1058,\" SI\"),W$7:W$1196,1,FALSE)=CONCATENATE(J1058,\" SI\"),\"\",1))","v":""},null,{"$f":"IF(OR(J1058=\"\",G1058=\"\"),\"\",IF(VLOOKUP(H1058,Tabelle_Fisse!$B$25:$C$29,2,FALSE)=\"ok\",\"\",1))","v":""},{"$nulls":4},""]
[{"$nulls":9},"",{"$f":"IF(J1059=\"\",\"\",IF(VLOOKUP(J1059,Lotti!B$6:B$596,1,FALSE)=J1059,\"\",1))","v":""},null,"",null,{"$f":"IF(J1059=\"\",\"\",IF(VLOOKUP(F1059,Tabelle_Fisse!$B$33:$C$34,2,FALSE)=\"ok\",\"\",1))","v":""},{"$f":"IF(J1059=\"\",\"\",IF(VLOOKUP(CONCATENATE(J1059,\" SI\"),W$7:W$1196,1,FALSE)=CONCATENATE(J1059,\" SI\"),\"\",1))","v":""},null,{"$f":"IF(OR(J1059=\"\",G1059=\"\"),\"\",IF(VLOOKUP(H1059,Tabelle_Fisse!$B$25:$C$29,2,FALSE)=\"ok\",\"\",1))","v":""},{"$nulls":4},""]
[{"$nulls":9},"",{"$f":"IF(J1060=\"\",\"\",IF(VLOOKUP(J1060,Lotti!B$6:B$596,1,FALSE)=J1060,\"\",1))","v":""},null,"",null,{"$f":"IF(J1060=\"\",\"\",IF(VLOOKUP(F1060,Tabelle_Fisse!$B$33:$C$34,2,FALSE)=\"ok\",\"\",1))","v":""},{"$f":"IF(J1060=\"\",\"\",IF(VLOOKUP(CONCATENATE(J1060,\" SI\"),W$7:W$1196,1,FALSE)=CONCATENATE(J1060,\" SI\"),\"\",1))","v":""},null,{"$f":"IF(OR(J1060=\"\",G1060=\"\"),\"\",IF(VLOOKUP(H1060,Tabelle_Fisse!$B$25:$C$29,2,FALSE)=\"ok\",\"\",1))","v":""},{"$nulls":4},""]
[{"$nulls":9},"",{"$f":"IF(J1061=\"\",\"\",IF(VLOOKUP(J1061,Lotti!B$6:B$596,1,FALSE)=J1061,\"\",1))","v":""},null,"",null,{"$f":"IF(J1061=\"\",\"\",IF(VLOOKUP(F1061,Tabelle_Fisse!$B$33:$C$34,2,FALSE)=\"ok\",\"\",1))","v":""},{"$f":"IF(J1061=\"\",\"\",IF(VLOOKUP(CONCATENATE(J1061,\" SI\"),W$7:W$1196,1,FALSE)=CONCATENATE(J1061,\" SI\"),\"\",1))","v":""},null,{"$f":"IF(OR(J1061=\"\",G1061=\"\"),\"\",IF(VLOOKUP(H1061,Tabelle_Fisse!$B$25:$C$29,2,FALSE)=\"ok\",\"\",1))","v":""},{"$nulls":4},""]
[{"$nulls":9},"",{"$f":"IF(J1062=\"\",\"\",IF(VLOOKUP(J1062,Lotti!B$6:B$596,1,FALSE)=J1062,\"\",1))","v":""},null,"",null,{"$f":"IF(J1062=\"\",\"\",IF(VLOOKUP(F1062,Tabelle_Fisse!$B$33:$C$34,2,FALSE)=\"ok\",\"\",1))","v":""},{"$f":"IF(J1062=\"\",\"\",IF(VLOOKUP(CONCATENATE(J1062,\" SI\"),W$7:W$1196,1,FALSE)=CONCATENATE(J1062,\" SI\"),\"\",1))","v":""},null,{"$f":"IF(OR(J1062=\"\",G1062=\"\"),\"\",IF(VLOOKUP(H1062,Tabelle_Fisse!$B$25:$C$29,2,FALSE)=\"ok\",\"\",1))","v":""},{"$nulls":4},""]
[{"$nulls":9},"",{"$f":"IF(J1063=\"\",\"\",IF(VLOOKUP(J1063,Lotti!B$6:B$596,1,FALSE)=J1063,\"\",1))","v":""},null,"",null,{"$f":"IF(J1063=\"\",\"\",IF(VLOOKUP(F1063,Tabelle_Fisse!$B$33:$C$34,2,FALSE)=\"ok\",\"\",1))","v":""},{"$f":"IF(J1063=\"\",\"\",IF(VLOOKUP(CONCATENATE(J1063,\" SI\"),W$7:W$1196,1,FALSE)=CONCATENATE(J1063,\" SI\"),\"\",1))","v":""},null,{"$f":"IF(OR(J1063=\"\",G1063=\"\"),\"\",IF(VLOOKUP(H1063,Tabelle_Fisse!$B$25:$C$29,2,FALSE)=\"ok\",\"\",1))","v":""},{"$nulls":4},""]
[{"$nulls":9},"",{"$f":"IF(J1064=\"\",\"\",IF(VLOOKUP(J1064,Lotti!B$6:B$596,1,FALSE)=J1064,\"\",1))","v":""},null,"",null,{"$f":"IF(J1064=\"\",\"\",IF(VLOOKUP(F1064,Tabelle_Fisse!$B$33:$C$34,2,FALSE)=\"ok\",\"\",1))","v":""},{"$f":"IF(J1064=\"\",\"\",IF(VLOOKUP(CONCATENATE(J1064,\" SI\"),W$7:W$1196,1,FALSE)=CONCATENATE(J1064,\" SI\"),\"\",1))","v":""},null,{"$f":"IF(OR(J1064=\"\",G1064=\"\"),\"\",IF(VLOOKUP(H1064,Tabelle_Fisse!$B$25:$C$29,2,FALSE)=\"ok\",\"\",1))","v":""},{"$nulls":4},""]
[{"$nulls":9},"",{"$f":"IF(J1065=\"\",\"\",IF(VLOOKUP(J1065,Lotti!B$6:B$596,1,FALSE)=J1065,\"\",1))","v":""},null,"",null,{"$f":"IF(J1065=\"\",\"\",IF(VLOOKUP(F1065,Tabelle_Fisse!$B$33:$C$34,2,FALSE)=\"ok\",\"\",1))","v":""},{"$f":"IF(J1065=\"\",\"\",IF(VLOOKUP(CONCATENATE(J1065,\" SI\"),W$7:W$1196,1,FALSE)=CONCATENATE(J1065,\" SI\"),\"\",1))","v":""},null,{"$f":"IF(OR(J1065=\"\",G1065=\"\"),\"\",IF(VLOOKUP(H1065,Tabelle_Fisse!$B$25:$C$29,2,FALSE)=\"ok\",\"\",1))","v":""},{"$nulls":4},""]
[{"$nulls":9},"",{"$f":"IF(J1066=\"\",\"\",IF(VLOOKUP(J1066,Lotti!B$6:B$596,1,FALSE)=J1066,\"\",1))","v":""},null,"",null,{"$f":"IF(J1066=\"\",\"\",IF(VLOOKUP(F1066,Tabelle_Fisse!$B$33:$C$34,2,FALSE)=\"ok\",\"\",1))","v":""},{"$f":"IF(J1066=\"\",\"\",IF(VLOOKUP(CONCATENATE(J1066,\" SI\"),W$7:W$1196,1,FALSE)=CONCATENATE(J1066,\" SI\"),\"\",1))","v":""},null,{"$f":"IF(OR(J1066=\"\",G1066=\"\"),\"\",IF(VLOOKUP(H1066,Tabelle_Fisse!$B$25:$C$29,2,FALSE)=\"ok\",\"\",1))","v":""},{"$nulls":4},""]
[{"$nulls":9},"",{"$f":"IF(J1067=\"\",\"\",IF(VLOOKUP(J1067,Lotti!B$6:B$596,1,FALSE)=J1067,\"\",1))","v":""},null,"",null,{"$f":"IF(J1067=\"\",\"\",IF(VLOOKUP(F1067,Tabelle_Fisse!$B$33:$C$34,2,FALSE)=\"ok\",\"\",1))","v":""},{"$f":"IF(J1067=\"\",\"\",IF(VLOOKUP(CONCATENATE(J1067,\" SI\"),W$7:W$1196,1,FALSE)=CONCATENATE(J1067,\" SI\"),\"\",1))","v":""},null,{"$f":"IF(OR(J1067=\"\",G1067=\"\"),\"\",IF(VLOOKUP(H1067,Tabelle_Fisse!$B$25:$C$29,2,FALSE)=\"ok\",\"\",1))","v":""},{"$nulls":4},""]
[{"$nulls":9},"",{"$f":"IF(J1068=\"\",\"\",IF(VLOOKUP(J1068,Lotti!B$6:B$596,1,FALSE)=J1068,\"\",1))","v":""},null,"",null,{"$f":"IF(J1068=\"\",\"\",IF(VLOOKUP(F1068,Tabelle_Fisse!$B$33:$C$34,2,FALSE)=\"ok\",\"\",1))","v":""},{"$f":"IF(J1068=\"\",\"\",IF(VLOOKUP(CONCATENATE(J1068,\" SI\"),W$7:W$1196,1,FALSE)=CONCATENATE(J1068,\" SI\"),\"\",1))","v":""},null,{"$f":"IF(OR(J1068=\"\",G1068=\"\"),\"\",IF(VLOOKUP(H1068,Tabelle_Fisse!$B$25:$C$29,2,FALSE)=\"ok\",\"\",1))","v":""},{"$nulls":4},""]
[{"$nulls":9},"",{"$f":"IF(J1069=\"\",\"\",IF(VLOOKUP(J1069,Lotti!B$6:B$596,1,FALSE)=J1069,\"\",1))","v":""},null,"",null,{"$f":"IF(J1069=\"\",\"\",IF(VLOOKUP(F1069,Tabelle_Fisse!$B$33:$C$34,2,FALSE)=\"ok\",\"\",1))","v":""},{"$f":"IF(J1069=\"\",\"\",IF(VLOOKUP(CONCATENATE(J1069,\" SI\"),W$7:W$1196,1,FALSE)=CONCATENATE(J1069,\" SI\"),\"\",1))","v":""},null,{"$f":"IF(OR(J1069=\"\",G1069=\"\"),\"\",IF(VLOOKUP(H1069,Tabelle_Fisse!$B$25:$C$29,2,FALSE)=\"ok\",\"\",1))","v":""},{"$nulls":4},""]
[{"$nulls":9},"",{"$f":"IF(J1070=\"\",\"\",IF(VLOOKUP(J1070,Lotti!B$6:B$596,1,FALSE)=J1070,\"\",1))","v":""},null,"",null,{"$f":"IF(J1070=\"\",\"\",IF(VLOOKUP(F1070,Tabelle_Fisse!$B$33:$C$34,2,FALSE)=\"ok\",\"\",1))","v":""},{"$f":"IF(J1070=\"\",\"\",IF(VLOOKUP(CONCATENATE(J1070,\" SI\"),W$7:W$1196,1,FALSE)=CONCATENATE(J1070,\" SI\"),\"\",1))","v":""},null,{"$f":"IF(OR(J1070=\"\",G1070=\"\"),\"\",IF(VLOOKUP(H1070,Tabelle_Fisse!$B$25:$C$29,2,FALSE)=\"ok\",\"\",1))","v":""},{"$nulls":4},""]
[{"$nulls":9},"",{"$f":"IF(J1071=\"\",\"\",IF(VLOOKUP(J1071,Lotti!B$6:B$596,1,FALSE)=J1071,\"\",1))","v":""},null,"",null,{"$f":"IF(J1071=\"\",\"\",IF(VLOOKUP(F1071,Tabelle_Fisse!$B$33:$C$34,2,FALSE)=\"ok\",\"\",1))","v":""},{"$f":"IF(J1071=\"\",\"\",IF(VLOOKUP(CONCATENATE(J1071,\" SI\"),W$7:W$1196,1,FALSE)=CONCATENATE(J1071,\" SI\"),\"\",1))","v":""},null,{"$f":"IF(OR(J1071=\"\",G1071=\"\"),\"\",IF(VLOOKUP(H1071,Tabelle_Fisse!$B$25:$C$29,2,FALSE)=\"ok\",\"\",1))","v":""},{"$nulls":4},""]
[{"$nulls":9},"",{"$f":"IF(J1072=\"\",\"\",IF(VLOOKUP(J1072,Lotti!B$6:B$596,1,FALSE)=J1072,\"\",1))","v":""},null,"",null,{"$f":"IF(J1072=\"\",\"\",IF(VLOOKUP(F1072,Tabelle_Fisse!$B$33:$C$34,2,FALSE)=\"ok\",\"\",1))","v":""},{"$f":"IF(J1072=\"\",\"\",IF(VLOOKUP(CONCATENATE(J1072,\" SI\"),W$7:W$1196,1,FALSE)=CONCATENATE(J1072,\" SI\"),\"\",1))","v":""},null,{"$f":"IF(OR(J1072=\"\",G1072=\"\"),\"\",IF(VLOOKUP(H1072,Tabelle_Fisse!$B$25:$C$29,2,FALSE)=\"ok\",\"\",1))","v":""},{"$nulls":4},""]
[{"$nulls":9},"",{"$f":"IF(J1073=\"\",\"\",IF(VLOOKUP(J1073,Lotti!B$6:B$596,1,FALSE)=J1073,\"\",1))","v":""},null,"",null,{"$f":"IF(J1073=\"\",\"\",IF(VLOOKUP(F1073,Tabelle_Fisse!$B$33:$C$34,2,FALSE)=\"ok\",\"\",1))","v":""},{"$f":"IF(J1073=\"\",\"\",IF(VLOOKUP(CONCATENATE(J1073,\" SI\"),W$7:W$1196,1,FALSE)=CONCATENATE(J1073,\" SI\"),\"\",1))","v":""},null,{"$f":"IF(OR(J1073=\"\",G1073=\"\"),\"\",IF(VLOOKUP(H1073,Tabelle_Fisse!$B$25:$C$29,2,FALSE)=\"ok\",\"\",1))","v":""},{"$nulls":4},""]
[{"$nulls":9},"",{"$f":"IF(J1074=\"\",\"\",IF(VLOOKUP(J1074,Lotti!B$6:B$596,1,FALSE)=J1074,\"\",1))","v":""},null,"",null,{"$f":"IF(J1074=\"\",\"\",IF(VLOOKUP(F1074,Tabelle_Fisse!$B$33:$C$34,2,FALSE)=\"ok\",\"\",1))","v":""},{"$f":"IF(J1074=\"\",\"\",IF(VLOOKUP(CONCATENATE(J1074,\" SI\"),W$7:W$1196,1,FALSE)=CONCATENATE(J1074,\" SI\"),\"\",1))","v":""},null,{"$f":"IF(OR(J1074=\"\",G1074=\"\"),\"\",IF(VLOOKUP(H1074,Tabelle_Fisse!$B$25:$C$29,2,FALSE)=\"ok\",\"\",1))","v":""},{"$nulls":4},""]
[{"$nulls":9},"",{"$f":"IF(J1075=\"\",\"\",IF(VLOOKUP(J1075,Lotti!B$6:B$596,1,FALSE)=J1075,\"\",1))","v":""},null,"",null,{"$f":"IF(J1075=\"\",\"\",IF(VLOOKUP(F1075,Tabelle_Fisse!$B$33:$C$34,2,FALSE)=\"ok\",\"\",1))","v":""},{"$f":"IF(J1075=\"\",\"\",IF(VLOOKUP(CONCATENATE(J1075,\" SI\"),W$7:W$1196,1,FALSE)=CONCATENATE(J1075,\" SI\"),\"\",1))","v":""},null,{"$f":"IF(OR(J1075=\"\",G1075=\"\"),\"\",IF(VLOOKUP(H1075,Tabelle_Fisse!$B$25:$C$29,2,FALSE)=\"ok\",\"\",1))","v":""},{"$nulls":4},""]
[{"$nulls":9},"",{"$f":"IF(J1076=\"\",\"\",IF(VLOOKUP(J1076,Lotti!B$6:B$596,1,FALSE)=J1076,\"\",1))","v":""},null,"",null,{"$f":"IF(J1076=\"\",\"\",IF(VLOOKUP(F1076,Tabelle_Fisse!$B$33:$C$34,2,FALSE)=\"ok\",\"\",1))","v":""},{"$f":"IF(J1076=\"\",\"\",IF(VLOOKUP(CONCATENATE(J1076,\" SI\"),W$7:W$1196,1,FALSE)=CONCATENATE(J1076,\" SI\"),\"\",1))","v":""},null,{"$f":"IF(OR(J1076=\"\",G1076=\"\"),\"\",IF(VLOOKUP(H1076,Tabelle_Fisse!$B$25:$C$29,2,FALSE)=\"ok\",\"\",1))","v":""},{"$nulls":4},""]
[{"$nulls":9},"",{"$f":"IF(J1077=\"\",\"\",IF(VLOOKUP(J1077,Lotti!B$6:B$596,1,FALSE)=J1077,\"\",1))","v":""},null,"",null,{"$f":"IF(J1077=\"\",\"\",IF(VLOOKUP(F1077,Tabelle_Fisse!$B$33:$C$34,2,FALSE)=\"ok\",\"\",1))","v":""},{"$f":"IF(J1077=\"\",\"\",IF(VLOOKUP(CONCATENATE(J1077,\" SI\"),W$7:W$1196,1,FALSE)=CONCATENATE(J1077,\" SI\"),\"\",1))","v":""},null,{"$f":"IF(OR(J1077=\"\",G1077=\"\"),\"\",IF(VLOOKUP(H1077,Tabelle_Fisse!$B$25:$C$29,2,FALSE)=\"ok\",\"\",1))","v":""},{"$nulls":4},""]
[{"$nulls":9},"",{"$f":"IF(J1078=\"\",\"\",IF(VLOOKUP(J1078,Lotti!B$6:B$596,1,FALSE)=J1078,\"\",1))","v":""},null,"",null,{"$f":"IF(J1078=\"\",\"\",IF(VLOOKUP(F1078,Tabelle_Fisse!$B$33:$C$34,2,FALSE)=\"ok\",\"\",1))","v":""},{"$f":"IF(J1078=\"\",\"\",IF(VLOOKUP(CONCATENATE(J1078,\" SI\"),W$7:W$1196,1,FALSE)=CONCATENATE(J1078,\" SI\"),\"\",1))","v":""},null,{"$f":"IF(OR(J1078=\"\",G1078=\"\"),\"\",IF(VLOOKUP(H1078,Tabelle_Fisse!$B$25:$C$29,2,FALSE)=\"ok\",\"\",1))","v":""},{"$nulls":4},""]
[{"$nulls":9},"",{"$f":"IF(J1079=\"\",\"\",IF(VLOOKUP(J1079,Lotti!B$6:B$596,1,FALSE)=J1079,\"\",1))","v":""},null,"",null,{"$f":"IF(J1079=\"\",\"\",IF(VLOOKUP(F1079,Tabelle_Fisse!$B$33:$C$34,2,FALSE)=\"ok\",\"\",1))","v":""},{"$f":"IF(J1079=\"\",\"\",IF(VLOOKUP(CONCATENATE(J1079,\" SI\"),W$7:W$1196,1,FALSE)=CONCATENATE(J1079,\" SI\"),\"\",1))","v":""},null,{"$f":"IF(OR(J1079=\"\",G1079=\"\"),\"\",IF(VLOOKUP(H1079,Tabelle_Fisse!$B$25:$C$29,2,FALSE)=\"ok\",\"\",1))","v":""},{"$nulls":4},""]
[{"$nulls":9},"",{"$f":"IF(J1080=\"\",\"\",IF(VLOOKUP(J1080,Lotti!B$6:B$596,1,FALSE)=J1080,\"\",1))","v":""},null,"",null,{"$f":"IF(J1080=\"\",\"\",IF(VLOOKUP(F1080,Tabelle_Fisse!$B$33:$C$34,2,FALSE)=\"ok\",\"\",1))","v":""},{"$f":"IF(J1080=\"\",\"\",IF(VLOOKUP(CONCATENATE(J1080,\" SI\"),W$7:W$1196,1,FALSE)=CONCATENATE(J1080,\" SI\"),\"\",1))","v":""},null,{"$f":"IF(OR(J1080=\"\",G1080=\"\"),\"\",IF(VLOOKUP(H1080,Tabelle_Fisse!$B$25:$C$29,2,FALSE)=\"ok\",\"\",1))","v":""},{"$nulls":4},""]
[{"$nulls":9},"",{"$f":"IF(J1081=\"\",\"\",IF(VLOOKUP(J1081,Lotti!B$6:B$596,1,FALSE)=J1081,\"\",1))","v":""},null,"",null,{"$f":"IF(J1081=\"\",\"\",IF(VLOOKUP(F1081,Tabelle_Fisse!$B$33:$C$34,2,FALSE)=\"ok\",\"\",1))","v":""},{"$f":"IF(J1081=\"\",\"\",IF(VLOOKUP(CONCATENATE(J1081,\" SI\"),W$7:W$1196,1,FALSE)=CONCATENATE(J1081,\" SI\"),\"\",1))","v":""},null,{"$f":"IF(OR(J1081=\"\",G1081=\"\"),\"\",IF(VLOOKUP(H1081,Tabelle_Fisse!$B$25:$C$29,2,FALSE)=\"ok\",\"\",1))","v":""},{"$nulls":4},""]
[{"$nulls":9},"",{"$f":"IF(J1082=\"\",\"\",IF(VLOOKUP(J1082,Lotti!B$6:B$596,1,FALSE)=J1082,\"\",1))","v":""},null,"",null,{"$f":"IF(J1082=\"\",\"\",IF(VLOOKUP(F1082,Tabelle_Fisse!$B$33:$C$34,2,FALSE)=\"ok\",\"\",1))","v":""},{"$f":"IF(J1082=\"\",\"\",IF(VLOOKUP(CONCATENATE(J1082,\" SI\"),W$7:W$1196,1,FALSE)=CONCATENATE(J1082,\" SI\"),\"\",1))","v":""},null,{"$f":"IF(OR(J1082=\"\",G1082=\"\"),\"\",IF(VLOOKUP(H1082,Tabelle_Fisse!$B$25:$C$29,2,FALSE)=\"ok\",\"\",1))","v":""},{"$nulls":4},""]
[{"$nulls":9},"",{"$f":"IF(J1083=\"\",\"\",IF(VLOOKUP(J1083,Lotti!B$6:B$596,1,FALSE)=J1083,\"\",1))","v":""},null,"",null,{"$f":"IF(J1083=\"\",\"\",IF(VLOOKUP(F1083,Tabelle_Fisse!$B$33:$C$34,2,FALSE)=\"ok\",\"\",1))","v":""},{"$f":"IF(J1083=\"\",\"\",IF(VLOOKUP(CONCATENATE(J1083,\" SI\"),W$7:W$1196,1,FALSE)=CONCATENATE(J1083,\" SI\"),\"\",1))","v":""},null,{"$f":"IF(OR(J1083=\"\",G1083=\"\"),\"\",IF(VLOOKUP(H1083,Tabelle_Fisse!$B$25:$C$29,2,FALSE)=\"ok\",\"\",1))","v":""},{"$nulls":4},""]
[{"$nulls":9},"",{"$f":"IF(J1084=\"\",\"\",IF(VLOOKUP(J1084,Lotti!B$6:B$596,1,FALSE)=J1084,\"\",1))","v":""},null,"",null,{"$f":"IF(J1084=\"\",\"\",IF(VLOOKUP(F1084,Tabelle_Fisse!$B$33:$C$34,2,FALSE)=\"ok\",\"\",1))","v":""},{"$f":"IF(J1084=\"\",\"\",IF(VLOOKUP(CONCATENATE(J1084,\" SI\"),W$7:W$1196,1,FALSE)=CONCATENATE(J1084,\" SI\"),\"\",1))","v":""},null,{"$f":"IF(OR(J1084=\"\",G1084=\"\"),\"\",IF(VLOOKUP(H1084,Tabelle_Fisse!$B$25:$C$29,2,FALSE)=\"ok\",\"\",1))","v":""},{"$nulls":4},""]
[{"$nulls":9},"",{"$f":"IF(J1085=\"\",\"\",IF(VLOOKUP(J1085,Lotti!B$6:B$596,1,FALSE)=J1085,\"\",1))","v":""},null,"",null,{"$f":"IF(J1085=\"\",\"\",IF(VLOOKUP(F1085,Tabelle_Fisse!$B$33:$C$34,2,FALSE)=\"ok\",\"\",1))","v":""},{"$f":"IF(J1085=\"\",\"\",IF(VLOOKUP(CONCATENATE(J1085,\" SI\"),W$7:W$1196,1,FALSE)=CONCATENATE(J1085,\" SI\"),\"\",1))","v":""},null,{"$f":"IF(OR(J1085=\"\",G1085=\"\"),\"\",IF(VLOOKUP(H1085,Tabelle_Fisse!$B$25:$C$29,2,FALSE)=\"ok\",\"\",1))","v":""},{"$nulls":4},""]
[{"$nulls":9},"",{"$f":"IF(J1086=\"\",\"\",IF(VLOOKUP(J1086,Lotti!B$6:B$596,1,FALSE)=J1086,\"\",1))","v":""},null,"",null,{"$f":"IF(J1086=\"\",\"\",IF(VLOOKUP(F1086,Tabelle_Fisse!$B$33:$C$34,2,FALSE)=\"ok\",\"\",1))","v":""},{"$f":"IF(J1086=\"\",\"\",IF(VLOOKUP(CONCATENATE(J1086,\" SI\"),W$7:W$1196,1,FALSE)=CONCATENATE(J1086,\" SI\"),\"\",1))","v":""},null,{"$f":"IF(OR(J1086=\"\",G1086=\"\"),\"\",IF(VLOOKUP(H1086,Tabelle_Fisse!$B$25:$C$29,2,FALSE)=\"ok\",\"\",1))","v":""},{"$nulls":4},""]
[{"$nulls":9},"",{"$f":"IF(J1087=\"\",\"\",IF(VLOOKUP(J1087,Lotti!B$6:B$596,1,FALSE)=J1087,\"\",1))","v":""},null,"",null,{"$f":"IF(J1087=\"\",\"\",IF(VLOOKUP(F1087,Tabelle_Fisse!$B$33:$C$34,2,FALSE)=\"ok\",\"\",1))","v":""},{"$f":"IF(J1087=\"\",\"\",IF(VLOOKUP(CONCATENATE(J1087,\" SI\"),W$7:W$1196,1,FALSE)=CONCATENATE(J1087,\" SI\"),\"\",1))","v":""},null,{"$f":"IF(OR(J1087=\"\",G1087=\"\"),\"\",IF(VLOOKUP(H1087,Tabelle_Fisse!$B$25:$C$29,2,FALSE)=\"ok\",\"\",1))","v":""},{"$nulls":4},""]
[{"$nulls":9},"",{"$f":"IF(J1088=\"\",\"\",IF(VLOOKUP(J1088,Lotti!B$6:B$596,1,FALSE)=J1088,\"\",1))","v":""},null,"",null,{"$f":"IF(J1088=\"\",\"\",IF(VLOOKUP(F1088,Tabelle_Fisse!$B$33:$C$34,2,FALSE)=\"ok\",\"\",1))","v":""},{"$f":"IF(J1088=\"\",\"\",IF(VLOOKUP(CONCATENATE(J1088,\" SI\"),W$7:W$1196,1,FALSE)=CONCATENATE(J1088,\" SI\"),\"\",1))","v":""},null,{"$f":"IF(OR(J1088=\"\",G1088=\"\"),\"\",IF(VLOOKUP(H1088,Tabelle_Fisse!$B$25:$C$29,2,FALSE)=\"ok\",\"\",1))","v":""},{"$nulls":4},""]
[{"$nulls":9},"",{"$f":"IF(J1089=\"\",\"\",IF(VLOOKUP(J1089,Lotti!B$6:B$596,1,FALSE)=J1089,\"\",1))","v":""},null,"",null,{"$f":"IF(J1089=\"\",\"\",IF(VLOOKUP(F1089,Tabelle_Fisse!$B$33:$C$34,2,FALSE)=\"ok\",\"\",1))","v":""},{"$f":"IF(J1089=\"\",\"\",IF(VLOOKUP(CONCATENATE(J1089,\" SI\"),W$7:W$1196,1,FALSE)=CONCATENATE(J1089,\" SI\"),\"\",1))","v":""},null,{"$f":"IF(OR(J1089=\"\",G1089=\"\"),\"\",IF(VLOOKUP(H1089,Tabelle_Fisse!$B$25:$C$29,2,FALSE)=\"ok\",\"\",1))","v":""},{"$nulls":4},""]
[{"$nulls":9},"",{"$f":"IF(J1090=\"\",\"\",IF(VLOOKUP(J1090,Lotti!B$6:B$596,1,FALSE)=J1090,\"\",1))","v":""},null,"",null,{"$f":"IF(J1090=\"\",\"\",IF(VLOOKUP(F1090,Tabelle_Fisse!$B$33:$C$34,2,FALSE)=\"ok\",\"\",1))","v":""},{"$f":"IF(J1090=\"\",\"\",IF(VLOOKUP(CONCATENATE(J1090,\" SI\"),W$7:W$1196,1,FALSE)=CONCATENATE(J1090,\" SI\"),\"\",1))","v":""},null,{"$f":"IF(OR(J1090=\"\",G1090=\"\"),\"\",IF(VLOOKUP(H1090,Tabelle_Fisse!$B$25:$C$29,2,FALSE)=\"ok\",\"\",1))","v":""},{"$nulls":4},""]
[{"$nulls":9},"",{"$f":"IF(J1091=\"\",\"\",IF(VLOOKUP(J1091,Lotti!B$6:B$596,1,FALSE)=J1091,\"\",1))","v":""},null,"",null,{"$f":"IF(J1091=\"\",\"\",IF(VLOOKUP(F1091,Tabelle_Fisse!$B$33:$C$34,2,FALSE)=\"ok\",\"\",1))","v":""},{"$f":"IF(J1091=\"\",\"\",IF(VLOOKUP(CONCATENATE(J1091,\" SI\"),W$7:W$1196,1,FALSE)=CONCATENATE(J1091,\" SI\"),\"\",1))","v":""},null,{"$f":"IF(OR(J1091=\"\",G1091=\"\"),\"\",IF(VLOOKUP(H1091,Tabelle_Fisse!$B$25:$C$29,2,FALSE)=\"ok\",\"\",1))","v":""},{"$nulls":4},""]
[{"$nulls":9},{"$f":"TRIM(B1092)","v":""},{"$f":"IF(J1092=\"\",\"\",IF(VLOOKUP(J1092,Lotti!B$6:B$596,1,FALSE)=J1092,\"\",1))","v":""},null,{"$f":"IF(J1092=\"\",\"\",IF(OR(AND(E1092=\"\",LEN(D1092)<>11,LEN(D1092)<>16),AND(D1092=\"\",E1092=\"\"),AND(D1092<>\"\",E1092<>\"\")),1,\"\"))","v":""},null,{"$f":"IF(J1092=\"\",\"\",IF(VLOOKUP(F1092,Tabelle_Fisse!$B$33:$C$34,2,FALSE)=\"ok\",\"\",1))","v":""},{"$f":"IF(J1092=\"\",\"\",IF(VLOOKUP(CONCATENATE(J1092,\" SI\"),W$7:W$1196,1,FALSE)=CONCATENATE(J1092,\" SI\"),\"\",1))","v":""},null,{"$f":"IF(OR(J1092=\"\",G1092=\"\"),\"\",IF(VLOOKUP(H1092,Tabelle_Fisse!$B$25:$C$29,2,FALSE)=\"ok\",\"\",1))","v":""},{"$nulls":4},{"$f":"IF(J1092=\"\",\"\",CONCATENATE(J1092,\" \",F1092))","v":""}]
[{"$nulls":9},"",{"$f":"IF(J1093=\"\",\"\",IF(VLOOKUP(J1093,Lotti!B$6:B$596,1,FALSE)=J1093,\"\",1))","v":""},null,"",null,{"$f":"IF(J1093=\"\",\"\",IF(VLOOKUP(F1093,Tabelle_Fisse!$B$33:$C$34,2,FALSE)=\"ok\",\"\",1))","v":""},{"$f":"IF(J1093=\"\",\"\",IF(VLOOKUP(CONCATENATE(J1093,\" SI\"),W$7:W$1196,1,FALSE)=CONCATENATE(J1093,\" SI\"),\"\",1))","v":""},null,{"$f":"IF(OR(J1093=\"\",G1093=\"\"),\"\",IF(VLOOKUP(H1093,Tabelle_Fisse!$B$25:$C$29,2,FALSE)=\"ok\",\"\",1))","v":""},{"$nulls":4},""]
[{"$nulls":9},"",{"$f":"IF(J1094=\"\",\"\",IF(VLOOKUP(J1094,Lotti!B$6:B$596,1,FALSE)=J1094,\"\",1))","v":""},null,"",null,{"$f":"IF(J1094=\"\",\"\",IF(VLOOKUP(F1094,Tabelle_Fisse!$B$33:$C$34,2,FALSE)=\"ok\",\"\",1))","v":""},{"$f":"IF(J1094=\"\",\"\",IF(VLOOKUP(CONCATENATE(J1094,\" SI\"),W$7:W$1196,1,FALSE)=CONCATENATE(J1094,\" SI\"),\"\",1))","v":""},null,{"$f":"IF(OR(J1094=\"\",G1094=\"\"),\"\",IF(VLOOKUP(H1094,Tabelle_Fisse!$B$25:$C$29,2,FALSE)=\"ok\",\"\",1))","v":""},{"$nulls":4},""]
[{"$nulls":9},"",{"$f":"IF(J1095=\"\",\"\",IF(VLOOKUP(J1095,Lotti!B$6:B$596,1,FALSE)=J1095,\"\",1))","v":""},null,"",null,{"$f":"IF(J1095=\"\",\"\",IF(VLOOKUP(F1095,Tabelle_Fisse!$B$33:$C$34,2,FALSE)=\"ok\",\"\",1))","v":""},{"$f":"IF(J1095=\"\",\"\",IF(VLOOKUP(CONCATENATE(J1095,\" SI\"),W$7:W$1196,1,FALSE)=CONCATENATE(J1095,\" SI\"),\"\",1))","v":""},null,{"$f":"IF(OR(J1095=\"\",G1095=\"\"),\"\",IF(VLOOKUP(H1095,Tabelle_Fisse!$B$25:$C$29,2,FALSE)=\"ok\",\"\",1))","v":""},{"$nulls":4},""]
[{"$nulls":9},"",{"$f":"IF(J1096=\"\",\"\",IF(VLOOKUP(J1096,Lotti!B$6:B$596,1,FALSE)=J1096,\"\",1))","v":""},null,"",null,{"$f":"IF(J1096=\"\",\"\",IF(VLOOKUP(F1096,Tabelle_Fisse!$B$33:$C$34,2,FALSE)=\"ok\",\"\",1))","v":""},{"$f":"IF(J1096=\"\",\"\",IF(VLOOKUP(CONCATENATE(J1096,\" SI\"),W$7:W$1196,1,FALSE)=CONCATENATE(J1096,\" SI\"),\"\",1))","v":""},null,{"$f":"IF(OR(J1096=\"\",G1096=\"\"),\"\",IF(VLOOKUP(H1096,Tabelle_Fisse!$B$25:$C$29,2,FALSE)=\"ok\",\"\",1))","v":""},{"$nulls":4},""]
[{"$nulls":9},"",{"$f":"IF(J1097=\"\",\"\",IF(VLOOKUP(J1097,Lotti!B$6:B$596,1,FALSE)=J1097,\"\",1))","v":""},null,"",null,{"$f":"IF(J1097=\"\",\"\",IF(VLOOKUP(F1097,Tabelle_Fisse!$B$33:$C$34,2,FALSE)=\"ok\",\"\",1))","v":""},{"$f":"IF(J1097=\"\",\"\",IF(VLOOKUP(CONCATENATE(J1097,\" SI\"),W$7:W$1196,1,FALSE)=CONCATENATE(J1097,\" SI\"),\"\",1))","v":""},null,{"$f":"IF(OR(J1097=\"\",G1097=\"\"),\"\",IF(VLOOKUP(H1097,Tabelle_Fisse!$B$25:$C$29,2,FALSE)=\"ok\",\"\",1))","v":""},{"$nulls":4},""]
[{"$nulls":9},"",{"$f":"IF(J1098=\"\",\"\",IF(VLOOKUP(J1098,Lotti!B$6:B$596,1,FALSE)=J1098,\"\",1))","v":""},null,"",null,{"$f":"IF(J1098=\"\",\"\",IF(VLOOKUP(F1098,Tabelle_Fisse!$B$33:$C$34,2,FALSE)=\"ok\",\"\",1))","v":""},{"$f":"IF(J1098=\"\",\"\",IF(VLOOKUP(CONCATENATE(J1098,\" SI\"),W$7:W$1196,1,FALSE)=CONCATENATE(J1098,\" SI\"),\"\",1))","v":""},null,{"$f":"IF(OR(J1098=\"\",G1098=\"\"),\"\",IF(VLOOKUP(H1098,Tabelle_Fisse!$B$25:$C$29,2,FALSE)=\"ok\",\"\",1))","v":""},{"$nulls":4},""]
[{"$nulls":9},"",{"$f":"IF(J1099=\"\",\"\",IF(VLOOKUP(J1099,Lotti!B$6:B$596,1,FALSE)=J1099,\"\",1))","v":""},null,"",null,{"$f":"IF(J1099=\"\",\"\",IF(VLOOKUP(F1099,Tabelle_Fisse!$B$33:$C$34,2,FALSE)=\"ok\",\"\",1))","v":""},{"$f":"IF(J1099=\"\",\"\",IF(VLOOKUP(CONCATENATE(J1099,\" SI\"),W$7:W$1196,1,FALSE)=CONCATENATE(J1099,\" SI\"),\"\",1))","v":""},null,{"$f":"IF(OR(J1099=\"\",G1099=\"\"),\"\",IF(VLOOKUP(H1099,Tabelle_Fisse!$B$25:$C$29,2,FALSE)=\"ok\",\"\",1))","v":""},{"$nulls":4},""]
[{"$nulls":9},"",{"$f":"IF(J1100=\"\",\"\",IF(VLOOKUP(J1100,Lotti!B$6:B$596,1,FALSE)=J1100,\"\",1))","v":""},null,"",null,{"$f":"IF(J1100=\"\",\"\",IF(VLOOKUP(F1100,Tabelle_Fisse!$B$33:$C$34,2,FALSE)=\"ok\",\"\",1))","v":""},{"$f":"IF(J1100=\"\",\"\",IF(VLOOKUP(CONCATENATE(J1100,\" SI\"),W$7:W$1196,1,FALSE)=CONCATENATE(J1100,\" SI\"),\"\",1))","v":""},null,{"$f":"IF(OR(J1100=\"\",G1100=\"\"),\"\",IF(VLOOKUP(H1100,Tabelle_Fisse!$B$25:$C$29,2,FALSE)=\"ok\",\"\",1))","v":""},{"$nulls":4},""]
[{"$nulls":9},"",{"$f":"IF(J1101=\"\",\"\",IF(VLOOKUP(J1101,Lotti!B$6:B$596,1,FALSE)=J1101,\"\",1))","v":""},null,"",null,{"$f":"IF(J1101=\"\",\"\",IF(VLOOKUP(F1101,Tabelle_Fisse!$B$33:$C$34,2,FALSE)=\"ok\",\"\",1))","v":""},{"$f":"IF(J1101=\"\",\"\",IF(VLOOKUP(CONCATENATE(J1101,\" SI\"),W$7:W$1196,1,FALSE)=CONCATENATE(J1101,\" SI\"),\"\",1))","v":""},null,{"$f":"IF(OR(J1101=\"\",G1101=\"\"),\"\",IF(VLOOKUP(H1101,Tabelle_Fisse!$B$25:$C$29,2,FALSE)=\"ok\",\"\",1))","v":""},{"$nulls":4},""]
[{"$nulls":9},"",{"$f":"IF(J1102=\"\",\"\",IF(VLOOKUP(J1102,Lotti!B$6:B$596,1,FALSE)=J1102,\"\",1))","v":""},null,"",null,{"$f":"IF(J1102=\"\",\"\",IF(VLOOKUP(F1102,Tabelle_Fisse!$B$33:$C$34,2,FALSE)=\"ok\",\"\",1))","v":""},{"$f":"IF(J1102=\"\",\"\",IF(VLOOKUP(CONCATENATE(J1102,\" SI\"),W$7:W$1196,1,FALSE)=CONCATENATE(J1102,\" SI\"),\"\",1))","v":""},null,{"$f":"IF(OR(J1102=\"\",G1102=\"\"),\"\",IF(VLOOKUP(H1102,Tabelle_Fisse!$B$25:$C$29,2,FALSE)=\"ok\",\"\",1))","v":""},{"$nulls":4},""]
[{"$nulls":9},"",{"$f":"IF(J1103=\"\",\"\",IF(VLOOKUP(J1103,Lotti!B$6:B$596,1,FALSE)=J1103,\"\",1))","v":""},null,"",null,{"$f":"IF(J1103=\"\",\"\",IF(VLOOKUP(F1103,Tabelle_Fisse!$B$33:$C$34,2,FALSE)=\"ok\",\"\",1))","v":""},{"$f":"IF(J1103=\"\",\"\",IF(VLOOKUP(CONCATENATE(J1103,\" SI\"),W$7:W$1196,1,FALSE)=CONCATENATE(J1103,\" SI\"),\"\",1))","v":""},null,{"$f":"IF(OR(J1103=\"\",G1103=\"\"),\"\",IF(VLOOKUP(H1103,Tabelle_Fisse!$B$25:$C$29,2,FALSE)=\"ok\",\"\",1))","v":""},{"$nulls":4},""]
[{"$nulls":9},"",{"$f":"IF(J1104=\"\",\"\",IF(VLOOKUP(J1104,Lotti!B$6:B$596,1,FALSE)=J1104,\"\",1))","v":""},null,"",null,{"$f":"IF(J1104=\"\",\"\",IF(VLOOKUP(F1104,Tabelle_Fisse!$B$33:$C$34,2,FALSE)=\"ok\",\"\",1))","v":""},{"$f":"IF(J1104=\"\",\"\",IF(VLOOKUP(CONCATENATE(J1104,\" SI\"),W$7:W$1196,1,FALSE)=CONCATENATE(J1104,\" SI\"),\"\",1))","v":""},null,{"$f":"IF(OR(J1104=\"\",G1104=\"\"),\"\",IF(VLOOKUP(H1104,Tabelle_Fisse!$B$25:$C$29,2,FALSE)=\"ok\",\"\",1))","v":""},{"$nulls":4},""]
[{"$nulls":9},"",{"$f":"IF(J1105=\"\",\"\",IF(VLOOKUP(J1105,Lotti!B$6:B$596,1,FALSE)=J1105,\"\",1))","v":""},null,"",null,{"$f":"IF(J1105=\"\",\"\",IF(VLOOKUP(F1105,Tabelle_Fisse!$B$33:$C$34,2,FALSE)=\"ok\",\"\",1))","v":""},{"$f":"IF(J1105=\"\",\"\",IF(VLOOKUP(CONCATENATE(J1105,\" SI\"),W$7:W$1196,1,FALSE)=CONCATENATE(J1105,\" SI\"),\"\",1))","v":""},null,{"$f":"IF(OR(J1105=\"\",G1105=\"\"),\"\",IF(VLOOKUP(H1105,Tabelle_Fisse!$B$25:$C$29,2,FALSE)=\"ok\",\"\",1))","v":""},{"$nulls":4},""]
[{"$nulls":9},"",{"$f":"IF(J1106=\"\",\"\",IF(VLOOKUP(J1106,Lotti!B$6:B$596,1,FALSE)=J1106,\"\",1))","v":""},null,"",null,{"$f":"IF(J1106=\"\",\"\",IF(VLOOKUP(F1106,Tabelle_Fisse!$B$33:$C$34,2,FALSE)=\"ok\",\"\",1))","v":""},{"$f":"IF(J1106=\"\",\"\",IF(VLOOKUP(CONCATENATE(J1106,\" SI\"),W$7:W$1196,1,FALSE)=CONCATENATE(J1106,\" SI\"),\"\",1))","v":""},null,{"$f":"IF(OR(J1106=\"\",G1106=\"\"),\"\",IF(VLOOKUP(H1106,Tabelle_Fisse!$B$25:$C$29,2,FALSE)=\"ok\",\"\",1))","v":""},{"$nulls":4},""]
[{"$nulls":9},"",{"$f":"IF(J1107=\"\",\"\",IF(VLOOKUP(J1107,Lotti!B$6:B$596,1,FALSE)=J1107,\"\",1))","v":""},null,"",null,{"$f":"IF(J1107=\"\",\"\",IF(VLOOKUP(F1107,Tabelle_Fisse!$B$33:$C$34,2,FALSE)=\"ok\",\"\",1))","v":""},{"$f":"IF(J1107=\"\",\"\",IF(VLOOKUP(CONCATENATE(J1107,\" SI\"),W$7:W$1196,1,FALSE)=CONCATENATE(J1107,\" SI\"),\"\",1))","v":""},null,{"$f":"IF(OR(J1107=\"\",G1107=\"\"),\"\",IF(VLOOKUP(H1107,Tabelle_Fisse!$B$25:$C$29,2,FALSE)=\"ok\",\"\",1))","v":""},{"$nulls":4},""]
[{"$nulls":9},"",{"$f":"IF(J1108=\"\",\"\",IF(VLOOKUP(J1108,Lotti!B$6:B$596,1,FALSE)=J1108,\"\",1))","v":""},null,"",null,{"$f":"IF(J1108=\"\",\"\",IF(VLOOKUP(F1108,Tabelle_Fisse!$B$33:$C$34,2,FALSE)=\"ok\",\"\",1))","v":""},{"$f":"IF(J1108=\"\",\"\",IF(VLOOKUP(CONCATENATE(J1108,\" SI\"),W$7:W$1196,1,FALSE)=CONCATENATE(J1108,\" SI\"),\"\",1))","v":""},null,{"$f":"IF(OR(J1108=\"\",G1108=\"\"),\"\",IF(VLOOKUP(H1108,Tabelle_Fisse!$B$25:$C$29,2,FALSE)=\"ok\",\"\",1))","v":""},{"$nulls":4},""]
[{"$nulls":9},"",{"$f":"IF(J1109=\"\",\"\",IF(VLOOKUP(J1109,Lotti!B$6:B$596,1,FALSE)=J1109,\"\",1))","v":""},null,"",null,{"$f":"IF(J1109=\"\",\"\",IF(VLOOKUP(F1109,Tabelle_Fisse!$B$33:$C$34,2,FALSE)=\"ok\",\"\",1))","v":""},{"$f":"IF(J1109=\"\",\"\",IF(VLOOKUP(CONCATENATE(J1109,\" SI\"),W$7:W$1196,1,FALSE)=CONCATENATE(J1109,\" SI\"),\"\",1))","v":""},null,{"$f":"IF(OR(J1109=\"\",G1109=\"\"),\"\",IF(VLOOKUP(H1109,Tabelle_Fisse!$B$25:$C$29,2,FALSE)=\"ok\",\"\",1))","v":""},{"$nulls":4},""]
[{"$nulls":9},"",{"$f":"IF(J1110=\"\",\"\",IF(VLOOKUP(J1110,Lotti!B$6:B$596,1,FALSE)=J1110,\"\",1))","v":""},null,"",null,{"$f":"IF(J1110=\"\",\"\",IF(VLOOKUP(F1110,Tabelle_Fisse!$B$33:$C$34,2,FALSE)=\"ok\",\"\",1))","v":""},{"$f":"IF(J1110=\"\",\"\",IF(VLOOKUP(CONCATENATE(J1110,\" SI\"),W$7:W$1196,1,FALSE)=CONCATENATE(J1110,\" SI\"),\"\",1))","v":""},null,{"$f":"IF(OR(J1110=\"\",G1110=\"\"),\"\",IF(VLOOKUP(H1110,Tabelle_Fisse!$B$25:$C$29,2,FALSE)=\"ok\",\"\",1))","v":""},{"$nulls":4},""]
[{"$nulls":9},"",{"$f":"IF(J1111=\"\",\"\",IF(VLOOKUP(J1111,Lotti!B$6:B$596,1,FALSE)=J1111,\"\",1))","v":""},null,"",null,{"$f":"IF(J1111=\"\",\"\",IF(VLOOKUP(F1111,Tabelle_Fisse!$B$33:$C$34,2,FALSE)=\"ok\",\"\",1))","v":""},{"$f":"IF(J1111=\"\",\"\",IF(VLOOKUP(CONCATENATE(J1111,\" SI\"),W$7:W$1196,1,FALSE)=CONCATENATE(J1111,\" SI\"),\"\",1))","v":""},null,{"$f":"IF(OR(J1111=\"\",G1111=\"\"),\"\",IF(VLOOKUP(H1111,Tabelle_Fisse!$B$25:$C$29,2,FALSE)=\"ok\",\"\",1))","v":""},{"$nulls":4},""]
[{"$nulls":9},"",{"$f":"IF(J1112=\"\",\"\",IF(VLOOKUP(J1112,Lotti!B$6:B$596,1,FALSE)=J1112,\"\",1))","v":""},null,"",null,{"$f":"IF(J1112=\"\",\"\",IF(VLOOKUP(F1112,Tabelle_Fisse!$B$33:$C$34,2,FALSE)=\"ok\",\"\",1))","v":""},{"$f":"IF(J1112=\"\",\"\",IF(VLOOKUP(CONCATENATE(J1112,\" SI\"),W$7:W$1196,1,FALSE)=CONCATENATE(J1112,\" SI\"),\"\",1))","v":""},null,{"$f":"IF(OR(J1112=\"\",G1112=\"\"),\"\",IF(VLOOKUP(H1112,Tabelle_Fisse!$B$25:$C$29,2,FALSE)=\"ok\",\"\",1))","v":""},{"$nulls":4},""]
[{"$nulls":9},"",{"$f":"IF(J1113=\"\",\"\",IF(VLOOKUP(J1113,Lotti!B$6:B$596,1,FALSE)=J1113,\"\",1))","v":""},null,"",null,{"$f":"IF(J1113=\"\",\"\",IF(VLOOKUP(F1113,Tabelle_Fisse!$B$33:$C$34,2,FALSE)=\"ok\",\"\",1))","v":""},{"$f":"IF(J1113=\"\",\"\",IF(VLOOKUP(CONCATENATE(J1113,\" SI\"),W$7:W$1196,1,FALSE)=CONCATENATE(J1113,\" SI\"),\"\",1))","v":""},null,{"$f":"IF(OR(J1113=\"\",G1113=\"\"),\"\",IF(VLOOKUP(H1113,Tabelle_Fisse!$B$25:$C$29,2,FALSE)=\"ok\",\"\",1))","v":""},{"$nulls":4},""]
[{"$nulls":9},"",{"$f":"IF(J1114=\"\",\"\",IF(VLOOKUP(J1114,Lotti!B$6:B$596,1,FALSE)=J1114,\"\",1))","v":""},null,"",null,{"$f":"IF(J1114=\"\",\"\",IF(VLOOKUP(F1114,Tabelle_Fisse!$B$33:$C$34,2,FALSE)=\"ok\",\"\",1))","v":""},{"$f":"IF(J1114=\"\",\"\",IF(VLOOKUP(CONCATENATE(J1114,\" SI\"),W$7:W$1196,1,FALSE)=CONCATENATE(J1114,\" SI\"),\"\",1))","v":""},null,{"$f":"IF(OR(J1114=\"\",G1114=\"\"),\"\",IF(VLOOKUP(H1114,Tabelle_Fisse!$B$25:$C$29,2,FALSE)=\"ok\",\"\",1))","v":""},{"$nulls":4},""]
[{"$nulls":9},"",{"$f":"IF(J1115=\"\",\"\",IF(VLOOKUP(J1115,Lotti!B$6:B$596,1,FALSE)=J1115,\"\",1))","v":""},null,"",null,{"$f":"IF(J1115=\"\",\"\",IF(VLOOKUP(F1115,Tabelle_Fisse!$B$33:$C$34,2,FALSE)=\"ok\",\"\",1))","v":""},{"$f":"IF(J1115=\"\",\"\",IF(VLOOKUP(CONCATENATE(J1115,\" SI\"),W$7:W$1196,1,FALSE)=CONCATENATE(J1115,\" SI\"),\"\",1))","v":""},null,{"$f":"IF(OR(J1115=\"\",G1115=\"\"),\"\",IF(VLOOKUP(H1115,Tabelle_Fisse!$B$25:$C$29,2,FALSE)=\"ok\",\"\",1))","v":""},{"$nulls":4},""]
[{"$nulls":9},"",{"$f":"IF(J1116=\"\",\"\",IF(VLOOKUP(J1116,Lotti!B$6:B$596,1,FALSE)=J1116,\"\",1))","v":""},null,"",null,{"$f":"IF(J1116=\"\",\"\",IF(VLOOKUP(F1116,Tabelle_Fisse!$B$33:$C$34,2,FALSE)=\"ok\",\"\",1))","v":""},{"$f":"IF(J1116=\"\",\"\",IF(VLOOKUP(CONCATENATE(J1116,\" SI\"),W$7:W$1196,1,FALSE)=CONCATENATE(J1116,\" SI\"),\"\",1))","v":""},null,{"$f":"IF(OR(J1116=\"\",G1116=\"\"),\"\",IF(VLOOKUP(H1116,Tabelle_Fisse!$B$25:$C$29,2,FALSE)=\"ok\",\"\",1))","v":""},{"$nulls":4},""]
[{"$nulls":9},"",{"$f":"IF(J1117=\"\",\"\",IF(VLOOKUP(J1117,Lotti!B$6:B$596,1,FALSE)=J1117,\"\",1))","v":""},null,"",null,{"$f":"IF(J1117=\"\",\"\",IF(VLOOKUP(F1117,Tabelle_Fisse!$B$33:$C$34,2,FALSE)=\"ok\",\"\",1))","v":""},{"$f":"IF(J1117=\"\",\"\",IF(VLOOKUP(CONCATENATE(J1117,\" SI\"),W$7:W$1196,1,FALSE)=CONCATENATE(J1117,\" SI\"),\"\",1))","v":""},null,{"$f":"IF(OR(J1117=\"\",G1117=\"\"),\"\",IF(VLOOKUP(H1117,Tabelle_Fisse!$B$25:$C$29,2,FALSE)=\"ok\",\"\",1))","v":""},{"$nulls":4},""]
[{"$nulls":9},"",{"$f":"IF(J1118=\"\",\"\",IF(VLOOKUP(J1118,Lotti!B$6:B$596,1,FALSE)=J1118,\"\",1))","v":""},null,"",null,{"$f":"IF(J1118=\"\",\"\",IF(VLOOKUP(F1118,Tabelle_Fisse!$B$33:$C$34,2,FALSE)=\"ok\",\"\",1))","v":""},{"$f":"IF(J1118=\"\",\"\",IF(VLOOKUP(CONCATENATE(J1118,\" SI\"),W$7:W$1196,1,FALSE)=CONCATENATE(J1118,\" SI\"),\"\",1))","v":""},null,{"$f":"IF(OR(J1118=\"\",G1118=\"\"),\"\",IF(VLOOKUP(H1118,Tabelle_Fisse!$B$25:$C$29,2,FALSE)=\"ok\",\"\",1))","v":""},{"$nulls":4},""]
[{"$nulls":9},"",{"$f":"IF(J1119=\"\",\"\",IF(VLOOKUP(J1119,Lotti!B$6:B$596,1,FALSE)=J1119,\"\",1))","v":""},null,"",null,{"$f":"IF(J1119=\"\",\"\",IF(VLOOKUP(F1119,Tabelle_Fisse!$B$33:$C$34,2,FALSE)=\"ok\",\"\",1))","v":""},{"$f":"IF(J1119=\"\",\"\",IF(VLOOKUP(CONCATENATE(J1119,\" SI\"),W$7:W$1196,1,FALSE)=CONCATENATE(J1119,\" SI\"),\"\",1))","v":""},null,{"$f":"IF(OR(J1119=\"\",G1119=\"\"),\"\",IF(VLOOKUP(H1119,Tabelle_Fisse!$B$25:$C$29,2,FALSE)=\"ok\",\"\",1))","v":""},{"$nulls":4},""]
[{"$nulls":9},"",{"$f":"IF(J1120=\"\",\"\",IF(VLOOKUP(J1120,Lotti!B$6:B$596,1,FALSE)=J1120,\"\",1))","v":""},null,"",null,{"$f":"IF(J1120=\"\",\"\",IF(VLOOKUP(F1120,Tabelle_Fisse!$B$33:$C$34,2,FALSE)=\"ok\",\"\",1))","v":""},{"$f":"IF(J1120=\"\",\"\",IF(VLOOKUP(CONCATENATE(J1120,\" SI\"),W$7:W$1196,1,FALSE)=CONCATENATE(J1120,\" SI\"),\"\",1))","v":""},null,{"$f":"IF(OR(J1120=\"\",G1120=\"\"),\"\",IF(VLOOKUP(H1120,Tabelle_Fisse!$B$25:$C$29,2,FALSE)=\"ok\",\"\",1))","v":""},{"$nulls":4},""]
[{"$nulls":9},"",{"$f":"IF(J1121=\"\",\"\",IF(VLOOKUP(J1121,Lotti!B$6:B$596,1,FALSE)=J1121,\"\",1))","v":""},null,"",null,{"$f":"IF(J1121=\"\",\"\",IF(VLOOKUP(F1121,Tabelle_Fisse!$B$33:$C$34,2,FALSE)=\"ok\",\"\",1))","v":""},{"$f":"IF(J1121=\"\",\"\",IF(VLOOKUP(CONCATENATE(J1121,\" SI\"),W$7:W$1196,1,FALSE)=CONCATENATE(J1121,\" SI\"),\"\",1))","v":""},null,{"$f":"IF(OR(J1121=\"\",G1121=\"\"),\"\",IF(VLOOKUP(H1121,Tabelle_Fisse!$B$25:$C$29,2,FALSE)=\"ok\",\"\",1))","v":""},{"$nulls":4},""]
[{"$nulls":9},"",{"$f":"IF(J1122=\"\",\"\",IF(VLOOKUP(J1122,Lotti!B$6:B$596,1,FALSE)=J1122,\"\",1))","v":""},null,"",null,{"$f":"IF(J1122=\"\",\"\",IF(VLOOKUP(F1122,Tabelle_Fisse!$B$33:$C$34,2,FALSE)=\"ok\",\"\",1))","v":""},{"$f":"IF(J1122=\"\",\"\",IF(VLOOKUP(CONCATENATE(J1122,\" SI\"),W$7:W$1196,1,FALSE)=CONCATENATE(J1122,\" SI\"),\"\",1))","v":""},null,{"$f":"IF(OR(J1122=\"\",G1122=\"\"),\"\",IF(VLOOKUP(H1122,Tabelle_Fisse!$B$25:$C$29,2,FALSE)=\"ok\",\"\",1))","v":""},{"$nulls":4},""]
[{"$nulls":9},"",{"$f":"IF(J1123=\"\",\"\",IF(VLOOKUP(J1123,Lotti!B$6:B$596,1,FALSE)=J1123,\"\",1))","v":""},null,"",null,{"$f":"IF(J1123=\"\",\"\",IF(VLOOKUP(F1123,Tabelle_Fisse!$B$33:$C$34,2,FALSE)=\"ok\",\"\",1))","v":""},{"$f":"IF(J1123=\"\",\"\",IF(VLOOKUP(CONCATENATE(J1123,\" SI\"),W$7:W$1196,1,FALSE)=CONCATENATE(J1123,\" SI\"),\"\",1))","v":""},null,{"$f":"IF(OR(J1123=\"\",G1123=\"\"),\"\",IF(VLOOKUP(H1123,Tabelle_Fisse!$B$25:$C$29,2,FALSE)=\"ok\",\"\",1))","v":""},{"$nulls":4},""]
[{"$nulls":9},"",{"$f":"IF(J1124=\"\",\"\",IF(VLOOKUP(J1124,Lotti!B$6:B$596,1,FALSE)=J1124,\"\",1))","v":""},null,"",null,{"$f":"IF(J1124=\"\",\"\",IF(VLOOKUP(F1124,Tabelle_Fisse!$B$33:$C$34,2,FALSE)=\"ok\",\"\",1))","v":""},{"$f":"IF(J1124=\"\",\"\",IF(VLOOKUP(CONCATENATE(J1124,\" SI\"),W$7:W$1196,1,FALSE)=CONCATENATE(J1124,\" SI\"),\"\",1))","v":""},null,{"$f":"IF(OR(J1124=\"\",G1124=\"\"),\"\",IF(VLOOKUP(H1124,Tabelle_Fisse!$B$25:$C$29,2,FALSE)=\"ok\",\"\",1))","v":""},{"$nulls":4},""]
[{"$nulls":9},"",{"$f":"IF(J1125=\"\",\"\",IF(VLOOKUP(J1125,Lotti!B$6:B$596,1,FALSE)=J1125,\"\",1))","v":""},null,"",null,{"$f":"IF(J1125=\"\",\"\",IF(VLOOKUP(F1125,Tabelle_Fisse!$B$33:$C$34,2,FALSE)=\"ok\",\"\",1))","v":""},{"$f":"IF(J1125=\"\",\"\",IF(VLOOKUP(CONCATENATE(J1125,\" SI\"),W$7:W$1196,1,FALSE)=CONCATENATE(J1125,\" SI\"),\"\",1))","v":""},null,{"$f":"IF(OR(J1125=\"\",G1125=\"\"),\"\",IF(VLOOKUP(H1125,Tabelle_Fisse!$B$25:$C$29,2,FALSE)=\"ok\",\"\",1))","v":""},{"$nulls":4},""]
[{"$nulls":9},"",{"$f":"IF(J1126=\"\",\"\",IF(VLOOKUP(J1126,Lotti!B$6:B$596,1,FALSE)=J1126,\"\",1))","v":""},null,"",null,{"$f":"IF(J1126=\"\",\"\",IF(VLOOKUP(F1126,Tabelle_Fisse!$B$33:$C$34,2,FALSE)=\"ok\",\"\",1))","v":""},{"$f":"IF(J1126=\"\",\"\",IF(VLOOKUP(CONCATENATE(J1126,\" SI\"),W$7:W$1196,1,FALSE)=CONCATENATE(J1126,\" SI\"),\"\",1))","v":""},null,{"$f":"IF(OR(J1126=\"\",G1126=\"\"),\"\",IF(VLOOKUP(H1126,Tabelle_Fisse!$B$25:$C$29,2,FALSE)=\"ok\",\"\",1))","v":""},{"$nulls":4},""]
[{"$nulls":9},"",{"$f":"IF(J1127=\"\",\"\",IF(VLOOKUP(J1127,Lotti!B$6:B$596,1,FALSE)=J1127,\"\",1))","v":""},null,"",null,{"$f":"IF(J1127=\"\",\"\",IF(VLOOKUP(F1127,Tabelle_Fisse!$B$33:$C$34,2,FALSE)=\"ok\",\"\",1))","v":""},{"$f":"IF(J1127=\"\",\"\",IF(VLOOKUP(CONCATENATE(J1127,\" SI\"),W$7:W$1196,1,FALSE)=CONCATENATE(J1127,\" SI\"),\"\",1))","v":""},null,{"$f":"IF(OR(J1127=\"\",G1127=\"\"),\"\",IF(VLOOKUP(H1127,Tabelle_Fisse!$B$25:$C$29,2,FALSE)=\"ok\",\"\",1))","v":""},{"$nulls":4},""]
[{"$nulls":9},"",{"$f":"IF(J1128=\"\",\"\",IF(VLOOKUP(J1128,Lotti!B$6:B$596,1,FALSE)=J1128,\"\",1))","v":""},null,"",null,{"$f":"IF(J1128=\"\",\"\",IF(VLOOKUP(F1128,Tabelle_Fisse!$B$33:$C$34,2,FALSE)=\"ok\",\"\",1))","v":""},{"$f":"IF(J1128=\"\",\"\",IF(VLOOKUP(CONCATENATE(J1128,\" SI\"),W$7:W$1196,1,FALSE)=CONCATENATE(J1128,\" SI\"),\"\",1))","v":""},null,{"$f":"IF(OR(J1128=\"\",G1128=\"\"),\"\",IF(VLOOKUP(H1128,Tabelle_Fisse!$B$25:$C$29,2,FALSE)=\"ok\",\"\",1))","v":""},{"$nulls":4},""]
[{"$nulls":9},"",{"$f":"IF(J1129=\"\",\"\",IF(VLOOKUP(J1129,Lotti!B$6:B$596,1,FALSE)=J1129,\"\",1))","v":""},null,"",null,{"$f":"IF(J1129=\"\",\"\",IF(VLOOKUP(F1129,Tabelle_Fisse!$B$33:$C$34,2,FALSE)=\"ok\",\"\",1))","v":""},{"$f":"IF(J1129=\"\",\"\",IF(VLOOKUP(CONCATENATE(J1129,\" SI\"),W$7:W$1196,1,FALSE)=CONCATENATE(J1129,\" SI\"),\"\",1))","v":""},null,{"$f":"IF(OR(J1129=\"\",G1129=\"\"),\"\",IF(VLOOKUP(H1129,Tabelle_Fisse!$B$25:$C$29,2,FALSE)=\"ok\",\"\",1))","v":""},{"$nulls":4},""]
[{"$nulls":9},"",{"$f":"IF(J1130=\"\",\"\",IF(VLOOKUP(J1130,Lotti!B$6:B$596,1,FALSE)=J1130,\"\",1))","v":""},null,"",null,{"$f":"IF(J1130=\"\",\"\",IF(VLOOKUP(F1130,Tabelle_Fisse!$B$33:$C$34,2,FALSE)=\"ok\",\"\",1))","v":""},{"$f":"IF(J1130=\"\",\"\",IF(VLOOKUP(CONCATENATE(J1130,\" SI\"),W$7:W$1196,1,FALSE)=CONCATENATE(J1130,\" SI\"),\"\",1))","v":""},null,{"$f":"IF(OR(J1130=\"\",G1130=\"\"),\"\",IF(VLOOKUP(H1130,Tabelle_Fisse!$B$25:$C$29,2,FALSE)=\"ok\",\"\",1))","v":""},{"$nulls":4},""]
[{"$nulls":9},"",{"$f":"IF(J1131=\"\",\"\",IF(VLOOKUP(J1131,Lotti!B$6:B$596,1,FALSE)=J1131,\"\",1))","v":""},null,"",null,{"$f":"IF(J1131=\"\",\"\",IF(VLOOKUP(F1131,Tabelle_Fisse!$B$33:$C$34,2,FALSE)=\"ok\",\"\",1))","v":""},{"$f":"IF(J1131=\"\",\"\",IF(VLOOKUP(CONCATENATE(J1131,\" SI\"),W$7:W$1196,1,FALSE)=CONCATENATE(J1131,\" SI\"),\"\",1))","v":""},null,{"$f":"IF(OR(J1131=\"\",G1131=\"\"),\"\",IF(VLOOKUP(H1131,Tabelle_Fisse!$B$25:$C$29,2,FALSE)=\"ok\",\"\",1))","v":""},{"$nulls":4},""]
[{"$nulls":9},"",{"$f":"IF(J1132=\"\",\"\",IF(VLOOKUP(J1132,Lotti!B$6:B$596,1,FALSE)=J1132,\"\",1))","v":""},null,"",null,{"$f":"IF(J1132=\"\",\"\",IF(VLOOKUP(F1132,Tabelle_Fisse!$B$33:$C$34,2,FALSE)=\"ok\",\"\",1))","v":""},{"$f":"IF(J1132=\"\",\"\",IF(VLOOKUP(CONCATENATE(J1132,\" SI\"),W$7:W$1196,1,FALSE)=CONCATENATE(J1132,\" SI\"),\"\",1))","v":""},null,{"$f":"IF(OR(J1132=\"\",G1132=\"\"),\"\",IF(VLOOKUP(H1132,Tabelle_Fisse!$B$25:$C$29,2,FALSE)=\"ok\",\"\",1))","v":""},{"$nulls":4},""]
[{"$nulls":9},"",{"$f":"IF(J1133=\"\",\"\",IF(VLOOKUP(J1133,Lotti!B$6:B$596,1,FALSE)=J1133,\"\",1))","v":""},null,"",null,{"$f":"IF(J1133=\"\",\"\",IF(VLOOKUP(F1133,Tabelle_Fisse!$B$33:$C$34,2,FALSE)=\"ok\",\"\",1))","v":""},{"$f":"IF(J1133=\"\",\"\",IF(VLOOKUP(CONCATENATE(J1133,\" SI\"),W$7:W$1196,1,FALSE)=CONCATENATE(J1133,\" SI\"),\"\",1))","v":""},null,{"$f":"IF(OR(J1133=\"\",G1133=\"\"),\"\",IF(VLOOKUP(H1133,Tabelle_Fisse!$B$25:$C$29,2,FALSE)=\"ok\",\"\",1))","v":""},{"$nulls":4},""]
[{"$nulls":9},"",{"$f":"IF(J1134=\"\",\"\",IF(VLOOKUP(J1134,Lotti!B$6:B$596,1,FALSE)=J1134,\"\",1))","v":""},null,"",null,{"$f":"IF(J1134=\"\",\"\",IF(VLOOKUP(F1134,Tabelle_Fisse!$B$33:$C$34,2,FALSE)=\"ok\",\"\",1))","v":""},{"$f":"IF(J1134=\"\",\"\",IF(VLOOKUP(CONCATENATE(J1134,\" SI\"),W$7:W$1196,1,FALSE)=CONCATENATE(J1134,\" SI\"),\"\",1))","v":""},null,{"$f":"IF(OR(J1134=\"\",G1134=\"\"),\"\",IF(VLOOKUP(H1134,Tabelle_Fisse!$B$25:$C$29,2,FALSE)=\"ok\",\"\",1))","v":""},{"$nulls":4},""]
[{"$nulls":9},"",{"$f":"IF(J1135=\"\",\"\",IF(VLOOKUP(J1135,Lotti!B$6:B$596,1,FALSE)=J1135,\"\",1))","v":""},null,"",null,{"$f":"IF(J1135=\"\",\"\",IF(VLOOKUP(F1135,Tabelle_Fisse!$B$33:$C$34,2,FALSE)=\"ok\",\"\",1))","v":""},{"$f":"IF(J1135=\"\",\"\",IF(VLOOKUP(CONCATENATE(J1135,\" SI\"),W$7:W$1196,1,FALSE)=CONCATENATE(J1135,\" SI\"),\"\",1))","v":""},null,{"$f":"IF(OR(J1135=\"\",G1135=\"\"),\"\",IF(VLOOKUP(H1135,Tabelle_Fisse!$B$25:$C$29,2,FALSE)=\"ok\",\"\",1))","v":""},{"$nulls":4},""]
[{"$nulls":9},"",{"$f":"IF(J1136=\"\",\"\",IF(VLOOKUP(J1136,Lotti!B$6:B$596,1,FALSE)=J1136,\"\",1))","v":""},null,"",null,{"$f":"IF(J1136=\"\",\"\",IF(VLOOKUP(F1136,Tabelle_Fisse!$B$33:$C$34,2,FALSE)=\"ok\",\"\",1))","v":""},{"$f":"IF(J1136=\"\",\"\",IF(VLOOKUP(CONCATENATE(J1136,\" SI\"),W$7:W$1196,1,FALSE)=CONCATENATE(J1136,\" SI\"),\"\",1))","v":""},null,{"$f":"IF(OR(J1136=\"\",G1136=\"\"),\"\",IF(VLOOKUP(H1136,Tabelle_Fisse!$B$25:$C$29,2,FALSE)=\"ok\",\"\",1))","v":""},{"$nulls":4},""]
[{"$nulls":9},"",{"$f":"IF(J1137=\"\",\"\",IF(VLOOKUP(J1137,Lotti!B$6:B$596,1,FALSE)=J1137,\"\",1))","v":""},null,"",null,{"$f":"IF(J1137=\"\",\"\",IF(VLOOKUP(F1137,Tabelle_Fisse!$B$33:$C$34,2,FALSE)=\"ok\",\"\",1))","v":""},{"$f":"IF(J1137=\"\",\"\",IF(VLOOKUP(CONCATENATE(J1137,\" SI\"),W$7:W$1196,1,FALSE)=CONCATENATE(J1137,\" SI\"),\"\",1))","v":""},null,{"$f":"IF(OR(J1137=\"\",G1137=\"\"),\"\",IF(VLOOKUP(H1137,Tabelle_Fisse!$B$25:$C$29,2,FALSE)=\"ok\",\"\",1))","v":""},{"$nulls":4},""]
[{"$nulls":9},"",{"$f":"IF(J1138=\"\",\"\",IF(VLOOKUP(J1138,Lotti!B$6:B$596,1,FALSE)=J1138,\"\",1))","v":""},null,"",null,{"$f":"IF(J1138=\"\",\"\",IF(VLOOKUP(F1138,Tabelle_Fisse!$B$33:$C$34,2,FALSE)=\"ok\",\"\",1))","v":""},{"$f":"IF(J1138=\"\",\"\",IF(VLOOKUP(CONCATENATE(J1138,\" SI\"),W$7:W$1196,1,FALSE)=CONCATENATE(J1138,\" SI\"),\"\",1))","v":""},null,{"$f":"IF(OR(J1138=\"\",G1138=\"\"),\"\",IF(VLOOKUP(H1138,Tabelle_Fisse!$B$25:$C$29,2,FALSE)=\"ok\",\"\",1))","v":""},{"$nulls":4},""]
[{"$nulls":9},"",{"$f":"IF(J1139=\"\",\"\",IF(VLOOKUP(J1139,Lotti!B$6:B$596,1,FALSE)=J1139,\"\",1))","v":""},null,"",null,{"$f":"IF(J1139=\"\",\"\",IF(VLOOKUP(F1139,Tabelle_Fisse!$B$33:$C$34,2,FALSE)=\"ok\",\"\",1))","v":""},{"$f":"IF(J1139=\"\",\"\",IF(VLOOKUP(CONCATENATE(J1139,\" SI\"),W$7:W$1196,1,FALSE)=CONCATENATE(J1139,\" SI\"),\"\",1))","v":""},null,{"$f":"IF(OR(J1139=\"\",G1139=\"\"),\"\",IF(VLOOKUP(H1139,Tabelle_Fisse!$B$25:$C$29,2,FALSE)=\"ok\",\"\",1))","v":""},{"$nulls":4},""]
[{"$nulls":9},"",{"$f":"IF(J1140=\"\",\"\",IF(VLOOKUP(J1140,Lotti!B$6:B$596,1,FALSE)=J1140,\"\",1))","v":""},null,"",null,{"$f":"IF(J1140=\"\",\"\",IF(VLOOKUP(F1140,Tabelle_Fisse!$B$33:$C$34,2,FALSE)=\"ok\",\"\",1))","v":""},{"$f":"IF(J1140=\"\",\"\",IF(VLOOKUP(CONCATENATE(J1140,\" SI\"),W$7:W$1196,1,FALSE)=CONCATENATE(J1140,\" SI\"),\"\",1))","v":""},null,{"$f":"IF(OR(J1140=\"\",G1140=\"\"),\"\",IF(VLOOKUP(H1140,Tabelle_Fisse!$B$25:$C$29,2,FALSE)=\"ok\",\"\",1))","v":""},{"$nulls":4},""]
[{"$nulls":9},"",{"$f":"IF(J1141=\"\",\"\",IF(VLOOKUP(J1141,Lotti!B$6:B$596,1,FALSE)=J1141,\"\",1))","v":""},null,"",null,{"$f":"IF(J1141=\"\",\"\",IF(VLOOKUP(F1141,Tabelle_Fisse!$B$33:$C$34,2,FALSE)=\"ok\",\"\",1))","v":""},{"$f":"IF(J1141=\"\",\"\",IF(VLOOKUP(CONCATENATE(J1141,\" SI\"),W$7:W$1196,1,FALSE)=CONCATENATE(J1141,\" SI\"),\"\",1))","v":""},null,{"$f":"IF(OR(J1141=\"\",G1141=\"\"),\"\",IF(VLOOKUP(H1141,Tabelle_Fisse!$B$25:$C$29,2,FALSE)=\"ok\",\"\",1))","v":""},{"$nulls":4},""]
[{"$nulls":9},"",{"$f":"IF(J1142=\"\",\"\",IF(VLOOKUP(J1142,Lotti!B$6:B$596,1,FALSE)=J1142,\"\",1))","v":""},null,"",null,{"$f":"IF(J1142=\"\",\"\",IF(VLOOKUP(F1142,Tabelle_Fisse!$B$33:$C$34,2,FALSE)=\"ok\",\"\",1))","v":""},{"$f":"IF(J1142=\"\",\"\",IF(VLOOKUP(CONCATENATE(J1142,\" SI\"),W$7:W$1196,1,FALSE)=CONCATENATE(J1142,\" SI\"),\"\",1))","v":""},null,{"$f":"IF(OR(J1142=\"\",G1142=\"\"),\"\",IF(VLOOKUP(H1142,Tabelle_Fisse!$B$25:$C$29,2,FALSE)=\"ok\",\"\",1))","v":""},{"$nulls":4},""]
[{"$nulls":9},"",{"$f":"IF(J1143=\"\",\"\",IF(VLOOKUP(J1143,Lotti!B$6:B$596,1,FALSE)=J1143,\"\",1))","v":""},null,"",null,{"$f":"IF(J1143=\"\",\"\",IF(VLOOKUP(F1143,Tabelle_Fisse!$B$33:$C$34,2,FALSE)=\"ok\",\"\",1))","v":""},{"$f":"IF(J1143=\"\",\"\",IF(VLOOKUP(CONCATENATE(J1143,\" SI\"),W$7:W$1196,1,FALSE)=CONCATENATE(J1143,\" SI\"),\"\",1))","v":""},null,{"$f":"IF(OR(J1143=\"\",G1143=\"\"),\"\",IF(VLOOKUP(H1143,Tabelle_Fisse!$B$25:$C$29,2,FALSE)=\"ok\",\"\",1))","v":""},{"$nulls":4},""]
[{"$nulls":9},"",{"$f":"IF(J1144=\"\",\"\",IF(VLOOKUP(J1144,Lotti!B$6:B$596,1,FALSE)=J1144,\"\",1))","v":""},null,"",null,{"$f":"IF(J1144=\"\",\"\",IF(VLOOKUP(F1144,Tabelle_Fisse!$B$33:$C$34,2,FALSE)=\"ok\",\"\",1))","v":""},{"$f":"IF(J1144=\"\",\"\",IF(VLOOKUP(CONCATENATE(J1144,\" SI\"),W$7:W$1196,1,FALSE)=CONCATENATE(J1144,\" SI\"),\"\",1))","v":""},null,{"$f":"IF(OR(J1144=\"\",G1144=\"\"),\"\",IF(VLOOKUP(H1144,Tabelle_Fisse!$B$25:$C$29,2,FALSE)=\"ok\",\"\",1))","v":""},{"$nulls":4},""]
[{"$nulls":9},"",{"$f":"IF(J1145=\"\",\"\",IF(VLOOKUP(J1145,Lotti!B$6:B$596,1,FALSE)=J1145,\"\",1))","v":""},null,"",null,{"$f":"IF(J1145=\"\",\"\",IF(VLOOKUP(F1145,Tabelle_Fisse!$B$33:$C$34,2,FALSE)=\"ok\",\"\",1))","v":""},{"$f":"IF(J1145=\"\",\"\",IF(VLOOKUP(CONCATENATE(J1145,\" SI\"),W$7:W$1196,1,FALSE)=CONCATENATE(J1145,\" SI\"),\"\",1))","v":""},null,{"$f":"IF(OR(J1145=\"\",G1145=\"\"),\"\",IF(VLOOKUP(H1145,Tabelle_Fisse!$B$25:$C$29,2,FALSE)=\"ok\",\"\",1))","v":""},{"$nulls":4},""]
[{"$nulls":9},"",{"$f":"IF(J1146=\"\",\"\",IF(VLOOKUP(J1146,Lotti!B$6:B$596,1,FALSE)=J1146,\"\",1))","v":""},null,"",null,{"$f":"IF(J1146=\"\",\"\",IF(VLOOKUP(F1146,Tabelle_Fisse!$B$33:$C$34,2,FALSE)=\"ok\",\"\",1))","v":""},{"$f":"IF(J1146=\"\",\"\",IF(VLOOKUP(CONCATENATE(J1146,\" SI\"),W$7:W$1196,1,FALSE)=CONCATENATE(J1146,\" SI\"),\"\",1))","v":""},null,{"$f":"IF(OR(J1146=\"\",G1146=\"\"),\"\",IF(VLOOKUP(H1146,Tabelle_Fisse!$B$25:$C$29,2,FALSE)=\"ok\",\"\",1))","v":""},{"$nulls":4},""]
[{"$nulls":9},"",{"$f":"IF(J1147=\"\",\"\",IF(VLOOKUP(J1147,Lotti!B$6:B$596,1,FALSE)=J1147,\"\",1))","v":""},null,"",null,{"$f":"IF(J1147=\"\",\"\",IF(VLOOKUP(F1147,Tabelle_Fisse!$B$33:$C$34,2,FALSE)=\"ok\",\"\",1))","v":""},{"$f":"IF(J1147=\"\",\"\",IF(VLOOKUP(CONCATENATE(J1147,\" SI\"),W$7:W$1196,1,FALSE)=CONCATENATE(J1147,\" SI\"),\"\",1))","v":""},null,{"$f":"IF(OR(J1147=\"\",G1147=\"\"),\"\",IF(VLOOKUP(H1147,Tabelle_Fisse!$B$25:$C$29,2,FALSE)=\"ok\",\"\",1))","v":""},{"$nulls":4},""]
[{"$nulls":9},"",{"$f":"IF(J1148=\"\",\"\",IF(VLOOKUP(J1148,Lotti!B$6:B$596,1,FALSE)=J1148,\"\",1))","v":""},null,"",null,{"$f":"IF(J1148=\"\",\"\",IF(VLOOKUP(F1148,Tabelle_Fisse!$B$33:$C$34,2,FALSE)=\"ok\",\"\",1))","v":""},{"$f":"IF(J1148=\"\",\"\",IF(VLOOKUP(CONCATENATE(J1148,\" SI\"),W$7:W$1196,1,FALSE)=CONCATENATE(J1148,\" SI\"),\"\",1))","v":""},null,{"$f":"IF(OR(J1148=\"\",G1148=\"\"),\"\",IF(VLOOKUP(H1148,Tabelle_Fisse!$B$25:$C$29,2,FALSE)=\"ok\",\"\",1))","v":""},{"$nulls":4},""]
[{"$nulls":9},"",{"$f":"IF(J1149=\"\",\"\",IF(VLOOKUP(J1149,Lotti!B$6:B$596,1,FALSE)=J1149,\"\",1))","v":""},null,"",null,{"$f":"IF(J1149=\"\",\"\",IF(VLOOKUP(F1149,Tabelle_Fisse!$B$33:$C$34,2,FALSE)=\"ok\",\"\",1))","v":""},{"$f":"IF(J1149=\"\",\"\",IF(VLOOKUP(CONCATENATE(J1149,\" SI\"),W$7:W$1196,1,FALSE)=CONCATENATE(J1149,\" SI\"),\"\",1))","v":""},null,{"$f":"IF(OR(J1149=\"\",G1149=\"\"),\"\",IF(VLOOKUP(H1149,Tabelle_Fisse!$B$25:$C$29,2,FALSE)=\"ok\",\"\",1))","v":""},{"$nulls":4},""]
[{"$nulls":9},"",{"$f":"IF(J1150=\"\",\"\",IF(VLOOKUP(J1150,Lotti!B$6:B$596,1,FALSE)=J1150,\"\",1))","v":""},null,"",null,{"$f":"IF(J1150=\"\",\"\",IF(VLOOKUP(F1150,Tabelle_Fisse!$B$33:$C$34,2,FALSE)=\"ok\",\"\",1))","v":""},{"$f":"IF(J1150=\"\",\"\",IF(VLOOKUP(CONCATENATE(J1150,\" SI\"),W$7:W$1196,1,FALSE)=CONCATENATE(J1150,\" SI\"),\"\",1))","v":""},null,{"$f":"IF(OR(J1150=\"\",G1150=\"\"),\"\",IF(VLOOKUP(H1150,Tabelle_Fisse!$B$25:$C$29,2,FALSE)=\"ok\",\"\",1))","v":""},{"$nulls":4},""]
[{"$nulls":9},"",{"$f":"IF(J1151=\"\",\"\",IF(VLOOKUP(J1151,Lotti!B$6:B$596,1,FALSE)=J1151,\"\",1))","v":""},null,"",null,{"$f":"IF(J1151=\"\",\"\",IF(VLOOKUP(F1151,Tabelle_Fisse!$B$33:$C$34,2,FALSE)=\"ok\",\"\",1))","v":""},{"$f":"IF(J1151=\"\",\"\",IF(VLOOKUP(CONCATENATE(J1151,\" SI\"),W$7:W$1196,1,FALSE)=CONCATENATE(J1151,\" SI\"),\"\",1))","v":""},null,{"$f":"IF(OR(J1151=\"\",G1151=\"\"),\"\",IF(VLOOKUP(H1151,Tabelle_Fisse!$B$25:$C$29,2,FALSE)=\"ok\",\"\",1))","v":""},{"$nulls":4},""]
[{"$nulls":9},"",{"$f":"IF(J1152=\"\",\"\",IF(VLOOKUP(J1152,Lotti!B$6:B$596,1,FALSE)=J1152,\"\",1))","v":""},null,"",null,{"$f":"IF(J1152=\"\",\"\",IF(VLOOKUP(F1152,Tabelle_Fisse!$B$33:$C$34,2,FALSE)=\"ok\",\"\",1))","v":""},{"$f":"IF(J1152=\"\",\"\",IF(VLOOKUP(CONCATENATE(J1152,\" SI\"),W$7:W$1196,1,FALSE)=CONCATENATE(J1152,\" SI\"),\"\",1))","v":""},null,{"$f":"IF(OR(J1152=\"\",G1152=\"\"),\"\",IF(VLOOKUP(H1152,Tabelle_Fisse!$B$25:$C$29,2,FALSE)=\"ok\",\"\",1))","v":""},{"$nulls":4},""]
[{"$nulls":9},"",{"$f":"IF(J1153=\"\",\"\",IF(VLOOKUP(J1153,Lotti!B$6:B$596,1,FALSE)=J1153,\"\",1))","v":""},null,"",null,{"$f":"IF(J1153=\"\",\"\",IF(VLOOKUP(F1153,Tabelle_Fisse!$B$33:$C$34,2,FALSE)=\"ok\",\"\",1))","v":""},{"$f":"IF(J1153=\"\",\"\",IF(VLOOKUP(CONCATENATE(J1153,\" SI\"),W$7:W$1196,1,FALSE)=CONCATENATE(J1153,\" SI\"),\"\",1))","v":""},null,{"$f":"IF(OR(J1153=\"\",G1153=\"\"),\"\",IF(VLOOKUP(H1153,Tabelle_Fisse!$B$25:$C$29,2,FALSE)=\"ok\",\"\",1))","v":""},{"$nulls":4},""]
[{"$nulls":9},"",{"$f":"IF(J1154=\"\",\"\",IF(VLOOKUP(J1154,Lotti!B$6:B$596,1,FALSE)=J1154,\"\",1))","v":""},null,"",null,{"$f":"IF(J1154=\"\",\"\",IF(VLOOKUP(F1154,Tabelle_Fisse!$B$33:$C$34,2,FALSE)=\"ok\",\"\",1))","v":""},{"$f":"IF(J1154=\"\",\"\",IF(VLOOKUP(CONCATENATE(J1154,\" SI\"),W$7:W$1196,1,FALSE)=CONCATENATE(J1154,\" SI\"),\"\",1))","v":""},null,{"$f":"IF(OR(J1154=\"\",G1154=\"\"),\"\",IF(VLOOKUP(H1154,Tabelle_Fisse!$B$25:$C$29,2,FALSE)=\"ok\",\"\",1))","v":""},{"$nulls":4},""]
[{"$nulls":9},"",{"$f":"IF(J1155=\"\",\"\",IF(VLOOKUP(J1155,Lotti!B$6:B$596,1,FALSE)=J1155,\"\",1))","v":""},null,"",null,{"$f":"IF(J1155=\"\",\"\",IF(VLOOKUP(F1155,Tabelle_Fisse!$B$33:$C$34,2,FALSE)=\"ok\",\"\",1))","v":""},{"$f":"IF(J1155=\"\",\"\",IF(VLOOKUP(CONCATENATE(J1155,\" SI\"),W$7:W$1196,1,FALSE)=CONCATENATE(J1155,\" SI\"),\"\",1))","v":""},null,{"$f":"IF(OR(J1155=\"\",G1155=\"\"),\"\",IF(VLOOKUP(H1155,Tabelle_Fisse!$B$25:$C$29,2,FALSE)=\"ok\",\"\",1))","v":""},{"$nulls":4},""]
[{"$nulls":9},{"$f":"TRIM(B1156)","v":""},{"$f":"IF(J1156=\"\",\"\",IF(VLOOKUP(J1156,Lotti!B$6:B$596,1,FALSE)=J1156,\"\",1))","v":""},null,{"$f":"IF(J1156=\"\",\"\",IF(OR(AND(E1156=\"\",LEN(D1156)<>11,LEN(D1156)<>16),AND(D1156=\"\",E1156=\"\"),AND(D1156<>\"\",E1156<>\"\")),1,\"\"))","v":""},null,{"$f":"IF(J1156=\"\",\"\",IF(VLOOKUP(F1156,Tabelle_Fisse!$B$33:$C$34,2,FALSE)=\"ok\",\"\",1))","v":""},{"$f":"IF(J1156=\"\",\"\",IF(VLOOKUP(CONCATENATE(J1156,\" SI\"),W$7:W$1196,1,FALSE)=CONCATENATE(J1156,\" SI\"),\"\",1))","v":""},null,{"$f":"IF(OR(J1156=\"\",G1156=\"\"),\"\",IF(VLOOKUP(H1156,Tabelle_Fisse!$B$25:$C$29,2,FALSE)=\"ok\",\"\",1))","v":""},{"$nulls":4},{"$f":"IF(J1156=\"\",\"\",CONCATENATE(J1156,\" \",F1156))","v":""}]
[{"$nulls":9},"",{"$f":"IF(J1157=\"\",\"\",IF(VLOOKUP(J1157,Lotti!B$6:B$596,1,FALSE)=J1157,\"\",1))","v":""},null,"",null,{"$f":"IF(J1157=\"\",\"\",IF(VLOOKUP(F1157,Tabelle_Fisse!$B$33:$C$34,2,FALSE)=\"ok\",\"\",1))","v":""},{"$f":"IF(J1157=\"\",\"\",IF(VLOOKUP(CONCATENATE(J1157,\" SI\"),W$7:W$1196,1,FALSE)=CONCATENATE(J1157,\" SI\"),\"\",1))","v":""},null,{"$f":"IF(OR(J1157=\"\",G1157=\"\"),\"\",IF(VLOOKUP(H1157,Tabelle_Fisse!$B$25:$C$29,2,FALSE)=\"ok\",\"\",1))","v":""},{"$nulls":4},""]
[{"$nulls":9},"",{"$f":"IF(J1158=\"\",\"\",IF(VLOOKUP(J1158,Lotti!B$6:B$596,1,FALSE)=J1158,\"\",1))","v":""},null,"",null,{"$f":"IF(J1158=\"\",\"\",IF(VLOOKUP(F1158,Tabelle_Fisse!$B$33:$C$34,2,FALSE)=\"ok\",\"\",1))","v":""},{"$f":"IF(J1158=\"\",\"\",IF(VLOOKUP(CONCATENATE(J1158,\" SI\"),W$7:W$1196,1,FALSE)=CONCATENATE(J1158,\" SI\"),\"\",1))","v":""},null,{"$f":"IF(OR(J1158=\"\",G1158=\"\"),\"\",IF(VLOOKUP(H1158,Tabelle_Fisse!$B$25:$C$29,2,FALSE)=\"ok\",\"\",1))","v":""},{"$nulls":4},""]
[{"$nulls":9},"",{"$f":"IF(J1159=\"\",\"\",IF(VLOOKUP(J1159,Lotti!B$6:B$596,1,FALSE)=J1159,\"\",1))","v":""},null,"",null,{"$f":"IF(J1159=\"\",\"\",IF(VLOOKUP(F1159,Tabelle_Fisse!$B$33:$C$34,2,FALSE)=\"ok\",\"\",1))","v":""},{"$f":"IF(J1159=\"\",\"\",IF(VLOOKUP(CONCATENATE(J1159,\" SI\"),W$7:W$1196,1,FALSE)=CONCATENATE(J1159,\" SI\"),\"\",1))","v":""},null,{"$f":"IF(OR(J1159=\"\",G1159=\"\"),\"\",IF(VLOOKUP(H1159,Tabelle_Fisse!$B$25:$C$29,2,FALSE)=\"ok\",\"\",1))","v":""},{"$nulls":4},""]
[{"$nulls":9},"",{"$f":"IF(J1160=\"\",\"\",IF(VLOOKUP(J1160,Lotti!B$6:B$596,1,FALSE)=J1160,\"\",1))","v":""},null,"",null,{"$f":"IF(J1160=\"\",\"\",IF(VLOOKUP(F1160,Tabelle_Fisse!$B$33:$C$34,2,FALSE)=\"ok\",\"\",1))","v":""},{"$f":"IF(J1160=\"\",\"\",IF(VLOOKUP(CONCATENATE(J1160,\" SI\"),W$7:W$1196,1,FALSE)=CONCATENATE(J1160,\" SI\"),\"\",1))","v":""},null,{"$f":"IF(OR(J1160=\"\",G1160=\"\"),\"\",IF(VLOOKUP(H1160,Tabelle_Fisse!$B$25:$C$29,2,FALSE)=\"ok\",\"\",1))","v":""},{"$nulls":4},""]
[{"$nulls":9},"",{"$f":"IF(J1161=\"\",\"\",IF(VLOOKUP(J1161,Lotti!B$6:B$596,1,FALSE)=J1161,\"\",1))","v":""},null,"",null,{"$f":"IF(J1161=\"\",\"\",IF(VLOOKUP(F1161,Tabelle_Fisse!$B$33:$C$34,2,FALSE)=\"ok\",\"\",1))","v":""},{"$f":"IF(J1161=\"\",\"\",IF(VLOOKUP(CONCATENATE(J1161,\" SI\"),W$7:W$1196,1,FALSE)=CONCATENATE(J1161,\" SI\"),\"\",1))","v":""},null,{"$f":"IF(OR(J1161=\"\",G1161=\"\"),\"\",IF(VLOOKUP(H1161,Tabelle_Fisse!$B$25:$C$29,2,FALSE)=\"ok\",\"\",1))","v":""},{"$nulls":4},""]
[{"$nulls":9},"",{"$f":"IF(J1162=\"\",\"\",IF(VLOOKUP(J1162,Lotti!B$6:B$596,1,FALSE)=J1162,\"\",1))","v":""},null,"",null,{"$f":"IF(J1162=\"\",\"\",IF(VLOOKUP(F1162,Tabelle_Fisse!$B$33:$C$34,2,FALSE)=\"ok\",\"\",1))","v":""},{"$f":"IF(J1162=\"\",\"\",IF(VLOOKUP(CONCATENATE(J1162,\" SI\"),W$7:W$1196,1,FALSE)=CONCATENATE(J1162,\" SI\"),\"\",1))","v":""},null,{"$f":"IF(OR(J1162=\"\",G1162=\"\"),\"\",IF(VLOOKUP(H1162,Tabelle_Fisse!$B$25:$C$29,2,FALSE)=\"ok\",\"\",1))","v":""},{"$nulls":4},""]
[{"$nulls":9},"",{"$f":"IF(J1163=\"\",\"\",IF(VLOOKUP(J1163,Lotti!B$6:B$596,1,FALSE)=J1163,\"\",1))","v":""},null,"",null,{"$f":"IF(J1163=\"\",\"\",IF(VLOOKUP(F1163,Tabelle_Fisse!$B$33:$C$34,2,FALSE)=\"ok\",\"\",1))","v":""},{"$f":"IF(J1163=\"\",\"\",IF(VLOOKUP(CONCATENATE(J1163,\" SI\"),W$7:W$1196,1,FALSE)=CONCATENATE(J1163,\" SI\"),\"\",1))","v":""},null,{"$f":"IF(OR(J1163=\"\",G1163=\"\"),\"\",IF(VLOOKUP(H1163,Tabelle_Fisse!$B$25:$C$29,2,FALSE)=\"ok\",\"\",1))","v":""},{"$nulls":4},""]
[{"$nulls":9},"",{"$f":"IF(J1164=\"\",\"\",IF(VLOOKUP(J1164,Lotti!B$6:B$596,1,FALSE)=J1164,\"\",1))","v":""},null,"",null,{"$f":"IF(J1164=\"\",\"\",IF(VLOOKUP(F1164,Tabelle_Fisse!$B$33:$C$34,2,FALSE)=\"ok\",\"\",1))","v":""},{"$f":"IF(J1164=\"\",\"\",IF(VLOOKUP(CONCATENATE(J1164,\" SI\"),W$7:W$1196,1,FALSE)=CONCATENATE(J1164,\" SI\"),\"\",1))","v":""},null,{"$f":"IF(OR(J1164=\"\",G1164=\"\"),\"\",IF(VLOOKUP(H1164,Tabelle_Fisse!$B$25:$C$29,2,FALSE)=\"ok\",\"\",1))","v":""},{"$nulls":4},""]
[{"$nulls":9},"",{"$f":"IF(J1165=\"\",\"\",IF(VLOOKUP(J1165,Lotti!B$6:B$596,1,FALSE)=J1165,\"\",1))","v":""},null,"",null,{"$f":"IF(J1165=\"\",\"\",IF(VLOOKUP(F1165,Tabelle_Fisse!$B$33:$C$34,2,FALSE)=\"ok\",\"\",1))","v":""},{"$f":"IF(J1165=\"\",\"\",IF(VLOOKUP(CONCATENATE(J1165,\" SI\"),W$7:W$1196,1,FALSE)=CONCATENATE(J1165,\" SI\"),\"\",1))","v":""},null,{"$f":"IF(OR(J1165=\"\",G1165=\"\"),\"\",IF(VLOOKUP(H1165,Tabelle_Fisse!$B$25:$C$29,2,FALSE)=\"ok\",\"\",1))","v":""},{"$nulls":4},""]
[{"$nulls":9},"",{"$f":"IF(J1166=\"\",\"\",IF(VLOOKUP(J1166,Lotti!B$6:B$596,1,FALSE)=J1166,\"\",1))","v":""},null,"",null,{"$f":"IF(J1166=\"\",\"\",IF(VLOOKUP(F1166,Tabelle_Fisse!$B$33:$C$34,2,FALSE)=\"ok\",\"\",1))","v":""},{"$f":"IF(J1166=\"\",\"\",IF(VLOOKUP(CONCATENATE(J1166,\" SI\"),W$7:W$1196,1,FALSE)=CONCATENATE(J1166,\" SI\"),\"\",1))","v":""},null,{"$f":"IF(OR(J1166=\"\",G1166=\"\"),\"\",IF(VLOOKUP(H1166,Tabelle_Fisse!$B$25:$C$29,2,FALSE)=\"ok\",\"\",1))","v":""},{"$nulls":4},""]
[{"$nulls":9},"",{"$f":"IF(J1167=\"\",\"\",IF(VLOOKUP(J1167,Lotti!B$6:B$596,1,FALSE)=J1167,\"\",1))","v":""},null,"",null,{"$f":"IF(J1167=\"\",\"\",IF(VLOOKUP(F1167,Tabelle_Fisse!$B$33:$C$34,2,FALSE)=\"ok\",\"\",1))","v":""},{"$f":"IF(J1167=\"\",\"\",IF(VLOOKUP(CONCATENATE(J1167,\" SI\"),W$7:W$1196,1,FALSE)=CONCATENATE(J1167,\" SI\"),\"\",1))","v":""},null,{"$f":"IF(OR(J1167=\"\",G1167=\"\"),\"\",IF(VLOOKUP(H1167,Tabelle_Fisse!$B$25:$C$29,2,FALSE)=\"ok\",\"\",1))","v":""},{"$nulls":4},""]
[{"$nulls":9},"",{"$f":"IF(J1168=\"\",\"\",IF(VLOOKUP(J1168,Lotti!B$6:B$596,1,FALSE)=J1168,\"\",1))","v":""},null,"",null,{"$f":"IF(J1168=\"\",\"\",IF(VLOOKUP(F1168,Tabelle_Fisse!$B$33:$C$34,2,FALSE)=\"ok\",\"\",1))","v":""},{"$f":"IF(J1168=\"\",\"\",IF(VLOOKUP(CONCATENATE(J1168,\" SI\"),W$7:W$1196,1,FALSE)=CONCATENATE(J1168,\" SI\"),\"\",1))","v":""},null,{"$f":"IF(OR(J1168=\"\",G1168=\"\"),\"\",IF(VLOOKUP(H1168,Tabelle_Fisse!$B$25:$C$29,2,FALSE)=\"ok\",\"\",1))","v":""},{"$nulls":4},""]
[{"$nulls":9},"",{"$f":"IF(J1169=\"\",\"\",IF(VLOOKUP(J1169,Lotti!B$6:B$596,1,FALSE)=J1169,\"\",1))","v":""},null,"",null,{"$f":"IF(J1169=\"\",\"\",IF(VLOOKUP(F1169,Tabelle_Fisse!$B$33:$C$34,2,FALSE)=\"ok\",\"\",1))","v":""},{"$f":"IF(J1169=\"\",\"\",IF(VLOOKUP(CONCATENATE(J1169,\" SI\"),W$7:W$1196,1,FALSE)=CONCATENATE(J1169,\" SI\"),\"\",1))","v":""},null,{"$f":"IF(OR(J1169=\"\",G1169=\"\"),\"\",IF(VLOOKUP(H1169,Tabelle_Fisse!$B$25:$C$29,2,FALSE)=\"ok\",\"\",1))","v":""},{"$nulls":4},""]
[{"$nulls":9},"",{"$f":"IF(J1170=\"\",\"\",IF(VLOOKUP(J1170,Lotti!B$6:B$596,1,FALSE)=J1170,\"\",1))","v":""},null,"",null,{"$f":"IF(J1170=\"\",\"\",IF(VLOOKUP(F1170,Tabelle_Fisse!$B$33:$C$34,2,FALSE)=\"ok\",\"\",1))","v":""},{"$f":"IF(J1170=\"\",\"\",IF(VLOOKUP(CONCATENATE(J1170,\" SI\"),W$7:W$1196,1,FALSE)=CONCATENATE(J1170,\" SI\"),\"\",1))","v":""},null,{"$f":"IF(OR(J1170=\"\",G1170=\"\"),\"\",IF(VLOOKUP(H1170,Tabelle_Fisse!$B$25:$C$29,2,FALSE)=\"ok\",\"\",1))","v":""},{"$nulls":4},""]
[{"$nulls":9},"",{"$f":"IF(J1171=\"\",\"\",IF(VLOOKUP(J1171,Lotti!B$6:B$596,1,FALSE)=J1171,\"\",1))","v":""},null,"",null,{"$f":"IF(J1171=\"\",\"\",IF(VLOOKUP(F1171,Tabelle_Fisse!$B$33:$C$34,2,FALSE)=\"ok\",\"\",1))","v":""},{"$f":"IF(J1171=\"\",\"\",IF(VLOOKUP(CONCATENATE(J1171,\" SI\"),W$7:W$1196,1,FALSE)=CONCATENATE(J1171,\" SI\"),\"\",1))","v":""},null,{"$f":"IF(OR(J1171=\"\",G1171=\"\"),\"\",IF(VLOOKUP(H1171,Tabelle_Fisse!$B$25:$C$29,2,FALSE)=\"ok\",\"\",1))","v":""},{"$nulls":4},""]
[{"$nulls":9},"",{"$f":"IF(J1172=\"\",\"\",IF(VLOOKUP(J1172,Lotti!B$6:B$596,1,FALSE)=J1172,\"\",1))","v":""},null,"",null,{"$f":"IF(J1172=\"\",\"\",IF(VLOOKUP(F1172,Tabelle_Fisse!$B$33:$C$34,2,FALSE)=\"ok\",\"\",1))","v":""},{"$f":"IF(J1172=\"\",\"\",IF(VLOOKUP(CONCATENATE(J1172,\" SI\"),W$7:W$1196,1,FALSE)=CONCATENATE(J1172,\" SI\"),\"\",1))","v":""},null,{"$f":"IF(OR(J1172=\"\",G1172=\"\"),\"\",IF(VLOOKUP(H1172,Tabelle_Fisse!$B$25:$C$29,2,FALSE)=\"ok\",\"\",1))","v":""},{"$nulls":4},""]
[{"$nulls":9},"",{"$f":"IF(J1173=\"\",\"\",IF(VLOOKUP(J1173,Lotti!B$6:B$596,1,FALSE)=J1173,\"\",1))","v":""},null,"",null,{"$f":"IF(J1173=\"\",\"\",IF(VLOOKUP(F1173,Tabelle_Fisse!$B$33:$C$34,2,FALSE)=\"ok\",\"\",1))","v":""},{"$f":"IF(J1173=\"\",\"\",IF(VLOOKUP(CONCATENATE(J1173,\" SI\"),W$7:W$1196,1,FALSE)=CONCATENATE(J1173,\" SI\"),\"\",1))","v":""},null,{"$f":"IF(OR(J1173=\"\",G1173=\"\"),\"\",IF(VLOOKUP(H1173,Tabelle_Fisse!$B$25:$C$29,2,FALSE)=\"ok\",\"\",1))","v":""},{"$nulls":4},""]
[{"$nulls":9},"",{"$f":"IF(J1174=\"\",\"\",IF(VLOOKUP(J1174,Lotti!B$6:B$596,1,FALSE)=J1174,\"\",1))","v":""},null,"",null,{"$f":"IF(J1174=\"\",\"\",IF(VLOOKUP(F1174,Tabelle_Fisse!$B$33:$C$34,2,FALSE)=\"ok\",\"\",1))","v":""},{"$f":"IF(J1174=\"\",\"\",IF(VLOOKUP(CONCATENATE(J1174,\" SI\"),W$7:W$1196,1,FALSE)=CONCATENATE(J1174,\" SI\"),\"\",1))","v":""},null,{"$f":"IF(OR(J1174=\"\",G1174=\"\"),\"\",IF(VLOOKUP(H1174,Tabelle_Fisse!$B$25:$C$29,2,FALSE)=\"ok\",\"\",1))","v":""},{"$nulls":4},""]
[{"$nulls":9},"",{"$f":"IF(J1175=\"\",\"\",IF(VLOOKUP(J1175,Lotti!B$6:B$596,1,FALSE)=J1175,\"\",1))","v":""},null,"",null,{"$f":"IF(J1175=\"\",\"\",IF(VLOOKUP(F1175,Tabelle_Fisse!$B$33:$C$34,2,FALSE)=\"ok\",\"\",1))","v":""},{"$f":"IF(J1175=\"\",\"\",IF(VLOOKUP(CONCATENATE(J1175,\" SI\"),W$7:W$1196,1,FALSE)=CONCATENATE(J1175,\" SI\"),\"\",1))","v":""},null,{"$f":"IF(OR(J1175=\"\",G1175=\"\"),\"\",IF(VLOOKUP(H1175,Tabelle_Fisse!$B$25:$C$29,2,FALSE)=\"ok\",\"\",1))","v":""},{"$nulls":4},""]
[{"$nulls":9},"",{"$f":"IF(J1176=\"\",\"\",IF(VLOOKUP(J1176,Lotti!B$6:B$596,1,FALSE)=J1176,\"\",1))","v":""},null,"",null,{"$f":"IF(J1176=\"\",\"\",IF(VLOOKUP(F1176,Tabelle_Fisse!$B$33:$C$34,2,FALSE)=\"ok\",\"\",1))","v":""},{"$f":"IF(J1176=\"\",\"\",IF(VLOOKUP(CONCATENATE(J1176,\" SI\"),W$7:W$1196,1,FALSE)=CONCATENATE(J1176,\" SI\"),\"\",1))","v":""},null,{"$f":"IF(OR(J1176=\"\",G1176=\"\"),\"\",IF(VLOOKUP(H1176,Tabelle_Fisse!$B$25:$C$29,2,FALSE)=\"ok\",\"\",1))","v":""},{"$nulls":4},""]
[{"$nulls":9},"",{"$f":"IF(J1177=\"\",\"\",IF(VLOOKUP(J1177,Lotti!B$6:B$596,1,FALSE)=J1177,\"\",1))","v":""},null,"",null,{"$f":"IF(J1177=\"\",\"\",IF(VLOOKUP(F1177,Tabelle_Fisse!$B$33:$C$34,2,FALSE)=\"ok\",\"\",1))","v":""},{"$f":"IF(J1177=\"\",\"\",IF(VLOOKUP(CONCATENATE(J1177,\" SI\"),W$7:W$1196,1,FALSE)=CONCATENATE(J1177,\" SI\"),\"\",1))","v":""},null,{"$f":"IF(OR(J1177=\"\",G1177=\"\"),\"\",IF(VLOOKUP(H1177,Tabelle_Fisse!$B$25:$C$29,2,FALSE)=\"ok\",\"\",1))","v":""},{"$nulls":4},""]
[{"$nulls":9},"",{"$f":"IF(J1178=\"\",\"\",IF(VLOOKUP(J1178,Lotti!B$6:B$596,1,FALSE)=J1178,\"\",1))","v":""},null,"",null,{"$f":"IF(J1178=\"\",\"\",IF(VLOOKUP(F1178,Tabelle_Fisse!$B$33:$C$34,2,FALSE)=\"ok\",\"\",1))","v":""},{"$f":"IF(J1178=\"\",\"\",IF(VLOOKUP(CONCATENATE(J1178,\" SI\"),W$7:W$1196,1,FALSE)=CONCATENATE(J1178,\" SI\"),\"\",1))","v":""},null,{"$f":"IF(OR(J1178=\"\",G1178=\"\"),\"\",IF(VLOOKUP(H1178,Tabelle_Fisse!$B$25:$C$29,2,FALSE)=\"ok\",\"\",1))","v":""},{"$nulls":4},""]
[{"$nulls":9},"",{"$f":"IF(J1179=\"\",\"\",IF(VLOOKUP(J1179,Lotti!B$6:B$596,1,FALSE)=J1179,\"\",1))","v":""},null,"",null,{"$f":"IF(J1179=\"\",\"\",IF(VLOOKUP(F1179,Tabelle_Fisse!$B$33:$C$34,2,FALSE)=\"ok\",\"\",1))","v":""},{"$f":"IF(J1179=\"\",\"\",IF(VLOOKUP(CONCATENATE(J1179,\" SI\"),W$7:W$1196,1,FALSE)=CONCATENATE(J1179,\" SI\"),\"\",1))","v":""},null,{"$f":"IF(OR(J1179=\"\",G1179=\"\"),\"\",IF(VLOOKUP(H1179,Tabelle_Fisse!$B$25:$C$29,2,FALSE)=\"ok\",\"\",1))","v":""},{"$nulls":4},""]
[{"$nulls":9},"",{"$f":"IF(J1180=\"\",\"\",IF(VLOOKUP(J1180,Lotti!B$6:B$596,1,FALSE)=J1180,\"\",1))","v":""},null,"",null,{"$f":"IF(J1180=\"\",\"\",IF(VLOOKUP(F1180,Tabelle_Fisse!$B$33:$C$34,2,FALSE)=\"ok\",\"\",1))","v":""},{"$f":"IF(J1180=\"\",\"\",IF(VLOOKUP(CONCATENATE(J1180,\" SI\"),W$7:W$1196,1,FALSE)=CONCATENATE(J1180,\" SI\"),\"\",1))","v":""},null,{"$f":"IF(OR(J1180=\"\",G1180=\"\"),\"\",IF(VLOOKUP(H1180,Tabelle_Fisse!$B$25:$C$29,2,FALSE)=\"ok\",\"\",1))","v":""},{"$nulls":4},""]
[{"$nulls":9},"",{"$f":"IF(J1181=\"\",\"\",IF(VLOOKUP(J1181,Lotti!B$6:B$596,1,FALSE)=J1181,\"\",1))","v":""},null,"",null,{"$f":"IF(J1181=\"\",\"\",IF(VLOOKUP(F1181,Tabelle_Fisse!$B$33:$C$34,2,FALSE)=\"ok\",\"\",1))","v":""},{"$f":"IF(J1181=\"\",\"\",IF(VLOOKUP(CONCATENATE(J1181,\" SI\"),W$7:W$1196,1,FALSE)=CONCATENATE(J1181,\" SI\"),\"\",1))","v":""},null,{"$f":"IF(OR(J1181=\"\",G1181=\"\"),\"\",IF(VLOOKUP(H1181,Tabelle_Fisse!$B$25:$C$29,2,FALSE)=\"ok\",\"\",1))","v":""},{"$nulls":4},""]
[{"$nulls":9},"",{"$f":"IF(J1182=\"\",\"\",IF(VLOOKUP(J1182,Lotti!B$6:B$596,1,FALSE)=J1182,\"\",1))","v":""},null,"",null,{"$f":"IF(J1182=\"\",\"\",IF(VLOOKUP(F1182,Tabelle_Fisse!$B$33:$C$34,2,FALSE)=\"ok\",\"\",1))","v":""},{"$f":"IF(J1182=\"\",\"\",IF(VLOOKUP(CONCATENATE(J1182,\" SI\"),W$7:W$1196,1,FALSE)=CONCATENATE(J1182,\" SI\"),\"\",1))","v":""},null,{"$f":"IF(OR(J1182=\"\",G1182=\"\"),\"\",IF(VLOOKUP(H1182,Tabelle_Fisse!$B$25:$C$29,2,FALSE)=\"ok\",\"\",1))","v":""},{"$nulls":4},""]
[{"$nulls":9},"",{"$f":"IF(J1183=\"\",\"\",IF(VLOOKUP(J1183,Lotti!B$6:B$596,1,FALSE)=J1183,\"\",1))","v":""},null,"",null,{"$f":"IF(J1183=\"\",\"\",IF(VLOOKUP(F1183,Tabelle_Fisse!$B$33:$C$34,2,FALSE)=\"ok\",\"\",1))","v":""},{"$f":"IF(J1183=\"\",\"\",IF(VLOOKUP(CONCATENATE(J1183,\" SI\"),W$7:W$1196,1,FALSE)=CONCATENATE(J1183,\" SI\"),\"\",1))","v":""},null,{"$f":"IF(OR(J1183=\"\",G1183=\"\"),\"\",IF(VLOOKUP(H1183,Tabelle_Fisse!$B$25:$C$29,2,FALSE)=\"ok\",\"\",1))","v":""},{"$nulls":4},""]
[{"$nulls":9},"",{"$f":"IF(J1184=\"\",\"\",IF(VLOOKUP(J1184,Lotti!B$6:B$596,1,FALSE)=J1184,\"\",1))","v":""},null,"",null,{"$f":"IF(J1184=\"\",\"\",IF(VLOOKUP(F1184,Tabelle_Fisse!$B$33:$C$34,2,FALSE)=\"ok\",\"\",1))","v":""},{"$f":"IF(J1184=\"\",\"\",IF(VLOOKUP(CONCATENATE(J1184,\" SI\"),W$7:W$1196,1,FALSE)=CONCATENATE(J1184,\" SI\"),\"\",1))","v":""},null,{"$f":"IF(OR(J1184=\"\",G1184=\"\"),\"\",IF(VLOOKUP(H1184,Tabelle_Fisse!$B$25:$C$29,2,FALSE)=\"ok\",\"\",1))","v":""},{"$nulls":4},""]
[{"$nulls":9},"",{"$f":"IF(J1185=\"\",\"\",IF(VLOOKUP(J1185,Lotti!B$6:B$596,1,FALSE)=J1185,\"\",1))","v":""},null,"",null,{"$f":"IF(J1185=\"\",\"\",IF(VLOOKUP(F1185,Tabelle_Fisse!$B$33:$C$34,2,FALSE)=\"ok\",\"\",1))","v":""},{"$f":"IF(J1185=\"\",\"\",IF(VLOOKUP(CONCATENATE(J1185,\" SI\"),W$7:W$1196,1,FALSE)=CONCATENATE(J1185,\" SI\"),\"\",1))","v":""},null,{"$f":"IF(OR(J1185=\"\",G1185=\"\"),\"\",IF(VLOOKUP(H1185,Tabelle_Fisse!$B$25:$C$29,2,FALSE)=\"ok\",\"\",1))","v":""},{"$nulls":4},""]
[{"$nulls":9},"",{"$f":"IF(J1186=\"\",\"\",IF(VLOOKUP(J1186,Lotti!B$6:B$596,1,FALSE)=J1186,\"\",1))","v":""},null,"",null,{"$f":"IF(J1186=\"\",\"\",IF(VLOOKUP(F1186,Tabelle_Fisse!$B$33:$C$34,2,FALSE)=\"ok\",\"\",1))","v":""},{"$f":"IF(J1186=\"\",\"\",IF(VLOOKUP(CONCATENATE(J1186,\" SI\"),W$7:W$1196,1,FALSE)=CONCATENATE(J1186,\" SI\"),\"\",1))","v":""},null,{"$f":"IF(OR(J1186=\"\",G1186=\"\"),\"\",IF(VLOOKUP(H1186,Tabelle_Fisse!$B$25:$C$29,2,FALSE)=\"ok\",\"\",1))","v":""},{"$nulls":4},""]
[{"$nulls":9},"",{"$f":"IF(J1187=\"\",\"\",IF(VLOOKUP(J1187,Lotti!B$6:B$596,1,FALSE)=J1187,\"\",1))","v":""},null,"",null,{"$f":"IF(J1187=\"\",\"\",IF(VLOOKUP(F1187,Tabelle_Fisse!$B$33:$C$34,2,FALSE)=\"ok\",\"\",1))","v":""},{"$f":"IF(J1187=\"\",\"\",IF(VLOOKUP(CONCATENATE(J1187,\" SI\"),W$7:W$1196,1,FALSE)=CONCATENATE(J1187,\" SI\"),\"\",1))","v":""},null,{"$f":"IF(OR(J1187=\"\",G1187=\"\"),\"\",IF(VLOOKUP(H1187,Tabelle_Fisse!$B$25:$C$29,2,FALSE)=\"ok\",\"\",1))","v":""},{"$nulls":4},""]
[{"$nulls":9},"",{"$f":"IF(J1188=\"\",\"\",IF(VLOOKUP(J1188,Lotti!B$6:B$596,1,FALSE)=J1188,\"\",1))","v":""},null,"",null,{"$f":"IF(J1188=\"\",\"\",IF(VLOOKUP(F1188,Tabelle_Fisse!$B$33:$C$34,2,FALSE)=\"ok\",\"\",1))","v":""},{"$f":"IF(J1188=\"\",\"\",IF(VLOOKUP(CONCATENATE(J1188,\" SI\"),W$7:W$1196,1,FALSE)=CONCATENATE(J1188,\" SI\"),\"\",1))","v":""},null,{"$f":"IF(OR(J1188=\"\",G1188=\"\"),\"\",IF(VLOOKUP(H1188,Tabelle_Fisse!$B$25:$C$29,2,FALSE)=\"ok\",\"\",1))","v":""},{"$nulls":4},""]
[{"$nulls":9},"",{"$f":"IF(J1189=\"\",\"\",IF(VLOOKUP(J1189,Lotti!B$6:B$596,1,FALSE)=J1189,\"\",1))","v":""},null,"",null,{"$f":"IF(J1189=\"\",\"\",IF(VLOOKUP(F1189,Tabelle_Fisse!$B$33:$C$34,2,FALSE)=\"ok\",\"\",1))","v":""},{"$f":"IF(J1189=\"\",\"\",IF(VLOOKUP(CONCATENATE(J1189,\" SI\"),W$7:W$1196,1,FALSE)=CONCATENATE(J1189,\" SI\"),\"\",1))","v":""},null,{"$f":"IF(OR(J1189=\"\",G1189=\"\"),\"\",IF(VLOOKUP(H1189,Tabelle_Fisse!$B$25:$C$29,2,FALSE)=\"ok\",\"\",1))","v":""},{"$nulls":4},""]
[{"$nulls":9},"",{"$f":"IF(J1190=\"\",\"\",IF(VLOOKUP(J1190,Lotti!B$6:B$596,1,FALSE)=J1190,\"\",1))","v":""},null,"",null,{"$f":"IF(J1190=\"\",\"\",IF(VLOOKUP(F1190,Tabelle_Fisse!$B$33:$C$34,2,FALSE)=\"ok\",\"\",1))","v":""},{"$f":"IF(J1190=\"\",\"\",IF(VLOOKUP(CONCATENATE(J1190,\" SI\"),W$7:W$1196,1,FALSE)=CONCATENATE(J1190,\" SI\"),\"\",1))","v":""},null,{"$f":"IF(OR(J1190=\"\",G1190=\"\"),\"\",IF(VLOOKUP(H1190,Tabelle_Fisse!$B$25:$C$29,2,FALSE)=\"ok\",\"\",1))","v":""},{"$nulls":4},""]
[{"$nulls":9},"",{"$f":"IF(J1191=\"\",\"\",IF(VLOOKUP(J1191,Lotti!B$6:B$596,1,FALSE)=J1191,\"\",1))","v":""},null,"",null,{"$f":"IF(J1191=\"\",\"\",IF(VLOOKUP(F1191,Tabelle_Fisse!$B$33:$C$34,2,FALSE)=\"ok\",\"\",1))","v":""},{"$f":"IF(J1191=\"\",\"\",IF(VLOOKUP(CONCATENATE(J1191,\" SI\"),W$7:W$1196,1,FALSE)=CONCATENATE(J1191,\" SI\"),\"\",1))","v":""},null,{"$f":"IF(OR(J1191=\"\",G1191=\"\"),\"\",IF(VLOOKUP(H1191,Tabelle_Fisse!$B$25:$C$29,2,FALSE)=\"ok\",\"\",1))","v":""},{"$nulls":4},""]
[{"$nulls":9},"",{"$f":"IF(J1192=\"\",\"\",IF(VLOOKUP(J1192,Lotti!B$6:B$596,1,FALSE)=J1192,\"\",1))","v":""},null,"",null,{"$f":"IF(J1192=\"\",\"\",IF(VLOOKUP(F1192,Tabelle_Fisse!$B$33:$C$34,2,FALSE)=\"ok\",\"\",1))","v":""},{"$f":"IF(J1192=\"\",\"\",IF(VLOOKUP(CONCATENATE(J1192,\" SI\"),W$7:W$1196,1,FALSE)=CONCATENATE(J1192,\" SI\"),\"\",1))","v":""},null,{"$f":"IF(OR(J1192=\"\",G1192=\"\"),\"\",IF(VLOOKUP(H1192,Tabelle_Fisse!$B$25:$C$29,2,FALSE)=\"ok\",\"\",1))","v":""},{"$nulls":4},""]
[{"$nulls":9},"",{"$f":"IF(J1193=\"\",\"\",IF(VLOOKUP(J1193,Lotti!B$6:B$596,1,FALSE)=J1193,\"\",1))","v":""},null,"",null,{"$f":"IF(J1193=\"\",\"\",IF(VLOOKUP(F1193,Tabelle_Fisse!$B$33:$C$34,2,FALSE)=\"ok\",\"\",1))","v":""},{"$f":"IF(J1193=\"\",\"\",IF(VLOOKUP(CONCATENATE(J1193,\" SI\"),W$7:W$1196,1,FALSE)=CONCATENATE(J1193,\" SI\"),\"\",1))","v":""},null,{"$f":"IF(OR(J1193=\"\",G1193=\"\"),\"\",IF(VLOOKUP(H1193,Tabelle_Fisse!$B$25:$C$29,2,FALSE)=\"ok\",\"\",1))","v":""},{"$nulls":4},""]
[{"$nulls":9},"",{"$f":"IF(J1194=\"\",\"\",IF(VLOOKUP(J1194,Lotti!B$6:B$596,1,FALSE)=J1194,\"\",1))","v":""},null,"",null,{"$f":"IF(J1194=\"\",\"\",IF(VLOOKUP(F1194,Tabelle_Fisse!$B$33:$C$34,2,FALSE)=\"ok\",\"\",1))","v":""},{"$f":"IF(J1194=\"\",\"\",IF(VLOOKUP(CONCATENATE(J1194,\" SI\"),W$7:W$1196,1,FALSE)=CONCATENATE(J1194,\" SI\"),\"\",1))","v":""},null,{"$f":"IF(OR(J1194=\"\",G1194=\"\"),\"\",IF(VLOOKUP(H1194,Tabelle_Fisse!$B$25:$C$29,2,FALSE)=\"ok\",\"\",1))","v":""},{"$nulls":4},""]
[{"$nulls":9},"",{"$f":"IF(J1195=\"\",\"\",IF(VLOOKUP(J1195,Lotti!B$6:B$596,1,FALSE)=J1195,\"\",1))","v":""},null,"",null,{"$f":"IF(J1195=\"\",\"\",IF(VLOOKUP(F1195,Tabelle_Fisse!$B$33:$C$34,2,FALSE)=\"ok\",\"\",1))","v":""},{"$f":"IF(J1195=\"\",\"\",IF(VLOOKUP(CONCATENATE(J1195,\" SI\"),W$7:W$1196,1,FALSE)=CONCATENATE(J1195,\" SI\"),\"\",1))","v":""},null,{"$f":"IF(OR(J1195=\"\",G1195=\"\"),\"\",IF(VLOOKUP(H1195,Tabelle_Fisse!$B$25:$C$29,2,FALSE)=\"ok\",\"\",1))","v":""},{"$nulls":4},""]
[{"$nulls":9},"",{"$f":"IF(J1196=\"\",\"\",IF(VLOOKUP(J1196,Lotti!B$6:B$596,1,FALSE)=J1196,\"\",1))","v":""},null,"",null,{"$f":"IF(J1196=\"\",\"\",IF(VLOOKUP(F1196,Tabelle_Fisse!$B$33:$C$34,2,FALSE)=\"ok\",\"\",1))","v":""},{"$f":"IF(J1196=\"\",\"\",IF(VLOOKUP(CONCATENATE(J1196,\" SI\"),W$7:W$1196,1,FALSE)=CONCATENATE(J1196,\" SI\"),\"\",1))","v":""},null,{"$f":"IF(OR(J1196=\"\",G1196=\"\"),\"\",IF(VLOOKUP(H1196,Tabelle_Fisse!$B$25:$C$29,2,FALSE)=\"ok\",\"\",1))","v":""},{"$nulls":4},""]

{"sheet":"Tabelle_Fisse","index":2,"n_rows":34,"n_cols":3,"rows_kept":34,"cut":false,"hidden":false,"merged":[]}
[null,"Queste tabelle non devono in alcun modo essere modificate!!"]
[]
[null,"Procedura di scelta del contraente"]
[null,"01-PROCEDURA APERTA","ok"]
[null,"02-PROCEDURA RISTRETTA","ok"]
[null,"03-PROCEDURA NEGOZIATA PREVIA PUBBLICAZIONE DEL BANDO","ok"]
[null,"04-PROCEDURA NEGOZIATA SENZA PREVIA PUBBLICAZIONE DEL BANDO","ok"]
[null,"05-DIALOGO COMPETITIVO","ok"]
[null,"06-PROCEDURA NEGOZIATA SENZA PREVIA INDIZIONE DI GARA ART. 221 D.LGS. 163/2006","ok"]
[null,"07-SISTEMA DINAMICO DI ACQUISIZIONE","ok"]
[null,"08-AFFIDAMENTO IN ECONOMIA - COTTIMO FIDUCIARIO","ok"]
[null,"14-PROCEDURA SELETTIVA EX ART 238 C.7, D.LGS. 163/2006","ok"]
[null,"17-AFFIDAMENTO DIRETTO EX ART. 5 DELLA LEGGE N.381/91","ok"]
[null,"21-PROCEDURA RISTRETTA DERIVANTE DA AVVISI CON CUI SI INDICE LA GARA","ok"]
[null,"22-PROCEDURA NEGOZIATA DERIVANTE DA AVVISI CON CUI SI INDICE LA GARA","ok"]
[null,"23-AFFIDAMENTO IN ECONOMIA - AFFIDAMENTO DIRETTO","ok"]
[null,"24-AFFIDAMENTO DIRETTO A SOCIETA' IN HOUSE","ok"]
[null,"25-AFFIDAMENTO DIRETTO A SOCIETA' RAGGRUPPATE/CONSORZIATE O CONTROLLATE NELLE CONCESSIONI DI LL.PP","ok"]
[null,"26-AFFIDAMENTO DIRETTO IN ADESIONE AD ACCORDO QUADRO/CONVENZIONE","ok"]
[null,"27-CONFRONTO COMPETITIVO IN ADESIONE AD ACCORDO QUADRO/CONVENZIONE","ok"]
[null,"28-PROCEDURA AI SENSI DEI REGOLAMENTI DEGLI ORGANI COSTITUZIONALI","ok"]
[]
[]
[null,"Ruolo dell'impresa nel raggruppamento"]
[null,"01-MANDANTE","ok"]
[null,"02-MANDATARIA","ok"]
[null,"03-ASSOCIATA","ok"]
[null,"04-CAPOGRUPPO","ok"]
[null,"05-CONSORZIATA","ok"]
[]
[]
[null,"Aggiudicatario"]
[null,"SI","ok"]
[null,"NO","ok"]

{"sheet":"Dati Riassuntivi","index":3,"n_rows":4,"n_cols":3,"rows_kept":4,"cut":false,"hidden":false,"merged":[]}
[]
[]
[null,"Numero LOTTI",{"$f":"COUNTA(Lotti!B6:B596)","v":211}]
[null,"Numero PARTECIPANTI",{"$f":"COUNTA(Partecipanti!B7:B1196)","v":217}]